{"text_format":"1","workbook":"xlsx","n_sheets":3,"sheets":["HOM","Feuil1","Feuil2"],"not_rendered":{"charts":0,"images":2,"macros":1,"external_links":2,"defined_names":2,"comments":1,"pivot_tables":0},"unopened":[],"bounds":{"document_bytes":16777216,"sheet_cells":100000,"rows_first":2000,"rows_last":500,"rows_between":2000,"halvings":0,"cell_chars":16384,"cell_head_chars":4096},"cells_cut":0,"cells_raw":0,"read":"whole","date_system":"1900"}

{"sheet":"HOM","index":0,"n_rows":713,"n_cols":49,"rows_kept":713,"cut":false,"hidden":false,"merged":[[559,7,559,9],[559,12,559,18],[559,19,559,24],[0,4,0,5],[1,4,1,5],[0,6,0,14],[3,21,3,22],[0,18,0,22],[1,6,1,10],[1,11,1,13],[1,14,1,17],[1,18,1,19],[1,20,1,21],[560,19,560,24],[561,7,561,9],[561,12,561,18],[561,19,561,24],[560,7,560,9],[560,10,560,11],[560,12,560,18],[562,1,562,4],[562,5,562,6],[559,1,559,3],[560,1,560,3],[561,1,561,3],[559,4,559,6],[560,4,560,6],[561,4,561,6]]}
[null,null,null,null,"EPREUVE :",null,"Championnat de Lorraine Masters",null,null,null,null,null,null,null,null,null,"DATE :",null,"2016-03-13"]
[null,null,null,null,"LIEU :",null,"LANEUVEVILLE Dt NANCY",null,null,null,null,"REGION :",null,null,"LORRAINE",null,null,null,"ZONE :",null,"NORD-EST"]
[]
["SEXE","ZONE","REG.","Cl.","LICENCE","NAT","NOMS","Prénoms","CLUB","AN","POIDS",1,2,3,"ARR",1,2,3,"EP-J","Total","IWF SMM","SERIE",null,"Caté","Catég",null,"N.CL.","REG +","FRA +","EUR +","MON +","INTB +","INTA +","OLY +","NCL"]
["H",null,"LOR",null,408138,"F","JACQUEMIN","Benoit","E.S.LANEUVEVILLOISE",1981,69,53,57,-60,{"$f":"IF(K5=\"\",\"\",IF(MAXA(L5:N5)<=0,0,MAXA(L5:N5)))","v":57},75,79,82,{"$f":"IF(K5=\"\",\"\",IF(MAXA(P5:R5)<=0,0,MAXA(P5:R5)))","v":82},{"$f":"IF(K5=\"\",\"\",IF(OR(O5=0,S5=0),0,O5+S5))","v":139},{"$f":"IF(K5=\"\",\"\",IF(A5=\"H\",10^(0.794358141*LOG(K5/174.393)^2)*T5*AS5,IF(A5=\"F\",10^(0.89726074 * LOG(K5/148.026)^2)*T5*AS5,\"\")))","v":200.45443554967295},{"$f":"IF(K5=\"\",\"\",AP5)","v":"N.CL."},{"$f":"IF(K5=\"\",\"\",IF(AH5>=0,AH5,IF(AG5>=0,AG5,IF(AF5>=0,AF5,IF(AE5>=0,AE5,IF(AD5>=0,AD5,IF(AC5>=0,AC5,IF(AB5>=0,AB5,AA5))))))))","v":139},"V1 H35",{"$f":"IF(AND(J5<1920),VLOOKUP(K5,[1]Feuil2!$F$10:$P$28,11),IF(AND(J5>=1920,J5<1937),VLOOKUP(K5,[1]Feuil2!$F$10:$P$28,11),IF(AND(J5>=1936,J5<1942),VLOOKUP(K5,[1]Feuil2!$F$10:$P$28,10),IF(AND(J5>=1942,J5<1947),VLOOKUP(K5,[1]Feuil2!$F$10:$P$28,9),IF(AND(J5>=1947,J5<1952),VLOOKUP(K5,[1]Feuil2!$F$10:$P$28,8),IF(AND(J5>=1952,J5<1957),VLOOKUP(K5,[1]Feuil2!$F$10:$P$28,7),IF(AND(J5>=1957,J5<1962),VLOOKUP(K5,[1]Feuil2!$F$10:$P$28,6),IF(AND(J5>=1962,J5<1967),VLOOKUP(K5,[1]Feuil2!$F$10:$P$28,5),IF(AND(J5>=1967,J5<1972),VLOOKUP(K5,[1]Feuil2!$F$10:$P$28,4),IF(AND(J5>=1972,J5<1977),VLOOKUP(K5,[1]Feuil2!$F$10:$P$28,3),IF(AND(J5>=1977,J5<1982),VLOOKUP(K5,[1]Feuil2!$F$10:$P$28,2),VLOOKUP(K5,[1]Feuil2!$F$10:$P$28,2))))))))))))","v":"VH35-69"},null,{"$f":"T5-HLOOKUP(Y5,[1]Feuil2!$C$1:$CD$9,2,FALSE)","v":139},{"$f":"T5-HLOOKUP(Y5,[1]Feuil2!$C$1:$CD$9,3,FALSE)","v":-8},{"$f":"T5-HLOOKUP(Y5,[1]Feuil2!$C$1:$CD$9,4,FALSE)","v":-18},{"$f":"T5-HLOOKUP(Y5,[1]Feuil2!$C$1:$CD$9,5,FALSE)","v":-28},{"$f":"T5-HLOOKUP(Y5,[1]Feuil2!$C$1:$CD$9,6,FALSE)","v":-48},{"$f":"T5-HLOOKUP(Y5,[1]Feuil2!$C$1:$CD$9,7,FALSE)","v":-861},{"$f":"T5-HLOOKUP(Y5,[1]Feuil2!$C$1:$CD$9,8,FALSE)","v":-861},{"$f":"T5-HLOOKUP(Y5,[1]Feuil2!$C$1:$CD$9,9,FALSE)","v":-861},null,null,null,null,null,null,null,{"$f":"IF(AH5>=0,$AH$4,IF(AG5>=0,$AG$4,IF(AF5>=0,$AF$4,IF(AE5>=0,$AE$4,IF(AD5>=0,$AD$4,IF(AC5>=0,$AC$4,IF(AB5>=0,$AB$4,IF(AA5>=0,$AA$4,$AI$4))))))))","v":"N.CL."},{"$f":"2016-J5","v":35},null,{"$f":"IF(AQ5,VLOOKUP(AQ5,[1]HOM!$AS$551:$AT$606,2))","v":1.0720000000000001}]
[]
["H","NE","LOR",1,225152,"F","WAHRHEIT","Cyrille","E.S.LANEUVEVILLOISE",1972,55.4,51,54,-56,{"$f":"IF(K7=\"\",\"\",IF(MAXA(L7:N7)<=0,0,MAXA(L7:N7)))","v":54},68,71,-74,{"$f":"IF(K7=\"\",\"\",IF(MAXA(P7:R7)<=0,0,MAXA(P7:R7)))","v":71},{"$f":"IF(K7=\"\",\"\",IF(OR(O7=0,S7=0),0,O7+S7))","v":125},{"$f":"IF(K7=\"\",\"\",IF(A7=\"H\",10^(0.794358141*LOG(K7/174.393)^2)*T7*AS7,IF(A7=\"F\",10^(0.89726074 * LOG(K7/148.026)^2)*T7*AS7,\"\")))","v":232.76303505932418},{"$f":"IF(K7=\"\",\"\",AP7)","v":"FRA +"},{"$f":"IF(K7=\"\",\"\",IF(AH7>=0,AH7,IF(AG7>=0,AG7,IF(AF7>=0,AF7,IF(AE7>=0,AE7,IF(AD7>=0,AD7,IF(AC7>=0,AC7,IF(AB7>=0,AB7,AA7))))))))","v":5},{"$f":"IF(AQ7<95,IF(AQ7<=90,VLOOKUP(AQ7,$AQ$561:$AR$616,2)))","v":"V2 H40"},{"$f":"IF(AND(J7<1920),VLOOKUP(K7,Feuil2!$F$10:$P$28,11),IF(AND(J7>=1920,J7<1937),VLOOKUP(K7,Feuil2!$F$10:$P$28,11),IF(AND(J7>=1936,J7<1942),VLOOKUP(K7,Feuil2!$F$10:$P$28,10),IF(AND(J7>=1942,J7<1947),VLOOKUP(K7,Feuil2!$F$10:$P$28,9),IF(AND(J7>=1947,J7<1952),VLOOKUP(K7,Feuil2!$F$10:$P$28,8),IF(AND(J7>=1952,J7<1957),VLOOKUP(K7,Feuil2!$F$10:$P$28,7),IF(AND(J7>=1957,J7<1962),VLOOKUP(K7,Feuil2!$F$10:$P$28,6),IF(AND(J7>=1962,J7<1967),VLOOKUP(K7,Feuil2!$F$10:$P$28,5),IF(AND(J7>=1967,J7<1972),VLOOKUP(K7,Feuil2!$F$10:$P$28,4),IF(AND(J7>=1972,J7<1977),VLOOKUP(K7,Feuil2!$F$10:$P$28,3),IF(AND(J7>=1977,J7<1982),VLOOKUP(K7,Feuil2!$F$10:$P$28,2),VLOOKUP(K7,Feuil2!$F$10:$P$28,2))))))))))))","v":"VH40-56"},null,{"$f":"T7-HLOOKUP(Y7,Feuil2!$C$1:$CD$9,2,FALSE)","v":125},{"$f":"T7-HLOOKUP(Y7,Feuil2!$C$1:$CD$9,3,FALSE)","v":15},{"$f":"T7-HLOOKUP(Y7,Feuil2!$C$1:$CD$9,4,FALSE)","v":5},{"$f":"T7-HLOOKUP(Y7,Feuil2!$C$1:$CD$9,5,FALSE)","v":-5},{"$f":"T7-HLOOKUP(Y7,Feuil2!$C$1:$CD$9,6,FALSE)","v":-22},{"$f":"T7-HLOOKUP(Y7,Feuil2!$C$1:$CD$9,7,FALSE)","v":-875},{"$f":"T7-HLOOKUP(Y7,Feuil2!$C$1:$CD$9,8,FALSE)","v":-875},{"$f":"T7-HLOOKUP(Y7,Feuil2!$C$1:$CD$9,9,FALSE)","v":-875},null,null,null,null,null,null,null,{"$f":"IF(AH7>=0,$AH$4,IF(AG7>=0,$AG$4,IF(AF7>=0,$AF$4,IF(AE7>=0,$AE$4,IF(AD7>=0,$AD$4,IF(AC7>=0,$AC$4,IF(AB7>=0,$AB$4,IF(AA7>=0,$AA$4,$AI$4))))))))","v":"FRA +"},{"$f":"2016-J7","v":44},null,{"$f":"IF(AQ7,VLOOKUP(AQ7,HOM!$AS$561:$AT$616,2))","v":1.1830000000000001}]
[]
["H","NE","LOR",1,15483,"F","ALVES","Michel","E.S.LANEUVEVILLOISE",1976,77,90,94,-97,{"$f":"IF(K9=\"\",\"\",IF(MAXA(L9:N9)<=0,0,MAXA(L9:N9)))","v":94},115,120,-125,{"$f":"IF(K9=\"\",\"\",IF(MAXA(P9:R9)<=0,0,MAXA(P9:R9)))","v":120},{"$f":"IF(K9=\"\",\"\",IF(OR(O9=0,S9=0),0,O9+S9))","v":214},{"$f":"IF(K9=\"\",\"\",IF(A9=\"H\",10^(0.794358141*LOG(K9/174.393)^2)*T9*AS9,IF(A9=\"F\",10^(0.89726074 * LOG(K9/148.026)^2)*T9*AS9,\"\")))","v":306.14185181183433},{"$f":"IF(K9=\"\",\"\",AP9)","v":"MON +"},{"$f":"IF(K9=\"\",\"\",IF(AH9>=0,AH9,IF(AG9>=0,AG9,IF(AF9>=0,AF9,IF(AE9>=0,AE9,IF(AD9>=0,AD9,IF(AC9>=0,AC9,IF(AB9>=0,AB9,AA9))))))))","v":22},{"$f":"IF(AQ9<95,IF(AQ9<=90,VLOOKUP(AQ9,$AQ$561:$AR$616,2)))","v":"V2 H40"},{"$f":"IF(AND(J9<1920),VLOOKUP(K9,Feuil2!$F$10:$P$28,11),IF(AND(J9>=1920,J9<1937),VLOOKUP(K9,Feuil2!$F$10:$P$28,11),IF(AND(J9>=1936,J9<1942),VLOOKUP(K9,Feuil2!$F$10:$P$28,10),IF(AND(J9>=1942,J9<1947),VLOOKUP(K9,Feuil2!$F$10:$P$28,9),IF(AND(J9>=1947,J9<1952),VLOOKUP(K9,Feuil2!$F$10:$P$28,8),IF(AND(J9>=1952,J9<1957),VLOOKUP(K9,Feuil2!$F$10:$P$28,7),IF(AND(J9>=1957,J9<1962),VLOOKUP(K9,Feuil2!$F$10:$P$28,6),IF(AND(J9>=1962,J9<1967),VLOOKUP(K9,Feuil2!$F$10:$P$28,5),IF(AND(J9>=1967,J9<1972),VLOOKUP(K9,Feuil2!$F$10:$P$28,4),IF(AND(J9>=1972,J9<1977),VLOOKUP(K9,Feuil2!$F$10:$P$28,3),IF(AND(J9>=1977,J9<1982),VLOOKUP(K9,Feuil2!$F$10:$P$28,2),VLOOKUP(K9,Feuil2!$F$10:$P$28,2))))))))))))","v":"VH40-77"},null,{"$f":"T9-HLOOKUP(Y9,Feuil2!$C$1:$CD$9,2,FALSE)","v":214},{"$f":"T9-HLOOKUP(Y9,Feuil2!$C$1:$CD$9,3,FALSE)","v":62},{"$f":"T9-HLOOKUP(Y9,Feuil2!$C$1:$CD$9,4,FALSE)","v":52},{"$f":"T9-HLOOKUP(Y9,Feuil2!$C$1:$CD$9,5,FALSE)","v":42},{"$f":"T9-HLOOKUP(Y9,Feuil2!$C$1:$CD$9,6,FALSE)","v":22},{"$f":"T9-HLOOKUP(Y9,Feuil2!$C$1:$CD$9,7,FALSE)","v":-786},{"$f":"T9-HLOOKUP(Y9,Feuil2!$C$1:$CD$9,8,FALSE)","v":-786},{"$f":"T9-HLOOKUP(Y9,Feuil2!$C$1:$CD$9,9,FALSE)","v":-786},null,null,null,null,null,null,null,{"$f":"IF(AH9>=0,$AH$4,IF(AG9>=0,$AG$4,IF(AF9>=0,$AF$4,IF(AE9>=0,$AE$4,IF(AD9>=0,$AD$4,IF(AC9>=0,$AC$4,IF(AB9>=0,$AB$4,IF(AA9>=0,$AA$4,$AI$4))))))))","v":"MON +"},{"$f":"2016-J9","v":40},null,{"$f":"IF(AQ9,VLOOKUP(AQ9,HOM!$AS$561:$AT$616,2))","v":1.1359999999999999}]
[]
["H","NE","LOR",1,273034,"F","GUINDOS","Raphaël","E.S.LANEUVEVILLOISE",1972,84.8,90,95,97,{"$f":"IF(K11=\"\",\"\",IF(MAXA(L11:N11)<=0,0,MAXA(L11:N11)))","v":97},115,120,125,{"$f":"IF(K11=\"\",\"\",IF(MAXA(P11:R11)<=0,0,MAXA(P11:R11)))","v":125},{"$f":"IF(K11=\"\",\"\",IF(OR(O11=0,S11=0),0,O11+S11))","v":222},{"$f":"IF(K11=\"\",\"\",IF(A11=\"H\",10^(0.794358141*LOG(K11/174.393)^2)*T11*AS11,IF(A11=\"F\",10^(0.89726074 * LOG(K11/148.026)^2)*T11*AS11,\"\")))","v":314.21465755611717},{"$f":"IF(K11=\"\",\"\",AP11)","v":"MON +"},{"$f":"IF(K11=\"\",\"\",IF(AH11>=0,AH11,IF(AG11>=0,AG11,IF(AF11>=0,AF11,IF(AE11>=0,AE11,IF(AD11>=0,AD11,IF(AC11>=0,AC11,IF(AB11>=0,AB11,AA11))))))))","v":17},{"$f":"IF(AQ11<95,IF(AQ11<=90,VLOOKUP(AQ11,$AQ$561:$AR$616,2)))","v":"V2 H40"},{"$f":"IF(AND(J11<1920),VLOOKUP(K11,Feuil2!$F$10:$P$28,11),IF(AND(J11>=1920,J11<1937),VLOOKUP(K11,Feuil2!$F$10:$P$28,11),IF(AND(J11>=1936,J11<1942),VLOOKUP(K11,Feuil2!$F$10:$P$28,10),IF(AND(J11>=1942,J11<1947),VLOOKUP(K11,Feuil2!$F$10:$P$28,9),IF(AND(J11>=1947,J11<1952),VLOOKUP(K11,Feuil2!$F$10:$P$28,8),IF(AND(J11>=1952,J11<1957),VLOOKUP(K11,Feuil2!$F$10:$P$28,7),IF(AND(J11>=1957,J11<1962),VLOOKUP(K11,Feuil2!$F$10:$P$28,6),IF(AND(J11>=1962,J11<1967),VLOOKUP(K11,Feuil2!$F$10:$P$28,5),IF(AND(J11>=1967,J11<1972),VLOOKUP(K11,Feuil2!$F$10:$P$28,4),IF(AND(J11>=1972,J11<1977),VLOOKUP(K11,Feuil2!$F$10:$P$28,3),IF(AND(J11>=1977,J11<1982),VLOOKUP(K11,Feuil2!$F$10:$P$28,2),VLOOKUP(K11,Feuil2!$F$10:$P$28,2))))))))))))","v":"VH40-85"},null,{"$f":"T11-HLOOKUP(Y11,Feuil2!$C$1:$CD$9,2,FALSE)","v":222},{"$f":"T11-HLOOKUP(Y11,Feuil2!$C$1:$CD$9,3,FALSE)","v":60},{"$f":"T11-HLOOKUP(Y11,Feuil2!$C$1:$CD$9,4,FALSE)","v":50},{"$f":"T11-HLOOKUP(Y11,Feuil2!$C$1:$CD$9,5,FALSE)","v":40},{"$f":"T11-HLOOKUP(Y11,Feuil2!$C$1:$CD$9,6,FALSE)","v":17},{"$f":"T11-HLOOKUP(Y11,Feuil2!$C$1:$CD$9,7,FALSE)","v":-778},{"$f":"T11-HLOOKUP(Y11,Feuil2!$C$1:$CD$9,8,FALSE)","v":-778},{"$f":"T11-HLOOKUP(Y11,Feuil2!$C$1:$CD$9,9,FALSE)","v":-778},null,null,null,null,null,null,null,{"$f":"IF(AH11>=0,$AH$4,IF(AG11>=0,$AG$4,IF(AF11>=0,$AF$4,IF(AE11>=0,$AE$4,IF(AD11>=0,$AD$4,IF(AC11>=0,$AC$4,IF(AB11>=0,$AB$4,IF(AA11>=0,$AA$4,$AI$4))))))))","v":"MON +"},{"$f":"2016-J11","v":44},null,{"$f":"IF(AQ11,VLOOKUP(AQ11,HOM!$AS$561:$AT$616,2))","v":1.1830000000000001}]
[]
["H","NE","LOR",1,406631,"F","THOMAS","Philippe","E.S.LANEUVEVILLOISE",1970,63,65,-70,70,{"$f":"IF(K13=\"\",\"\",IF(MAXA(L13:N13)<=0,0,MAXA(L13:N13)))","v":70},85,90,-97,{"$f":"IF(K13=\"\",\"\",IF(MAXA(P13:R13)<=0,0,MAXA(P13:R13)))","v":90},{"$f":"IF(K13=\"\",\"\",IF(OR(O13=0,S13=0),0,O13+S13))","v":160},{"$f":"IF(K13=\"\",\"\",IF(A13=\"H\",10^(0.794358141*LOG(K13/174.393)^2)*T13*AS13,IF(A13=\"F\",10^(0.89726074 * LOG(K13/148.026)^2)*T13*AS13,\"\")))","v":276.15227881556808},{"$f":"IF(K13=\"\",\"\",AP13)","v":"EUR +"},{"$f":"IF(K13=\"\",\"\",IF(AH13>=0,AH13,IF(AG13>=0,AG13,IF(AF13>=0,AF13,IF(AE13>=0,AE13,IF(AD13>=0,AD13,IF(AC13>=0,AC13,IF(AB13>=0,AB13,AA13))))))))","v":10},{"$f":"IF(AQ13<95,IF(AQ13<=90,VLOOKUP(AQ13,$AQ$561:$AR$616,2)))","v":"V3 H45"},{"$f":"IF(AND(J13<1920),VLOOKUP(K13,Feuil2!$F$10:$P$28,11),IF(AND(J13>=1920,J13<1937),VLOOKUP(K13,Feuil2!$F$10:$P$28,11),IF(AND(J13>=1936,J13<1942),VLOOKUP(K13,Feuil2!$F$10:$P$28,10),IF(AND(J13>=1942,J13<1947),VLOOKUP(K13,Feuil2!$F$10:$P$28,9),IF(AND(J13>=1947,J13<1952),VLOOKUP(K13,Feuil2!$F$10:$P$28,8),IF(AND(J13>=1952,J13<1957),VLOOKUP(K13,Feuil2!$F$10:$P$28,7),IF(AND(J13>=1957,J13<1962),VLOOKUP(K13,Feuil2!$F$10:$P$28,6),IF(AND(J13>=1962,J13<1967),VLOOKUP(K13,Feuil2!$F$10:$P$28,5),IF(AND(J13>=1967,J13<1972),VLOOKUP(K13,Feuil2!$F$10:$P$28,4),IF(AND(J13>=1972,J13<1977),VLOOKUP(K13,Feuil2!$F$10:$P$28,3),IF(AND(J13>=1977,J13<1982),VLOOKUP(K13,Feuil2!$F$10:$P$28,2),VLOOKUP(K13,Feuil2!$F$10:$P$28,2))))))))))))","v":"VH45-69"},null,{"$f":"T13-HLOOKUP(Y13,Feuil2!$C$1:$CD$9,2,FALSE)","v":160},{"$f":"T13-HLOOKUP(Y13,Feuil2!$C$1:$CD$9,3,FALSE)","v":30},{"$f":"T13-HLOOKUP(Y13,Feuil2!$C$1:$CD$9,4,FALSE)","v":20},{"$f":"T13-HLOOKUP(Y13,Feuil2!$C$1:$CD$9,5,FALSE)","v":10},{"$f":"T13-HLOOKUP(Y13,Feuil2!$C$1:$CD$9,6,FALSE)","v":-10},{"$f":"T13-HLOOKUP(Y13,Feuil2!$C$1:$CD$9,7,FALSE)","v":-840},{"$f":"T13-HLOOKUP(Y13,Feuil2!$C$1:$CD$9,8,FALSE)","v":-840},{"$f":"T13-HLOOKUP(Y13,Feuil2!$C$1:$CD$9,9,FALSE)","v":-840},null,null,null,null,null,null,null,{"$f":"IF(AH13>=0,$AH$4,IF(AG13>=0,$AG$4,IF(AF13>=0,$AF$4,IF(AE13>=0,$AE$4,IF(AD13>=0,$AD$4,IF(AC13>=0,$AC$4,IF(AB13>=0,$AB$4,IF(AA13>=0,$AA$4,$AI$4))))))))","v":"EUR +"},{"$f":"2016-J13","v":46},null,{"$f":"IF(AQ13,VLOOKUP(AQ13,HOM!$AS$561:$AT$616,2))","v":1.2070000000000001}]
[]
["H","NE","LOR",null,2632,"F","MALINI","Didier","H.C.Pte-ROSSELLE",1967,83.6,-80,-80,-80,{"$f":"IF(K15=\"\",\"\",IF(MAXA(L15:N15)<=0,0,MAXA(L15:N15)))","v":0},-100,100,"X",{"$f":"IF(K15=\"\",\"\",IF(MAXA(P15:R15)<=0,0,MAXA(P15:R15)))","v":100},{"$f":"IF(K15=\"\",\"\",IF(OR(O15=0,S15=0),0,O15+S15))","v":0},{"$f":"IF(K15=\"\",\"\",IF(A15=\"H\",10^(0.794358141*LOG(K15/174.393)^2)*T15*AS15,IF(A15=\"F\",10^(0.89726074 * LOG(K15/148.026)^2)*T15*AS15,\"\")))","v":0},{"$f":"IF(K15=\"\",\"\",AP15)","v":"N.CL."},{"$f":"IF(K15=\"\",\"\",IF(AH15>=0,AH15,IF(AG15>=0,AG15,IF(AF15>=0,AF15,IF(AE15>=0,AE15,IF(AD15>=0,AD15,IF(AC15>=0,AC15,IF(AB15>=0,AB15,AA15))))))))","v":0},{"$f":"IF(AQ15<95,IF(AQ15<=90,VLOOKUP(AQ15,$AQ$561:$AR$616,2)))","v":"V3 H45"},{"$f":"IF(AND(J15<1920),VLOOKUP(K15,Feuil2!$F$10:$P$28,11),IF(AND(J15>=1920,J15<1937),VLOOKUP(K15,Feuil2!$F$10:$P$28,11),IF(AND(J15>=1936,J15<1942),VLOOKUP(K15,Feuil2!$F$10:$P$28,10),IF(AND(J15>=1942,J15<1947),VLOOKUP(K15,Feuil2!$F$10:$P$28,9),IF(AND(J15>=1947,J15<1952),VLOOKUP(K15,Feuil2!$F$10:$P$28,8),IF(AND(J15>=1952,J15<1957),VLOOKUP(K15,Feuil2!$F$10:$P$28,7),IF(AND(J15>=1957,J15<1962),VLOOKUP(K15,Feuil2!$F$10:$P$28,6),IF(AND(J15>=1962,J15<1967),VLOOKUP(K15,Feuil2!$F$10:$P$28,5),IF(AND(J15>=1967,J15<1972),VLOOKUP(K15,Feuil2!$F$10:$P$28,4),IF(AND(J15>=1972,J15<1977),VLOOKUP(K15,Feuil2!$F$10:$P$28,3),IF(AND(J15>=1977,J15<1982),VLOOKUP(K15,Feuil2!$F$10:$P$28,2),VLOOKUP(K15,Feuil2!$F$10:$P$28,2))))))))))))","v":"VH45-85"},null,{"$f":"T15-HLOOKUP(Y15,Feuil2!$C$1:$CD$9,2,FALSE)","v":0},{"$f":"T15-HLOOKUP(Y15,Feuil2!$C$1:$CD$9,3,FALSE)","v":-155},{"$f":"T15-HLOOKUP(Y15,Feuil2!$C$1:$CD$9,4,FALSE)","v":-165},{"$f":"T15-HLOOKUP(Y15,Feuil2!$C$1:$CD$9,5,FALSE)","v":-175},{"$f":"T15-HLOOKUP(Y15,Feuil2!$C$1:$CD$9,6,FALSE)","v":-195},{"$f":"T15-HLOOKUP(Y15,Feuil2!$C$1:$CD$9,7,FALSE)","v":-1000},{"$f":"T15-HLOOKUP(Y15,Feuil2!$C$1:$CD$9,8,FALSE)","v":-1000},{"$f":"T15-HLOOKUP(Y15,Feuil2!$C$1:$CD$9,9,FALSE)","v":-1000},null,null,null,null,null,null,null,{"$f":"IF(AH15>=0,$AH$4,IF(AG15>=0,$AG$4,IF(AF15>=0,$AF$4,IF(AE15>=0,$AE$4,IF(AD15>=0,$AD$4,IF(AC15>=0,$AC$4,IF(AB15>=0,$AB$4,IF(AA15>=0,$AA$4,$AI$4))))))))","v":"N.CL."},{"$f":"2016-J15","v":49},null,{"$f":"IF(AQ15,VLOOKUP(AQ15,HOM!$AS$561:$AT$616,2))","v":1.234}]
[]
["H","NE","LOR",1,155715,"F","ANTHONY","Gilles","E.S.LANEUVEVILLOISE",1967,93.5,88,91,95,{"$f":"IF(K17=\"\",\"\",IF(MAXA(L17:N17)<=0,0,MAXA(L17:N17)))","v":95},115,120,125,{"$f":"IF(K17=\"\",\"\",IF(MAXA(P17:R17)<=0,0,MAXA(P17:R17)))","v":125},{"$f":"IF(K17=\"\",\"\",IF(OR(O17=0,S17=0),0,O17+S17))","v":220},{"$f":"IF(K17=\"\",\"\",IF(A17=\"H\",10^(0.794358141*LOG(K17/174.393)^2)*T17*AS17,IF(A17=\"F\",10^(0.89726074 * LOG(K17/148.026)^2)*T17*AS17,\"\")))","v":310.42358150027042},{"$f":"IF(K17=\"\",\"\",AP17)","v":"MON +"},{"$f":"IF(K17=\"\",\"\",IF(AH17>=0,AH17,IF(AG17>=0,AG17,IF(AF17>=0,AF17,IF(AE17>=0,AE17,IF(AD17>=0,AD17,IF(AC17>=0,AC17,IF(AB17>=0,AB17,AA17))))))))","v":15},{"$f":"IF(AQ17<95,IF(AQ17<=90,VLOOKUP(AQ17,$AQ$561:$AR$616,2)))","v":"V3 H45"},{"$f":"IF(AND(J17<1920),VLOOKUP(K17,Feuil2!$F$10:$P$28,11),IF(AND(J17>=1920,J17<1937),VLOOKUP(K17,Feuil2!$F$10:$P$28,11),IF(AND(J17>=1936,J17<1942),VLOOKUP(K17,Feuil2!$F$10:$P$28,10),IF(AND(J17>=1942,J17<1947),VLOOKUP(K17,Feuil2!$F$10:$P$28,9),IF(AND(J17>=1947,J17<1952),VLOOKUP(K17,Feuil2!$F$10:$P$28,8),IF(AND(J17>=1952,J17<1957),VLOOKUP(K17,Feuil2!$F$10:$P$28,7),IF(AND(J17>=1957,J17<1962),VLOOKUP(K17,Feuil2!$F$10:$P$28,6),IF(AND(J17>=1962,J17<1967),VLOOKUP(K17,Feuil2!$F$10:$P$28,5),IF(AND(J17>=1967,J17<1972),VLOOKUP(K17,Feuil2!$F$10:$P$28,4),IF(AND(J17>=1972,J17<1977),VLOOKUP(K17,Feuil2!$F$10:$P$28,3),IF(AND(J17>=1977,J17<1982),VLOOKUP(K17,Feuil2!$F$10:$P$28,2),VLOOKUP(K17,Feuil2!$F$10:$P$28,2))))))))))))","v":"VH45-94"},null,{"$f":"T17-HLOOKUP(Y17,Feuil2!$C$1:$CD$9,2,FALSE)","v":220},{"$f":"T17-HLOOKUP(Y17,Feuil2!$C$1:$CD$9,3,FALSE)","v":58},{"$f":"T17-HLOOKUP(Y17,Feuil2!$C$1:$CD$9,4,FALSE)","v":48},{"$f":"T17-HLOOKUP(Y17,Feuil2!$C$1:$CD$9,5,FALSE)","v":38},{"$f":"T17-HLOOKUP(Y17,Feuil2!$C$1:$CD$9,6,FALSE)","v":15},{"$f":"T17-HLOOKUP(Y17,Feuil2!$C$1:$CD$9,7,FALSE)","v":-780},{"$f":"T17-HLOOKUP(Y17,Feuil2!$C$1:$CD$9,8,FALSE)","v":-780},{"$f":"T17-HLOOKUP(Y17,Feuil2!$C$1:$CD$9,9,FALSE)","v":-780},null,null,null,null,null,null,null,{"$f":"IF(AH17>=0,$AH$4,IF(AG17>=0,$AG$4,IF(AF17>=0,$AF$4,IF(AE17>=0,$AE$4,IF(AD17>=0,$AD$4,IF(AC17>=0,$AC$4,IF(AB17>=0,$AB$4,IF(AA17>=0,$AA$4,$AI$4))))))))","v":"MON +"},{"$f":"2016-J17","v":49},null,{"$f":"IF(AQ17,VLOOKUP(AQ17,HOM!$AS$561:$AT$616,2))","v":1.234}]
[]
["H","NE","LOR",null,408041,"F","MENARD","Didier","S.A.VERDUN",1966,85,59,63,-65,{"$f":"IF(K19=\"\",\"\",IF(MAXA(L19:N19)<=0,0,MAXA(L19:N19)))","v":63},69,-74,-74,{"$f":"IF(K19=\"\",\"\",IF(MAXA(P19:R19)<=0,0,MAXA(P19:R19)))","v":69},{"$f":"IF(K19=\"\",\"\",IF(OR(O19=0,S19=0),0,O19+S19))","v":132},{"$f":"IF(K19=\"\",\"\",IF(A19=\"H\",10^(0.794358141*LOG(K19/174.393)^2)*T19*AS19,IF(A19=\"F\",10^(0.89726074 * LOG(K19/148.026)^2)*T19*AS19,\"\")))","v":196.07654875258342},{"$f":"IF(K19=\"\",\"\",AP19)","v":"N.CL."},{"$f":"IF(K19=\"\",\"\",IF(AH19>=0,AH19,IF(AG19>=0,AG19,IF(AF19>=0,AF19,IF(AE19>=0,AE19,IF(AD19>=0,AD19,IF(AC19>=0,AC19,IF(AB19>=0,AB19,AA19))))))))","v":132},{"$f":"IF(AQ19<95,IF(AQ19<=90,VLOOKUP(AQ19,$AQ$561:$AR$616,2)))","v":"V4 H50"},{"$f":"IF(AND(J19<1920),VLOOKUP(K19,Feuil2!$F$10:$P$28,11),IF(AND(J19>=1920,J19<1937),VLOOKUP(K19,Feuil2!$F$10:$P$28,11),IF(AND(J19>=1936,J19<1942),VLOOKUP(K19,Feuil2!$F$10:$P$28,10),IF(AND(J19>=1942,J19<1947),VLOOKUP(K19,Feuil2!$F$10:$P$28,9),IF(AND(J19>=1947,J19<1952),VLOOKUP(K19,Feuil2!$F$10:$P$28,8),IF(AND(J19>=1952,J19<1957),VLOOKUP(K19,Feuil2!$F$10:$P$28,7),IF(AND(J19>=1957,J19<1962),VLOOKUP(K19,Feuil2!$F$10:$P$28,6),IF(AND(J19>=1962,J19<1967),VLOOKUP(K19,Feuil2!$F$10:$P$28,5),IF(AND(J19>=1967,J19<1972),VLOOKUP(K19,Feuil2!$F$10:$P$28,4),IF(AND(J19>=1972,J19<1977),VLOOKUP(K19,Feuil2!$F$10:$P$28,3),IF(AND(J19>=1977,J19<1982),VLOOKUP(K19,Feuil2!$F$10:$P$28,2),VLOOKUP(K19,Feuil2!$F$10:$P$28,2))))))))))))","v":"VH50-85"},null,{"$f":"T19-HLOOKUP(Y19,Feuil2!$C$1:$CD$9,2,FALSE)","v":132},{"$f":"T19-HLOOKUP(Y19,Feuil2!$C$1:$CD$9,3,FALSE)","v":-8},{"$f":"T19-HLOOKUP(Y19,Feuil2!$C$1:$CD$9,4,FALSE)","v":-18},{"$f":"T19-HLOOKUP(Y19,Feuil2!$C$1:$CD$9,5,FALSE)","v":-28},{"$f":"T19-HLOOKUP(Y19,Feuil2!$C$1:$CD$9,6,FALSE)","v":-48},{"$f":"T19-HLOOKUP(Y19,Feuil2!$C$1:$CD$9,7,FALSE)","v":-868},{"$f":"T19-HLOOKUP(Y19,Feuil2!$C$1:$CD$9,8,FALSE)","v":-868},{"$f":"T19-HLOOKUP(Y19,Feuil2!$C$1:$CD$9,9,FALSE)","v":-868},null,null,null,null,null,null,null,{"$f":"IF(AH19>=0,$AH$4,IF(AG19>=0,$AG$4,IF(AF19>=0,$AF$4,IF(AE19>=0,$AE$4,IF(AD19>=0,$AD$4,IF(AC19>=0,$AC$4,IF(AB19>=0,$AB$4,IF(AA19>=0,$AA$4,$AI$4))))))))","v":"N.CL."},{"$f":"2016-J19","v":50},null,{"$f":"IF(AQ19,VLOOKUP(AQ19,HOM!$AS$561:$AT$616,2))","v":1.2430000000000001}]
[]
["H","NE","LOR",1,172603,"F","TIRBISCH","Patrice","S.C.FAMECK",1959,74.2,53,-58,-60,{"$f":"IF(K21=\"\",\"\",IF(MAXA(L21:N21)<=0,0,MAXA(L21:N21)))","v":53},80,87,-96,{"$f":"IF(K21=\"\",\"\",IF(MAXA(P21:R21)<=0,0,MAXA(P21:R21)))","v":87},{"$f":"IF(K21=\"\",\"\",IF(OR(O21=0,S21=0),0,O21+S21))","v":140},{"$f":"IF(K21=\"\",\"\",IF(A21=\"H\",10^(0.794358141*LOG(K21/174.393)^2)*T21*AS21,IF(A21=\"F\",10^(0.89726074 * LOG(K21/148.026)^2)*T21*AS21,\"\")))","v":255.21600635538101},{"$f":"IF(K21=\"\",\"\",AP21)","v":"EUR +"},{"$f":"IF(K21=\"\",\"\",IF(AH21>=0,AH21,IF(AG21>=0,AG21,IF(AF21>=0,AF21,IF(AE21>=0,AE21,IF(AD21>=0,AD21,IF(AC21>=0,AC21,IF(AB21>=0,AB21,AA21))))))))","v":5},{"$f":"IF(AQ21<95,IF(AQ21<=90,VLOOKUP(AQ21,$AQ$561:$AR$616,2)))","v":"V5 H55"},{"$f":"IF(AND(J21<1920),VLOOKUP(K21,Feuil2!$F$10:$P$28,11),IF(AND(J21>=1920,J21<1937),VLOOKUP(K21,Feuil2!$F$10:$P$28,11),IF(AND(J21>=1936,J21<1942),VLOOKUP(K21,Feuil2!$F$10:$P$28,10),IF(AND(J21>=1942,J21<1947),VLOOKUP(K21,Feuil2!$F$10:$P$28,9),IF(AND(J21>=1947,J21<1952),VLOOKUP(K21,Feuil2!$F$10:$P$28,8),IF(AND(J21>=1952,J21<1957),VLOOKUP(K21,Feuil2!$F$10:$P$28,7),IF(AND(J21>=1957,J21<1962),VLOOKUP(K21,Feuil2!$F$10:$P$28,6),IF(AND(J21>=1962,J21<1967),VLOOKUP(K21,Feuil2!$F$10:$P$28,5),IF(AND(J21>=1967,J21<1972),VLOOKUP(K21,Feuil2!$F$10:$P$28,4),IF(AND(J21>=1972,J21<1977),VLOOKUP(K21,Feuil2!$F$10:$P$28,3),IF(AND(J21>=1977,J21<1982),VLOOKUP(K21,Feuil2!$F$10:$P$28,2),VLOOKUP(K21,Feuil2!$F$10:$P$28,2))))))))))))","v":"VH55-77"},null,{"$f":"T21-HLOOKUP(Y21,Feuil2!$C$1:$CD$9,2,FALSE)","v":140},{"$f":"T21-HLOOKUP(Y21,Feuil2!$C$1:$CD$9,3,FALSE)","v":25},{"$f":"T21-HLOOKUP(Y21,Feuil2!$C$1:$CD$9,4,FALSE)","v":15},{"$f":"T21-HLOOKUP(Y21,Feuil2!$C$1:$CD$9,5,FALSE)","v":5},{"$f":"T21-HLOOKUP(Y21,Feuil2!$C$1:$CD$9,6,FALSE)","v":-12},{"$f":"T21-HLOOKUP(Y21,Feuil2!$C$1:$CD$9,7,FALSE)","v":-860},{"$f":"T21-HLOOKUP(Y21,Feuil2!$C$1:$CD$9,8,FALSE)","v":-860},{"$f":"T21-HLOOKUP(Y21,Feuil2!$C$1:$CD$9,9,FALSE)","v":-860},null,null,null,null,null,null,null,{"$f":"IF(AH21>=0,$AH$4,IF(AG21>=0,$AG$4,IF(AF21>=0,$AF$4,IF(AE21>=0,$AE$4,IF(AD21>=0,$AD$4,IF(AC21>=0,$AC$4,IF(AB21>=0,$AB$4,IF(AA21>=0,$AA$4,$AI$4))))))))","v":"EUR +"},{"$f":"2016-J21","v":57},null,{"$f":"IF(AQ21,VLOOKUP(AQ21,HOM!$AS$561:$AT$616,2))","v":1.417}]
[]
["H","NE","LOR",1,121314,"F","LIAGRE","Jean Léon","S.A.VERDUN",1960,101.6,72,77,80,{"$f":"IF(K23=\"\",\"\",IF(MAXA(L23:N23)<=0,0,MAXA(L23:N23)))","v":80},92,97,100,{"$f":"IF(K23=\"\",\"\",IF(MAXA(P23:R23)<=0,0,MAXA(P23:R23)))","v":100},{"$f":"IF(K23=\"\",\"\",IF(OR(O23=0,S23=0),0,O23+S23))","v":180},{"$f":"IF(K23=\"\",\"\",IF(A23=\"H\",10^(0.794358141*LOG(K23/174.393)^2)*T23*AS23,IF(A23=\"F\",10^(0.89726074 * LOG(K23/148.026)^2)*T23*AS23,\"\")))","v":275.51229490177121},{"$f":"IF(K23=\"\",\"\",AP23)","v":"MON +"},{"$f":"IF(K23=\"\",\"\",IF(AH23>=0,AH23,IF(AG23>=0,AG23,IF(AF23>=0,AF23,IF(AE23>=0,AE23,IF(AD23>=0,AD23,IF(AC23>=0,AC23,IF(AB23>=0,AB23,AA23))))))))","v":3},{"$f":"IF(AQ23<95,IF(AQ23<=90,VLOOKUP(AQ23,$AQ$561:$AR$616,2)))","v":"V5 H55"},{"$f":"IF(AND(J23<1920),VLOOKUP(K23,Feuil2!$F$10:$P$28,11),IF(AND(J23>=1920,J23<1937),VLOOKUP(K23,Feuil2!$F$10:$P$28,11),IF(AND(J23>=1936,J23<1942),VLOOKUP(K23,Feuil2!$F$10:$P$28,10),IF(AND(J23>=1942,J23<1947),VLOOKUP(K23,Feuil2!$F$10:$P$28,9),IF(AND(J23>=1947,J23<1952),VLOOKUP(K23,Feuil2!$F$10:$P$28,8),IF(AND(J23>=1952,J23<1957),VLOOKUP(K23,Feuil2!$F$10:$P$28,7),IF(AND(J23>=1957,J23<1962),VLOOKUP(K23,Feuil2!$F$10:$P$28,6),IF(AND(J23>=1962,J23<1967),VLOOKUP(K23,Feuil2!$F$10:$P$28,5),IF(AND(J23>=1967,J23<1972),VLOOKUP(K23,Feuil2!$F$10:$P$28,4),IF(AND(J23>=1972,J23<1977),VLOOKUP(K23,Feuil2!$F$10:$P$28,3),IF(AND(J23>=1977,J23<1982),VLOOKUP(K23,Feuil2!$F$10:$P$28,2),VLOOKUP(K23,Feuil2!$F$10:$P$28,2))))))))))))","v":"VH55-105"},null,{"$f":"T23-HLOOKUP(Y23,Feuil2!$C$1:$CD$9,2,FALSE)","v":180},{"$f":"T23-HLOOKUP(Y23,Feuil2!$C$1:$CD$9,3,FALSE)","v":43},{"$f":"T23-HLOOKUP(Y23,Feuil2!$C$1:$CD$9,4,FALSE)","v":33},{"$f":"T23-HLOOKUP(Y23,Feuil2!$C$1:$CD$9,5,FALSE)","v":23},{"$f":"T23-HLOOKUP(Y23,Feuil2!$C$1:$CD$9,6,FALSE)","v":3},{"$f":"T23-HLOOKUP(Y23,Feuil2!$C$1:$CD$9,7,FALSE)","v":-820},{"$f":"T23-HLOOKUP(Y23,Feuil2!$C$1:$CD$9,8,FALSE)","v":-820},{"$f":"T23-HLOOKUP(Y23,Feuil2!$C$1:$CD$9,9,FALSE)","v":-820},null,null,null,null,null,null,null,{"$f":"IF(AH23>=0,$AH$4,IF(AG23>=0,$AG$4,IF(AF23>=0,$AF$4,IF(AE23>=0,$AE$4,IF(AD23>=0,$AD$4,IF(AC23>=0,$AC$4,IF(AB23>=0,$AB$4,IF(AA23>=0,$AA$4,$AI$4))))))))","v":"MON +"},{"$f":"2016-J23","v":56},null,{"$f":"IF(AQ23,VLOOKUP(AQ23,HOM!$AS$561:$AT$616,2))","v":1.3839999999999999}]
[]
["H","NE","LOR",1,43555,"F","GILLE","Gérard","H.C.Pte-ROSSELLE",1956,112.7,60,65,-70,{"$f":"IF(K25=\"\",\"\",IF(MAXA(L25:N25)<=0,0,MAXA(L25:N25)))","v":65},85,90,-95,{"$f":"IF(K25=\"\",\"\",IF(MAXA(P25:R25)<=0,0,MAXA(P25:R25)))","v":90},{"$f":"IF(K25=\"\",\"\",IF(OR(O25=0,S25=0),0,O25+S25))","v":155},{"$f":"IF(K25=\"\",\"\",IF(A25=\"H\",10^(0.794358141*LOG(K25/174.393)^2)*T25*AS25,IF(A25=\"F\",10^(0.89726074 * LOG(K25/148.026)^2)*T25*AS25,\"\")))","v":249.79181152544709},{"$f":"IF(K25=\"\",\"\",AP25)","v":"EUR +"},{"$f":"IF(K25=\"\",\"\",IF(AH25>=0,AH25,IF(AG25>=0,AG25,IF(AF25>=0,AF25,IF(AE25>=0,AE25,IF(AD25>=0,AD25,IF(AC25>=0,AC25,IF(AB25>=0,AB25,AA25))))))))","v":5},{"$f":"IF(AQ25<95,IF(AQ25<=90,VLOOKUP(AQ25,$AQ$561:$AR$616,2)))","v":"V6 H60"},{"$f":"IF(AND(J25<1920),VLOOKUP(K25,Feuil2!$F$10:$P$28,11),IF(AND(J25>=1920,J25<1937),VLOOKUP(K25,Feuil2!$F$10:$P$28,11),IF(AND(J25>=1936,J25<1942),VLOOKUP(K25,Feuil2!$F$10:$P$28,10),IF(AND(J25>=1942,J25<1947),VLOOKUP(K25,Feuil2!$F$10:$P$28,9),IF(AND(J25>=1947,J25<1952),VLOOKUP(K25,Feuil2!$F$10:$P$28,8),IF(AND(J25>=1952,J25<1957),VLOOKUP(K25,Feuil2!$F$10:$P$28,7),IF(AND(J25>=1957,J25<1962),VLOOKUP(K25,Feuil2!$F$10:$P$28,6),IF(AND(J25>=1962,J25<1967),VLOOKUP(K25,Feuil2!$F$10:$P$28,5),IF(AND(J25>=1967,J25<1972),VLOOKUP(K25,Feuil2!$F$10:$P$28,4),IF(AND(J25>=1972,J25<1977),VLOOKUP(K25,Feuil2!$F$10:$P$28,3),IF(AND(J25>=1977,J25<1982),VLOOKUP(K25,Feuil2!$F$10:$P$28,2),VLOOKUP(K25,Feuil2!$F$10:$P$28,2))))))))))))","v":"VH60+105"},null,{"$f":"T25-HLOOKUP(Y25,Feuil2!$C$1:$CD$9,2,FALSE)","v":155},{"$f":"T25-HLOOKUP(Y25,Feuil2!$C$1:$CD$9,3,FALSE)","v":25},{"$f":"T25-HLOOKUP(Y25,Feuil2!$C$1:$CD$9,4,FALSE)","v":15},{"$f":"T25-HLOOKUP(Y25,Feuil2!$C$1:$CD$9,5,FALSE)","v":5},{"$f":"T25-HLOOKUP(Y25,Feuil2!$C$1:$CD$9,6,FALSE)","v":-12},{"$f":"T25-HLOOKUP(Y25,Feuil2!$C$1:$CD$9,7,FALSE)","v":-845},{"$f":"T25-HLOOKUP(Y25,Feuil2!$C$1:$CD$9,8,FALSE)","v":-845},{"$f":"T25-HLOOKUP(Y25,Feuil2!$C$1:$CD$9,9,FALSE)","v":-845},null,null,null,null,null,null,null,{"$f":"IF(AH25>=0,$AH$4,IF(AG25>=0,$AG$4,IF(AF25>=0,$AF$4,IF(AE25>=0,$AE$4,IF(AD25>=0,$AD$4,IF(AC25>=0,$AC$4,IF(AB25>=0,$AB$4,IF(AA25>=0,$AA$4,$AI$4))))))))","v":"EUR +"},{"$f":"2016-J25","v":60},null,{"$f":"IF(AQ25,VLOOKUP(AQ25,HOM!$AS$561:$AT$616,2))","v":1.5089999999999999}]
[]
["H","NE","LOR",1,16418,"F","BOUKO","Roger","E.S.LANEUVEVILLOISE",1947,87.9,58,61,64,{"$f":"IF(K27=\"\",\"\",IF(MAXA(L27:N27)<=0,0,MAXA(L27:N27)))","v":64},76,80,84,{"$f":"IF(K27=\"\",\"\",IF(MAXA(P27:R27)<=0,0,MAXA(P27:R27)))","v":84},{"$f":"IF(K27=\"\",\"\",IF(OR(O27=0,S27=0),0,O27+S27))","v":148},{"$f":"IF(K27=\"\",\"\",IF(A27=\"H\",10^(0.794358141*LOG(K27/174.393)^2)*T27*AS27,IF(A27=\"F\",10^(0.89726074 * LOG(K27/148.026)^2)*T27*AS27,\"\")))","v":322.97160115812397},{"$f":"IF(K27=\"\",\"\",AP27)","v":"MON +"},{"$f":"IF(K27=\"\",\"\",IF(AH27>=0,AH27,IF(AG27>=0,AG27,IF(AF27>=0,AF27,IF(AE27>=0,AE27,IF(AD27>=0,AD27,IF(AC27>=0,AC27,IF(AB27>=0,AB27,AA27))))))))","v":13},{"$f":"IF(AQ27<95,IF(AQ27<=90,VLOOKUP(AQ27,$AQ$561:$AR$616,2)))","v":"V7 H65"},{"$f":"IF(AND(J27<1920),VLOOKUP(K27,Feuil2!$F$10:$P$28,11),IF(AND(J27>=1920,J27<1937),VLOOKUP(K27,Feuil2!$F$10:$P$28,11),IF(AND(J27>=1936,J27<1942),VLOOKUP(K27,Feuil2!$F$10:$P$28,10),IF(AND(J27>=1942,J27<1947),VLOOKUP(K27,Feuil2!$F$10:$P$28,9),IF(AND(J27>=1947,J27<1952),VLOOKUP(K27,Feuil2!$F$10:$P$28,8),IF(AND(J27>=1952,J27<1957),VLOOKUP(K27,Feuil2!$F$10:$P$28,7),IF(AND(J27>=1957,J27<1962),VLOOKUP(K27,Feuil2!$F$10:$P$28,6),IF(AND(J27>=1962,J27<1967),VLOOKUP(K27,Feuil2!$F$10:$P$28,5),IF(AND(J27>=1967,J27<1972),VLOOKUP(K27,Feuil2!$F$10:$P$28,4),IF(AND(J27>=1972,J27<1977),VLOOKUP(K27,Feuil2!$F$10:$P$28,3),IF(AND(J27>=1977,J27<1982),VLOOKUP(K27,Feuil2!$F$10:$P$28,2),VLOOKUP(K27,Feuil2!$F$10:$P$28,2))))))))))))","v":"VH65-94"},null,{"$f":"T27-HLOOKUP(Y27,Feuil2!$C$1:$CD$9,2,FALSE)","v":148},{"$f":"T27-HLOOKUP(Y27,Feuil2!$C$1:$CD$9,3,FALSE)","v":48},{"$f":"T27-HLOOKUP(Y27,Feuil2!$C$1:$CD$9,4,FALSE)","v":38},{"$f":"T27-HLOOKUP(Y27,Feuil2!$C$1:$CD$9,5,FALSE)","v":28},{"$f":"T27-HLOOKUP(Y27,Feuil2!$C$1:$CD$9,6,FALSE)","v":13},{"$f":"T27-HLOOKUP(Y27,Feuil2!$C$1:$CD$9,7,FALSE)","v":-852},{"$f":"T27-HLOOKUP(Y27,Feuil2!$C$1:$CD$9,8,FALSE)","v":-852},{"$f":"T27-HLOOKUP(Y27,Feuil2!$C$1:$CD$9,9,FALSE)","v":-852},null,null,null,null,null,null,null,{"$f":"IF(AH27>=0,$AH$4,IF(AG27>=0,$AG$4,IF(AF27>=0,$AF$4,IF(AE27>=0,$AE$4,IF(AD27>=0,$AD$4,IF(AC27>=0,$AC$4,IF(AB27>=0,$AB$4,IF(AA27>=0,$AA$4,$AI$4))))))))","v":"MON +"},{"$f":"2016-J27","v":69},null,{"$f":"IF(AQ27,VLOOKUP(AQ27,HOM!$AS$561:$AT$616,2))","v":1.8560000000000001}]
[]
["H","NE","LOR",1,29199,"F","KAISER","Paul","H.C.Pte-ROSSELLE",1933,67.5,36,39,40,{"$f":"IF(K29=\"\",\"\",IF(MAXA(L29:N29)<=0,0,MAXA(L29:N29)))","v":40},47,50,51,{"$f":"IF(K29=\"\",\"\",IF(MAXA(P29:R29)<=0,0,MAXA(P29:R29)))","v":51},{"$f":"IF(K29=\"\",\"\",IF(OR(O29=0,S29=0),0,O29+S29))","v":91},{"$f":"IF(K29=\"\",\"\",IF(A29=\"H\",10^(0.794358141*LOG(K29/174.393)^2)*T29*AS29,IF(A29=\"F\",10^(0.89726074 * LOG(K29/148.026)^2)*T29*AS29,\"\")))","v":393.13103162545741},{"$f":"IF(K29=\"\",\"\",AP29)","v":"MON +"},{"$f":"IF(K29=\"\",\"\",IF(AH29>=0,AH29,IF(AG29>=0,AG29,IF(AF29>=0,AF29,IF(AE29>=0,AE29,IF(AD29>=0,AD29,IF(AC29>=0,AC29,IF(AB29>=0,AB29,AA29))))))))","v":31},{"$f":"IF(AQ29<95,IF(AQ29<=90,VLOOKUP(AQ29,$AQ$561:$AR$616,2)))","v":"V10 H80+"},{"$f":"IF(AND(J29<1920),VLOOKUP(K29,Feuil2!$F$10:$P$28,11),IF(AND(J29>=1920,J29<1937),VLOOKUP(K29,Feuil2!$F$10:$P$28,11),IF(AND(J29>=1936,J29<1942),VLOOKUP(K29,Feuil2!$F$10:$P$28,10),IF(AND(J29>=1942,J29<1947),VLOOKUP(K29,Feuil2!$F$10:$P$28,9),IF(AND(J29>=1947,J29<1952),VLOOKUP(K29,Feuil2!$F$10:$P$28,8),IF(AND(J29>=1952,J29<1957),VLOOKUP(K29,Feuil2!$F$10:$P$28,7),IF(AND(J29>=1957,J29<1962),VLOOKUP(K29,Feuil2!$F$10:$P$28,6),IF(AND(J29>=1962,J29<1967),VLOOKUP(K29,Feuil2!$F$10:$P$28,5),IF(AND(J29>=1967,J29<1972),VLOOKUP(K29,Feuil2!$F$10:$P$28,4),IF(AND(J29>=1972,J29<1977),VLOOKUP(K29,Feuil2!$F$10:$P$28,3),IF(AND(J29>=1977,J29<1982),VLOOKUP(K29,Feuil2!$F$10:$P$28,2),VLOOKUP(K29,Feuil2!$F$10:$P$28,2))))))))))))","v":"VH80+-69"},null,{"$f":"T29-HLOOKUP(Y29,Feuil2!$C$1:$CD$9,2,FALSE)","v":91},{"$f":"T29-HLOOKUP(Y29,Feuil2!$C$1:$CD$9,3,FALSE)","v":41},{"$f":"T29-HLOOKUP(Y29,Feuil2!$C$1:$CD$9,4,FALSE)","v":33},{"$f":"T29-HLOOKUP(Y29,Feuil2!$C$1:$CD$9,5,FALSE)","v":32},{"$f":"T29-HLOOKUP(Y29,Feuil2!$C$1:$CD$9,6,FALSE)","v":31},{"$f":"T29-HLOOKUP(Y29,Feuil2!$C$1:$CD$9,7,FALSE)","v":-909},{"$f":"T29-HLOOKUP(Y29,Feuil2!$C$1:$CD$9,8,FALSE)","v":-909},{"$f":"T29-HLOOKUP(Y29,Feuil2!$C$1:$CD$9,9,FALSE)","v":-909},null,null,null,null,null,null,null,{"$f":"IF(AH29>=0,$AH$4,IF(AG29>=0,$AG$4,IF(AF29>=0,$AF$4,IF(AE29>=0,$AE$4,IF(AD29>=0,$AD$4,IF(AC29>=0,$AC$4,IF(AB29>=0,$AB$4,IF(AA29>=0,$AA$4,$AI$4))))))))","v":"MON +"},{"$f":"2016-J29","v":83},null,{"$f":"IF(AQ29,VLOOKUP(AQ29,HOM!$AS$561:$AT$616,2))","v":3.1659999999999999}]
["H",null,null,null,null,null,null,null,null,null,null,null,null,null,{"$f":"IF(K30=\"\",\"\",IF(MAXA(L30:N30)<=0,0,MAXA(L30:N30)))","v":""},null,null,null,{"$f":"IF(K30=\"\",\"\",IF(MAXA(P30:R30)<=0,0,MAXA(P30:R30)))","v":""},{"$f":"IF(K30=\"\",\"\",IF(OR(O30=0,S30=0),0,O30+S30))","v":""},"",{"$f":"IF(K30=\"\",\"\",AP30)","v":""},{"$f":"IF(K30=\"\",\"\",IF(AH30>=0,AH30,IF(AG30>=0,AG30,IF(AF30>=0,AF30,IF(AE30>=0,AE30,IF(AD30>=0,AD30,IF(AC30>=0,AC30,IF(AB30>=0,AB30,AA30))))))))","v":""},{"$f":"IF(AQ30<95,IF(AQ30<=90,VLOOKUP(AQ30,$AQ$561:$AR$616,2)))","v":false},{"$f":"IF(AND(J30<1920),VLOOKUP(K30,Feuil2!$F$10:$P$28,11),IF(AND(J30>=1920,J30<1937),VLOOKUP(K30,Feuil2!$F$10:$P$28,11),IF(AND(J30>=1936,J30<1942),VLOOKUP(K30,Feuil2!$F$10:$P$28,10),IF(AND(J30>=1942,J30<1947),VLOOKUP(K30,Feuil2!$F$10:$P$28,9),IF(AND(J30>=1947,J30<1952),VLOOKUP(K30,Feuil2!$F$10:$P$28,8),IF(AND(J30>=1952,J30<1957),VLOOKUP(K30,Feuil2!$F$10:$P$28,7),IF(AND(J30>=1957,J30<1962),VLOOKUP(K30,Feuil2!$F$10:$P$28,6),IF(AND(J30>=1962,J30<1967),VLOOKUP(K30,Feuil2!$F$10:$P$28,5),IF(AND(J30>=1967,J30<1972),VLOOKUP(K30,Feuil2!$F$10:$P$28,4),IF(AND(J30>=1972,J30<1977),VLOOKUP(K30,Feuil2!$F$10:$P$28,3),IF(AND(J30>=1977,J30<1982),VLOOKUP(K30,Feuil2!$F$10:$P$28,2),VLOOKUP(K30,Feuil2!$F$10:$P$28,2))))))))))))","v":{"$error":"#N/A"}},null,{"$f":"T30-HLOOKUP(Y30,Feuil2!$C$1:$CD$9,2,FALSE)","v":{"$error":"#VALUE!"}},{"$f":"T30-HLOOKUP(Y30,Feuil2!$C$1:$CD$9,3,FALSE)","v":{"$error":"#VALUE!"}},{"$f":"T30-HLOOKUP(Y30,Feuil2!$C$1:$CD$9,4,FALSE)","v":{"$error":"#VALUE!"}},{"$f":"T30-HLOOKUP(Y30,Feuil2!$C$1:$CD$9,5,FALSE)","v":{"$error":"#VALUE!"}},{"$f":"T30-HLOOKUP(Y30,Feuil2!$C$1:$CD$9,6,FALSE)","v":{"$error":"#VALUE!"}},{"$f":"T30-HLOOKUP(Y30,Feuil2!$C$1:$CD$9,7,FALSE)","v":{"$error":"#VALUE!"}},{"$f":"T30-HLOOKUP(Y30,Feuil2!$C$1:$CD$9,8,FALSE)","v":{"$error":"#VALUE!"}},{"$f":"T30-HLOOKUP(Y30,Feuil2!$C$1:$CD$9,9,FALSE)","v":{"$error":"#VALUE!"}},null,null,null,null,null,null,null,{"$f":"IF(AH30>=0,$AH$4,IF(AG30>=0,$AG$4,IF(AF30>=0,$AF$4,IF(AE30>=0,$AE$4,IF(AD30>=0,$AD$4,IF(AC30>=0,$AC$4,IF(AB30>=0,$AB$4,IF(AA30>=0,$AA$4,$AI$4))))))))","v":{"$error":"#VALUE!"}},{"$f":"2016-J30","v":2016},null,{"$f":"IF(AQ30,VLOOKUP(AQ30,HOM!$AS$561:$AT$616,2))","v":3.5710000000000002}]
["H",null,null,null,null,null,null,null,null,null,null,null,null,null,"",null,null,null,"","","","","",false,{"$f":"IF(AND(J31<1920),VLOOKUP(K31,Feuil2!$F$10:$P$28,11),IF(AND(J31>=1920,J31<1937),VLOOKUP(K31,Feuil2!$F$10:$P$28,11),IF(AND(J31>=1936,J31<1942),VLOOKUP(K31,Feuil2!$F$10:$P$28,10),IF(AND(J31>=1942,J31<1947),VLOOKUP(K31,Feuil2!$F$10:$P$28,9),IF(AND(J31>=1947,J31<1952),VLOOKUP(K31,Feuil2!$F$10:$P$28,8),IF(AND(J31>=1952,J31<1957),VLOOKUP(K31,Feuil2!$F$10:$P$28,7),IF(AND(J31>=1957,J31<1962),VLOOKUP(K31,Feuil2!$F$10:$P$28,6),IF(AND(J31>=1962,J31<1967),VLOOKUP(K31,Feuil2!$F$10:$P$28,5),IF(AND(J31>=1967,J31<1972),VLOOKUP(K31,Feuil2!$F$10:$P$28,4),IF(AND(J31>=1972,J31<1977),VLOOKUP(K31,Feuil2!$F$10:$P$28,3),IF(AND(J31>=1977,J31<1982),VLOOKUP(K31,Feuil2!$F$10:$P$28,2),VLOOKUP(K31,Feuil2!$F$10:$P$28,2))))))))))))","v":{"$error":"#N/A"}},null,{"$f":"T31-HLOOKUP(Y31,Feuil2!$C$1:$CD$9,2,FALSE)","v":{"$error":"#VALUE!"}},{"$f":"T31-HLOOKUP(Y31,Feuil2!$C$1:$CD$9,3,FALSE)","v":{"$error":"#VALUE!"}},{"$f":"T31-HLOOKUP(Y31,Feuil2!$C$1:$CD$9,4,FALSE)","v":{"$error":"#VALUE!"}},{"$f":"T31-HLOOKUP(Y31,Feuil2!$C$1:$CD$9,5,FALSE)","v":{"$error":"#VALUE!"}},{"$f":"T31-HLOOKUP(Y31,Feuil2!$C$1:$CD$9,6,FALSE)","v":{"$error":"#VALUE!"}},{"$f":"T31-HLOOKUP(Y31,Feuil2!$C$1:$CD$9,7,FALSE)","v":{"$error":"#VALUE!"}},{"$f":"T31-HLOOKUP(Y31,Feuil2!$C$1:$CD$9,8,FALSE)","v":{"$error":"#VALUE!"}},{"$f":"T31-HLOOKUP(Y31,Feuil2!$C$1:$CD$9,9,FALSE)","v":{"$error":"#VALUE!"}},null,null,null,null,null,null,null,{"$error":"#VALUE!"},2016,null,{"$f":"IF(AQ31,VLOOKUP(AQ31,HOM!$AS$561:$AT$616,2))","v":3.5710000000000002}]
["H",null,null,null,null,null,null,null,null,null,null,null,null,null,"",null,null,null,"","","","","",false,{"$f":"IF(AND(J32<1920),VLOOKUP(K32,Feuil2!$F$10:$P$28,11),IF(AND(J32>=1920,J32<1937),VLOOKUP(K32,Feuil2!$F$10:$P$28,11),IF(AND(J32>=1936,J32<1942),VLOOKUP(K32,Feuil2!$F$10:$P$28,10),IF(AND(J32>=1942,J32<1947),VLOOKUP(K32,Feuil2!$F$10:$P$28,9),IF(AND(J32>=1947,J32<1952),VLOOKUP(K32,Feuil2!$F$10:$P$28,8),IF(AND(J32>=1952,J32<1957),VLOOKUP(K32,Feuil2!$F$10:$P$28,7),IF(AND(J32>=1957,J32<1962),VLOOKUP(K32,Feuil2!$F$10:$P$28,6),IF(AND(J32>=1962,J32<1967),VLOOKUP(K32,Feuil2!$F$10:$P$28,5),IF(AND(J32>=1967,J32<1972),VLOOKUP(K32,Feuil2!$F$10:$P$28,4),IF(AND(J32>=1972,J32<1977),VLOOKUP(K32,Feuil2!$F$10:$P$28,3),IF(AND(J32>=1977,J32<1982),VLOOKUP(K32,Feuil2!$F$10:$P$28,2),VLOOKUP(K32,Feuil2!$F$10:$P$28,2))))))))))))","v":{"$error":"#N/A"}},null,{"$f":"T32-HLOOKUP(Y32,Feuil2!$C$1:$CD$9,2,FALSE)","v":{"$error":"#VALUE!"}},{"$f":"T32-HLOOKUP(Y32,Feuil2!$C$1:$CD$9,3,FALSE)","v":{"$error":"#VALUE!"}},{"$f":"T32-HLOOKUP(Y32,Feuil2!$C$1:$CD$9,4,FALSE)","v":{"$error":"#VALUE!"}},{"$f":"T32-HLOOKUP(Y32,Feuil2!$C$1:$CD$9,5,FALSE)","v":{"$error":"#VALUE!"}},{"$f":"T32-HLOOKUP(Y32,Feuil2!$C$1:$CD$9,6,FALSE)","v":{"$error":"#VALUE!"}},{"$f":"T32-HLOOKUP(Y32,Feuil2!$C$1:$CD$9,7,FALSE)","v":{"$error":"#VALUE!"}},{"$f":"T32-HLOOKUP(Y32,Feuil2!$C$1:$CD$9,8,FALSE)","v":{"$error":"#VALUE!"}},{"$f":"T32-HLOOKUP(Y32,Feuil2!$C$1:$CD$9,9,FALSE)","v":{"$error":"#VALUE!"}},null,null,null,null,null,null,null,{"$error":"#VALUE!"},2016,null,{"$f":"IF(AQ32,VLOOKUP(AQ32,HOM!$AS$561:$AT$616,2))","v":3.5710000000000002}]
["H",null,null,null,null,null,null,null,null,null,null,null,null,null,"",null,null,null,"","","","","",false,{"$f":"IF(AND(J33<1920),VLOOKUP(K33,Feuil2!$F$10:$P$28,11),IF(AND(J33>=1920,J33<1937),VLOOKUP(K33,Feuil2!$F$10:$P$28,11),IF(AND(J33>=1936,J33<1942),VLOOKUP(K33,Feuil2!$F$10:$P$28,10),IF(AND(J33>=1942,J33<1947),VLOOKUP(K33,Feuil2!$F$10:$P$28,9),IF(AND(J33>=1947,J33<1952),VLOOKUP(K33,Feuil2!$F$10:$P$28,8),IF(AND(J33>=1952,J33<1957),VLOOKUP(K33,Feuil2!$F$10:$P$28,7),IF(AND(J33>=1957,J33<1962),VLOOKUP(K33,Feuil2!$F$10:$P$28,6),IF(AND(J33>=1962,J33<1967),VLOOKUP(K33,Feuil2!$F$10:$P$28,5),IF(AND(J33>=1967,J33<1972),VLOOKUP(K33,Feuil2!$F$10:$P$28,4),IF(AND(J33>=1972,J33<1977),VLOOKUP(K33,Feuil2!$F$10:$P$28,3),IF(AND(J33>=1977,J33<1982),VLOOKUP(K33,Feuil2!$F$10:$P$28,2),VLOOKUP(K33,Feuil2!$F$10:$P$28,2))))))))))))","v":{"$error":"#N/A"}},null,{"$f":"T33-HLOOKUP(Y33,Feuil2!$C$1:$CD$9,2,FALSE)","v":{"$error":"#VALUE!"}},{"$f":"T33-HLOOKUP(Y33,Feuil2!$C$1:$CD$9,3,FALSE)","v":{"$error":"#VALUE!"}},{"$f":"T33-HLOOKUP(Y33,Feuil2!$C$1:$CD$9,4,FALSE)","v":{"$error":"#VALUE!"}},{"$f":"T33-HLOOKUP(Y33,Feuil2!$C$1:$CD$9,5,FALSE)","v":{"$error":"#VALUE!"}},{"$f":"T33-HLOOKUP(Y33,Feuil2!$C$1:$CD$9,6,FALSE)","v":{"$error":"#VALUE!"}},{"$f":"T33-HLOOKUP(Y33,Feuil2!$C$1:$CD$9,7,FALSE)","v":{"$error":"#VALUE!"}},{"$f":"T33-HLOOKUP(Y33,Feuil2!$C$1:$CD$9,8,FALSE)","v":{"$error":"#VALUE!"}},{"$f":"T33-HLOOKUP(Y33,Feuil2!$C$1:$CD$9,9,FALSE)","v":{"$error":"#VALUE!"}},null,null,null,null,null,null,null,{"$error":"#VALUE!"},2016,null,{"$f":"IF(AQ33,VLOOKUP(AQ33,HOM!$AS$561:$AT$616,2))","v":3.5710000000000002}]
["H",null,null,null,null,null,null,null,null,null,null,null,null,null,"",null,null,null,"","","","","",false,{"$f":"IF(AND(J34<1920),VLOOKUP(K34,Feuil2!$F$10:$P$28,11),IF(AND(J34>=1920,J34<1937),VLOOKUP(K34,Feuil2!$F$10:$P$28,11),IF(AND(J34>=1936,J34<1942),VLOOKUP(K34,Feuil2!$F$10:$P$28,10),IF(AND(J34>=1942,J34<1947),VLOOKUP(K34,Feuil2!$F$10:$P$28,9),IF(AND(J34>=1947,J34<1952),VLOOKUP(K34,Feuil2!$F$10:$P$28,8),IF(AND(J34>=1952,J34<1957),VLOOKUP(K34,Feuil2!$F$10:$P$28,7),IF(AND(J34>=1957,J34<1962),VLOOKUP(K34,Feuil2!$F$10:$P$28,6),IF(AND(J34>=1962,J34<1967),VLOOKUP(K34,Feuil2!$F$10:$P$28,5),IF(AND(J34>=1967,J34<1972),VLOOKUP(K34,Feuil2!$F$10:$P$28,4),IF(AND(J34>=1972,J34<1977),VLOOKUP(K34,Feuil2!$F$10:$P$28,3),IF(AND(J34>=1977,J34<1982),VLOOKUP(K34,Feuil2!$F$10:$P$28,2),VLOOKUP(K34,Feuil2!$F$10:$P$28,2))))))))))))","v":{"$error":"#N/A"}},null,{"$f":"T34-HLOOKUP(Y34,Feuil2!$C$1:$CD$9,2,FALSE)","v":{"$error":"#VALUE!"}},{"$f":"T34-HLOOKUP(Y34,Feuil2!$C$1:$CD$9,3,FALSE)","v":{"$error":"#VALUE!"}},{"$f":"T34-HLOOKUP(Y34,Feuil2!$C$1:$CD$9,4,FALSE)","v":{"$error":"#VALUE!"}},{"$f":"T34-HLOOKUP(Y34,Feuil2!$C$1:$CD$9,5,FALSE)","v":{"$error":"#VALUE!"}},{"$f":"T34-HLOOKUP(Y34,Feuil2!$C$1:$CD$9,6,FALSE)","v":{"$error":"#VALUE!"}},{"$f":"T34-HLOOKUP(Y34,Feuil2!$C$1:$CD$9,7,FALSE)","v":{"$error":"#VALUE!"}},{"$f":"T34-HLOOKUP(Y34,Feuil2!$C$1:$CD$9,8,FALSE)","v":{"$error":"#VALUE!"}},{"$f":"T34-HLOOKUP(Y34,Feuil2!$C$1:$CD$9,9,FALSE)","v":{"$error":"#VALUE!"}},null,null,null,null,null,null,null,{"$error":"#VALUE!"},2016,null,{"$f":"IF(AQ34,VLOOKUP(AQ34,HOM!$AS$561:$AT$616,2))","v":3.5710000000000002}]
["H",null,null,null,null,null,null,null,null,null,null,null,null,null,"",null,null,null,"","","","","",false,{"$f":"IF(AND(J35<1920),VLOOKUP(K35,Feuil2!$F$10:$P$28,11),IF(AND(J35>=1920,J35<1937),VLOOKUP(K35,Feuil2!$F$10:$P$28,11),IF(AND(J35>=1936,J35<1942),VLOOKUP(K35,Feuil2!$F$10:$P$28,10),IF(AND(J35>=1942,J35<1947),VLOOKUP(K35,Feuil2!$F$10:$P$28,9),IF(AND(J35>=1947,J35<1952),VLOOKUP(K35,Feuil2!$F$10:$P$28,8),IF(AND(J35>=1952,J35<1957),VLOOKUP(K35,Feuil2!$F$10:$P$28,7),IF(AND(J35>=1957,J35<1962),VLOOKUP(K35,Feuil2!$F$10:$P$28,6),IF(AND(J35>=1962,J35<1967),VLOOKUP(K35,Feuil2!$F$10:$P$28,5),IF(AND(J35>=1967,J35<1972),VLOOKUP(K35,Feuil2!$F$10:$P$28,4),IF(AND(J35>=1972,J35<1977),VLOOKUP(K35,Feuil2!$F$10:$P$28,3),IF(AND(J35>=1977,J35<1982),VLOOKUP(K35,Feuil2!$F$10:$P$28,2),VLOOKUP(K35,Feuil2!$F$10:$P$28,2))))))))))))","v":{"$error":"#N/A"}},null,{"$f":"T35-HLOOKUP(Y35,Feuil2!$C$1:$CD$9,2,FALSE)","v":{"$error":"#VALUE!"}},{"$f":"T35-HLOOKUP(Y35,Feuil2!$C$1:$CD$9,3,FALSE)","v":{"$error":"#VALUE!"}},{"$f":"T35-HLOOKUP(Y35,Feuil2!$C$1:$CD$9,4,FALSE)","v":{"$error":"#VALUE!"}},{"$f":"T35-HLOOKUP(Y35,Feuil2!$C$1:$CD$9,5,FALSE)","v":{"$error":"#VALUE!"}},{"$f":"T35-HLOOKUP(Y35,Feuil2!$C$1:$CD$9,6,FALSE)","v":{"$error":"#VALUE!"}},{"$f":"T35-HLOOKUP(Y35,Feuil2!$C$1:$CD$9,7,FALSE)","v":{"$error":"#VALUE!"}},{"$f":"T35-HLOOKUP(Y35,Feuil2!$C$1:$CD$9,8,FALSE)","v":{"$error":"#VALUE!"}},{"$f":"T35-HLOOKUP(Y35,Feuil2!$C$1:$CD$9,9,FALSE)","v":{"$error":"#VALUE!"}},null,null,null,null,null,null,null,{"$error":"#VALUE!"},2016,null,{"$f":"IF(AQ35,VLOOKUP(AQ35,HOM!$AS$561:$AT$616,2))","v":3.5710000000000002}]
["H",null,null,null,null,null,null,null,null,null,null,null,null,null,"",null,null,null,"","","","","",false,{"$f":"IF(AND(J36<1920),VLOOKUP(K36,Feuil2!$F$10:$P$28,11),IF(AND(J36>=1920,J36<1937),VLOOKUP(K36,Feuil2!$F$10:$P$28,11),IF(AND(J36>=1936,J36<1942),VLOOKUP(K36,Feuil2!$F$10:$P$28,10),IF(AND(J36>=1942,J36<1947),VLOOKUP(K36,Feuil2!$F$10:$P$28,9),IF(AND(J36>=1947,J36<1952),VLOOKUP(K36,Feuil2!$F$10:$P$28,8),IF(AND(J36>=1952,J36<1957),VLOOKUP(K36,Feuil2!$F$10:$P$28,7),IF(AND(J36>=1957,J36<1962),VLOOKUP(K36,Feuil2!$F$10:$P$28,6),IF(AND(J36>=1962,J36<1967),VLOOKUP(K36,Feuil2!$F$10:$P$28,5),IF(AND(J36>=1967,J36<1972),VLOOKUP(K36,Feuil2!$F$10:$P$28,4),IF(AND(J36>=1972,J36<1977),VLOOKUP(K36,Feuil2!$F$10:$P$28,3),IF(AND(J36>=1977,J36<1982),VLOOKUP(K36,Feuil2!$F$10:$P$28,2),VLOOKUP(K36,Feuil2!$F$10:$P$28,2))))))))))))","v":{"$error":"#N/A"}},null,{"$f":"T36-HLOOKUP(Y36,Feuil2!$C$1:$CD$9,2,FALSE)","v":{"$error":"#VALUE!"}},{"$f":"T36-HLOOKUP(Y36,Feuil2!$C$1:$CD$9,3,FALSE)","v":{"$error":"#VALUE!"}},{"$f":"T36-HLOOKUP(Y36,Feuil2!$C$1:$CD$9,4,FALSE)","v":{"$error":"#VALUE!"}},{"$f":"T36-HLOOKUP(Y36,Feuil2!$C$1:$CD$9,5,FALSE)","v":{"$error":"#VALUE!"}},{"$f":"T36-HLOOKUP(Y36,Feuil2!$C$1:$CD$9,6,FALSE)","v":{"$error":"#VALUE!"}},{"$f":"T36-HLOOKUP(Y36,Feuil2!$C$1:$CD$9,7,FALSE)","v":{"$error":"#VALUE!"}},{"$f":"T36-HLOOKUP(Y36,Feuil2!$C$1:$CD$9,8,FALSE)","v":{"$error":"#VALUE!"}},{"$f":"T36-HLOOKUP(Y36,Feuil2!$C$1:$CD$9,9,FALSE)","v":{"$error":"#VALUE!"}},null,null,null,null,null,null,null,{"$error":"#VALUE!"},2016,null,{"$f":"IF(AQ36,VLOOKUP(AQ36,HOM!$AS$561:$AT$616,2))","v":3.5710000000000002}]
["H",null,null,null,null,null,null,null,null,null,null,null,null,null,"",null,null,null,"","","","","",false,{"$f":"IF(AND(J37<1920),VLOOKUP(K37,Feuil2!$F$10:$P$28,11),IF(AND(J37>=1920,J37<1937),VLOOKUP(K37,Feuil2!$F$10:$P$28,11),IF(AND(J37>=1936,J37<1942),VLOOKUP(K37,Feuil2!$F$10:$P$28,10),IF(AND(J37>=1942,J37<1947),VLOOKUP(K37,Feuil2!$F$10:$P$28,9),IF(AND(J37>=1947,J37<1952),VLOOKUP(K37,Feuil2!$F$10:$P$28,8),IF(AND(J37>=1952,J37<1957),VLOOKUP(K37,Feuil2!$F$10:$P$28,7),IF(AND(J37>=1957,J37<1962),VLOOKUP(K37,Feuil2!$F$10:$P$28,6),IF(AND(J37>=1962,J37<1967),VLOOKUP(K37,Feuil2!$F$10:$P$28,5),IF(AND(J37>=1967,J37<1972),VLOOKUP(K37,Feuil2!$F$10:$P$28,4),IF(AND(J37>=1972,J37<1977),VLOOKUP(K37,Feuil2!$F$10:$P$28,3),IF(AND(J37>=1977,J37<1982),VLOOKUP(K37,Feuil2!$F$10:$P$28,2),VLOOKUP(K37,Feuil2!$F$10:$P$28,2))))))))))))","v":{"$error":"#N/A"}},null,{"$f":"T37-HLOOKUP(Y37,Feuil2!$C$1:$CD$9,2,FALSE)","v":{"$error":"#VALUE!"}},{"$f":"T37-HLOOKUP(Y37,Feuil2!$C$1:$CD$9,3,FALSE)","v":{"$error":"#VALUE!"}},{"$f":"T37-HLOOKUP(Y37,Feuil2!$C$1:$CD$9,4,FALSE)","v":{"$error":"#VALUE!"}},{"$f":"T37-HLOOKUP(Y37,Feuil2!$C$1:$CD$9,5,FALSE)","v":{"$error":"#VALUE!"}},{"$f":"T37-HLOOKUP(Y37,Feuil2!$C$1:$CD$9,6,FALSE)","v":{"$error":"#VALUE!"}},{"$f":"T37-HLOOKUP(Y37,Feuil2!$C$1:$CD$9,7,FALSE)","v":{"$error":"#VALUE!"}},{"$f":"T37-HLOOKUP(Y37,Feuil2!$C$1:$CD$9,8,FALSE)","v":{"$error":"#VALUE!"}},{"$f":"T37-HLOOKUP(Y37,Feuil2!$C$1:$CD$9,9,FALSE)","v":{"$error":"#VALUE!"}},null,null,null,null,null,null,null,{"$error":"#VALUE!"},2016,null,{"$f":"IF(AQ37,VLOOKUP(AQ37,HOM!$AS$561:$AT$616,2))","v":3.5710000000000002}]
["H",null,null,null,null,null,null,null,null,null,null,null,null,null,"",null,null,null,"","","","","",false,{"$f":"IF(AND(J38<1920),VLOOKUP(K38,Feuil2!$F$10:$P$28,11),IF(AND(J38>=1920,J38<1937),VLOOKUP(K38,Feuil2!$F$10:$P$28,11),IF(AND(J38>=1936,J38<1942),VLOOKUP(K38,Feuil2!$F$10:$P$28,10),IF(AND(J38>=1942,J38<1947),VLOOKUP(K38,Feuil2!$F$10:$P$28,9),IF(AND(J38>=1947,J38<1952),VLOOKUP(K38,Feuil2!$F$10:$P$28,8),IF(AND(J38>=1952,J38<1957),VLOOKUP(K38,Feuil2!$F$10:$P$28,7),IF(AND(J38>=1957,J38<1962),VLOOKUP(K38,Feuil2!$F$10:$P$28,6),IF(AND(J38>=1962,J38<1967),VLOOKUP(K38,Feuil2!$F$10:$P$28,5),IF(AND(J38>=1967,J38<1972),VLOOKUP(K38,Feuil2!$F$10:$P$28,4),IF(AND(J38>=1972,J38<1977),VLOOKUP(K38,Feuil2!$F$10:$P$28,3),IF(AND(J38>=1977,J38<1982),VLOOKUP(K38,Feuil2!$F$10:$P$28,2),VLOOKUP(K38,Feuil2!$F$10:$P$28,2))))))))))))","v":{"$error":"#N/A"}},null,{"$f":"T38-HLOOKUP(Y38,Feuil2!$C$1:$CD$9,2,FALSE)","v":{"$error":"#VALUE!"}},{"$f":"T38-HLOOKUP(Y38,Feuil2!$C$1:$CD$9,3,FALSE)","v":{"$error":"#VALUE!"}},{"$f":"T38-HLOOKUP(Y38,Feuil2!$C$1:$CD$9,4,FALSE)","v":{"$error":"#VALUE!"}},{"$f":"T38-HLOOKUP(Y38,Feuil2!$C$1:$CD$9,5,FALSE)","v":{"$error":"#VALUE!"}},{"$f":"T38-HLOOKUP(Y38,Feuil2!$C$1:$CD$9,6,FALSE)","v":{"$error":"#VALUE!"}},{"$f":"T38-HLOOKUP(Y38,Feuil2!$C$1:$CD$9,7,FALSE)","v":{"$error":"#VALUE!"}},{"$f":"T38-HLOOKUP(Y38,Feuil2!$C$1:$CD$9,8,FALSE)","v":{"$error":"#VALUE!"}},{"$f":"T38-HLOOKUP(Y38,Feuil2!$C$1:$CD$9,9,FALSE)","v":{"$error":"#VALUE!"}},null,null,null,null,null,null,null,{"$error":"#VALUE!"},2016,null,{"$f":"IF(AQ38,VLOOKUP(AQ38,HOM!$AS$561:$AT$616,2))","v":3.5710000000000002}]
["H",null,null,null,null,null,null,null,null,null,null,null,null,null,"",null,null,null,"","","","","",false,{"$f":"IF(AND(J39<1920),VLOOKUP(K39,Feuil2!$F$10:$P$28,11),IF(AND(J39>=1920,J39<1937),VLOOKUP(K39,Feuil2!$F$10:$P$28,11),IF(AND(J39>=1936,J39<1942),VLOOKUP(K39,Feuil2!$F$10:$P$28,10),IF(AND(J39>=1942,J39<1947),VLOOKUP(K39,Feuil2!$F$10:$P$28,9),IF(AND(J39>=1947,J39<1952),VLOOKUP(K39,Feuil2!$F$10:$P$28,8),IF(AND(J39>=1952,J39<1957),VLOOKUP(K39,Feuil2!$F$10:$P$28,7),IF(AND(J39>=1957,J39<1962),VLOOKUP(K39,Feuil2!$F$10:$P$28,6),IF(AND(J39>=1962,J39<1967),VLOOKUP(K39,Feuil2!$F$10:$P$28,5),IF(AND(J39>=1967,J39<1972),VLOOKUP(K39,Feuil2!$F$10:$P$28,4),IF(AND(J39>=1972,J39<1977),VLOOKUP(K39,Feuil2!$F$10:$P$28,3),IF(AND(J39>=1977,J39<1982),VLOOKUP(K39,Feuil2!$F$10:$P$28,2),VLOOKUP(K39,Feuil2!$F$10:$P$28,2))))))))))))","v":{"$error":"#N/A"}},null,{"$f":"T39-HLOOKUP(Y39,Feuil2!$C$1:$CD$9,2,FALSE)","v":{"$error":"#VALUE!"}},{"$f":"T39-HLOOKUP(Y39,Feuil2!$C$1:$CD$9,3,FALSE)","v":{"$error":"#VALUE!"}},{"$f":"T39-HLOOKUP(Y39,Feuil2!$C$1:$CD$9,4,FALSE)","v":{"$error":"#VALUE!"}},{"$f":"T39-HLOOKUP(Y39,Feuil2!$C$1:$CD$9,5,FALSE)","v":{"$error":"#VALUE!"}},{"$f":"T39-HLOOKUP(Y39,Feuil2!$C$1:$CD$9,6,FALSE)","v":{"$error":"#VALUE!"}},{"$f":"T39-HLOOKUP(Y39,Feuil2!$C$1:$CD$9,7,FALSE)","v":{"$error":"#VALUE!"}},{"$f":"T39-HLOOKUP(Y39,Feuil2!$C$1:$CD$9,8,FALSE)","v":{"$error":"#VALUE!"}},{"$f":"T39-HLOOKUP(Y39,Feuil2!$C$1:$CD$9,9,FALSE)","v":{"$error":"#VALUE!"}},null,null,null,null,null,null,null,{"$error":"#VALUE!"},2016,null,{"$f":"IF(AQ39,VLOOKUP(AQ39,HOM!$AS$561:$AT$616,2))","v":3.5710000000000002}]
["H",null,null,null,null,null,null,null,null,null,null,null,null,null,"",null,null,null,"","","","","",false,{"$f":"IF(AND(J40<1920),VLOOKUP(K40,Feuil2!$F$10:$P$28,11),IF(AND(J40>=1920,J40<1937),VLOOKUP(K40,Feuil2!$F$10:$P$28,11),IF(AND(J40>=1936,J40<1942),VLOOKUP(K40,Feuil2!$F$10:$P$28,10),IF(AND(J40>=1942,J40<1947),VLOOKUP(K40,Feuil2!$F$10:$P$28,9),IF(AND(J40>=1947,J40<1952),VLOOKUP(K40,Feuil2!$F$10:$P$28,8),IF(AND(J40>=1952,J40<1957),VLOOKUP(K40,Feuil2!$F$10:$P$28,7),IF(AND(J40>=1957,J40<1962),VLOOKUP(K40,Feuil2!$F$10:$P$28,6),IF(AND(J40>=1962,J40<1967),VLOOKUP(K40,Feuil2!$F$10:$P$28,5),IF(AND(J40>=1967,J40<1972),VLOOKUP(K40,Feuil2!$F$10:$P$28,4),IF(AND(J40>=1972,J40<1977),VLOOKUP(K40,Feuil2!$F$10:$P$28,3),IF(AND(J40>=1977,J40<1982),VLOOKUP(K40,Feuil2!$F$10:$P$28,2),VLOOKUP(K40,Feuil2!$F$10:$P$28,2))))))))))))","v":{"$error":"#N/A"}},null,{"$f":"T40-HLOOKUP(Y40,Feuil2!$C$1:$CD$9,2,FALSE)","v":{"$error":"#VALUE!"}},{"$f":"T40-HLOOKUP(Y40,Feuil2!$C$1:$CD$9,3,FALSE)","v":{"$error":"#VALUE!"}},{"$f":"T40-HLOOKUP(Y40,Feuil2!$C$1:$CD$9,4,FALSE)","v":{"$error":"#VALUE!"}},{"$f":"T40-HLOOKUP(Y40,Feuil2!$C$1:$CD$9,5,FALSE)","v":{"$error":"#VALUE!"}},{"$f":"T40-HLOOKUP(Y40,Feuil2!$C$1:$CD$9,6,FALSE)","v":{"$error":"#VALUE!"}},{"$f":"T40-HLOOKUP(Y40,Feuil2!$C$1:$CD$9,7,FALSE)","v":{"$error":"#VALUE!"}},{"$f":"T40-HLOOKUP(Y40,Feuil2!$C$1:$CD$9,8,FALSE)","v":{"$error":"#VALUE!"}},{"$f":"T40-HLOOKUP(Y40,Feuil2!$C$1:$CD$9,9,FALSE)","v":{"$error":"#VALUE!"}},null,null,null,null,null,null,null,{"$error":"#VALUE!"},2016,null,{"$f":"IF(AQ40,VLOOKUP(AQ40,HOM!$AS$561:$AT$616,2))","v":3.5710000000000002}]
["H",null,null,null,null,null,null,null,null,null,null,null,null,null,"",null,null,null,"","","","","",false,{"$f":"IF(AND(J41<1920),VLOOKUP(K41,Feuil2!$F$10:$P$28,11),IF(AND(J41>=1920,J41<1937),VLOOKUP(K41,Feuil2!$F$10:$P$28,11),IF(AND(J41>=1936,J41<1942),VLOOKUP(K41,Feuil2!$F$10:$P$28,10),IF(AND(J41>=1942,J41<1947),VLOOKUP(K41,Feuil2!$F$10:$P$28,9),IF(AND(J41>=1947,J41<1952),VLOOKUP(K41,Feuil2!$F$10:$P$28,8),IF(AND(J41>=1952,J41<1957),VLOOKUP(K41,Feuil2!$F$10:$P$28,7),IF(AND(J41>=1957,J41<1962),VLOOKUP(K41,Feuil2!$F$10:$P$28,6),IF(AND(J41>=1962,J41<1967),VLOOKUP(K41,Feuil2!$F$10:$P$28,5),IF(AND(J41>=1967,J41<1972),VLOOKUP(K41,Feuil2!$F$10:$P$28,4),IF(AND(J41>=1972,J41<1977),VLOOKUP(K41,Feuil2!$F$10:$P$28,3),IF(AND(J41>=1977,J41<1982),VLOOKUP(K41,Feuil2!$F$10:$P$28,2),VLOOKUP(K41,Feuil2!$F$10:$P$28,2))))))))))))","v":{"$error":"#N/A"}},null,{"$f":"T41-HLOOKUP(Y41,Feuil2!$C$1:$CD$9,2,FALSE)","v":{"$error":"#VALUE!"}},{"$f":"T41-HLOOKUP(Y41,Feuil2!$C$1:$CD$9,3,FALSE)","v":{"$error":"#VALUE!"}},{"$f":"T41-HLOOKUP(Y41,Feuil2!$C$1:$CD$9,4,FALSE)","v":{"$error":"#VALUE!"}},{"$f":"T41-HLOOKUP(Y41,Feuil2!$C$1:$CD$9,5,FALSE)","v":{"$error":"#VALUE!"}},{"$f":"T41-HLOOKUP(Y41,Feuil2!$C$1:$CD$9,6,FALSE)","v":{"$error":"#VALUE!"}},{"$f":"T41-HLOOKUP(Y41,Feuil2!$C$1:$CD$9,7,FALSE)","v":{"$error":"#VALUE!"}},{"$f":"T41-HLOOKUP(Y41,Feuil2!$C$1:$CD$9,8,FALSE)","v":{"$error":"#VALUE!"}},{"$f":"T41-HLOOKUP(Y41,Feuil2!$C$1:$CD$9,9,FALSE)","v":{"$error":"#VALUE!"}},null,null,null,null,null,null,null,{"$error":"#VALUE!"},2016,null,{"$f":"IF(AQ41,VLOOKUP(AQ41,HOM!$AS$561:$AT$616,2))","v":3.5710000000000002}]
["H",null,null,null,null,null,null,null,null,null,null,null,null,null,"",null,null,null,"","","","","",false,{"$f":"IF(AND(J42<1920),VLOOKUP(K42,Feuil2!$F$10:$P$28,11),IF(AND(J42>=1920,J42<1937),VLOOKUP(K42,Feuil2!$F$10:$P$28,11),IF(AND(J42>=1936,J42<1942),VLOOKUP(K42,Feuil2!$F$10:$P$28,10),IF(AND(J42>=1942,J42<1947),VLOOKUP(K42,Feuil2!$F$10:$P$28,9),IF(AND(J42>=1947,J42<1952),VLOOKUP(K42,Feuil2!$F$10:$P$28,8),IF(AND(J42>=1952,J42<1957),VLOOKUP(K42,Feuil2!$F$10:$P$28,7),IF(AND(J42>=1957,J42<1962),VLOOKUP(K42,Feuil2!$F$10:$P$28,6),IF(AND(J42>=1962,J42<1967),VLOOKUP(K42,Feuil2!$F$10:$P$28,5),IF(AND(J42>=1967,J42<1972),VLOOKUP(K42,Feuil2!$F$10:$P$28,4),IF(AND(J42>=1972,J42<1977),VLOOKUP(K42,Feuil2!$F$10:$P$28,3),IF(AND(J42>=1977,J42<1982),VLOOKUP(K42,Feuil2!$F$10:$P$28,2),VLOOKUP(K42,Feuil2!$F$10:$P$28,2))))))))))))","v":{"$error":"#N/A"}},null,{"$f":"T42-HLOOKUP(Y42,Feuil2!$C$1:$CD$9,2,FALSE)","v":{"$error":"#VALUE!"}},{"$f":"T42-HLOOKUP(Y42,Feuil2!$C$1:$CD$9,3,FALSE)","v":{"$error":"#VALUE!"}},{"$f":"T42-HLOOKUP(Y42,Feuil2!$C$1:$CD$9,4,FALSE)","v":{"$error":"#VALUE!"}},{"$f":"T42-HLOOKUP(Y42,Feuil2!$C$1:$CD$9,5,FALSE)","v":{"$error":"#VALUE!"}},{"$f":"T42-HLOOKUP(Y42,Feuil2!$C$1:$CD$9,6,FALSE)","v":{"$error":"#VALUE!"}},{"$f":"T42-HLOOKUP(Y42,Feuil2!$C$1:$CD$9,7,FALSE)","v":{"$error":"#VALUE!"}},{"$f":"T42-HLOOKUP(Y42,Feuil2!$C$1:$CD$9,8,FALSE)","v":{"$error":"#VALUE!"}},{"$f":"T42-HLOOKUP(Y42,Feuil2!$C$1:$CD$9,9,FALSE)","v":{"$error":"#VALUE!"}},null,null,null,null,null,null,null,{"$error":"#VALUE!"},2016,null,{"$f":"IF(AQ42,VLOOKUP(AQ42,HOM!$AS$561:$AT$616,2))","v":3.5710000000000002}]
["H",null,null,null,null,null,null,null,null,null,null,null,null,null,"",null,null,null,"","","","","",false,{"$f":"IF(AND(J43<1920),VLOOKUP(K43,Feuil2!$F$10:$P$28,11),IF(AND(J43>=1920,J43<1937),VLOOKUP(K43,Feuil2!$F$10:$P$28,11),IF(AND(J43>=1936,J43<1942),VLOOKUP(K43,Feuil2!$F$10:$P$28,10),IF(AND(J43>=1942,J43<1947),VLOOKUP(K43,Feuil2!$F$10:$P$28,9),IF(AND(J43>=1947,J43<1952),VLOOKUP(K43,Feuil2!$F$10:$P$28,8),IF(AND(J43>=1952,J43<1957),VLOOKUP(K43,Feuil2!$F$10:$P$28,7),IF(AND(J43>=1957,J43<1962),VLOOKUP(K43,Feuil2!$F$10:$P$28,6),IF(AND(J43>=1962,J43<1967),VLOOKUP(K43,Feuil2!$F$10:$P$28,5),IF(AND(J43>=1967,J43<1972),VLOOKUP(K43,Feuil2!$F$10:$P$28,4),IF(AND(J43>=1972,J43<1977),VLOOKUP(K43,Feuil2!$F$10:$P$28,3),IF(AND(J43>=1977,J43<1982),VLOOKUP(K43,Feuil2!$F$10:$P$28,2),VLOOKUP(K43,Feuil2!$F$10:$P$28,2))))))))))))","v":{"$error":"#N/A"}},null,{"$f":"T43-HLOOKUP(Y43,Feuil2!$C$1:$CD$9,2,FALSE)","v":{"$error":"#VALUE!"}},{"$f":"T43-HLOOKUP(Y43,Feuil2!$C$1:$CD$9,3,FALSE)","v":{"$error":"#VALUE!"}},{"$f":"T43-HLOOKUP(Y43,Feuil2!$C$1:$CD$9,4,FALSE)","v":{"$error":"#VALUE!"}},{"$f":"T43-HLOOKUP(Y43,Feuil2!$C$1:$CD$9,5,FALSE)","v":{"$error":"#VALUE!"}},{"$f":"T43-HLOOKUP(Y43,Feuil2!$C$1:$CD$9,6,FALSE)","v":{"$error":"#VALUE!"}},{"$f":"T43-HLOOKUP(Y43,Feuil2!$C$1:$CD$9,7,FALSE)","v":{"$error":"#VALUE!"}},{"$f":"T43-HLOOKUP(Y43,Feuil2!$C$1:$CD$9,8,FALSE)","v":{"$error":"#VALUE!"}},{"$f":"T43-HLOOKUP(Y43,Feuil2!$C$1:$CD$9,9,FALSE)","v":{"$error":"#VALUE!"}},null,null,null,null,null,null,null,{"$error":"#VALUE!"},2016,null,{"$f":"IF(AQ43,VLOOKUP(AQ43,HOM!$AS$561:$AT$616,2))","v":3.5710000000000002}]
["H",null,null,null,null,null,null,null,null,null,null,null,null,null,"",null,null,null,"","","","","",false,{"$f":"IF(AND(J44<1920),VLOOKUP(K44,Feuil2!$F$10:$P$28,11),IF(AND(J44>=1920,J44<1937),VLOOKUP(K44,Feuil2!$F$10:$P$28,11),IF(AND(J44>=1936,J44<1942),VLOOKUP(K44,Feuil2!$F$10:$P$28,10),IF(AND(J44>=1942,J44<1947),VLOOKUP(K44,Feuil2!$F$10:$P$28,9),IF(AND(J44>=1947,J44<1952),VLOOKUP(K44,Feuil2!$F$10:$P$28,8),IF(AND(J44>=1952,J44<1957),VLOOKUP(K44,Feuil2!$F$10:$P$28,7),IF(AND(J44>=1957,J44<1962),VLOOKUP(K44,Feuil2!$F$10:$P$28,6),IF(AND(J44>=1962,J44<1967),VLOOKUP(K44,Feuil2!$F$10:$P$28,5),IF(AND(J44>=1967,J44<1972),VLOOKUP(K44,Feuil2!$F$10:$P$28,4),IF(AND(J44>=1972,J44<1977),VLOOKUP(K44,Feuil2!$F$10:$P$28,3),IF(AND(J44>=1977,J44<1982),VLOOKUP(K44,Feuil2!$F$10:$P$28,2),VLOOKUP(K44,Feuil2!$F$10:$P$28,2))))))))))))","v":{"$error":"#N/A"}},null,{"$f":"T44-HLOOKUP(Y44,Feuil2!$C$1:$CD$9,2,FALSE)","v":{"$error":"#VALUE!"}},{"$f":"T44-HLOOKUP(Y44,Feuil2!$C$1:$CD$9,3,FALSE)","v":{"$error":"#VALUE!"}},{"$f":"T44-HLOOKUP(Y44,Feuil2!$C$1:$CD$9,4,FALSE)","v":{"$error":"#VALUE!"}},{"$f":"T44-HLOOKUP(Y44,Feuil2!$C$1:$CD$9,5,FALSE)","v":{"$error":"#VALUE!"}},{"$f":"T44-HLOOKUP(Y44,Feuil2!$C$1:$CD$9,6,FALSE)","v":{"$error":"#VALUE!"}},{"$f":"T44-HLOOKUP(Y44,Feuil2!$C$1:$CD$9,7,FALSE)","v":{"$error":"#VALUE!"}},{"$f":"T44-HLOOKUP(Y44,Feuil2!$C$1:$CD$9,8,FALSE)","v":{"$error":"#VALUE!"}},{"$f":"T44-HLOOKUP(Y44,Feuil2!$C$1:$CD$9,9,FALSE)","v":{"$error":"#VALUE!"}},null,null,null,null,null,null,null,{"$error":"#VALUE!"},2016,null,{"$f":"IF(AQ44,VLOOKUP(AQ44,HOM!$AS$561:$AT$616,2))","v":3.5710000000000002}]
["H",null,null,null,null,null,null,null,null,null,null,null,null,null,"",null,null,null,"","","","","",false,{"$f":"IF(AND(J45<1920),VLOOKUP(K45,Feuil2!$F$10:$P$28,11),IF(AND(J45>=1920,J45<1937),VLOOKUP(K45,Feuil2!$F$10:$P$28,11),IF(AND(J45>=1936,J45<1942),VLOOKUP(K45,Feuil2!$F$10:$P$28,10),IF(AND(J45>=1942,J45<1947),VLOOKUP(K45,Feuil2!$F$10:$P$28,9),IF(AND(J45>=1947,J45<1952),VLOOKUP(K45,Feuil2!$F$10:$P$28,8),IF(AND(J45>=1952,J45<1957),VLOOKUP(K45,Feuil2!$F$10:$P$28,7),IF(AND(J45>=1957,J45<1962),VLOOKUP(K45,Feuil2!$F$10:$P$28,6),IF(AND(J45>=1962,J45<1967),VLOOKUP(K45,Feuil2!$F$10:$P$28,5),IF(AND(J45>=1967,J45<1972),VLOOKUP(K45,Feuil2!$F$10:$P$28,4),IF(AND(J45>=1972,J45<1977),VLOOKUP(K45,Feuil2!$F$10:$P$28,3),IF(AND(J45>=1977,J45<1982),VLOOKUP(K45,Feuil2!$F$10:$P$28,2),VLOOKUP(K45,Feuil2!$F$10:$P$28,2))))))))))))","v":{"$error":"#N/A"}},null,{"$f":"T45-HLOOKUP(Y45,Feuil2!$C$1:$CD$9,2,FALSE)","v":{"$error":"#VALUE!"}},{"$f":"T45-HLOOKUP(Y45,Feuil2!$C$1:$CD$9,3,FALSE)","v":{"$error":"#VALUE!"}},{"$f":"T45-HLOOKUP(Y45,Feuil2!$C$1:$CD$9,4,FALSE)","v":{"$error":"#VALUE!"}},{"$f":"T45-HLOOKUP(Y45,Feuil2!$C$1:$CD$9,5,FALSE)","v":{"$error":"#VALUE!"}},{"$f":"T45-HLOOKUP(Y45,Feuil2!$C$1:$CD$9,6,FALSE)","v":{"$error":"#VALUE!"}},{"$f":"T45-HLOOKUP(Y45,Feuil2!$C$1:$CD$9,7,FALSE)","v":{"$error":"#VALUE!"}},{"$f":"T45-HLOOKUP(Y45,Feuil2!$C$1:$CD$9,8,FALSE)","v":{"$error":"#VALUE!"}},{"$f":"T45-HLOOKUP(Y45,Feuil2!$C$1:$CD$9,9,FALSE)","v":{"$error":"#VALUE!"}},null,null,null,null,null,null,null,{"$error":"#VALUE!"},2016,null,{"$f":"IF(AQ45,VLOOKUP(AQ45,HOM!$AS$561:$AT$616,2))","v":3.5710000000000002}]
["H",null,null,null,null,null,null,null,null,null,null,null,null,null,"",null,null,null,"","","","","",false,{"$f":"IF(AND(J46<1920),VLOOKUP(K46,Feuil2!$F$10:$P$28,11),IF(AND(J46>=1920,J46<1937),VLOOKUP(K46,Feuil2!$F$10:$P$28,11),IF(AND(J46>=1936,J46<1942),VLOOKUP(K46,Feuil2!$F$10:$P$28,10),IF(AND(J46>=1942,J46<1947),VLOOKUP(K46,Feuil2!$F$10:$P$28,9),IF(AND(J46>=1947,J46<1952),VLOOKUP(K46,Feuil2!$F$10:$P$28,8),IF(AND(J46>=1952,J46<1957),VLOOKUP(K46,Feuil2!$F$10:$P$28,7),IF(AND(J46>=1957,J46<1962),VLOOKUP(K46,Feuil2!$F$10:$P$28,6),IF(AND(J46>=1962,J46<1967),VLOOKUP(K46,Feuil2!$F$10:$P$28,5),IF(AND(J46>=1967,J46<1972),VLOOKUP(K46,Feuil2!$F$10:$P$28,4),IF(AND(J46>=1972,J46<1977),VLOOKUP(K46,Feuil2!$F$10:$P$28,3),IF(AND(J46>=1977,J46<1982),VLOOKUP(K46,Feuil2!$F$10:$P$28,2),VLOOKUP(K46,Feuil2!$F$10:$P$28,2))))))))))))","v":{"$error":"#N/A"}},null,{"$f":"T46-HLOOKUP(Y46,Feuil2!$C$1:$CD$9,2,FALSE)","v":{"$error":"#VALUE!"}},{"$f":"T46-HLOOKUP(Y46,Feuil2!$C$1:$CD$9,3,FALSE)","v":{"$error":"#VALUE!"}},{"$f":"T46-HLOOKUP(Y46,Feuil2!$C$1:$CD$9,4,FALSE)","v":{"$error":"#VALUE!"}},{"$f":"T46-HLOOKUP(Y46,Feuil2!$C$1:$CD$9,5,FALSE)","v":{"$error":"#VALUE!"}},{"$f":"T46-HLOOKUP(Y46,Feuil2!$C$1:$CD$9,6,FALSE)","v":{"$error":"#VALUE!"}},{"$f":"T46-HLOOKUP(Y46,Feuil2!$C$1:$CD$9,7,FALSE)","v":{"$error":"#VALUE!"}},{"$f":"T46-HLOOKUP(Y46,Feuil2!$C$1:$CD$9,8,FALSE)","v":{"$error":"#VALUE!"}},{"$f":"T46-HLOOKUP(Y46,Feuil2!$C$1:$CD$9,9,FALSE)","v":{"$error":"#VALUE!"}},null,null,null,null,null,null,null,{"$error":"#VALUE!"},2016,null,{"$f":"IF(AQ46,VLOOKUP(AQ46,HOM!$AS$561:$AT$616,2))","v":3.5710000000000002}]
["H",null,null,null,null,null,null,null,null,null,null,null,null,null,"",null,null,null,"","","","","",false,{"$f":"IF(AND(J47<1920),VLOOKUP(K47,Feuil2!$F$10:$P$28,11),IF(AND(J47>=1920,J47<1937),VLOOKUP(K47,Feuil2!$F$10:$P$28,11),IF(AND(J47>=1936,J47<1942),VLOOKUP(K47,Feuil2!$F$10:$P$28,10),IF(AND(J47>=1942,J47<1947),VLOOKUP(K47,Feuil2!$F$10:$P$28,9),IF(AND(J47>=1947,J47<1952),VLOOKUP(K47,Feuil2!$F$10:$P$28,8),IF(AND(J47>=1952,J47<1957),VLOOKUP(K47,Feuil2!$F$10:$P$28,7),IF(AND(J47>=1957,J47<1962),VLOOKUP(K47,Feuil2!$F$10:$P$28,6),IF(AND(J47>=1962,J47<1967),VLOOKUP(K47,Feuil2!$F$10:$P$28,5),IF(AND(J47>=1967,J47<1972),VLOOKUP(K47,Feuil2!$F$10:$P$28,4),IF(AND(J47>=1972,J47<1977),VLOOKUP(K47,Feuil2!$F$10:$P$28,3),IF(AND(J47>=1977,J47<1982),VLOOKUP(K47,Feuil2!$F$10:$P$28,2),VLOOKUP(K47,Feuil2!$F$10:$P$28,2))))))))))))","v":{"$error":"#N/A"}},null,{"$f":"T47-HLOOKUP(Y47,Feuil2!$C$1:$CD$9,2,FALSE)","v":{"$error":"#VALUE!"}},{"$f":"T47-HLOOKUP(Y47,Feuil2!$C$1:$CD$9,3,FALSE)","v":{"$error":"#VALUE!"}},{"$f":"T47-HLOOKUP(Y47,Feuil2!$C$1:$CD$9,4,FALSE)","v":{"$error":"#VALUE!"}},{"$f":"T47-HLOOKUP(Y47,Feuil2!$C$1:$CD$9,5,FALSE)","v":{"$error":"#VALUE!"}},{"$f":"T47-HLOOKUP(Y47,Feuil2!$C$1:$CD$9,6,FALSE)","v":{"$error":"#VALUE!"}},{"$f":"T47-HLOOKUP(Y47,Feuil2!$C$1:$CD$9,7,FALSE)","v":{"$error":"#VALUE!"}},{"$f":"T47-HLOOKUP(Y47,Feuil2!$C$1:$CD$9,8,FALSE)","v":{"$error":"#VALUE!"}},{"$f":"T47-HLOOKUP(Y47,Feuil2!$C$1:$CD$9,9,FALSE)","v":{"$error":"#VALUE!"}},null,null,null,null,null,null,null,{"$error":"#VALUE!"},2016,null,{"$f":"IF(AQ47,VLOOKUP(AQ47,HOM!$AS$561:$AT$616,2))","v":3.5710000000000002}]
["H",null,null,null,null,null,null,null,null,null,null,null,null,null,"",null,null,null,"","","","","",false,{"$f":"IF(AND(J48<1920),VLOOKUP(K48,Feuil2!$F$10:$P$28,11),IF(AND(J48>=1920,J48<1937),VLOOKUP(K48,Feuil2!$F$10:$P$28,11),IF(AND(J48>=1936,J48<1942),VLOOKUP(K48,Feuil2!$F$10:$P$28,10),IF(AND(J48>=1942,J48<1947),VLOOKUP(K48,Feuil2!$F$10:$P$28,9),IF(AND(J48>=1947,J48<1952),VLOOKUP(K48,Feuil2!$F$10:$P$28,8),IF(AND(J48>=1952,J48<1957),VLOOKUP(K48,Feuil2!$F$10:$P$28,7),IF(AND(J48>=1957,J48<1962),VLOOKUP(K48,Feuil2!$F$10:$P$28,6),IF(AND(J48>=1962,J48<1967),VLOOKUP(K48,Feuil2!$F$10:$P$28,5),IF(AND(J48>=1967,J48<1972),VLOOKUP(K48,Feuil2!$F$10:$P$28,4),IF(AND(J48>=1972,J48<1977),VLOOKUP(K48,Feuil2!$F$10:$P$28,3),IF(AND(J48>=1977,J48<1982),VLOOKUP(K48,Feuil2!$F$10:$P$28,2),VLOOKUP(K48,Feuil2!$F$10:$P$28,2))))))))))))","v":{"$error":"#N/A"}},null,{"$f":"T48-HLOOKUP(Y48,Feuil2!$C$1:$CD$9,2,FALSE)","v":{"$error":"#VALUE!"}},{"$f":"T48-HLOOKUP(Y48,Feuil2!$C$1:$CD$9,3,FALSE)","v":{"$error":"#VALUE!"}},{"$f":"T48-HLOOKUP(Y48,Feuil2!$C$1:$CD$9,4,FALSE)","v":{"$error":"#VALUE!"}},{"$f":"T48-HLOOKUP(Y48,Feuil2!$C$1:$CD$9,5,FALSE)","v":{"$error":"#VALUE!"}},{"$f":"T48-HLOOKUP(Y48,Feuil2!$C$1:$CD$9,6,FALSE)","v":{"$error":"#VALUE!"}},{"$f":"T48-HLOOKUP(Y48,Feuil2!$C$1:$CD$9,7,FALSE)","v":{"$error":"#VALUE!"}},{"$f":"T48-HLOOKUP(Y48,Feuil2!$C$1:$CD$9,8,FALSE)","v":{"$error":"#VALUE!"}},{"$f":"T48-HLOOKUP(Y48,Feuil2!$C$1:$CD$9,9,FALSE)","v":{"$error":"#VALUE!"}},null,null,null,null,null,null,null,{"$error":"#VALUE!"},2016,null,{"$f":"IF(AQ48,VLOOKUP(AQ48,HOM!$AS$561:$AT$616,2))","v":3.5710000000000002}]
["H",null,null,null,null,null,null,null,null,null,null,null,null,null,"",null,null,null,"","","","","",false,{"$f":"IF(AND(J49<1920),VLOOKUP(K49,Feuil2!$F$10:$P$28,11),IF(AND(J49>=1920,J49<1937),VLOOKUP(K49,Feuil2!$F$10:$P$28,11),IF(AND(J49>=1936,J49<1942),VLOOKUP(K49,Feuil2!$F$10:$P$28,10),IF(AND(J49>=1942,J49<1947),VLOOKUP(K49,Feuil2!$F$10:$P$28,9),IF(AND(J49>=1947,J49<1952),VLOOKUP(K49,Feuil2!$F$10:$P$28,8),IF(AND(J49>=1952,J49<1957),VLOOKUP(K49,Feuil2!$F$10:$P$28,7),IF(AND(J49>=1957,J49<1962),VLOOKUP(K49,Feuil2!$F$10:$P$28,6),IF(AND(J49>=1962,J49<1967),VLOOKUP(K49,Feuil2!$F$10:$P$28,5),IF(AND(J49>=1967,J49<1972),VLOOKUP(K49,Feuil2!$F$10:$P$28,4),IF(AND(J49>=1972,J49<1977),VLOOKUP(K49,Feuil2!$F$10:$P$28,3),IF(AND(J49>=1977,J49<1982),VLOOKUP(K49,Feuil2!$F$10:$P$28,2),VLOOKUP(K49,Feuil2!$F$10:$P$28,2))))))))))))","v":{"$error":"#N/A"}},null,{"$f":"T49-HLOOKUP(Y49,Feuil2!$C$1:$CD$9,2,FALSE)","v":{"$error":"#VALUE!"}},{"$f":"T49-HLOOKUP(Y49,Feuil2!$C$1:$CD$9,3,FALSE)","v":{"$error":"#VALUE!"}},{"$f":"T49-HLOOKUP(Y49,Feuil2!$C$1:$CD$9,4,FALSE)","v":{"$error":"#VALUE!"}},{"$f":"T49-HLOOKUP(Y49,Feuil2!$C$1:$CD$9,5,FALSE)","v":{"$error":"#VALUE!"}},{"$f":"T49-HLOOKUP(Y49,Feuil2!$C$1:$CD$9,6,FALSE)","v":{"$error":"#VALUE!"}},{"$f":"T49-HLOOKUP(Y49,Feuil2!$C$1:$CD$9,7,FALSE)","v":{"$error":"#VALUE!"}},{"$f":"T49-HLOOKUP(Y49,Feuil2!$C$1:$CD$9,8,FALSE)","v":{"$error":"#VALUE!"}},{"$f":"T49-HLOOKUP(Y49,Feuil2!$C$1:$CD$9,9,FALSE)","v":{"$error":"#VALUE!"}},null,null,null,null,null,null,null,{"$error":"#VALUE!"},2016,null,{"$f":"IF(AQ49,VLOOKUP(AQ49,HOM!$AS$561:$AT$616,2))","v":3.5710000000000002}]
["H",null,null,null,null,null,null,null,null,null,null,null,null,null,"",null,null,null,"","","","","",false,{"$f":"IF(AND(J50<1920),VLOOKUP(K50,Feuil2!$F$10:$P$28,11),IF(AND(J50>=1920,J50<1937),VLOOKUP(K50,Feuil2!$F$10:$P$28,11),IF(AND(J50>=1936,J50<1942),VLOOKUP(K50,Feuil2!$F$10:$P$28,10),IF(AND(J50>=1942,J50<1947),VLOOKUP(K50,Feuil2!$F$10:$P$28,9),IF(AND(J50>=1947,J50<1952),VLOOKUP(K50,Feuil2!$F$10:$P$28,8),IF(AND(J50>=1952,J50<1957),VLOOKUP(K50,Feuil2!$F$10:$P$28,7),IF(AND(J50>=1957,J50<1962),VLOOKUP(K50,Feuil2!$F$10:$P$28,6),IF(AND(J50>=1962,J50<1967),VLOOKUP(K50,Feuil2!$F$10:$P$28,5),IF(AND(J50>=1967,J50<1972),VLOOKUP(K50,Feuil2!$F$10:$P$28,4),IF(AND(J50>=1972,J50<1977),VLOOKUP(K50,Feuil2!$F$10:$P$28,3),IF(AND(J50>=1977,J50<1982),VLOOKUP(K50,Feuil2!$F$10:$P$28,2),VLOOKUP(K50,Feuil2!$F$10:$P$28,2))))))))))))","v":{"$error":"#N/A"}},null,{"$f":"T50-HLOOKUP(Y50,Feuil2!$C$1:$CD$9,2,FALSE)","v":{"$error":"#VALUE!"}},{"$f":"T50-HLOOKUP(Y50,Feuil2!$C$1:$CD$9,3,FALSE)","v":{"$error":"#VALUE!"}},{"$f":"T50-HLOOKUP(Y50,Feuil2!$C$1:$CD$9,4,FALSE)","v":{"$error":"#VALUE!"}},{"$f":"T50-HLOOKUP(Y50,Feuil2!$C$1:$CD$9,5,FALSE)","v":{"$error":"#VALUE!"}},{"$f":"T50-HLOOKUP(Y50,Feuil2!$C$1:$CD$9,6,FALSE)","v":{"$error":"#VALUE!"}},{"$f":"T50-HLOOKUP(Y50,Feuil2!$C$1:$CD$9,7,FALSE)","v":{"$error":"#VALUE!"}},{"$f":"T50-HLOOKUP(Y50,Feuil2!$C$1:$CD$9,8,FALSE)","v":{"$error":"#VALUE!"}},{"$f":"T50-HLOOKUP(Y50,Feuil2!$C$1:$CD$9,9,FALSE)","v":{"$error":"#VALUE!"}},null,null,null,null,null,null,null,{"$error":"#VALUE!"},2016,null,{"$f":"IF(AQ50,VLOOKUP(AQ50,HOM!$AS$561:$AT$616,2))","v":3.5710000000000002}]
["H",null,null,null,null,null,null,null,null,null,null,null,null,null,"",null,null,null,"","","","","",false,{"$f":"IF(AND(J51<1920),VLOOKUP(K51,Feuil2!$F$10:$P$28,11),IF(AND(J51>=1920,J51<1937),VLOOKUP(K51,Feuil2!$F$10:$P$28,11),IF(AND(J51>=1936,J51<1942),VLOOKUP(K51,Feuil2!$F$10:$P$28,10),IF(AND(J51>=1942,J51<1947),VLOOKUP(K51,Feuil2!$F$10:$P$28,9),IF(AND(J51>=1947,J51<1952),VLOOKUP(K51,Feuil2!$F$10:$P$28,8),IF(AND(J51>=1952,J51<1957),VLOOKUP(K51,Feuil2!$F$10:$P$28,7),IF(AND(J51>=1957,J51<1962),VLOOKUP(K51,Feuil2!$F$10:$P$28,6),IF(AND(J51>=1962,J51<1967),VLOOKUP(K51,Feuil2!$F$10:$P$28,5),IF(AND(J51>=1967,J51<1972),VLOOKUP(K51,Feuil2!$F$10:$P$28,4),IF(AND(J51>=1972,J51<1977),VLOOKUP(K51,Feuil2!$F$10:$P$28,3),IF(AND(J51>=1977,J51<1982),VLOOKUP(K51,Feuil2!$F$10:$P$28,2),VLOOKUP(K51,Feuil2!$F$10:$P$28,2))))))))))))","v":{"$error":"#N/A"}},null,{"$f":"T51-HLOOKUP(Y51,Feuil2!$C$1:$CD$9,2,FALSE)","v":{"$error":"#VALUE!"}},{"$f":"T51-HLOOKUP(Y51,Feuil2!$C$1:$CD$9,3,FALSE)","v":{"$error":"#VALUE!"}},{"$f":"T51-HLOOKUP(Y51,Feuil2!$C$1:$CD$9,4,FALSE)","v":{"$error":"#VALUE!"}},{"$f":"T51-HLOOKUP(Y51,Feuil2!$C$1:$CD$9,5,FALSE)","v":{"$error":"#VALUE!"}},{"$f":"T51-HLOOKUP(Y51,Feuil2!$C$1:$CD$9,6,FALSE)","v":{"$error":"#VALUE!"}},{"$f":"T51-HLOOKUP(Y51,Feuil2!$C$1:$CD$9,7,FALSE)","v":{"$error":"#VALUE!"}},{"$f":"T51-HLOOKUP(Y51,Feuil2!$C$1:$CD$9,8,FALSE)","v":{"$error":"#VALUE!"}},{"$f":"T51-HLOOKUP(Y51,Feuil2!$C$1:$CD$9,9,FALSE)","v":{"$error":"#VALUE!"}},null,null,null,null,null,null,null,{"$error":"#VALUE!"},2016,null,{"$f":"IF(AQ51,VLOOKUP(AQ51,HOM!$AS$561:$AT$616,2))","v":3.5710000000000002}]
["H",null,null,null,null,null,null,null,null,1975,85,null,null,null,{"$f":"IF(K52=\"\",\"\",IF(MAXA(L52:N52)<=0,0,MAXA(L52:N52)))","v":0},null,null,null,{"$f":"IF(K52=\"\",\"\",IF(MAXA(P52:R52)<=0,0,MAXA(P52:R52)))","v":0},{"$f":"IF(K52=\"\",\"\",IF(OR(O52=0,S52=0),0,O52+S52))","v":0},{"$f":"IF(K52=\"\",\"\",IF(A52=\"H\",10^(0.794358141*LOG(K52/174.393)^2)*T52*AS52,IF(A52=\"F\",10^(0.89726074 * LOG(K52/148.026)^2)*T52*AS52,\"\")))","v":0},{"$f":"IF(K52=\"\",\"\",AP52)","v":"N.CL."},{"$f":"IF(K52=\"\",\"\",IF(AH52>=0,AH52,IF(AG52>=0,AG52,IF(AF52>=0,AF52,IF(AE52>=0,AE52,IF(AD52>=0,AD52,IF(AC52>=0,AC52,IF(AB52>=0,AB52,AA52))))))))","v":0},{"$f":"IF(AQ52<95,IF(AQ52<=90,VLOOKUP(AQ52,$AQ$561:$AR$616,2)))","v":"V2 H40"},{"$f":"IF(AND(J52<1920),VLOOKUP(K52,Feuil2!$F$10:$P$28,11),IF(AND(J52>=1920,J52<1937),VLOOKUP(K52,Feuil2!$F$10:$P$28,11),IF(AND(J52>=1936,J52<1942),VLOOKUP(K52,Feuil2!$F$10:$P$28,10),IF(AND(J52>=1942,J52<1947),VLOOKUP(K52,Feuil2!$F$10:$P$28,9),IF(AND(J52>=1947,J52<1952),VLOOKUP(K52,Feuil2!$F$10:$P$28,8),IF(AND(J52>=1952,J52<1957),VLOOKUP(K52,Feuil2!$F$10:$P$28,7),IF(AND(J52>=1957,J52<1962),VLOOKUP(K52,Feuil2!$F$10:$P$28,6),IF(AND(J52>=1962,J52<1967),VLOOKUP(K52,Feuil2!$F$10:$P$28,5),IF(AND(J52>=1967,J52<1972),VLOOKUP(K52,Feuil2!$F$10:$P$28,4),IF(AND(J52>=1972,J52<1977),VLOOKUP(K52,Feuil2!$F$10:$P$28,3),IF(AND(J52>=1977,J52<1982),VLOOKUP(K52,Feuil2!$F$10:$P$28,2),VLOOKUP(K52,Feuil2!$F$10:$P$28,2))))))))))))","v":"VH40-85"},null,{"$f":"T52-HLOOKUP(Y52,Feuil2!$C$1:$CD$9,2,FALSE)","v":0},{"$f":"T52-HLOOKUP(Y52,Feuil2!$C$1:$CD$9,3,FALSE)","v":-162},{"$f":"T52-HLOOKUP(Y52,Feuil2!$C$1:$CD$9,4,FALSE)","v":-172},{"$f":"T52-HLOOKUP(Y52,Feuil2!$C$1:$CD$9,5,FALSE)","v":-182},{"$f":"T52-HLOOKUP(Y52,Feuil2!$C$1:$CD$9,6,FALSE)","v":-205},{"$f":"T52-HLOOKUP(Y52,Feuil2!$C$1:$CD$9,7,FALSE)","v":-1000},{"$f":"T52-HLOOKUP(Y52,Feuil2!$C$1:$CD$9,8,FALSE)","v":-1000},{"$f":"T52-HLOOKUP(Y52,Feuil2!$C$1:$CD$9,9,FALSE)","v":-1000},null,null,null,null,null,null,null,"N.CL.",41,null,{"$f":"IF(AQ52,VLOOKUP(AQ52,HOM!$AS$561:$AT$616,2))","v":1.147}]
["H",null,null,null,null,null,null,null,null,null,null,null,null,null,"",null,null,null,"","","","","",{"$f":"IF(BI53<95,IF(BI53<=90,VLOOKUP(BI53,$AQ$560:$AR$615,2)))","v":{"$error":"#N/A"}},{"$f":"IF(AND(J53<1920),VLOOKUP(K53,Feuil2!$F$10:$P$28,11),IF(AND(J53>=1920,J53<1937),VLOOKUP(K53,Feuil2!$F$10:$P$28,11),IF(AND(J53>=1936,J53<1942),VLOOKUP(K53,Feuil2!$F$10:$P$28,10),IF(AND(J53>=1942,J53<1947),VLOOKUP(K53,Feuil2!$F$10:$P$28,9),IF(AND(J53>=1947,J53<1952),VLOOKUP(K53,Feuil2!$F$10:$P$28,8),IF(AND(J53>=1952,J53<1957),VLOOKUP(K53,Feuil2!$F$10:$P$28,7),IF(AND(J53>=1957,J53<1962),VLOOKUP(K53,Feuil2!$F$10:$P$28,6),IF(AND(J53>=1962,J53<1967),VLOOKUP(K53,Feuil2!$F$10:$P$28,5),IF(AND(J53>=1967,J53<1972),VLOOKUP(K53,Feuil2!$F$10:$P$28,4),IF(AND(J53>=1972,J53<1977),VLOOKUP(K53,Feuil2!$F$10:$P$28,3),IF(AND(J53>=1977,J53<1982),VLOOKUP(K53,Feuil2!$F$10:$P$28,2),VLOOKUP(K53,Feuil2!$F$10:$P$28,2))))))))))))","v":{"$error":"#N/A"}},null,{"$f":"T53-HLOOKUP(Y53,Feuil2!$C$1:$CD$9,2,FALSE)","v":{"$error":"#VALUE!"}},{"$f":"T53-HLOOKUP(Y53,Feuil2!$C$1:$CD$9,3,FALSE)","v":{"$error":"#VALUE!"}},{"$f":"T53-HLOOKUP(Y53,Feuil2!$C$1:$CD$9,4,FALSE)","v":{"$error":"#VALUE!"}},{"$f":"T53-HLOOKUP(Y53,Feuil2!$C$1:$CD$9,5,FALSE)","v":{"$error":"#VALUE!"}},{"$f":"T53-HLOOKUP(Y53,Feuil2!$C$1:$CD$9,6,FALSE)","v":{"$error":"#VALUE!"}},{"$f":"T53-HLOOKUP(Y53,Feuil2!$C$1:$CD$9,7,FALSE)","v":{"$error":"#VALUE!"}},{"$f":"T53-HLOOKUP(Y53,Feuil2!$C$1:$CD$9,8,FALSE)","v":{"$error":"#VALUE!"}},{"$f":"T53-HLOOKUP(Y53,Feuil2!$C$1:$CD$9,9,FALSE)","v":{"$error":"#VALUE!"}},null,null,null,null,null,null,null,{"$error":"#VALUE!"},2016,null,{"$f":"IF(AQ53,VLOOKUP(AQ53,HOM!$AS$561:$AT$616,2))","v":3.5710000000000002}]
["H",null,null,null,null,null,null,null,null,null,null,null,null,null,"",null,null,null,"","","","","",{"$error":"#N/A"},{"$f":"IF(AND(J54<1920),VLOOKUP(K54,Feuil2!$F$10:$P$28,11),IF(AND(J54>=1920,J54<1937),VLOOKUP(K54,Feuil2!$F$10:$P$28,11),IF(AND(J54>=1936,J54<1942),VLOOKUP(K54,Feuil2!$F$10:$P$28,10),IF(AND(J54>=1942,J54<1947),VLOOKUP(K54,Feuil2!$F$10:$P$28,9),IF(AND(J54>=1947,J54<1952),VLOOKUP(K54,Feuil2!$F$10:$P$28,8),IF(AND(J54>=1952,J54<1957),VLOOKUP(K54,Feuil2!$F$10:$P$28,7),IF(AND(J54>=1957,J54<1962),VLOOKUP(K54,Feuil2!$F$10:$P$28,6),IF(AND(J54>=1962,J54<1967),VLOOKUP(K54,Feuil2!$F$10:$P$28,5),IF(AND(J54>=1967,J54<1972),VLOOKUP(K54,Feuil2!$F$10:$P$28,4),IF(AND(J54>=1972,J54<1977),VLOOKUP(K54,Feuil2!$F$10:$P$28,3),IF(AND(J54>=1977,J54<1982),VLOOKUP(K54,Feuil2!$F$10:$P$28,2),VLOOKUP(K54,Feuil2!$F$10:$P$28,2))))))))))))","v":{"$error":"#N/A"}},null,{"$f":"T54-HLOOKUP(Y54,Feuil2!$C$1:$CD$9,2,FALSE)","v":{"$error":"#VALUE!"}},{"$f":"T54-HLOOKUP(Y54,Feuil2!$C$1:$CD$9,3,FALSE)","v":{"$error":"#VALUE!"}},{"$f":"T54-HLOOKUP(Y54,Feuil2!$C$1:$CD$9,4,FALSE)","v":{"$error":"#VALUE!"}},{"$f":"T54-HLOOKUP(Y54,Feuil2!$C$1:$CD$9,5,FALSE)","v":{"$error":"#VALUE!"}},{"$f":"T54-HLOOKUP(Y54,Feuil2!$C$1:$CD$9,6,FALSE)","v":{"$error":"#VALUE!"}},{"$f":"T54-HLOOKUP(Y54,Feuil2!$C$1:$CD$9,7,FALSE)","v":{"$error":"#VALUE!"}},{"$f":"T54-HLOOKUP(Y54,Feuil2!$C$1:$CD$9,8,FALSE)","v":{"$error":"#VALUE!"}},{"$f":"T54-HLOOKUP(Y54,Feuil2!$C$1:$CD$9,9,FALSE)","v":{"$error":"#VALUE!"}},null,null,null,null,null,null,null,{"$error":"#VALUE!"},2016,null,{"$f":"IF(AQ54,VLOOKUP(AQ54,HOM!$AS$561:$AT$616,2))","v":3.5710000000000002}]
["H",null,null,null,null,null,null,null,null,null,null,null,null,null,"",null,null,null,"","","","","",{"$error":"#N/A"},{"$f":"IF(AND(J55<1920),VLOOKUP(K55,Feuil2!$F$10:$P$28,11),IF(AND(J55>=1920,J55<1937),VLOOKUP(K55,Feuil2!$F$10:$P$28,11),IF(AND(J55>=1936,J55<1942),VLOOKUP(K55,Feuil2!$F$10:$P$28,10),IF(AND(J55>=1942,J55<1947),VLOOKUP(K55,Feuil2!$F$10:$P$28,9),IF(AND(J55>=1947,J55<1952),VLOOKUP(K55,Feuil2!$F$10:$P$28,8),IF(AND(J55>=1952,J55<1957),VLOOKUP(K55,Feuil2!$F$10:$P$28,7),IF(AND(J55>=1957,J55<1962),VLOOKUP(K55,Feuil2!$F$10:$P$28,6),IF(AND(J55>=1962,J55<1967),VLOOKUP(K55,Feuil2!$F$10:$P$28,5),IF(AND(J55>=1967,J55<1972),VLOOKUP(K55,Feuil2!$F$10:$P$28,4),IF(AND(J55>=1972,J55<1977),VLOOKUP(K55,Feuil2!$F$10:$P$28,3),IF(AND(J55>=1977,J55<1982),VLOOKUP(K55,Feuil2!$F$10:$P$28,2),VLOOKUP(K55,Feuil2!$F$10:$P$28,2))))))))))))","v":{"$error":"#N/A"}},null,{"$f":"T55-HLOOKUP(Y55,Feuil2!$C$1:$CD$9,2,FALSE)","v":{"$error":"#VALUE!"}},{"$f":"T55-HLOOKUP(Y55,Feuil2!$C$1:$CD$9,3,FALSE)","v":{"$error":"#VALUE!"}},{"$f":"T55-HLOOKUP(Y55,Feuil2!$C$1:$CD$9,4,FALSE)","v":{"$error":"#VALUE!"}},{"$f":"T55-HLOOKUP(Y55,Feuil2!$C$1:$CD$9,5,FALSE)","v":{"$error":"#VALUE!"}},{"$f":"T55-HLOOKUP(Y55,Feuil2!$C$1:$CD$9,6,FALSE)","v":{"$error":"#VALUE!"}},{"$f":"T55-HLOOKUP(Y55,Feuil2!$C$1:$CD$9,7,FALSE)","v":{"$error":"#VALUE!"}},{"$f":"T55-HLOOKUP(Y55,Feuil2!$C$1:$CD$9,8,FALSE)","v":{"$error":"#VALUE!"}},{"$f":"T55-HLOOKUP(Y55,Feuil2!$C$1:$CD$9,9,FALSE)","v":{"$error":"#VALUE!"}},null,null,null,null,null,null,null,{"$error":"#VALUE!"},2016,null,{"$f":"IF(AQ55,VLOOKUP(AQ55,HOM!$AS$561:$AT$616,2))","v":3.5710000000000002}]
["H",null,null,null,null,null,null,null,null,null,null,null,null,null,{"$f":"IF(K56=\"\",\"\",IF(MAXA(L56:N56)<=0,0,MAXA(L56:N56)))","v":""},null,null,null,"","","","","",{"$error":"#N/A"},{"$f":"IF(AND(J56<1920),VLOOKUP(K56,Feuil2!$F$10:$P$28,11),IF(AND(J56>=1920,J56<1937),VLOOKUP(K56,Feuil2!$F$10:$P$28,11),IF(AND(J56>=1936,J56<1942),VLOOKUP(K56,Feuil2!$F$10:$P$28,10),IF(AND(J56>=1942,J56<1947),VLOOKUP(K56,Feuil2!$F$10:$P$28,9),IF(AND(J56>=1947,J56<1952),VLOOKUP(K56,Feuil2!$F$10:$P$28,8),IF(AND(J56>=1952,J56<1957),VLOOKUP(K56,Feuil2!$F$10:$P$28,7),IF(AND(J56>=1957,J56<1962),VLOOKUP(K56,Feuil2!$F$10:$P$28,6),IF(AND(J56>=1962,J56<1967),VLOOKUP(K56,Feuil2!$F$10:$P$28,5),IF(AND(J56>=1967,J56<1972),VLOOKUP(K56,Feuil2!$F$10:$P$28,4),IF(AND(J56>=1972,J56<1977),VLOOKUP(K56,Feuil2!$F$10:$P$28,3),IF(AND(J56>=1977,J56<1982),VLOOKUP(K56,Feuil2!$F$10:$P$28,2),VLOOKUP(K56,Feuil2!$F$10:$P$28,2))))))))))))","v":{"$error":"#N/A"}},null,{"$f":"T56-HLOOKUP(Y56,Feuil2!$C$1:$CD$9,2,FALSE)","v":{"$error":"#VALUE!"}},{"$f":"T56-HLOOKUP(Y56,Feuil2!$C$1:$CD$9,3,FALSE)","v":{"$error":"#VALUE!"}},{"$f":"T56-HLOOKUP(Y56,Feuil2!$C$1:$CD$9,4,FALSE)","v":{"$error":"#VALUE!"}},{"$f":"T56-HLOOKUP(Y56,Feuil2!$C$1:$CD$9,5,FALSE)","v":{"$error":"#VALUE!"}},{"$f":"T56-HLOOKUP(Y56,Feuil2!$C$1:$CD$9,6,FALSE)","v":{"$error":"#VALUE!"}},{"$f":"T56-HLOOKUP(Y56,Feuil2!$C$1:$CD$9,7,FALSE)","v":{"$error":"#VALUE!"}},{"$f":"T56-HLOOKUP(Y56,Feuil2!$C$1:$CD$9,8,FALSE)","v":{"$error":"#VALUE!"}},{"$f":"T56-HLOOKUP(Y56,Feuil2!$C$1:$CD$9,9,FALSE)","v":{"$error":"#VALUE!"}},null,null,null,null,null,null,null,{"$error":"#VALUE!"},2016,null,{"$f":"IF(AQ56,VLOOKUP(AQ56,HOM!$AS$561:$AT$616,2))","v":3.5710000000000002}]
["H",null,null,null,null,null,null,null,null,null,null,null,null,null,"",null,null,null,"","","","","",{"$error":"#N/A"},{"$f":"IF(AND(J57<1920),VLOOKUP(K57,Feuil2!$F$10:$P$28,11),IF(AND(J57>=1920,J57<1937),VLOOKUP(K57,Feuil2!$F$10:$P$28,11),IF(AND(J57>=1936,J57<1942),VLOOKUP(K57,Feuil2!$F$10:$P$28,10),IF(AND(J57>=1942,J57<1947),VLOOKUP(K57,Feuil2!$F$10:$P$28,9),IF(AND(J57>=1947,J57<1952),VLOOKUP(K57,Feuil2!$F$10:$P$28,8),IF(AND(J57>=1952,J57<1957),VLOOKUP(K57,Feuil2!$F$10:$P$28,7),IF(AND(J57>=1957,J57<1962),VLOOKUP(K57,Feuil2!$F$10:$P$28,6),IF(AND(J57>=1962,J57<1967),VLOOKUP(K57,Feuil2!$F$10:$P$28,5),IF(AND(J57>=1967,J57<1972),VLOOKUP(K57,Feuil2!$F$10:$P$28,4),IF(AND(J57>=1972,J57<1977),VLOOKUP(K57,Feuil2!$F$10:$P$28,3),IF(AND(J57>=1977,J57<1982),VLOOKUP(K57,Feuil2!$F$10:$P$28,2),VLOOKUP(K57,Feuil2!$F$10:$P$28,2))))))))))))","v":{"$error":"#N/A"}},null,{"$f":"T57-HLOOKUP(Y57,Feuil2!$C$1:$CD$9,2,FALSE)","v":{"$error":"#VALUE!"}},{"$f":"T57-HLOOKUP(Y57,Feuil2!$C$1:$CD$9,3,FALSE)","v":{"$error":"#VALUE!"}},{"$f":"T57-HLOOKUP(Y57,Feuil2!$C$1:$CD$9,4,FALSE)","v":{"$error":"#VALUE!"}},{"$f":"T57-HLOOKUP(Y57,Feuil2!$C$1:$CD$9,5,FALSE)","v":{"$error":"#VALUE!"}},{"$f":"T57-HLOOKUP(Y57,Feuil2!$C$1:$CD$9,6,FALSE)","v":{"$error":"#VALUE!"}},{"$f":"T57-HLOOKUP(Y57,Feuil2!$C$1:$CD$9,7,FALSE)","v":{"$error":"#VALUE!"}},{"$f":"T57-HLOOKUP(Y57,Feuil2!$C$1:$CD$9,8,FALSE)","v":{"$error":"#VALUE!"}},{"$f":"T57-HLOOKUP(Y57,Feuil2!$C$1:$CD$9,9,FALSE)","v":{"$error":"#VALUE!"}},null,null,null,null,null,null,null,{"$error":"#VALUE!"},2016,null,{"$f":"IF(AQ57,VLOOKUP(AQ57,HOM!$AS$561:$AT$616,2))","v":3.5710000000000002}]
["H",null,null,null,null,null,null,null,null,null,null,null,null,null,"",null,null,null,{"$f":"IF(K58=\"\",\"\",IF(MAXA(P58:R58)<=0,0,MAXA(P58:R58)))","v":""},"","","","",{"$error":"#N/A"},{"$f":"IF(AND(J58<1920),VLOOKUP(K58,Feuil2!$F$10:$P$28,11),IF(AND(J58>=1920,J58<1937),VLOOKUP(K58,Feuil2!$F$10:$P$28,11),IF(AND(J58>=1936,J58<1942),VLOOKUP(K58,Feuil2!$F$10:$P$28,10),IF(AND(J58>=1942,J58<1947),VLOOKUP(K58,Feuil2!$F$10:$P$28,9),IF(AND(J58>=1947,J58<1952),VLOOKUP(K58,Feuil2!$F$10:$P$28,8),IF(AND(J58>=1952,J58<1957),VLOOKUP(K58,Feuil2!$F$10:$P$28,7),IF(AND(J58>=1957,J58<1962),VLOOKUP(K58,Feuil2!$F$10:$P$28,6),IF(AND(J58>=1962,J58<1967),VLOOKUP(K58,Feuil2!$F$10:$P$28,5),IF(AND(J58>=1967,J58<1972),VLOOKUP(K58,Feuil2!$F$10:$P$28,4),IF(AND(J58>=1972,J58<1977),VLOOKUP(K58,Feuil2!$F$10:$P$28,3),IF(AND(J58>=1977,J58<1982),VLOOKUP(K58,Feuil2!$F$10:$P$28,2),VLOOKUP(K58,Feuil2!$F$10:$P$28,2))))))))))))","v":{"$error":"#N/A"}},null,{"$f":"T58-HLOOKUP(Y58,Feuil2!$C$1:$CD$9,2,FALSE)","v":{"$error":"#VALUE!"}},{"$f":"T58-HLOOKUP(Y58,Feuil2!$C$1:$CD$9,3,FALSE)","v":{"$error":"#VALUE!"}},{"$f":"T58-HLOOKUP(Y58,Feuil2!$C$1:$CD$9,4,FALSE)","v":{"$error":"#VALUE!"}},{"$f":"T58-HLOOKUP(Y58,Feuil2!$C$1:$CD$9,5,FALSE)","v":{"$error":"#VALUE!"}},{"$f":"T58-HLOOKUP(Y58,Feuil2!$C$1:$CD$9,6,FALSE)","v":{"$error":"#VALUE!"}},{"$f":"T58-HLOOKUP(Y58,Feuil2!$C$1:$CD$9,7,FALSE)","v":{"$error":"#VALUE!"}},{"$f":"T58-HLOOKUP(Y58,Feuil2!$C$1:$CD$9,8,FALSE)","v":{"$error":"#VALUE!"}},{"$f":"T58-HLOOKUP(Y58,Feuil2!$C$1:$CD$9,9,FALSE)","v":{"$error":"#VALUE!"}},null,null,null,null,null,null,null,{"$error":"#VALUE!"},2016,null,{"$f":"IF(AQ58,VLOOKUP(AQ58,HOM!$AS$561:$AT$616,2))","v":3.5710000000000002}]
["H",null,null,null,null,null,null,null,null,null,null,null,null,null,"",null,null,null,"",{"$f":"IF(K59=\"\",\"\",IF(OR(O59=0,S59=0),0,O59+S59))","v":""},"","","",{"$error":"#N/A"},{"$f":"IF(AND(J59<1920),VLOOKUP(K59,Feuil2!$F$10:$P$28,11),IF(AND(J59>=1920,J59<1937),VLOOKUP(K59,Feuil2!$F$10:$P$28,11),IF(AND(J59>=1936,J59<1942),VLOOKUP(K59,Feuil2!$F$10:$P$28,10),IF(AND(J59>=1942,J59<1947),VLOOKUP(K59,Feuil2!$F$10:$P$28,9),IF(AND(J59>=1947,J59<1952),VLOOKUP(K59,Feuil2!$F$10:$P$28,8),IF(AND(J59>=1952,J59<1957),VLOOKUP(K59,Feuil2!$F$10:$P$28,7),IF(AND(J59>=1957,J59<1962),VLOOKUP(K59,Feuil2!$F$10:$P$28,6),IF(AND(J59>=1962,J59<1967),VLOOKUP(K59,Feuil2!$F$10:$P$28,5),IF(AND(J59>=1967,J59<1972),VLOOKUP(K59,Feuil2!$F$10:$P$28,4),IF(AND(J59>=1972,J59<1977),VLOOKUP(K59,Feuil2!$F$10:$P$28,3),IF(AND(J59>=1977,J59<1982),VLOOKUP(K59,Feuil2!$F$10:$P$28,2),VLOOKUP(K59,Feuil2!$F$10:$P$28,2))))))))))))","v":{"$error":"#N/A"}},null,{"$f":"T59-HLOOKUP(Y59,Feuil2!$C$1:$CD$9,2,FALSE)","v":{"$error":"#VALUE!"}},{"$f":"T59-HLOOKUP(Y59,Feuil2!$C$1:$CD$9,3,FALSE)","v":{"$error":"#VALUE!"}},{"$f":"T59-HLOOKUP(Y59,Feuil2!$C$1:$CD$9,4,FALSE)","v":{"$error":"#VALUE!"}},{"$f":"T59-HLOOKUP(Y59,Feuil2!$C$1:$CD$9,5,FALSE)","v":{"$error":"#VALUE!"}},{"$f":"T59-HLOOKUP(Y59,Feuil2!$C$1:$CD$9,6,FALSE)","v":{"$error":"#VALUE!"}},{"$f":"T59-HLOOKUP(Y59,Feuil2!$C$1:$CD$9,7,FALSE)","v":{"$error":"#VALUE!"}},{"$f":"T59-HLOOKUP(Y59,Feuil2!$C$1:$CD$9,8,FALSE)","v":{"$error":"#VALUE!"}},{"$f":"T59-HLOOKUP(Y59,Feuil2!$C$1:$CD$9,9,FALSE)","v":{"$error":"#VALUE!"}},null,null,null,null,null,null,null,{"$error":"#VALUE!"},2016,null,{"$f":"IF(AQ59,VLOOKUP(AQ59,HOM!$AS$561:$AT$616,2))","v":3.5710000000000002}]
["H",null,null,null,null,null,null,null,null,null,null,null,null,null,"",null,null,null,"","","","","",{"$error":"#N/A"},{"$f":"IF(AND(J60<1920),VLOOKUP(K60,Feuil2!$F$10:$P$28,11),IF(AND(J60>=1920,J60<1937),VLOOKUP(K60,Feuil2!$F$10:$P$28,11),IF(AND(J60>=1936,J60<1942),VLOOKUP(K60,Feuil2!$F$10:$P$28,10),IF(AND(J60>=1942,J60<1947),VLOOKUP(K60,Feuil2!$F$10:$P$28,9),IF(AND(J60>=1947,J60<1952),VLOOKUP(K60,Feuil2!$F$10:$P$28,8),IF(AND(J60>=1952,J60<1957),VLOOKUP(K60,Feuil2!$F$10:$P$28,7),IF(AND(J60>=1957,J60<1962),VLOOKUP(K60,Feuil2!$F$10:$P$28,6),IF(AND(J60>=1962,J60<1967),VLOOKUP(K60,Feuil2!$F$10:$P$28,5),IF(AND(J60>=1967,J60<1972),VLOOKUP(K60,Feuil2!$F$10:$P$28,4),IF(AND(J60>=1972,J60<1977),VLOOKUP(K60,Feuil2!$F$10:$P$28,3),IF(AND(J60>=1977,J60<1982),VLOOKUP(K60,Feuil2!$F$10:$P$28,2),VLOOKUP(K60,Feuil2!$F$10:$P$28,2))))))))))))","v":{"$error":"#N/A"}},null,{"$f":"T60-HLOOKUP(Y60,Feuil2!$C$1:$CD$9,2,FALSE)","v":{"$error":"#VALUE!"}},{"$f":"T60-HLOOKUP(Y60,Feuil2!$C$1:$CD$9,3,FALSE)","v":{"$error":"#VALUE!"}},{"$f":"T60-HLOOKUP(Y60,Feuil2!$C$1:$CD$9,4,FALSE)","v":{"$error":"#VALUE!"}},{"$f":"T60-HLOOKUP(Y60,Feuil2!$C$1:$CD$9,5,FALSE)","v":{"$error":"#VALUE!"}},{"$f":"T60-HLOOKUP(Y60,Feuil2!$C$1:$CD$9,6,FALSE)","v":{"$error":"#VALUE!"}},{"$f":"T60-HLOOKUP(Y60,Feuil2!$C$1:$CD$9,7,FALSE)","v":{"$error":"#VALUE!"}},{"$f":"T60-HLOOKUP(Y60,Feuil2!$C$1:$CD$9,8,FALSE)","v":{"$error":"#VALUE!"}},{"$f":"T60-HLOOKUP(Y60,Feuil2!$C$1:$CD$9,9,FALSE)","v":{"$error":"#VALUE!"}},null,null,null,null,null,null,null,{"$error":"#VALUE!"},2016,null,{"$f":"IF(AQ60,VLOOKUP(AQ60,HOM!$AS$561:$AT$616,2))","v":3.5710000000000002}]
["H",null,null,null,null,null,null,null,null,null,null,null,null,null,"",null,null,null,"","","","","",{"$error":"#N/A"},{"$f":"IF(AND(J61<1920),VLOOKUP(K61,Feuil2!$F$10:$P$28,11),IF(AND(J61>=1920,J61<1937),VLOOKUP(K61,Feuil2!$F$10:$P$28,11),IF(AND(J61>=1936,J61<1942),VLOOKUP(K61,Feuil2!$F$10:$P$28,10),IF(AND(J61>=1942,J61<1947),VLOOKUP(K61,Feuil2!$F$10:$P$28,9),IF(AND(J61>=1947,J61<1952),VLOOKUP(K61,Feuil2!$F$10:$P$28,8),IF(AND(J61>=1952,J61<1957),VLOOKUP(K61,Feuil2!$F$10:$P$28,7),IF(AND(J61>=1957,J61<1962),VLOOKUP(K61,Feuil2!$F$10:$P$28,6),IF(AND(J61>=1962,J61<1967),VLOOKUP(K61,Feuil2!$F$10:$P$28,5),IF(AND(J61>=1967,J61<1972),VLOOKUP(K61,Feuil2!$F$10:$P$28,4),IF(AND(J61>=1972,J61<1977),VLOOKUP(K61,Feuil2!$F$10:$P$28,3),IF(AND(J61>=1977,J61<1982),VLOOKUP(K61,Feuil2!$F$10:$P$28,2),VLOOKUP(K61,Feuil2!$F$10:$P$28,2))))))))))))","v":{"$error":"#N/A"}},null,{"$f":"T61-HLOOKUP(Y61,Feuil2!$C$1:$CD$9,2,FALSE)","v":{"$error":"#VALUE!"}},{"$f":"T61-HLOOKUP(Y61,Feuil2!$C$1:$CD$9,3,FALSE)","v":{"$error":"#VALUE!"}},{"$f":"T61-HLOOKUP(Y61,Feuil2!$C$1:$CD$9,4,FALSE)","v":{"$error":"#VALUE!"}},{"$f":"T61-HLOOKUP(Y61,Feuil2!$C$1:$CD$9,5,FALSE)","v":{"$error":"#VALUE!"}},{"$f":"T61-HLOOKUP(Y61,Feuil2!$C$1:$CD$9,6,FALSE)","v":{"$error":"#VALUE!"}},{"$f":"T61-HLOOKUP(Y61,Feuil2!$C$1:$CD$9,7,FALSE)","v":{"$error":"#VALUE!"}},{"$f":"T61-HLOOKUP(Y61,Feuil2!$C$1:$CD$9,8,FALSE)","v":{"$error":"#VALUE!"}},{"$f":"T61-HLOOKUP(Y61,Feuil2!$C$1:$CD$9,9,FALSE)","v":{"$error":"#VALUE!"}},null,null,null,null,null,null,null,{"$error":"#VALUE!"},2016,null,{"$f":"IF(AQ61,VLOOKUP(AQ61,HOM!$AS$561:$AT$616,2))","v":3.5710000000000002}]
["H",null,null,null,null,null,null,null,null,null,null,null,null,null,"",null,null,null,"","","","","",{"$error":"#N/A"},{"$f":"IF(AND(J62<1920),VLOOKUP(K62,Feuil2!$F$10:$P$28,11),IF(AND(J62>=1920,J62<1937),VLOOKUP(K62,Feuil2!$F$10:$P$28,11),IF(AND(J62>=1936,J62<1942),VLOOKUP(K62,Feuil2!$F$10:$P$28,10),IF(AND(J62>=1942,J62<1947),VLOOKUP(K62,Feuil2!$F$10:$P$28,9),IF(AND(J62>=1947,J62<1952),VLOOKUP(K62,Feuil2!$F$10:$P$28,8),IF(AND(J62>=1952,J62<1957),VLOOKUP(K62,Feuil2!$F$10:$P$28,7),IF(AND(J62>=1957,J62<1962),VLOOKUP(K62,Feuil2!$F$10:$P$28,6),IF(AND(J62>=1962,J62<1967),VLOOKUP(K62,Feuil2!$F$10:$P$28,5),IF(AND(J62>=1967,J62<1972),VLOOKUP(K62,Feuil2!$F$10:$P$28,4),IF(AND(J62>=1972,J62<1977),VLOOKUP(K62,Feuil2!$F$10:$P$28,3),IF(AND(J62>=1977,J62<1982),VLOOKUP(K62,Feuil2!$F$10:$P$28,2),VLOOKUP(K62,Feuil2!$F$10:$P$28,2))))))))))))","v":{"$error":"#N/A"}},null,{"$f":"T62-HLOOKUP(Y62,Feuil2!$C$1:$CD$9,2,FALSE)","v":{"$error":"#VALUE!"}},{"$f":"T62-HLOOKUP(Y62,Feuil2!$C$1:$CD$9,3,FALSE)","v":{"$error":"#VALUE!"}},{"$f":"T62-HLOOKUP(Y62,Feuil2!$C$1:$CD$9,4,FALSE)","v":{"$error":"#VALUE!"}},{"$f":"T62-HLOOKUP(Y62,Feuil2!$C$1:$CD$9,5,FALSE)","v":{"$error":"#VALUE!"}},{"$f":"T62-HLOOKUP(Y62,Feuil2!$C$1:$CD$9,6,FALSE)","v":{"$error":"#VALUE!"}},{"$f":"T62-HLOOKUP(Y62,Feuil2!$C$1:$CD$9,7,FALSE)","v":{"$error":"#VALUE!"}},{"$f":"T62-HLOOKUP(Y62,Feuil2!$C$1:$CD$9,8,FALSE)","v":{"$error":"#VALUE!"}},{"$f":"T62-HLOOKUP(Y62,Feuil2!$C$1:$CD$9,9,FALSE)","v":{"$error":"#VALUE!"}},null,null,null,null,null,null,null,{"$error":"#VALUE!"},2016,null,{"$f":"IF(AQ62,VLOOKUP(AQ62,HOM!$AS$561:$AT$616,2))","v":3.5710000000000002}]
["H",null,null,null,null,null,null,null,null,null,null,null,null,null,{"$f":"IF(K63=\"\",\"\",IF(MAXA(L63:N63)<=0,0,MAXA(L63:N63)))","v":""},null,null,null,"","","","","",{"$error":"#N/A"},{"$f":"IF(AND(J63<1920),VLOOKUP(K63,Feuil2!$F$10:$P$28,11),IF(AND(J63>=1920,J63<1937),VLOOKUP(K63,Feuil2!$F$10:$P$28,11),IF(AND(J63>=1936,J63<1942),VLOOKUP(K63,Feuil2!$F$10:$P$28,10),IF(AND(J63>=1942,J63<1947),VLOOKUP(K63,Feuil2!$F$10:$P$28,9),IF(AND(J63>=1947,J63<1952),VLOOKUP(K63,Feuil2!$F$10:$P$28,8),IF(AND(J63>=1952,J63<1957),VLOOKUP(K63,Feuil2!$F$10:$P$28,7),IF(AND(J63>=1957,J63<1962),VLOOKUP(K63,Feuil2!$F$10:$P$28,6),IF(AND(J63>=1962,J63<1967),VLOOKUP(K63,Feuil2!$F$10:$P$28,5),IF(AND(J63>=1967,J63<1972),VLOOKUP(K63,Feuil2!$F$10:$P$28,4),IF(AND(J63>=1972,J63<1977),VLOOKUP(K63,Feuil2!$F$10:$P$28,3),IF(AND(J63>=1977,J63<1982),VLOOKUP(K63,Feuil2!$F$10:$P$28,2),VLOOKUP(K63,Feuil2!$F$10:$P$28,2))))))))))))","v":{"$error":"#N/A"}},null,{"$f":"T63-HLOOKUP(Y63,Feuil2!$C$1:$CD$9,2,FALSE)","v":{"$error":"#VALUE!"}},{"$f":"T63-HLOOKUP(Y63,Feuil2!$C$1:$CD$9,3,FALSE)","v":{"$error":"#VALUE!"}},{"$f":"T63-HLOOKUP(Y63,Feuil2!$C$1:$CD$9,4,FALSE)","v":{"$error":"#VALUE!"}},{"$f":"T63-HLOOKUP(Y63,Feuil2!$C$1:$CD$9,5,FALSE)","v":{"$error":"#VALUE!"}},{"$f":"T63-HLOOKUP(Y63,Feuil2!$C$1:$CD$9,6,FALSE)","v":{"$error":"#VALUE!"}},{"$f":"T63-HLOOKUP(Y63,Feuil2!$C$1:$CD$9,7,FALSE)","v":{"$error":"#VALUE!"}},{"$f":"T63-HLOOKUP(Y63,Feuil2!$C$1:$CD$9,8,FALSE)","v":{"$error":"#VALUE!"}},{"$f":"T63-HLOOKUP(Y63,Feuil2!$C$1:$CD$9,9,FALSE)","v":{"$error":"#VALUE!"}},null,null,null,null,null,null,null,{"$error":"#VALUE!"},2016,null,{"$f":"IF(AQ63,VLOOKUP(AQ63,HOM!$AS$561:$AT$616,2))","v":3.5710000000000002}]
["H",null,null,null,null,null,null,null,null,null,null,null,null,null,"",null,null,null,"","","","","",{"$error":"#N/A"},{"$f":"IF(AND(J64<1920),VLOOKUP(K64,Feuil2!$F$10:$P$28,11),IF(AND(J64>=1920,J64<1937),VLOOKUP(K64,Feuil2!$F$10:$P$28,11),IF(AND(J64>=1936,J64<1942),VLOOKUP(K64,Feuil2!$F$10:$P$28,10),IF(AND(J64>=1942,J64<1947),VLOOKUP(K64,Feuil2!$F$10:$P$28,9),IF(AND(J64>=1947,J64<1952),VLOOKUP(K64,Feuil2!$F$10:$P$28,8),IF(AND(J64>=1952,J64<1957),VLOOKUP(K64,Feuil2!$F$10:$P$28,7),IF(AND(J64>=1957,J64<1962),VLOOKUP(K64,Feuil2!$F$10:$P$28,6),IF(AND(J64>=1962,J64<1967),VLOOKUP(K64,Feuil2!$F$10:$P$28,5),IF(AND(J64>=1967,J64<1972),VLOOKUP(K64,Feuil2!$F$10:$P$28,4),IF(AND(J64>=1972,J64<1977),VLOOKUP(K64,Feuil2!$F$10:$P$28,3),IF(AND(J64>=1977,J64<1982),VLOOKUP(K64,Feuil2!$F$10:$P$28,2),VLOOKUP(K64,Feuil2!$F$10:$P$28,2))))))))))))","v":{"$error":"#N/A"}},null,{"$f":"T64-HLOOKUP(Y64,Feuil2!$C$1:$CD$9,2,FALSE)","v":{"$error":"#VALUE!"}},{"$f":"T64-HLOOKUP(Y64,Feuil2!$C$1:$CD$9,3,FALSE)","v":{"$error":"#VALUE!"}},{"$f":"T64-HLOOKUP(Y64,Feuil2!$C$1:$CD$9,4,FALSE)","v":{"$error":"#VALUE!"}},{"$f":"T64-HLOOKUP(Y64,Feuil2!$C$1:$CD$9,5,FALSE)","v":{"$error":"#VALUE!"}},{"$f":"T64-HLOOKUP(Y64,Feuil2!$C$1:$CD$9,6,FALSE)","v":{"$error":"#VALUE!"}},{"$f":"T64-HLOOKUP(Y64,Feuil2!$C$1:$CD$9,7,FALSE)","v":{"$error":"#VALUE!"}},{"$f":"T64-HLOOKUP(Y64,Feuil2!$C$1:$CD$9,8,FALSE)","v":{"$error":"#VALUE!"}},{"$f":"T64-HLOOKUP(Y64,Feuil2!$C$1:$CD$9,9,FALSE)","v":{"$error":"#VALUE!"}},null,null,null,null,null,null,null,{"$error":"#VALUE!"},2016,null,{"$f":"IF(AQ64,VLOOKUP(AQ64,HOM!$AS$561:$AT$616,2))","v":3.5710000000000002}]
["H",null,null,null,null,null,null,null,null,null,null,null,null,null,"",null,null,null,"","","","","",{"$error":"#N/A"},{"$f":"IF(AND(J65<1920),VLOOKUP(K65,Feuil2!$F$10:$P$28,11),IF(AND(J65>=1920,J65<1937),VLOOKUP(K65,Feuil2!$F$10:$P$28,11),IF(AND(J65>=1936,J65<1942),VLOOKUP(K65,Feuil2!$F$10:$P$28,10),IF(AND(J65>=1942,J65<1947),VLOOKUP(K65,Feuil2!$F$10:$P$28,9),IF(AND(J65>=1947,J65<1952),VLOOKUP(K65,Feuil2!$F$10:$P$28,8),IF(AND(J65>=1952,J65<1957),VLOOKUP(K65,Feuil2!$F$10:$P$28,7),IF(AND(J65>=1957,J65<1962),VLOOKUP(K65,Feuil2!$F$10:$P$28,6),IF(AND(J65>=1962,J65<1967),VLOOKUP(K65,Feuil2!$F$10:$P$28,5),IF(AND(J65>=1967,J65<1972),VLOOKUP(K65,Feuil2!$F$10:$P$28,4),IF(AND(J65>=1972,J65<1977),VLOOKUP(K65,Feuil2!$F$10:$P$28,3),IF(AND(J65>=1977,J65<1982),VLOOKUP(K65,Feuil2!$F$10:$P$28,2),VLOOKUP(K65,Feuil2!$F$10:$P$28,2))))))))))))","v":{"$error":"#N/A"}},null,{"$f":"T65-HLOOKUP(Y65,Feuil2!$C$1:$CD$9,2,FALSE)","v":{"$error":"#VALUE!"}},{"$f":"T65-HLOOKUP(Y65,Feuil2!$C$1:$CD$9,3,FALSE)","v":{"$error":"#VALUE!"}},{"$f":"T65-HLOOKUP(Y65,Feuil2!$C$1:$CD$9,4,FALSE)","v":{"$error":"#VALUE!"}},{"$f":"T65-HLOOKUP(Y65,Feuil2!$C$1:$CD$9,5,FALSE)","v":{"$error":"#VALUE!"}},{"$f":"T65-HLOOKUP(Y65,Feuil2!$C$1:$CD$9,6,FALSE)","v":{"$error":"#VALUE!"}},{"$f":"T65-HLOOKUP(Y65,Feuil2!$C$1:$CD$9,7,FALSE)","v":{"$error":"#VALUE!"}},{"$f":"T65-HLOOKUP(Y65,Feuil2!$C$1:$CD$9,8,FALSE)","v":{"$error":"#VALUE!"}},{"$f":"T65-HLOOKUP(Y65,Feuil2!$C$1:$CD$9,9,FALSE)","v":{"$error":"#VALUE!"}},null,null,null,null,null,null,null,{"$error":"#VALUE!"},2016,null,{"$f":"IF(AQ65,VLOOKUP(AQ65,HOM!$AS$561:$AT$616,2))","v":3.5710000000000002}]
["H",null,null,null,null,null,null,null,null,null,null,null,null,null,"",null,null,null,"","","","","",{"$error":"#N/A"},{"$f":"IF(AND(J66<1920),VLOOKUP(K66,Feuil2!$F$10:$P$28,11),IF(AND(J66>=1920,J66<1937),VLOOKUP(K66,Feuil2!$F$10:$P$28,11),IF(AND(J66>=1936,J66<1942),VLOOKUP(K66,Feuil2!$F$10:$P$28,10),IF(AND(J66>=1942,J66<1947),VLOOKUP(K66,Feuil2!$F$10:$P$28,9),IF(AND(J66>=1947,J66<1952),VLOOKUP(K66,Feuil2!$F$10:$P$28,8),IF(AND(J66>=1952,J66<1957),VLOOKUP(K66,Feuil2!$F$10:$P$28,7),IF(AND(J66>=1957,J66<1962),VLOOKUP(K66,Feuil2!$F$10:$P$28,6),IF(AND(J66>=1962,J66<1967),VLOOKUP(K66,Feuil2!$F$10:$P$28,5),IF(AND(J66>=1967,J66<1972),VLOOKUP(K66,Feuil2!$F$10:$P$28,4),IF(AND(J66>=1972,J66<1977),VLOOKUP(K66,Feuil2!$F$10:$P$28,3),IF(AND(J66>=1977,J66<1982),VLOOKUP(K66,Feuil2!$F$10:$P$28,2),VLOOKUP(K66,Feuil2!$F$10:$P$28,2))))))))))))","v":{"$error":"#N/A"}},null,{"$f":"T66-HLOOKUP(Y66,Feuil2!$C$1:$CD$9,2,FALSE)","v":{"$error":"#VALUE!"}},{"$f":"T66-HLOOKUP(Y66,Feuil2!$C$1:$CD$9,3,FALSE)","v":{"$error":"#VALUE!"}},{"$f":"T66-HLOOKUP(Y66,Feuil2!$C$1:$CD$9,4,FALSE)","v":{"$error":"#VALUE!"}},{"$f":"T66-HLOOKUP(Y66,Feuil2!$C$1:$CD$9,5,FALSE)","v":{"$error":"#VALUE!"}},{"$f":"T66-HLOOKUP(Y66,Feuil2!$C$1:$CD$9,6,FALSE)","v":{"$error":"#VALUE!"}},{"$f":"T66-HLOOKUP(Y66,Feuil2!$C$1:$CD$9,7,FALSE)","v":{"$error":"#VALUE!"}},{"$f":"T66-HLOOKUP(Y66,Feuil2!$C$1:$CD$9,8,FALSE)","v":{"$error":"#VALUE!"}},{"$f":"T66-HLOOKUP(Y66,Feuil2!$C$1:$CD$9,9,FALSE)","v":{"$error":"#VALUE!"}},null,null,null,null,null,null,null,{"$error":"#VALUE!"},2016,null,{"$f":"IF(AQ66,VLOOKUP(AQ66,HOM!$AS$561:$AT$616,2))","v":3.5710000000000002}]
["H",null,null,null,null,null,null,null,null,null,null,null,null,null,"",null,null,null,"","","","","",{"$error":"#N/A"},{"$f":"IF(AND(J67<1920),VLOOKUP(K67,Feuil2!$F$10:$P$28,11),IF(AND(J67>=1920,J67<1937),VLOOKUP(K67,Feuil2!$F$10:$P$28,11),IF(AND(J67>=1936,J67<1942),VLOOKUP(K67,Feuil2!$F$10:$P$28,10),IF(AND(J67>=1942,J67<1947),VLOOKUP(K67,Feuil2!$F$10:$P$28,9),IF(AND(J67>=1947,J67<1952),VLOOKUP(K67,Feuil2!$F$10:$P$28,8),IF(AND(J67>=1952,J67<1957),VLOOKUP(K67,Feuil2!$F$10:$P$28,7),IF(AND(J67>=1957,J67<1962),VLOOKUP(K67,Feuil2!$F$10:$P$28,6),IF(AND(J67>=1962,J67<1967),VLOOKUP(K67,Feuil2!$F$10:$P$28,5),IF(AND(J67>=1967,J67<1972),VLOOKUP(K67,Feuil2!$F$10:$P$28,4),IF(AND(J67>=1972,J67<1977),VLOOKUP(K67,Feuil2!$F$10:$P$28,3),IF(AND(J67>=1977,J67<1982),VLOOKUP(K67,Feuil2!$F$10:$P$28,2),VLOOKUP(K67,Feuil2!$F$10:$P$28,2))))))))))))","v":{"$error":"#N/A"}},null,{"$f":"T67-HLOOKUP(Y67,Feuil2!$C$1:$CD$9,2,FALSE)","v":{"$error":"#VALUE!"}},{"$f":"T67-HLOOKUP(Y67,Feuil2!$C$1:$CD$9,3,FALSE)","v":{"$error":"#VALUE!"}},{"$f":"T67-HLOOKUP(Y67,Feuil2!$C$1:$CD$9,4,FALSE)","v":{"$error":"#VALUE!"}},{"$f":"T67-HLOOKUP(Y67,Feuil2!$C$1:$CD$9,5,FALSE)","v":{"$error":"#VALUE!"}},{"$f":"T67-HLOOKUP(Y67,Feuil2!$C$1:$CD$9,6,FALSE)","v":{"$error":"#VALUE!"}},{"$f":"T67-HLOOKUP(Y67,Feuil2!$C$1:$CD$9,7,FALSE)","v":{"$error":"#VALUE!"}},{"$f":"T67-HLOOKUP(Y67,Feuil2!$C$1:$CD$9,8,FALSE)","v":{"$error":"#VALUE!"}},{"$f":"T67-HLOOKUP(Y67,Feuil2!$C$1:$CD$9,9,FALSE)","v":{"$error":"#VALUE!"}},null,null,null,null,null,null,null,{"$error":"#VALUE!"},2016,null,{"$f":"IF(AQ67,VLOOKUP(AQ67,HOM!$AS$561:$AT$616,2))","v":3.5710000000000002}]
["H",null,null,null,null,null,null,null,null,null,null,null,null,null,"",null,null,null,"","","","","",{"$error":"#N/A"},{"$f":"IF(AND(J68<1920),VLOOKUP(K68,Feuil2!$F$10:$P$28,11),IF(AND(J68>=1920,J68<1937),VLOOKUP(K68,Feuil2!$F$10:$P$28,11),IF(AND(J68>=1936,J68<1942),VLOOKUP(K68,Feuil2!$F$10:$P$28,10),IF(AND(J68>=1942,J68<1947),VLOOKUP(K68,Feuil2!$F$10:$P$28,9),IF(AND(J68>=1947,J68<1952),VLOOKUP(K68,Feuil2!$F$10:$P$28,8),IF(AND(J68>=1952,J68<1957),VLOOKUP(K68,Feuil2!$F$10:$P$28,7),IF(AND(J68>=1957,J68<1962),VLOOKUP(K68,Feuil2!$F$10:$P$28,6),IF(AND(J68>=1962,J68<1967),VLOOKUP(K68,Feuil2!$F$10:$P$28,5),IF(AND(J68>=1967,J68<1972),VLOOKUP(K68,Feuil2!$F$10:$P$28,4),IF(AND(J68>=1972,J68<1977),VLOOKUP(K68,Feuil2!$F$10:$P$28,3),IF(AND(J68>=1977,J68<1982),VLOOKUP(K68,Feuil2!$F$10:$P$28,2),VLOOKUP(K68,Feuil2!$F$10:$P$28,2))))))))))))","v":{"$error":"#N/A"}},null,{"$f":"T68-HLOOKUP(Y68,Feuil2!$C$1:$CD$9,2,FALSE)","v":{"$error":"#VALUE!"}},{"$f":"T68-HLOOKUP(Y68,Feuil2!$C$1:$CD$9,3,FALSE)","v":{"$error":"#VALUE!"}},{"$f":"T68-HLOOKUP(Y68,Feuil2!$C$1:$CD$9,4,FALSE)","v":{"$error":"#VALUE!"}},{"$f":"T68-HLOOKUP(Y68,Feuil2!$C$1:$CD$9,5,FALSE)","v":{"$error":"#VALUE!"}},{"$f":"T68-HLOOKUP(Y68,Feuil2!$C$1:$CD$9,6,FALSE)","v":{"$error":"#VALUE!"}},{"$f":"T68-HLOOKUP(Y68,Feuil2!$C$1:$CD$9,7,FALSE)","v":{"$error":"#VALUE!"}},{"$f":"T68-HLOOKUP(Y68,Feuil2!$C$1:$CD$9,8,FALSE)","v":{"$error":"#VALUE!"}},{"$f":"T68-HLOOKUP(Y68,Feuil2!$C$1:$CD$9,9,FALSE)","v":{"$error":"#VALUE!"}},null,null,null,null,null,null,null,{"$error":"#VALUE!"},2016,null,{"$f":"IF(AQ68,VLOOKUP(AQ68,HOM!$AS$561:$AT$616,2))","v":3.5710000000000002}]
["H",null,null,null,null,null,null,null,null,null,null,null,null,null,"",null,null,null,"","","","","",{"$error":"#N/A"},{"$f":"IF(AND(J69<1920),VLOOKUP(K69,Feuil2!$F$10:$P$28,11),IF(AND(J69>=1920,J69<1937),VLOOKUP(K69,Feuil2!$F$10:$P$28,11),IF(AND(J69>=1936,J69<1942),VLOOKUP(K69,Feuil2!$F$10:$P$28,10),IF(AND(J69>=1942,J69<1947),VLOOKUP(K69,Feuil2!$F$10:$P$28,9),IF(AND(J69>=1947,J69<1952),VLOOKUP(K69,Feuil2!$F$10:$P$28,8),IF(AND(J69>=1952,J69<1957),VLOOKUP(K69,Feuil2!$F$10:$P$28,7),IF(AND(J69>=1957,J69<1962),VLOOKUP(K69,Feuil2!$F$10:$P$28,6),IF(AND(J69>=1962,J69<1967),VLOOKUP(K69,Feuil2!$F$10:$P$28,5),IF(AND(J69>=1967,J69<1972),VLOOKUP(K69,Feuil2!$F$10:$P$28,4),IF(AND(J69>=1972,J69<1977),VLOOKUP(K69,Feuil2!$F$10:$P$28,3),IF(AND(J69>=1977,J69<1982),VLOOKUP(K69,Feuil2!$F$10:$P$28,2),VLOOKUP(K69,Feuil2!$F$10:$P$28,2))))))))))))","v":{"$error":"#N/A"}},null,{"$f":"T69-HLOOKUP(Y69,Feuil2!$C$1:$CD$9,2,FALSE)","v":{"$error":"#VALUE!"}},{"$f":"T69-HLOOKUP(Y69,Feuil2!$C$1:$CD$9,3,FALSE)","v":{"$error":"#VALUE!"}},{"$f":"T69-HLOOKUP(Y69,Feuil2!$C$1:$CD$9,4,FALSE)","v":{"$error":"#VALUE!"}},{"$f":"T69-HLOOKUP(Y69,Feuil2!$C$1:$CD$9,5,FALSE)","v":{"$error":"#VALUE!"}},{"$f":"T69-HLOOKUP(Y69,Feuil2!$C$1:$CD$9,6,FALSE)","v":{"$error":"#VALUE!"}},{"$f":"T69-HLOOKUP(Y69,Feuil2!$C$1:$CD$9,7,FALSE)","v":{"$error":"#VALUE!"}},{"$f":"T69-HLOOKUP(Y69,Feuil2!$C$1:$CD$9,8,FALSE)","v":{"$error":"#VALUE!"}},{"$f":"T69-HLOOKUP(Y69,Feuil2!$C$1:$CD$9,9,FALSE)","v":{"$error":"#VALUE!"}},null,null,null,null,null,null,null,{"$error":"#VALUE!"},2016,null,{"$f":"IF(AQ69,VLOOKUP(AQ69,HOM!$AS$561:$AT$616,2))","v":3.5710000000000002}]
["H",null,null,null,null,null,null,null,null,null,null,null,null,null,"",null,null,null,"","","","","",{"$error":"#N/A"},{"$f":"IF(AND(J70<1920),VLOOKUP(K70,Feuil2!$F$10:$P$28,11),IF(AND(J70>=1920,J70<1937),VLOOKUP(K70,Feuil2!$F$10:$P$28,11),IF(AND(J70>=1936,J70<1942),VLOOKUP(K70,Feuil2!$F$10:$P$28,10),IF(AND(J70>=1942,J70<1947),VLOOKUP(K70,Feuil2!$F$10:$P$28,9),IF(AND(J70>=1947,J70<1952),VLOOKUP(K70,Feuil2!$F$10:$P$28,8),IF(AND(J70>=1952,J70<1957),VLOOKUP(K70,Feuil2!$F$10:$P$28,7),IF(AND(J70>=1957,J70<1962),VLOOKUP(K70,Feuil2!$F$10:$P$28,6),IF(AND(J70>=1962,J70<1967),VLOOKUP(K70,Feuil2!$F$10:$P$28,5),IF(AND(J70>=1967,J70<1972),VLOOKUP(K70,Feuil2!$F$10:$P$28,4),IF(AND(J70>=1972,J70<1977),VLOOKUP(K70,Feuil2!$F$10:$P$28,3),IF(AND(J70>=1977,J70<1982),VLOOKUP(K70,Feuil2!$F$10:$P$28,2),VLOOKUP(K70,Feuil2!$F$10:$P$28,2))))))))))))","v":{"$error":"#N/A"}},null,{"$f":"T70-HLOOKUP(Y70,Feuil2!$C$1:$CD$9,2,FALSE)","v":{"$error":"#VALUE!"}},{"$f":"T70-HLOOKUP(Y70,Feuil2!$C$1:$CD$9,3,FALSE)","v":{"$error":"#VALUE!"}},{"$f":"T70-HLOOKUP(Y70,Feuil2!$C$1:$CD$9,4,FALSE)","v":{"$error":"#VALUE!"}},{"$f":"T70-HLOOKUP(Y70,Feuil2!$C$1:$CD$9,5,FALSE)","v":{"$error":"#VALUE!"}},{"$f":"T70-HLOOKUP(Y70,Feuil2!$C$1:$CD$9,6,FALSE)","v":{"$error":"#VALUE!"}},{"$f":"T70-HLOOKUP(Y70,Feuil2!$C$1:$CD$9,7,FALSE)","v":{"$error":"#VALUE!"}},{"$f":"T70-HLOOKUP(Y70,Feuil2!$C$1:$CD$9,8,FALSE)","v":{"$error":"#VALUE!"}},{"$f":"T70-HLOOKUP(Y70,Feuil2!$C$1:$CD$9,9,FALSE)","v":{"$error":"#VALUE!"}},null,null,null,null,null,null,null,{"$error":"#VALUE!"},2016,null,{"$f":"IF(AQ70,VLOOKUP(AQ70,HOM!$AS$561:$AT$616,2))","v":3.5710000000000002}]
["H",null,null,null,null,null,null,null,null,null,null,null,null,null,"",null,null,null,"","","","","",{"$error":"#N/A"},{"$f":"IF(AND(J71<1920),VLOOKUP(K71,Feuil2!$F$10:$P$28,11),IF(AND(J71>=1920,J71<1937),VLOOKUP(K71,Feuil2!$F$10:$P$28,11),IF(AND(J71>=1936,J71<1942),VLOOKUP(K71,Feuil2!$F$10:$P$28,10),IF(AND(J71>=1942,J71<1947),VLOOKUP(K71,Feuil2!$F$10:$P$28,9),IF(AND(J71>=1947,J71<1952),VLOOKUP(K71,Feuil2!$F$10:$P$28,8),IF(AND(J71>=1952,J71<1957),VLOOKUP(K71,Feuil2!$F$10:$P$28,7),IF(AND(J71>=1957,J71<1962),VLOOKUP(K71,Feuil2!$F$10:$P$28,6),IF(AND(J71>=1962,J71<1967),VLOOKUP(K71,Feuil2!$F$10:$P$28,5),IF(AND(J71>=1967,J71<1972),VLOOKUP(K71,Feuil2!$F$10:$P$28,4),IF(AND(J71>=1972,J71<1977),VLOOKUP(K71,Feuil2!$F$10:$P$28,3),IF(AND(J71>=1977,J71<1982),VLOOKUP(K71,Feuil2!$F$10:$P$28,2),VLOOKUP(K71,Feuil2!$F$10:$P$28,2))))))))))))","v":{"$error":"#N/A"}},null,{"$f":"T71-HLOOKUP(Y71,Feuil2!$C$1:$CD$9,2,FALSE)","v":{"$error":"#VALUE!"}},{"$f":"T71-HLOOKUP(Y71,Feuil2!$C$1:$CD$9,3,FALSE)","v":{"$error":"#VALUE!"}},{"$f":"T71-HLOOKUP(Y71,Feuil2!$C$1:$CD$9,4,FALSE)","v":{"$error":"#VALUE!"}},{"$f":"T71-HLOOKUP(Y71,Feuil2!$C$1:$CD$9,5,FALSE)","v":{"$error":"#VALUE!"}},{"$f":"T71-HLOOKUP(Y71,Feuil2!$C$1:$CD$9,6,FALSE)","v":{"$error":"#VALUE!"}},{"$f":"T71-HLOOKUP(Y71,Feuil2!$C$1:$CD$9,7,FALSE)","v":{"$error":"#VALUE!"}},{"$f":"T71-HLOOKUP(Y71,Feuil2!$C$1:$CD$9,8,FALSE)","v":{"$error":"#VALUE!"}},{"$f":"T71-HLOOKUP(Y71,Feuil2!$C$1:$CD$9,9,FALSE)","v":{"$error":"#VALUE!"}},null,null,null,null,null,null,null,{"$error":"#VALUE!"},2016,null,{"$f":"IF(AQ71,VLOOKUP(AQ71,HOM!$AS$561:$AT$616,2))","v":3.5710000000000002}]
["H",null,null,null,null,null,null,null,null,null,null,null,null,null,"",null,null,null,"","","","","",{"$error":"#N/A"},{"$f":"IF(AND(J72<1920),VLOOKUP(K72,Feuil2!$F$10:$P$28,11),IF(AND(J72>=1920,J72<1937),VLOOKUP(K72,Feuil2!$F$10:$P$28,11),IF(AND(J72>=1936,J72<1942),VLOOKUP(K72,Feuil2!$F$10:$P$28,10),IF(AND(J72>=1942,J72<1947),VLOOKUP(K72,Feuil2!$F$10:$P$28,9),IF(AND(J72>=1947,J72<1952),VLOOKUP(K72,Feuil2!$F$10:$P$28,8),IF(AND(J72>=1952,J72<1957),VLOOKUP(K72,Feuil2!$F$10:$P$28,7),IF(AND(J72>=1957,J72<1962),VLOOKUP(K72,Feuil2!$F$10:$P$28,6),IF(AND(J72>=1962,J72<1967),VLOOKUP(K72,Feuil2!$F$10:$P$28,5),IF(AND(J72>=1967,J72<1972),VLOOKUP(K72,Feuil2!$F$10:$P$28,4),IF(AND(J72>=1972,J72<1977),VLOOKUP(K72,Feuil2!$F$10:$P$28,3),IF(AND(J72>=1977,J72<1982),VLOOKUP(K72,Feuil2!$F$10:$P$28,2),VLOOKUP(K72,Feuil2!$F$10:$P$28,2))))))))))))","v":{"$error":"#N/A"}},null,{"$f":"T72-HLOOKUP(Y72,Feuil2!$C$1:$CD$9,2,FALSE)","v":{"$error":"#VALUE!"}},{"$f":"T72-HLOOKUP(Y72,Feuil2!$C$1:$CD$9,3,FALSE)","v":{"$error":"#VALUE!"}},{"$f":"T72-HLOOKUP(Y72,Feuil2!$C$1:$CD$9,4,FALSE)","v":{"$error":"#VALUE!"}},{"$f":"T72-HLOOKUP(Y72,Feuil2!$C$1:$CD$9,5,FALSE)","v":{"$error":"#VALUE!"}},{"$f":"T72-HLOOKUP(Y72,Feuil2!$C$1:$CD$9,6,FALSE)","v":{"$error":"#VALUE!"}},{"$f":"T72-HLOOKUP(Y72,Feuil2!$C$1:$CD$9,7,FALSE)","v":{"$error":"#VALUE!"}},{"$f":"T72-HLOOKUP(Y72,Feuil2!$C$1:$CD$9,8,FALSE)","v":{"$error":"#VALUE!"}},{"$f":"T72-HLOOKUP(Y72,Feuil2!$C$1:$CD$9,9,FALSE)","v":{"$error":"#VALUE!"}},null,null,null,null,null,null,null,{"$error":"#VALUE!"},2016,null,{"$f":"IF(AQ72,VLOOKUP(AQ72,HOM!$AS$561:$AT$616,2))","v":3.5710000000000002}]
["H",null,null,null,null,null,null,null,null,null,null,null,null,null,"",null,null,null,"","","","","",{"$error":"#N/A"},{"$f":"IF(AND(J73<1920),VLOOKUP(K73,Feuil2!$F$10:$P$28,11),IF(AND(J73>=1920,J73<1937),VLOOKUP(K73,Feuil2!$F$10:$P$28,11),IF(AND(J73>=1936,J73<1942),VLOOKUP(K73,Feuil2!$F$10:$P$28,10),IF(AND(J73>=1942,J73<1947),VLOOKUP(K73,Feuil2!$F$10:$P$28,9),IF(AND(J73>=1947,J73<1952),VLOOKUP(K73,Feuil2!$F$10:$P$28,8),IF(AND(J73>=1952,J73<1957),VLOOKUP(K73,Feuil2!$F$10:$P$28,7),IF(AND(J73>=1957,J73<1962),VLOOKUP(K73,Feuil2!$F$10:$P$28,6),IF(AND(J73>=1962,J73<1967),VLOOKUP(K73,Feuil2!$F$10:$P$28,5),IF(AND(J73>=1967,J73<1972),VLOOKUP(K73,Feuil2!$F$10:$P$28,4),IF(AND(J73>=1972,J73<1977),VLOOKUP(K73,Feuil2!$F$10:$P$28,3),IF(AND(J73>=1977,J73<1982),VLOOKUP(K73,Feuil2!$F$10:$P$28,2),VLOOKUP(K73,Feuil2!$F$10:$P$28,2))))))))))))","v":{"$error":"#N/A"}},null,{"$f":"T73-HLOOKUP(Y73,Feuil2!$C$1:$CD$9,2,FALSE)","v":{"$error":"#VALUE!"}},{"$f":"T73-HLOOKUP(Y73,Feuil2!$C$1:$CD$9,3,FALSE)","v":{"$error":"#VALUE!"}},{"$f":"T73-HLOOKUP(Y73,Feuil2!$C$1:$CD$9,4,FALSE)","v":{"$error":"#VALUE!"}},{"$f":"T73-HLOOKUP(Y73,Feuil2!$C$1:$CD$9,5,FALSE)","v":{"$error":"#VALUE!"}},{"$f":"T73-HLOOKUP(Y73,Feuil2!$C$1:$CD$9,6,FALSE)","v":{"$error":"#VALUE!"}},{"$f":"T73-HLOOKUP(Y73,Feuil2!$C$1:$CD$9,7,FALSE)","v":{"$error":"#VALUE!"}},{"$f":"T73-HLOOKUP(Y73,Feuil2!$C$1:$CD$9,8,FALSE)","v":{"$error":"#VALUE!"}},{"$f":"T73-HLOOKUP(Y73,Feuil2!$C$1:$CD$9,9,FALSE)","v":{"$error":"#VALUE!"}},null,null,null,null,null,null,null,{"$error":"#VALUE!"},2016,null,{"$f":"IF(AQ73,VLOOKUP(AQ73,HOM!$AS$561:$AT$616,2))","v":3.5710000000000002}]
["H",null,null,null,null,null,null,null,null,null,null,null,null,null,"",null,null,null,"","","","","",{"$error":"#N/A"},{"$f":"IF(AND(J74<1920),VLOOKUP(K74,Feuil2!$F$10:$P$28,11),IF(AND(J74>=1920,J74<1937),VLOOKUP(K74,Feuil2!$F$10:$P$28,11),IF(AND(J74>=1936,J74<1942),VLOOKUP(K74,Feuil2!$F$10:$P$28,10),IF(AND(J74>=1942,J74<1947),VLOOKUP(K74,Feuil2!$F$10:$P$28,9),IF(AND(J74>=1947,J74<1952),VLOOKUP(K74,Feuil2!$F$10:$P$28,8),IF(AND(J74>=1952,J74<1957),VLOOKUP(K74,Feuil2!$F$10:$P$28,7),IF(AND(J74>=1957,J74<1962),VLOOKUP(K74,Feuil2!$F$10:$P$28,6),IF(AND(J74>=1962,J74<1967),VLOOKUP(K74,Feuil2!$F$10:$P$28,5),IF(AND(J74>=1967,J74<1972),VLOOKUP(K74,Feuil2!$F$10:$P$28,4),IF(AND(J74>=1972,J74<1977),VLOOKUP(K74,Feuil2!$F$10:$P$28,3),IF(AND(J74>=1977,J74<1982),VLOOKUP(K74,Feuil2!$F$10:$P$28,2),VLOOKUP(K74,Feuil2!$F$10:$P$28,2))))))))))))","v":{"$error":"#N/A"}},null,{"$f":"T74-HLOOKUP(Y74,Feuil2!$C$1:$CD$9,2,FALSE)","v":{"$error":"#VALUE!"}},{"$f":"T74-HLOOKUP(Y74,Feuil2!$C$1:$CD$9,3,FALSE)","v":{"$error":"#VALUE!"}},{"$f":"T74-HLOOKUP(Y74,Feuil2!$C$1:$CD$9,4,FALSE)","v":{"$error":"#VALUE!"}},{"$f":"T74-HLOOKUP(Y74,Feuil2!$C$1:$CD$9,5,FALSE)","v":{"$error":"#VALUE!"}},{"$f":"T74-HLOOKUP(Y74,Feuil2!$C$1:$CD$9,6,FALSE)","v":{"$error":"#VALUE!"}},{"$f":"T74-HLOOKUP(Y74,Feuil2!$C$1:$CD$9,7,FALSE)","v":{"$error":"#VALUE!"}},{"$f":"T74-HLOOKUP(Y74,Feuil2!$C$1:$CD$9,8,FALSE)","v":{"$error":"#VALUE!"}},{"$f":"T74-HLOOKUP(Y74,Feuil2!$C$1:$CD$9,9,FALSE)","v":{"$error":"#VALUE!"}},null,null,null,null,null,null,null,{"$error":"#VALUE!"},2016,null,{"$f":"IF(AQ74,VLOOKUP(AQ74,HOM!$AS$561:$AT$616,2))","v":3.5710000000000002}]
["H",null,null,null,null,null,null,null,null,null,null,null,null,null,"",null,null,null,"","","","","",{"$error":"#N/A"},{"$f":"IF(AND(J75<1920),VLOOKUP(K75,Feuil2!$F$10:$P$28,11),IF(AND(J75>=1920,J75<1937),VLOOKUP(K75,Feuil2!$F$10:$P$28,11),IF(AND(J75>=1936,J75<1942),VLOOKUP(K75,Feuil2!$F$10:$P$28,10),IF(AND(J75>=1942,J75<1947),VLOOKUP(K75,Feuil2!$F$10:$P$28,9),IF(AND(J75>=1947,J75<1952),VLOOKUP(K75,Feuil2!$F$10:$P$28,8),IF(AND(J75>=1952,J75<1957),VLOOKUP(K75,Feuil2!$F$10:$P$28,7),IF(AND(J75>=1957,J75<1962),VLOOKUP(K75,Feuil2!$F$10:$P$28,6),IF(AND(J75>=1962,J75<1967),VLOOKUP(K75,Feuil2!$F$10:$P$28,5),IF(AND(J75>=1967,J75<1972),VLOOKUP(K75,Feuil2!$F$10:$P$28,4),IF(AND(J75>=1972,J75<1977),VLOOKUP(K75,Feuil2!$F$10:$P$28,3),IF(AND(J75>=1977,J75<1982),VLOOKUP(K75,Feuil2!$F$10:$P$28,2),VLOOKUP(K75,Feuil2!$F$10:$P$28,2))))))))))))","v":{"$error":"#N/A"}},null,{"$f":"T75-HLOOKUP(Y75,Feuil2!$C$1:$CD$9,2,FALSE)","v":{"$error":"#VALUE!"}},{"$f":"T75-HLOOKUP(Y75,Feuil2!$C$1:$CD$9,3,FALSE)","v":{"$error":"#VALUE!"}},{"$f":"T75-HLOOKUP(Y75,Feuil2!$C$1:$CD$9,4,FALSE)","v":{"$error":"#VALUE!"}},{"$f":"T75-HLOOKUP(Y75,Feuil2!$C$1:$CD$9,5,FALSE)","v":{"$error":"#VALUE!"}},{"$f":"T75-HLOOKUP(Y75,Feuil2!$C$1:$CD$9,6,FALSE)","v":{"$error":"#VALUE!"}},{"$f":"T75-HLOOKUP(Y75,Feuil2!$C$1:$CD$9,7,FALSE)","v":{"$error":"#VALUE!"}},{"$f":"T75-HLOOKUP(Y75,Feuil2!$C$1:$CD$9,8,FALSE)","v":{"$error":"#VALUE!"}},{"$f":"T75-HLOOKUP(Y75,Feuil2!$C$1:$CD$9,9,FALSE)","v":{"$error":"#VALUE!"}},null,null,null,null,null,null,null,{"$error":"#VALUE!"},2016,null,{"$f":"IF(AQ75,VLOOKUP(AQ75,HOM!$AS$561:$AT$616,2))","v":3.5710000000000002}]
["H",null,null,null,null,null,null,null,null,null,null,null,null,null,"",null,null,null,"","","","","",{"$error":"#N/A"},{"$f":"IF(AND(J76<1920),VLOOKUP(K76,Feuil2!$F$10:$P$28,11),IF(AND(J76>=1920,J76<1937),VLOOKUP(K76,Feuil2!$F$10:$P$28,11),IF(AND(J76>=1936,J76<1942),VLOOKUP(K76,Feuil2!$F$10:$P$28,10),IF(AND(J76>=1942,J76<1947),VLOOKUP(K76,Feuil2!$F$10:$P$28,9),IF(AND(J76>=1947,J76<1952),VLOOKUP(K76,Feuil2!$F$10:$P$28,8),IF(AND(J76>=1952,J76<1957),VLOOKUP(K76,Feuil2!$F$10:$P$28,7),IF(AND(J76>=1957,J76<1962),VLOOKUP(K76,Feuil2!$F$10:$P$28,6),IF(AND(J76>=1962,J76<1967),VLOOKUP(K76,Feuil2!$F$10:$P$28,5),IF(AND(J76>=1967,J76<1972),VLOOKUP(K76,Feuil2!$F$10:$P$28,4),IF(AND(J76>=1972,J76<1977),VLOOKUP(K76,Feuil2!$F$10:$P$28,3),IF(AND(J76>=1977,J76<1982),VLOOKUP(K76,Feuil2!$F$10:$P$28,2),VLOOKUP(K76,Feuil2!$F$10:$P$28,2))))))))))))","v":{"$error":"#N/A"}},null,{"$f":"T76-HLOOKUP(Y76,Feuil2!$C$1:$CD$9,2,FALSE)","v":{"$error":"#VALUE!"}},{"$f":"T76-HLOOKUP(Y76,Feuil2!$C$1:$CD$9,3,FALSE)","v":{"$error":"#VALUE!"}},{"$f":"T76-HLOOKUP(Y76,Feuil2!$C$1:$CD$9,4,FALSE)","v":{"$error":"#VALUE!"}},{"$f":"T76-HLOOKUP(Y76,Feuil2!$C$1:$CD$9,5,FALSE)","v":{"$error":"#VALUE!"}},{"$f":"T76-HLOOKUP(Y76,Feuil2!$C$1:$CD$9,6,FALSE)","v":{"$error":"#VALUE!"}},{"$f":"T76-HLOOKUP(Y76,Feuil2!$C$1:$CD$9,7,FALSE)","v":{"$error":"#VALUE!"}},{"$f":"T76-HLOOKUP(Y76,Feuil2!$C$1:$CD$9,8,FALSE)","v":{"$error":"#VALUE!"}},{"$f":"T76-HLOOKUP(Y76,Feuil2!$C$1:$CD$9,9,FALSE)","v":{"$error":"#VALUE!"}},null,null,null,null,null,null,null,{"$error":"#VALUE!"},2016,null,{"$f":"IF(AQ76,VLOOKUP(AQ76,HOM!$AS$561:$AT$616,2))","v":3.5710000000000002}]
["H",null,null,null,null,null,null,null,null,null,null,null,null,null,"",null,null,null,"","","","","",{"$error":"#N/A"},{"$f":"IF(AND(J77<1920),VLOOKUP(K77,Feuil2!$F$10:$P$28,11),IF(AND(J77>=1920,J77<1937),VLOOKUP(K77,Feuil2!$F$10:$P$28,11),IF(AND(J77>=1936,J77<1942),VLOOKUP(K77,Feuil2!$F$10:$P$28,10),IF(AND(J77>=1942,J77<1947),VLOOKUP(K77,Feuil2!$F$10:$P$28,9),IF(AND(J77>=1947,J77<1952),VLOOKUP(K77,Feuil2!$F$10:$P$28,8),IF(AND(J77>=1952,J77<1957),VLOOKUP(K77,Feuil2!$F$10:$P$28,7),IF(AND(J77>=1957,J77<1962),VLOOKUP(K77,Feuil2!$F$10:$P$28,6),IF(AND(J77>=1962,J77<1967),VLOOKUP(K77,Feuil2!$F$10:$P$28,5),IF(AND(J77>=1967,J77<1972),VLOOKUP(K77,Feuil2!$F$10:$P$28,4),IF(AND(J77>=1972,J77<1977),VLOOKUP(K77,Feuil2!$F$10:$P$28,3),IF(AND(J77>=1977,J77<1982),VLOOKUP(K77,Feuil2!$F$10:$P$28,2),VLOOKUP(K77,Feuil2!$F$10:$P$28,2))))))))))))","v":{"$error":"#N/A"}},null,{"$f":"T77-HLOOKUP(Y77,Feuil2!$C$1:$CD$9,2,FALSE)","v":{"$error":"#VALUE!"}},{"$f":"T77-HLOOKUP(Y77,Feuil2!$C$1:$CD$9,3,FALSE)","v":{"$error":"#VALUE!"}},{"$f":"T77-HLOOKUP(Y77,Feuil2!$C$1:$CD$9,4,FALSE)","v":{"$error":"#VALUE!"}},{"$f":"T77-HLOOKUP(Y77,Feuil2!$C$1:$CD$9,5,FALSE)","v":{"$error":"#VALUE!"}},{"$f":"T77-HLOOKUP(Y77,Feuil2!$C$1:$CD$9,6,FALSE)","v":{"$error":"#VALUE!"}},{"$f":"T77-HLOOKUP(Y77,Feuil2!$C$1:$CD$9,7,FALSE)","v":{"$error":"#VALUE!"}},{"$f":"T77-HLOOKUP(Y77,Feuil2!$C$1:$CD$9,8,FALSE)","v":{"$error":"#VALUE!"}},{"$f":"T77-HLOOKUP(Y77,Feuil2!$C$1:$CD$9,9,FALSE)","v":{"$error":"#VALUE!"}},null,null,null,null,null,null,null,{"$error":"#VALUE!"},2016,null,{"$f":"IF(AQ77,VLOOKUP(AQ77,HOM!$AS$561:$AT$616,2))","v":3.5710000000000002}]
["H",null,null,null,null,null,null,null,null,null,null,null,null,null,"",null,null,null,"","","","","",{"$error":"#N/A"},{"$f":"IF(AND(J78<1920),VLOOKUP(K78,Feuil2!$F$10:$P$28,11),IF(AND(J78>=1920,J78<1937),VLOOKUP(K78,Feuil2!$F$10:$P$28,11),IF(AND(J78>=1936,J78<1942),VLOOKUP(K78,Feuil2!$F$10:$P$28,10),IF(AND(J78>=1942,J78<1947),VLOOKUP(K78,Feuil2!$F$10:$P$28,9),IF(AND(J78>=1947,J78<1952),VLOOKUP(K78,Feuil2!$F$10:$P$28,8),IF(AND(J78>=1952,J78<1957),VLOOKUP(K78,Feuil2!$F$10:$P$28,7),IF(AND(J78>=1957,J78<1962),VLOOKUP(K78,Feuil2!$F$10:$P$28,6),IF(AND(J78>=1962,J78<1967),VLOOKUP(K78,Feuil2!$F$10:$P$28,5),IF(AND(J78>=1967,J78<1972),VLOOKUP(K78,Feuil2!$F$10:$P$28,4),IF(AND(J78>=1972,J78<1977),VLOOKUP(K78,Feuil2!$F$10:$P$28,3),IF(AND(J78>=1977,J78<1982),VLOOKUP(K78,Feuil2!$F$10:$P$28,2),VLOOKUP(K78,Feuil2!$F$10:$P$28,2))))))))))))","v":{"$error":"#N/A"}},null,{"$f":"T78-HLOOKUP(Y78,Feuil2!$C$1:$CD$9,2,FALSE)","v":{"$error":"#VALUE!"}},{"$f":"T78-HLOOKUP(Y78,Feuil2!$C$1:$CD$9,3,FALSE)","v":{"$error":"#VALUE!"}},{"$f":"T78-HLOOKUP(Y78,Feuil2!$C$1:$CD$9,4,FALSE)","v":{"$error":"#VALUE!"}},{"$f":"T78-HLOOKUP(Y78,Feuil2!$C$1:$CD$9,5,FALSE)","v":{"$error":"#VALUE!"}},{"$f":"T78-HLOOKUP(Y78,Feuil2!$C$1:$CD$9,6,FALSE)","v":{"$error":"#VALUE!"}},{"$f":"T78-HLOOKUP(Y78,Feuil2!$C$1:$CD$9,7,FALSE)","v":{"$error":"#VALUE!"}},{"$f":"T78-HLOOKUP(Y78,Feuil2!$C$1:$CD$9,8,FALSE)","v":{"$error":"#VALUE!"}},{"$f":"T78-HLOOKUP(Y78,Feuil2!$C$1:$CD$9,9,FALSE)","v":{"$error":"#VALUE!"}},null,null,null,null,null,null,null,{"$error":"#VALUE!"},2016,null,{"$f":"IF(AQ78,VLOOKUP(AQ78,HOM!$AS$561:$AT$616,2))","v":3.5710000000000002}]
["H",null,null,null,null,null,null,null,null,null,null,null,null,null,"",null,null,null,"","",{"$f":"IF(K79=\"\",\"\",IF(A79=\"H\",10^(0.794358141*LOG(K79/174.393)^2)*T79*AS79,IF(A79=\"F\",10^(0.89726074 * LOG(K79/148.026)^2)*T79*AS79,\"\")))","v":""},"","",{"$f":"IF(BI79<95,IF(BI79<=90,VLOOKUP(BI79,$AQ$560:$AR$615,2)))","v":{"$error":"#N/A"}},{"$f":"IF(AND(J79<1920),VLOOKUP(K79,Feuil2!$F$10:$P$28,11),IF(AND(J79>=1920,J79<1937),VLOOKUP(K79,Feuil2!$F$10:$P$28,11),IF(AND(J79>=1936,J79<1942),VLOOKUP(K79,Feuil2!$F$10:$P$28,10),IF(AND(J79>=1942,J79<1947),VLOOKUP(K79,Feuil2!$F$10:$P$28,9),IF(AND(J79>=1947,J79<1952),VLOOKUP(K79,Feuil2!$F$10:$P$28,8),IF(AND(J79>=1952,J79<1957),VLOOKUP(K79,Feuil2!$F$10:$P$28,7),IF(AND(J79>=1957,J79<1962),VLOOKUP(K79,Feuil2!$F$10:$P$28,6),IF(AND(J79>=1962,J79<1967),VLOOKUP(K79,Feuil2!$F$10:$P$28,5),IF(AND(J79>=1967,J79<1972),VLOOKUP(K79,Feuil2!$F$10:$P$28,4),IF(AND(J79>=1972,J79<1977),VLOOKUP(K79,Feuil2!$F$10:$P$28,3),IF(AND(J79>=1977,J79<1982),VLOOKUP(K79,Feuil2!$F$10:$P$28,2),VLOOKUP(K79,Feuil2!$F$10:$P$28,2))))))))))))","v":{"$error":"#N/A"}},null,{"$f":"T79-HLOOKUP(Y79,Feuil2!$C$1:$CD$9,2,FALSE)","v":{"$error":"#VALUE!"}},{"$f":"T79-HLOOKUP(Y79,Feuil2!$C$1:$CD$9,3,FALSE)","v":{"$error":"#VALUE!"}},{"$f":"T79-HLOOKUP(Y79,Feuil2!$C$1:$CD$9,4,FALSE)","v":{"$error":"#VALUE!"}},{"$f":"T79-HLOOKUP(Y79,Feuil2!$C$1:$CD$9,5,FALSE)","v":{"$error":"#VALUE!"}},{"$f":"T79-HLOOKUP(Y79,Feuil2!$C$1:$CD$9,6,FALSE)","v":{"$error":"#VALUE!"}},{"$f":"T79-HLOOKUP(Y79,Feuil2!$C$1:$CD$9,7,FALSE)","v":{"$error":"#VALUE!"}},{"$f":"T79-HLOOKUP(Y79,Feuil2!$C$1:$CD$9,8,FALSE)","v":{"$error":"#VALUE!"}},{"$f":"T79-HLOOKUP(Y79,Feuil2!$C$1:$CD$9,9,FALSE)","v":{"$error":"#VALUE!"}},null,null,null,null,null,null,null,{"$error":"#VALUE!"},2016,null,{"$f":"IF(AQ79,VLOOKUP(AQ79,HOM!$AS$561:$AT$616,2))","v":3.5710000000000002}]
["H",null,null,null,null,null,null,null,null,null,null,null,null,null,"",null,null,null,"","","",{"$f":"IF(K80=\"\",\"\",AP80)","v":""},{"$f":"IF(K80=\"\",\"\",IF(AH80>=0,AH80,IF(AG80>=0,AG80,IF(AF80>=0,AF80,IF(AE80>=0,AE80,IF(AD80>=0,AD80,IF(AC80>=0,AC80,IF(AB80>=0,AB80,AA80))))))))","v":""},{"$error":"#N/A"},{"$f":"IF(AND(J80<1920),VLOOKUP(K80,Feuil2!$F$10:$P$28,11),IF(AND(J80>=1920,J80<1937),VLOOKUP(K80,Feuil2!$F$10:$P$28,11),IF(AND(J80>=1936,J80<1942),VLOOKUP(K80,Feuil2!$F$10:$P$28,10),IF(AND(J80>=1942,J80<1947),VLOOKUP(K80,Feuil2!$F$10:$P$28,9),IF(AND(J80>=1947,J80<1952),VLOOKUP(K80,Feuil2!$F$10:$P$28,8),IF(AND(J80>=1952,J80<1957),VLOOKUP(K80,Feuil2!$F$10:$P$28,7),IF(AND(J80>=1957,J80<1962),VLOOKUP(K80,Feuil2!$F$10:$P$28,6),IF(AND(J80>=1962,J80<1967),VLOOKUP(K80,Feuil2!$F$10:$P$28,5),IF(AND(J80>=1967,J80<1972),VLOOKUP(K80,Feuil2!$F$10:$P$28,4),IF(AND(J80>=1972,J80<1977),VLOOKUP(K80,Feuil2!$F$10:$P$28,3),IF(AND(J80>=1977,J80<1982),VLOOKUP(K80,Feuil2!$F$10:$P$28,2),VLOOKUP(K80,Feuil2!$F$10:$P$28,2))))))))))))","v":{"$error":"#N/A"}},null,{"$f":"T80-HLOOKUP(Y80,Feuil2!$C$1:$CD$9,2,FALSE)","v":{"$error":"#VALUE!"}},{"$f":"T80-HLOOKUP(Y80,Feuil2!$C$1:$CD$9,3,FALSE)","v":{"$error":"#VALUE!"}},{"$f":"T80-HLOOKUP(Y80,Feuil2!$C$1:$CD$9,4,FALSE)","v":{"$error":"#VALUE!"}},{"$f":"T80-HLOOKUP(Y80,Feuil2!$C$1:$CD$9,5,FALSE)","v":{"$error":"#VALUE!"}},{"$f":"T80-HLOOKUP(Y80,Feuil2!$C$1:$CD$9,6,FALSE)","v":{"$error":"#VALUE!"}},{"$f":"T80-HLOOKUP(Y80,Feuil2!$C$1:$CD$9,7,FALSE)","v":{"$error":"#VALUE!"}},{"$f":"T80-HLOOKUP(Y80,Feuil2!$C$1:$CD$9,8,FALSE)","v":{"$error":"#VALUE!"}},{"$f":"T80-HLOOKUP(Y80,Feuil2!$C$1:$CD$9,9,FALSE)","v":{"$error":"#VALUE!"}},null,null,null,null,null,null,null,{"$f":"IF(AH80>=0,$AH$4,IF(AG80>=0,$AG$4,IF(AF80>=0,$AF$4,IF(AE80>=0,$AE$4,IF(AD80>=0,$AD$4,IF(AC80>=0,$AC$4,IF(AB80>=0,$AB$4,IF(AA80>=0,$AA$4,$AI$4))))))))","v":{"$error":"#VALUE!"}},2016,null,{"$f":"IF(AQ80,VLOOKUP(AQ80,HOM!$AS$561:$AT$616,2))","v":3.5710000000000002}]
["H",null,null,null,null,null,null,null,null,null,null,null,null,null,"",null,null,null,"","","","","",{"$error":"#N/A"},{"$f":"IF(AND(J81<1920),VLOOKUP(K81,Feuil2!$F$10:$P$28,11),IF(AND(J81>=1920,J81<1937),VLOOKUP(K81,Feuil2!$F$10:$P$28,11),IF(AND(J81>=1936,J81<1942),VLOOKUP(K81,Feuil2!$F$10:$P$28,10),IF(AND(J81>=1942,J81<1947),VLOOKUP(K81,Feuil2!$F$10:$P$28,9),IF(AND(J81>=1947,J81<1952),VLOOKUP(K81,Feuil2!$F$10:$P$28,8),IF(AND(J81>=1952,J81<1957),VLOOKUP(K81,Feuil2!$F$10:$P$28,7),IF(AND(J81>=1957,J81<1962),VLOOKUP(K81,Feuil2!$F$10:$P$28,6),IF(AND(J81>=1962,J81<1967),VLOOKUP(K81,Feuil2!$F$10:$P$28,5),IF(AND(J81>=1967,J81<1972),VLOOKUP(K81,Feuil2!$F$10:$P$28,4),IF(AND(J81>=1972,J81<1977),VLOOKUP(K81,Feuil2!$F$10:$P$28,3),IF(AND(J81>=1977,J81<1982),VLOOKUP(K81,Feuil2!$F$10:$P$28,2),VLOOKUP(K81,Feuil2!$F$10:$P$28,2))))))))))))","v":{"$error":"#N/A"}},null,{"$f":"T81-HLOOKUP(Y81,Feuil2!$C$1:$CD$9,2,FALSE)","v":{"$error":"#VALUE!"}},{"$f":"T81-HLOOKUP(Y81,Feuil2!$C$1:$CD$9,3,FALSE)","v":{"$error":"#VALUE!"}},{"$f":"T81-HLOOKUP(Y81,Feuil2!$C$1:$CD$9,4,FALSE)","v":{"$error":"#VALUE!"}},{"$f":"T81-HLOOKUP(Y81,Feuil2!$C$1:$CD$9,5,FALSE)","v":{"$error":"#VALUE!"}},{"$f":"T81-HLOOKUP(Y81,Feuil2!$C$1:$CD$9,6,FALSE)","v":{"$error":"#VALUE!"}},{"$f":"T81-HLOOKUP(Y81,Feuil2!$C$1:$CD$9,7,FALSE)","v":{"$error":"#VALUE!"}},{"$f":"T81-HLOOKUP(Y81,Feuil2!$C$1:$CD$9,8,FALSE)","v":{"$error":"#VALUE!"}},{"$f":"T81-HLOOKUP(Y81,Feuil2!$C$1:$CD$9,9,FALSE)","v":{"$error":"#VALUE!"}},null,null,null,null,null,null,null,{"$error":"#VALUE!"},{"$f":"2016-J81","v":2016},null,{"$f":"IF(AQ81,VLOOKUP(AQ81,HOM!$AS$561:$AT$616,2))","v":3.5710000000000002}]
["H",null,null,null,null,null,null,null,null,null,null,null,null,null,"",null,null,null,"","","","","",{"$error":"#N/A"},{"$f":"IF(AND(J82<1920),VLOOKUP(K82,Feuil2!$F$10:$P$28,11),IF(AND(J82>=1920,J82<1937),VLOOKUP(K82,Feuil2!$F$10:$P$28,11),IF(AND(J82>=1936,J82<1942),VLOOKUP(K82,Feuil2!$F$10:$P$28,10),IF(AND(J82>=1942,J82<1947),VLOOKUP(K82,Feuil2!$F$10:$P$28,9),IF(AND(J82>=1947,J82<1952),VLOOKUP(K82,Feuil2!$F$10:$P$28,8),IF(AND(J82>=1952,J82<1957),VLOOKUP(K82,Feuil2!$F$10:$P$28,7),IF(AND(J82>=1957,J82<1962),VLOOKUP(K82,Feuil2!$F$10:$P$28,6),IF(AND(J82>=1962,J82<1967),VLOOKUP(K82,Feuil2!$F$10:$P$28,5),IF(AND(J82>=1967,J82<1972),VLOOKUP(K82,Feuil2!$F$10:$P$28,4),IF(AND(J82>=1972,J82<1977),VLOOKUP(K82,Feuil2!$F$10:$P$28,3),IF(AND(J82>=1977,J82<1982),VLOOKUP(K82,Feuil2!$F$10:$P$28,2),VLOOKUP(K82,Feuil2!$F$10:$P$28,2))))))))))))","v":{"$error":"#N/A"}},null,{"$f":"T82-HLOOKUP(Y82,Feuil2!$C$1:$CD$9,2,FALSE)","v":{"$error":"#VALUE!"}},{"$f":"T82-HLOOKUP(Y82,Feuil2!$C$1:$CD$9,3,FALSE)","v":{"$error":"#VALUE!"}},{"$f":"T82-HLOOKUP(Y82,Feuil2!$C$1:$CD$9,4,FALSE)","v":{"$error":"#VALUE!"}},{"$f":"T82-HLOOKUP(Y82,Feuil2!$C$1:$CD$9,5,FALSE)","v":{"$error":"#VALUE!"}},{"$f":"T82-HLOOKUP(Y82,Feuil2!$C$1:$CD$9,6,FALSE)","v":{"$error":"#VALUE!"}},{"$f":"T82-HLOOKUP(Y82,Feuil2!$C$1:$CD$9,7,FALSE)","v":{"$error":"#VALUE!"}},{"$f":"T82-HLOOKUP(Y82,Feuil2!$C$1:$CD$9,8,FALSE)","v":{"$error":"#VALUE!"}},{"$f":"T82-HLOOKUP(Y82,Feuil2!$C$1:$CD$9,9,FALSE)","v":{"$error":"#VALUE!"}},null,null,null,null,null,null,null,{"$error":"#VALUE!"},2016,null,{"$f":"IF(AQ82,VLOOKUP(AQ82,HOM!$AS$561:$AT$616,2))","v":3.5710000000000002}]
["H",null,null,null,null,null,null,null,null,null,null,null,null,null,"",null,null,null,{"$f":"IF(K83=\"\",\"\",IF(MAXA(P83:R83)<=0,0,MAXA(P83:R83)))","v":""},{"$f":"IF(K83=\"\",\"\",IF(OR(O83=0,S83=0),0,O83+S83))","v":""},"","","",{"$error":"#N/A"},{"$f":"IF(AND(J83<1920),VLOOKUP(K83,Feuil2!$F$10:$P$28,11),IF(AND(J83>=1920,J83<1937),VLOOKUP(K83,Feuil2!$F$10:$P$28,11),IF(AND(J83>=1936,J83<1942),VLOOKUP(K83,Feuil2!$F$10:$P$28,10),IF(AND(J83>=1942,J83<1947),VLOOKUP(K83,Feuil2!$F$10:$P$28,9),IF(AND(J83>=1947,J83<1952),VLOOKUP(K83,Feuil2!$F$10:$P$28,8),IF(AND(J83>=1952,J83<1957),VLOOKUP(K83,Feuil2!$F$10:$P$28,7),IF(AND(J83>=1957,J83<1962),VLOOKUP(K83,Feuil2!$F$10:$P$28,6),IF(AND(J83>=1962,J83<1967),VLOOKUP(K83,Feuil2!$F$10:$P$28,5),IF(AND(J83>=1967,J83<1972),VLOOKUP(K83,Feuil2!$F$10:$P$28,4),IF(AND(J83>=1972,J83<1977),VLOOKUP(K83,Feuil2!$F$10:$P$28,3),IF(AND(J83>=1977,J83<1982),VLOOKUP(K83,Feuil2!$F$10:$P$28,2),VLOOKUP(K83,Feuil2!$F$10:$P$28,2))))))))))))","v":{"$error":"#N/A"}},null,{"$f":"T83-HLOOKUP(Y83,Feuil2!$C$1:$CD$9,2,FALSE)","v":{"$error":"#VALUE!"}},{"$f":"T83-HLOOKUP(Y83,Feuil2!$C$1:$CD$9,3,FALSE)","v":{"$error":"#VALUE!"}},{"$f":"T83-HLOOKUP(Y83,Feuil2!$C$1:$CD$9,4,FALSE)","v":{"$error":"#VALUE!"}},{"$f":"T83-HLOOKUP(Y83,Feuil2!$C$1:$CD$9,5,FALSE)","v":{"$error":"#VALUE!"}},{"$f":"T83-HLOOKUP(Y83,Feuil2!$C$1:$CD$9,6,FALSE)","v":{"$error":"#VALUE!"}},{"$f":"T83-HLOOKUP(Y83,Feuil2!$C$1:$CD$9,7,FALSE)","v":{"$error":"#VALUE!"}},{"$f":"T83-HLOOKUP(Y83,Feuil2!$C$1:$CD$9,8,FALSE)","v":{"$error":"#VALUE!"}},{"$f":"T83-HLOOKUP(Y83,Feuil2!$C$1:$CD$9,9,FALSE)","v":{"$error":"#VALUE!"}},null,null,null,null,null,null,null,{"$error":"#VALUE!"},2016,null,{"$f":"IF(AQ83,VLOOKUP(AQ83,HOM!$AS$561:$AT$616,2))","v":3.5710000000000002}]
["H",null,null,null,null,null,null,null,null,null,null,null,null,null,"",null,null,null,"","","","","",{"$error":"#N/A"},{"$f":"IF(AND(J84<1920),VLOOKUP(K84,Feuil2!$F$10:$P$28,11),IF(AND(J84>=1920,J84<1937),VLOOKUP(K84,Feuil2!$F$10:$P$28,11),IF(AND(J84>=1936,J84<1942),VLOOKUP(K84,Feuil2!$F$10:$P$28,10),IF(AND(J84>=1942,J84<1947),VLOOKUP(K84,Feuil2!$F$10:$P$28,9),IF(AND(J84>=1947,J84<1952),VLOOKUP(K84,Feuil2!$F$10:$P$28,8),IF(AND(J84>=1952,J84<1957),VLOOKUP(K84,Feuil2!$F$10:$P$28,7),IF(AND(J84>=1957,J84<1962),VLOOKUP(K84,Feuil2!$F$10:$P$28,6),IF(AND(J84>=1962,J84<1967),VLOOKUP(K84,Feuil2!$F$10:$P$28,5),IF(AND(J84>=1967,J84<1972),VLOOKUP(K84,Feuil2!$F$10:$P$28,4),IF(AND(J84>=1972,J84<1977),VLOOKUP(K84,Feuil2!$F$10:$P$28,3),IF(AND(J84>=1977,J84<1982),VLOOKUP(K84,Feuil2!$F$10:$P$28,2),VLOOKUP(K84,Feuil2!$F$10:$P$28,2))))))))))))","v":{"$error":"#N/A"}},null,{"$f":"T84-HLOOKUP(Y84,Feuil2!$C$1:$CD$9,2,FALSE)","v":{"$error":"#VALUE!"}},{"$f":"T84-HLOOKUP(Y84,Feuil2!$C$1:$CD$9,3,FALSE)","v":{"$error":"#VALUE!"}},{"$f":"T84-HLOOKUP(Y84,Feuil2!$C$1:$CD$9,4,FALSE)","v":{"$error":"#VALUE!"}},{"$f":"T84-HLOOKUP(Y84,Feuil2!$C$1:$CD$9,5,FALSE)","v":{"$error":"#VALUE!"}},{"$f":"T84-HLOOKUP(Y84,Feuil2!$C$1:$CD$9,6,FALSE)","v":{"$error":"#VALUE!"}},{"$f":"T84-HLOOKUP(Y84,Feuil2!$C$1:$CD$9,7,FALSE)","v":{"$error":"#VALUE!"}},{"$f":"T84-HLOOKUP(Y84,Feuil2!$C$1:$CD$9,8,FALSE)","v":{"$error":"#VALUE!"}},{"$f":"T84-HLOOKUP(Y84,Feuil2!$C$1:$CD$9,9,FALSE)","v":{"$error":"#VALUE!"}},null,null,null,null,null,null,null,{"$error":"#VALUE!"},2016,null,{"$f":"IF(AQ84,VLOOKUP(AQ84,HOM!$AS$561:$AT$616,2))","v":3.5710000000000002}]
["H",null,null,null,null,null,null,null,null,null,null,null,null,null,"",null,null,null,"","","","","",{"$error":"#N/A"},{"$f":"IF(AND(J85<1920),VLOOKUP(K85,Feuil2!$F$10:$P$28,11),IF(AND(J85>=1920,J85<1937),VLOOKUP(K85,Feuil2!$F$10:$P$28,11),IF(AND(J85>=1936,J85<1942),VLOOKUP(K85,Feuil2!$F$10:$P$28,10),IF(AND(J85>=1942,J85<1947),VLOOKUP(K85,Feuil2!$F$10:$P$28,9),IF(AND(J85>=1947,J85<1952),VLOOKUP(K85,Feuil2!$F$10:$P$28,8),IF(AND(J85>=1952,J85<1957),VLOOKUP(K85,Feuil2!$F$10:$P$28,7),IF(AND(J85>=1957,J85<1962),VLOOKUP(K85,Feuil2!$F$10:$P$28,6),IF(AND(J85>=1962,J85<1967),VLOOKUP(K85,Feuil2!$F$10:$P$28,5),IF(AND(J85>=1967,J85<1972),VLOOKUP(K85,Feuil2!$F$10:$P$28,4),IF(AND(J85>=1972,J85<1977),VLOOKUP(K85,Feuil2!$F$10:$P$28,3),IF(AND(J85>=1977,J85<1982),VLOOKUP(K85,Feuil2!$F$10:$P$28,2),VLOOKUP(K85,Feuil2!$F$10:$P$28,2))))))))))))","v":{"$error":"#N/A"}},null,{"$f":"T85-HLOOKUP(Y85,Feuil2!$C$1:$CD$9,2,FALSE)","v":{"$error":"#VALUE!"}},{"$f":"T85-HLOOKUP(Y85,Feuil2!$C$1:$CD$9,3,FALSE)","v":{"$error":"#VALUE!"}},{"$f":"T85-HLOOKUP(Y85,Feuil2!$C$1:$CD$9,4,FALSE)","v":{"$error":"#VALUE!"}},{"$f":"T85-HLOOKUP(Y85,Feuil2!$C$1:$CD$9,5,FALSE)","v":{"$error":"#VALUE!"}},{"$f":"T85-HLOOKUP(Y85,Feuil2!$C$1:$CD$9,6,FALSE)","v":{"$error":"#VALUE!"}},{"$f":"T85-HLOOKUP(Y85,Feuil2!$C$1:$CD$9,7,FALSE)","v":{"$error":"#VALUE!"}},{"$f":"T85-HLOOKUP(Y85,Feuil2!$C$1:$CD$9,8,FALSE)","v":{"$error":"#VALUE!"}},{"$f":"T85-HLOOKUP(Y85,Feuil2!$C$1:$CD$9,9,FALSE)","v":{"$error":"#VALUE!"}},null,null,null,null,null,null,null,{"$error":"#VALUE!"},2016,null,{"$f":"IF(AQ85,VLOOKUP(AQ85,HOM!$AS$561:$AT$616,2))","v":3.5710000000000002}]
["H",null,null,null,null,null,null,null,null,null,null,null,null,null,"",null,null,null,"","","","","",{"$error":"#N/A"},{"$f":"IF(AND(J86<1920),VLOOKUP(K86,Feuil2!$F$10:$P$28,11),IF(AND(J86>=1920,J86<1937),VLOOKUP(K86,Feuil2!$F$10:$P$28,11),IF(AND(J86>=1936,J86<1942),VLOOKUP(K86,Feuil2!$F$10:$P$28,10),IF(AND(J86>=1942,J86<1947),VLOOKUP(K86,Feuil2!$F$10:$P$28,9),IF(AND(J86>=1947,J86<1952),VLOOKUP(K86,Feuil2!$F$10:$P$28,8),IF(AND(J86>=1952,J86<1957),VLOOKUP(K86,Feuil2!$F$10:$P$28,7),IF(AND(J86>=1957,J86<1962),VLOOKUP(K86,Feuil2!$F$10:$P$28,6),IF(AND(J86>=1962,J86<1967),VLOOKUP(K86,Feuil2!$F$10:$P$28,5),IF(AND(J86>=1967,J86<1972),VLOOKUP(K86,Feuil2!$F$10:$P$28,4),IF(AND(J86>=1972,J86<1977),VLOOKUP(K86,Feuil2!$F$10:$P$28,3),IF(AND(J86>=1977,J86<1982),VLOOKUP(K86,Feuil2!$F$10:$P$28,2),VLOOKUP(K86,Feuil2!$F$10:$P$28,2))))))))))))","v":{"$error":"#N/A"}},null,{"$f":"T86-HLOOKUP(Y86,Feuil2!$C$1:$CD$9,2,FALSE)","v":{"$error":"#VALUE!"}},{"$f":"T86-HLOOKUP(Y86,Feuil2!$C$1:$CD$9,3,FALSE)","v":{"$error":"#VALUE!"}},{"$f":"T86-HLOOKUP(Y86,Feuil2!$C$1:$CD$9,4,FALSE)","v":{"$error":"#VALUE!"}},{"$f":"T86-HLOOKUP(Y86,Feuil2!$C$1:$CD$9,5,FALSE)","v":{"$error":"#VALUE!"}},{"$f":"T86-HLOOKUP(Y86,Feuil2!$C$1:$CD$9,6,FALSE)","v":{"$error":"#VALUE!"}},{"$f":"T86-HLOOKUP(Y86,Feuil2!$C$1:$CD$9,7,FALSE)","v":{"$error":"#VALUE!"}},{"$f":"T86-HLOOKUP(Y86,Feuil2!$C$1:$CD$9,8,FALSE)","v":{"$error":"#VALUE!"}},{"$f":"T86-HLOOKUP(Y86,Feuil2!$C$1:$CD$9,9,FALSE)","v":{"$error":"#VALUE!"}},null,null,null,null,null,null,null,{"$error":"#VALUE!"},2016,null,{"$f":"IF(AQ86,VLOOKUP(AQ86,HOM!$AS$561:$AT$616,2))","v":3.5710000000000002}]
["H",null,null,null,null,null,null,null,null,null,null,null,null,null,"",null,null,null,"","","","","",{"$error":"#N/A"},{"$f":"IF(AND(J87<1920),VLOOKUP(K87,Feuil2!$F$10:$P$28,11),IF(AND(J87>=1920,J87<1937),VLOOKUP(K87,Feuil2!$F$10:$P$28,11),IF(AND(J87>=1936,J87<1942),VLOOKUP(K87,Feuil2!$F$10:$P$28,10),IF(AND(J87>=1942,J87<1947),VLOOKUP(K87,Feuil2!$F$10:$P$28,9),IF(AND(J87>=1947,J87<1952),VLOOKUP(K87,Feuil2!$F$10:$P$28,8),IF(AND(J87>=1952,J87<1957),VLOOKUP(K87,Feuil2!$F$10:$P$28,7),IF(AND(J87>=1957,J87<1962),VLOOKUP(K87,Feuil2!$F$10:$P$28,6),IF(AND(J87>=1962,J87<1967),VLOOKUP(K87,Feuil2!$F$10:$P$28,5),IF(AND(J87>=1967,J87<1972),VLOOKUP(K87,Feuil2!$F$10:$P$28,4),IF(AND(J87>=1972,J87<1977),VLOOKUP(K87,Feuil2!$F$10:$P$28,3),IF(AND(J87>=1977,J87<1982),VLOOKUP(K87,Feuil2!$F$10:$P$28,2),VLOOKUP(K87,Feuil2!$F$10:$P$28,2))))))))))))","v":{"$error":"#N/A"}},null,{"$f":"T87-HLOOKUP(Y87,Feuil2!$C$1:$CD$9,2,FALSE)","v":{"$error":"#VALUE!"}},{"$f":"T87-HLOOKUP(Y87,Feuil2!$C$1:$CD$9,3,FALSE)","v":{"$error":"#VALUE!"}},{"$f":"T87-HLOOKUP(Y87,Feuil2!$C$1:$CD$9,4,FALSE)","v":{"$error":"#VALUE!"}},{"$f":"T87-HLOOKUP(Y87,Feuil2!$C$1:$CD$9,5,FALSE)","v":{"$error":"#VALUE!"}},{"$f":"T87-HLOOKUP(Y87,Feuil2!$C$1:$CD$9,6,FALSE)","v":{"$error":"#VALUE!"}},{"$f":"T87-HLOOKUP(Y87,Feuil2!$C$1:$CD$9,7,FALSE)","v":{"$error":"#VALUE!"}},{"$f":"T87-HLOOKUP(Y87,Feuil2!$C$1:$CD$9,8,FALSE)","v":{"$error":"#VALUE!"}},{"$f":"T87-HLOOKUP(Y87,Feuil2!$C$1:$CD$9,9,FALSE)","v":{"$error":"#VALUE!"}},null,null,null,null,null,null,null,{"$error":"#VALUE!"},2016,null,{"$f":"IF(AQ87,VLOOKUP(AQ87,HOM!$AS$561:$AT$616,2))","v":3.5710000000000002}]
["H",null,null,null,null,null,null,null,null,null,null,null,null,null,"",null,null,null,"","","","","",{"$error":"#N/A"},{"$f":"IF(AND(J88<1920),VLOOKUP(K88,Feuil2!$F$10:$P$28,11),IF(AND(J88>=1920,J88<1937),VLOOKUP(K88,Feuil2!$F$10:$P$28,11),IF(AND(J88>=1936,J88<1942),VLOOKUP(K88,Feuil2!$F$10:$P$28,10),IF(AND(J88>=1942,J88<1947),VLOOKUP(K88,Feuil2!$F$10:$P$28,9),IF(AND(J88>=1947,J88<1952),VLOOKUP(K88,Feuil2!$F$10:$P$28,8),IF(AND(J88>=1952,J88<1957),VLOOKUP(K88,Feuil2!$F$10:$P$28,7),IF(AND(J88>=1957,J88<1962),VLOOKUP(K88,Feuil2!$F$10:$P$28,6),IF(AND(J88>=1962,J88<1967),VLOOKUP(K88,Feuil2!$F$10:$P$28,5),IF(AND(J88>=1967,J88<1972),VLOOKUP(K88,Feuil2!$F$10:$P$28,4),IF(AND(J88>=1972,J88<1977),VLOOKUP(K88,Feuil2!$F$10:$P$28,3),IF(AND(J88>=1977,J88<1982),VLOOKUP(K88,Feuil2!$F$10:$P$28,2),VLOOKUP(K88,Feuil2!$F$10:$P$28,2))))))))))))","v":{"$error":"#N/A"}},null,{"$f":"T88-HLOOKUP(Y88,Feuil2!$C$1:$CD$9,2,FALSE)","v":{"$error":"#VALUE!"}},{"$f":"T88-HLOOKUP(Y88,Feuil2!$C$1:$CD$9,3,FALSE)","v":{"$error":"#VALUE!"}},{"$f":"T88-HLOOKUP(Y88,Feuil2!$C$1:$CD$9,4,FALSE)","v":{"$error":"#VALUE!"}},{"$f":"T88-HLOOKUP(Y88,Feuil2!$C$1:$CD$9,5,FALSE)","v":{"$error":"#VALUE!"}},{"$f":"T88-HLOOKUP(Y88,Feuil2!$C$1:$CD$9,6,FALSE)","v":{"$error":"#VALUE!"}},{"$f":"T88-HLOOKUP(Y88,Feuil2!$C$1:$CD$9,7,FALSE)","v":{"$error":"#VALUE!"}},{"$f":"T88-HLOOKUP(Y88,Feuil2!$C$1:$CD$9,8,FALSE)","v":{"$error":"#VALUE!"}},{"$f":"T88-HLOOKUP(Y88,Feuil2!$C$1:$CD$9,9,FALSE)","v":{"$error":"#VALUE!"}},null,null,null,null,null,null,null,{"$error":"#VALUE!"},2016,null,{"$f":"IF(AQ88,VLOOKUP(AQ88,HOM!$AS$561:$AT$616,2))","v":3.5710000000000002}]
["H",null,null,null,null,null,null,null,null,null,null,null,null,null,"",null,null,null,"","","","","",{"$error":"#N/A"},{"$f":"IF(AND(J89<1920),VLOOKUP(K89,Feuil2!$F$10:$P$28,11),IF(AND(J89>=1920,J89<1937),VLOOKUP(K89,Feuil2!$F$10:$P$28,11),IF(AND(J89>=1936,J89<1942),VLOOKUP(K89,Feuil2!$F$10:$P$28,10),IF(AND(J89>=1942,J89<1947),VLOOKUP(K89,Feuil2!$F$10:$P$28,9),IF(AND(J89>=1947,J89<1952),VLOOKUP(K89,Feuil2!$F$10:$P$28,8),IF(AND(J89>=1952,J89<1957),VLOOKUP(K89,Feuil2!$F$10:$P$28,7),IF(AND(J89>=1957,J89<1962),VLOOKUP(K89,Feuil2!$F$10:$P$28,6),IF(AND(J89>=1962,J89<1967),VLOOKUP(K89,Feuil2!$F$10:$P$28,5),IF(AND(J89>=1967,J89<1972),VLOOKUP(K89,Feuil2!$F$10:$P$28,4),IF(AND(J89>=1972,J89<1977),VLOOKUP(K89,Feuil2!$F$10:$P$28,3),IF(AND(J89>=1977,J89<1982),VLOOKUP(K89,Feuil2!$F$10:$P$28,2),VLOOKUP(K89,Feuil2!$F$10:$P$28,2))))))))))))","v":{"$error":"#N/A"}},null,{"$f":"T89-HLOOKUP(Y89,Feuil2!$C$1:$CD$9,2,FALSE)","v":{"$error":"#VALUE!"}},{"$f":"T89-HLOOKUP(Y89,Feuil2!$C$1:$CD$9,3,FALSE)","v":{"$error":"#VALUE!"}},{"$f":"T89-HLOOKUP(Y89,Feuil2!$C$1:$CD$9,4,FALSE)","v":{"$error":"#VALUE!"}},{"$f":"T89-HLOOKUP(Y89,Feuil2!$C$1:$CD$9,5,FALSE)","v":{"$error":"#VALUE!"}},{"$f":"T89-HLOOKUP(Y89,Feuil2!$C$1:$CD$9,6,FALSE)","v":{"$error":"#VALUE!"}},{"$f":"T89-HLOOKUP(Y89,Feuil2!$C$1:$CD$9,7,FALSE)","v":{"$error":"#VALUE!"}},{"$f":"T89-HLOOKUP(Y89,Feuil2!$C$1:$CD$9,8,FALSE)","v":{"$error":"#VALUE!"}},{"$f":"T89-HLOOKUP(Y89,Feuil2!$C$1:$CD$9,9,FALSE)","v":{"$error":"#VALUE!"}},null,null,null,null,null,null,null,{"$error":"#VALUE!"},2016,null,{"$f":"IF(AQ89,VLOOKUP(AQ89,HOM!$AS$561:$AT$616,2))","v":3.5710000000000002}]
["H",null,null,null,null,null,null,null,null,null,null,null,null,null,"",null,null,null,"","","","","",{"$error":"#N/A"},{"$f":"IF(AND(J90<1920),VLOOKUP(K90,Feuil2!$F$10:$P$28,11),IF(AND(J90>=1920,J90<1937),VLOOKUP(K90,Feuil2!$F$10:$P$28,11),IF(AND(J90>=1936,J90<1942),VLOOKUP(K90,Feuil2!$F$10:$P$28,10),IF(AND(J90>=1942,J90<1947),VLOOKUP(K90,Feuil2!$F$10:$P$28,9),IF(AND(J90>=1947,J90<1952),VLOOKUP(K90,Feuil2!$F$10:$P$28,8),IF(AND(J90>=1952,J90<1957),VLOOKUP(K90,Feuil2!$F$10:$P$28,7),IF(AND(J90>=1957,J90<1962),VLOOKUP(K90,Feuil2!$F$10:$P$28,6),IF(AND(J90>=1962,J90<1967),VLOOKUP(K90,Feuil2!$F$10:$P$28,5),IF(AND(J90>=1967,J90<1972),VLOOKUP(K90,Feuil2!$F$10:$P$28,4),IF(AND(J90>=1972,J90<1977),VLOOKUP(K90,Feuil2!$F$10:$P$28,3),IF(AND(J90>=1977,J90<1982),VLOOKUP(K90,Feuil2!$F$10:$P$28,2),VLOOKUP(K90,Feuil2!$F$10:$P$28,2))))))))))))","v":{"$error":"#N/A"}},null,{"$f":"T90-HLOOKUP(Y90,Feuil2!$C$1:$CD$9,2,FALSE)","v":{"$error":"#VALUE!"}},{"$f":"T90-HLOOKUP(Y90,Feuil2!$C$1:$CD$9,3,FALSE)","v":{"$error":"#VALUE!"}},{"$f":"T90-HLOOKUP(Y90,Feuil2!$C$1:$CD$9,4,FALSE)","v":{"$error":"#VALUE!"}},{"$f":"T90-HLOOKUP(Y90,Feuil2!$C$1:$CD$9,5,FALSE)","v":{"$error":"#VALUE!"}},{"$f":"T90-HLOOKUP(Y90,Feuil2!$C$1:$CD$9,6,FALSE)","v":{"$error":"#VALUE!"}},{"$f":"T90-HLOOKUP(Y90,Feuil2!$C$1:$CD$9,7,FALSE)","v":{"$error":"#VALUE!"}},{"$f":"T90-HLOOKUP(Y90,Feuil2!$C$1:$CD$9,8,FALSE)","v":{"$error":"#VALUE!"}},{"$f":"T90-HLOOKUP(Y90,Feuil2!$C$1:$CD$9,9,FALSE)","v":{"$error":"#VALUE!"}},null,null,null,null,null,null,null,{"$error":"#VALUE!"},2016,null,{"$f":"IF(AQ90,VLOOKUP(AQ90,HOM!$AS$561:$AT$616,2))","v":3.5710000000000002}]
["H",null,null,null,null,null,null,null,null,null,null,null,null,null,{"$f":"IF(K91=\"\",\"\",IF(MAXA(L91:N91)<=0,0,MAXA(L91:N91)))","v":""},null,null,null,"","","","","",{"$error":"#N/A"},{"$f":"IF(AND(J91<1920),VLOOKUP(K91,Feuil2!$F$10:$P$28,11),IF(AND(J91>=1920,J91<1937),VLOOKUP(K91,Feuil2!$F$10:$P$28,11),IF(AND(J91>=1936,J91<1942),VLOOKUP(K91,Feuil2!$F$10:$P$28,10),IF(AND(J91>=1942,J91<1947),VLOOKUP(K91,Feuil2!$F$10:$P$28,9),IF(AND(J91>=1947,J91<1952),VLOOKUP(K91,Feuil2!$F$10:$P$28,8),IF(AND(J91>=1952,J91<1957),VLOOKUP(K91,Feuil2!$F$10:$P$28,7),IF(AND(J91>=1957,J91<1962),VLOOKUP(K91,Feuil2!$F$10:$P$28,6),IF(AND(J91>=1962,J91<1967),VLOOKUP(K91,Feuil2!$F$10:$P$28,5),IF(AND(J91>=1967,J91<1972),VLOOKUP(K91,Feuil2!$F$10:$P$28,4),IF(AND(J91>=1972,J91<1977),VLOOKUP(K91,Feuil2!$F$10:$P$28,3),IF(AND(J91>=1977,J91<1982),VLOOKUP(K91,Feuil2!$F$10:$P$28,2),VLOOKUP(K91,Feuil2!$F$10:$P$28,2))))))))))))","v":{"$error":"#N/A"}},null,{"$f":"T91-HLOOKUP(Y91,Feuil2!$C$1:$CD$9,2,FALSE)","v":{"$error":"#VALUE!"}},{"$f":"T91-HLOOKUP(Y91,Feuil2!$C$1:$CD$9,3,FALSE)","v":{"$error":"#VALUE!"}},{"$f":"T91-HLOOKUP(Y91,Feuil2!$C$1:$CD$9,4,FALSE)","v":{"$error":"#VALUE!"}},{"$f":"T91-HLOOKUP(Y91,Feuil2!$C$1:$CD$9,5,FALSE)","v":{"$error":"#VALUE!"}},{"$f":"T91-HLOOKUP(Y91,Feuil2!$C$1:$CD$9,6,FALSE)","v":{"$error":"#VALUE!"}},{"$f":"T91-HLOOKUP(Y91,Feuil2!$C$1:$CD$9,7,FALSE)","v":{"$error":"#VALUE!"}},{"$f":"T91-HLOOKUP(Y91,Feuil2!$C$1:$CD$9,8,FALSE)","v":{"$error":"#VALUE!"}},{"$f":"T91-HLOOKUP(Y91,Feuil2!$C$1:$CD$9,9,FALSE)","v":{"$error":"#VALUE!"}},null,null,null,null,null,null,null,{"$error":"#VALUE!"},2016,null,{"$f":"IF(AQ91,VLOOKUP(AQ91,HOM!$AS$561:$AT$616,2))","v":3.5710000000000002}]
["H",null,null,null,null,null,null,null,null,null,null,null,null,null,"",null,null,null,"","","","","",{"$error":"#N/A"},{"$f":"IF(AND(J92<1920),VLOOKUP(K92,Feuil2!$F$10:$P$28,11),IF(AND(J92>=1920,J92<1937),VLOOKUP(K92,Feuil2!$F$10:$P$28,11),IF(AND(J92>=1936,J92<1942),VLOOKUP(K92,Feuil2!$F$10:$P$28,10),IF(AND(J92>=1942,J92<1947),VLOOKUP(K92,Feuil2!$F$10:$P$28,9),IF(AND(J92>=1947,J92<1952),VLOOKUP(K92,Feuil2!$F$10:$P$28,8),IF(AND(J92>=1952,J92<1957),VLOOKUP(K92,Feuil2!$F$10:$P$28,7),IF(AND(J92>=1957,J92<1962),VLOOKUP(K92,Feuil2!$F$10:$P$28,6),IF(AND(J92>=1962,J92<1967),VLOOKUP(K92,Feuil2!$F$10:$P$28,5),IF(AND(J92>=1967,J92<1972),VLOOKUP(K92,Feuil2!$F$10:$P$28,4),IF(AND(J92>=1972,J92<1977),VLOOKUP(K92,Feuil2!$F$10:$P$28,3),IF(AND(J92>=1977,J92<1982),VLOOKUP(K92,Feuil2!$F$10:$P$28,2),VLOOKUP(K92,Feuil2!$F$10:$P$28,2))))))))))))","v":{"$error":"#N/A"}},null,{"$f":"T92-HLOOKUP(Y92,Feuil2!$C$1:$CD$9,2,FALSE)","v":{"$error":"#VALUE!"}},{"$f":"T92-HLOOKUP(Y92,Feuil2!$C$1:$CD$9,3,FALSE)","v":{"$error":"#VALUE!"}},{"$f":"T92-HLOOKUP(Y92,Feuil2!$C$1:$CD$9,4,FALSE)","v":{"$error":"#VALUE!"}},{"$f":"T92-HLOOKUP(Y92,Feuil2!$C$1:$CD$9,5,FALSE)","v":{"$error":"#VALUE!"}},{"$f":"T92-HLOOKUP(Y92,Feuil2!$C$1:$CD$9,6,FALSE)","v":{"$error":"#VALUE!"}},{"$f":"T92-HLOOKUP(Y92,Feuil2!$C$1:$CD$9,7,FALSE)","v":{"$error":"#VALUE!"}},{"$f":"T92-HLOOKUP(Y92,Feuil2!$C$1:$CD$9,8,FALSE)","v":{"$error":"#VALUE!"}},{"$f":"T92-HLOOKUP(Y92,Feuil2!$C$1:$CD$9,9,FALSE)","v":{"$error":"#VALUE!"}},null,null,null,null,null,null,null,{"$error":"#VALUE!"},2016,null,{"$f":"IF(AQ92,VLOOKUP(AQ92,HOM!$AS$561:$AT$616,2))","v":3.5710000000000002}]
["H",null,null,null,null,null,null,null,null,null,null,null,null,null,"",null,null,null,"","","","","",{"$error":"#N/A"},{"$f":"IF(AND(J93<1920),VLOOKUP(K93,Feuil2!$F$10:$P$28,11),IF(AND(J93>=1920,J93<1937),VLOOKUP(K93,Feuil2!$F$10:$P$28,11),IF(AND(J93>=1936,J93<1942),VLOOKUP(K93,Feuil2!$F$10:$P$28,10),IF(AND(J93>=1942,J93<1947),VLOOKUP(K93,Feuil2!$F$10:$P$28,9),IF(AND(J93>=1947,J93<1952),VLOOKUP(K93,Feuil2!$F$10:$P$28,8),IF(AND(J93>=1952,J93<1957),VLOOKUP(K93,Feuil2!$F$10:$P$28,7),IF(AND(J93>=1957,J93<1962),VLOOKUP(K93,Feuil2!$F$10:$P$28,6),IF(AND(J93>=1962,J93<1967),VLOOKUP(K93,Feuil2!$F$10:$P$28,5),IF(AND(J93>=1967,J93<1972),VLOOKUP(K93,Feuil2!$F$10:$P$28,4),IF(AND(J93>=1972,J93<1977),VLOOKUP(K93,Feuil2!$F$10:$P$28,3),IF(AND(J93>=1977,J93<1982),VLOOKUP(K93,Feuil2!$F$10:$P$28,2),VLOOKUP(K93,Feuil2!$F$10:$P$28,2))))))))))))","v":{"$error":"#N/A"}},null,{"$f":"T93-HLOOKUP(Y93,Feuil2!$C$1:$CD$9,2,FALSE)","v":{"$error":"#VALUE!"}},{"$f":"T93-HLOOKUP(Y93,Feuil2!$C$1:$CD$9,3,FALSE)","v":{"$error":"#VALUE!"}},{"$f":"T93-HLOOKUP(Y93,Feuil2!$C$1:$CD$9,4,FALSE)","v":{"$error":"#VALUE!"}},{"$f":"T93-HLOOKUP(Y93,Feuil2!$C$1:$CD$9,5,FALSE)","v":{"$error":"#VALUE!"}},{"$f":"T93-HLOOKUP(Y93,Feuil2!$C$1:$CD$9,6,FALSE)","v":{"$error":"#VALUE!"}},{"$f":"T93-HLOOKUP(Y93,Feuil2!$C$1:$CD$9,7,FALSE)","v":{"$error":"#VALUE!"}},{"$f":"T93-HLOOKUP(Y93,Feuil2!$C$1:$CD$9,8,FALSE)","v":{"$error":"#VALUE!"}},{"$f":"T93-HLOOKUP(Y93,Feuil2!$C$1:$CD$9,9,FALSE)","v":{"$error":"#VALUE!"}},null,null,null,null,null,null,null,{"$error":"#VALUE!"},2016,null,{"$f":"IF(AQ93,VLOOKUP(AQ93,HOM!$AS$561:$AT$616,2))","v":3.5710000000000002}]
["H",null,null,null,null,null,null,null,null,null,null,null,null,null,"",null,null,null,"","","","","",{"$error":"#N/A"},{"$f":"IF(AND(J94<1920),VLOOKUP(K94,Feuil2!$F$10:$P$28,11),IF(AND(J94>=1920,J94<1937),VLOOKUP(K94,Feuil2!$F$10:$P$28,11),IF(AND(J94>=1936,J94<1942),VLOOKUP(K94,Feuil2!$F$10:$P$28,10),IF(AND(J94>=1942,J94<1947),VLOOKUP(K94,Feuil2!$F$10:$P$28,9),IF(AND(J94>=1947,J94<1952),VLOOKUP(K94,Feuil2!$F$10:$P$28,8),IF(AND(J94>=1952,J94<1957),VLOOKUP(K94,Feuil2!$F$10:$P$28,7),IF(AND(J94>=1957,J94<1962),VLOOKUP(K94,Feuil2!$F$10:$P$28,6),IF(AND(J94>=1962,J94<1967),VLOOKUP(K94,Feuil2!$F$10:$P$28,5),IF(AND(J94>=1967,J94<1972),VLOOKUP(K94,Feuil2!$F$10:$P$28,4),IF(AND(J94>=1972,J94<1977),VLOOKUP(K94,Feuil2!$F$10:$P$28,3),IF(AND(J94>=1977,J94<1982),VLOOKUP(K94,Feuil2!$F$10:$P$28,2),VLOOKUP(K94,Feuil2!$F$10:$P$28,2))))))))))))","v":{"$error":"#N/A"}},null,{"$f":"T94-HLOOKUP(Y94,Feuil2!$C$1:$CD$9,2,FALSE)","v":{"$error":"#VALUE!"}},{"$f":"T94-HLOOKUP(Y94,Feuil2!$C$1:$CD$9,3,FALSE)","v":{"$error":"#VALUE!"}},{"$f":"T94-HLOOKUP(Y94,Feuil2!$C$1:$CD$9,4,FALSE)","v":{"$error":"#VALUE!"}},{"$f":"T94-HLOOKUP(Y94,Feuil2!$C$1:$CD$9,5,FALSE)","v":{"$error":"#VALUE!"}},{"$f":"T94-HLOOKUP(Y94,Feuil2!$C$1:$CD$9,6,FALSE)","v":{"$error":"#VALUE!"}},{"$f":"T94-HLOOKUP(Y94,Feuil2!$C$1:$CD$9,7,FALSE)","v":{"$error":"#VALUE!"}},{"$f":"T94-HLOOKUP(Y94,Feuil2!$C$1:$CD$9,8,FALSE)","v":{"$error":"#VALUE!"}},{"$f":"T94-HLOOKUP(Y94,Feuil2!$C$1:$CD$9,9,FALSE)","v":{"$error":"#VALUE!"}},null,null,null,null,null,null,null,{"$error":"#VALUE!"},2016,null,{"$f":"IF(AQ94,VLOOKUP(AQ94,HOM!$AS$561:$AT$616,2))","v":3.5710000000000002}]
["H",null,null,null,null,null,null,null,null,null,null,null,null,null,"",null,null,null,"","","","","",{"$error":"#N/A"},{"$f":"IF(AND(J95<1920),VLOOKUP(K95,Feuil2!$F$10:$P$28,11),IF(AND(J95>=1920,J95<1937),VLOOKUP(K95,Feuil2!$F$10:$P$28,11),IF(AND(J95>=1936,J95<1942),VLOOKUP(K95,Feuil2!$F$10:$P$28,10),IF(AND(J95>=1942,J95<1947),VLOOKUP(K95,Feuil2!$F$10:$P$28,9),IF(AND(J95>=1947,J95<1952),VLOOKUP(K95,Feuil2!$F$10:$P$28,8),IF(AND(J95>=1952,J95<1957),VLOOKUP(K95,Feuil2!$F$10:$P$28,7),IF(AND(J95>=1957,J95<1962),VLOOKUP(K95,Feuil2!$F$10:$P$28,6),IF(AND(J95>=1962,J95<1967),VLOOKUP(K95,Feuil2!$F$10:$P$28,5),IF(AND(J95>=1967,J95<1972),VLOOKUP(K95,Feuil2!$F$10:$P$28,4),IF(AND(J95>=1972,J95<1977),VLOOKUP(K95,Feuil2!$F$10:$P$28,3),IF(AND(J95>=1977,J95<1982),VLOOKUP(K95,Feuil2!$F$10:$P$28,2),VLOOKUP(K95,Feuil2!$F$10:$P$28,2))))))))))))","v":{"$error":"#N/A"}},null,{"$f":"T95-HLOOKUP(Y95,Feuil2!$C$1:$CD$9,2,FALSE)","v":{"$error":"#VALUE!"}},{"$f":"T95-HLOOKUP(Y95,Feuil2!$C$1:$CD$9,3,FALSE)","v":{"$error":"#VALUE!"}},{"$f":"T95-HLOOKUP(Y95,Feuil2!$C$1:$CD$9,4,FALSE)","v":{"$error":"#VALUE!"}},{"$f":"T95-HLOOKUP(Y95,Feuil2!$C$1:$CD$9,5,FALSE)","v":{"$error":"#VALUE!"}},{"$f":"T95-HLOOKUP(Y95,Feuil2!$C$1:$CD$9,6,FALSE)","v":{"$error":"#VALUE!"}},{"$f":"T95-HLOOKUP(Y95,Feuil2!$C$1:$CD$9,7,FALSE)","v":{"$error":"#VALUE!"}},{"$f":"T95-HLOOKUP(Y95,Feuil2!$C$1:$CD$9,8,FALSE)","v":{"$error":"#VALUE!"}},{"$f":"T95-HLOOKUP(Y95,Feuil2!$C$1:$CD$9,9,FALSE)","v":{"$error":"#VALUE!"}},null,null,null,null,null,null,null,{"$error":"#VALUE!"},2016,null,{"$f":"IF(AQ95,VLOOKUP(AQ95,HOM!$AS$561:$AT$616,2))","v":3.5710000000000002}]
["H",null,null,null,null,null,null,null,null,null,null,null,null,null,"",null,null,null,"","","","","",{"$error":"#N/A"},{"$f":"IF(AND(J96<1920),VLOOKUP(K96,Feuil2!$F$10:$P$28,11),IF(AND(J96>=1920,J96<1937),VLOOKUP(K96,Feuil2!$F$10:$P$28,11),IF(AND(J96>=1936,J96<1942),VLOOKUP(K96,Feuil2!$F$10:$P$28,10),IF(AND(J96>=1942,J96<1947),VLOOKUP(K96,Feuil2!$F$10:$P$28,9),IF(AND(J96>=1947,J96<1952),VLOOKUP(K96,Feuil2!$F$10:$P$28,8),IF(AND(J96>=1952,J96<1957),VLOOKUP(K96,Feuil2!$F$10:$P$28,7),IF(AND(J96>=1957,J96<1962),VLOOKUP(K96,Feuil2!$F$10:$P$28,6),IF(AND(J96>=1962,J96<1967),VLOOKUP(K96,Feuil2!$F$10:$P$28,5),IF(AND(J96>=1967,J96<1972),VLOOKUP(K96,Feuil2!$F$10:$P$28,4),IF(AND(J96>=1972,J96<1977),VLOOKUP(K96,Feuil2!$F$10:$P$28,3),IF(AND(J96>=1977,J96<1982),VLOOKUP(K96,Feuil2!$F$10:$P$28,2),VLOOKUP(K96,Feuil2!$F$10:$P$28,2))))))))))))","v":{"$error":"#N/A"}},null,{"$f":"T96-HLOOKUP(Y96,Feuil2!$C$1:$CD$9,2,FALSE)","v":{"$error":"#VALUE!"}},{"$f":"T96-HLOOKUP(Y96,Feuil2!$C$1:$CD$9,3,FALSE)","v":{"$error":"#VALUE!"}},{"$f":"T96-HLOOKUP(Y96,Feuil2!$C$1:$CD$9,4,FALSE)","v":{"$error":"#VALUE!"}},{"$f":"T96-HLOOKUP(Y96,Feuil2!$C$1:$CD$9,5,FALSE)","v":{"$error":"#VALUE!"}},{"$f":"T96-HLOOKUP(Y96,Feuil2!$C$1:$CD$9,6,FALSE)","v":{"$error":"#VALUE!"}},{"$f":"T96-HLOOKUP(Y96,Feuil2!$C$1:$CD$9,7,FALSE)","v":{"$error":"#VALUE!"}},{"$f":"T96-HLOOKUP(Y96,Feuil2!$C$1:$CD$9,8,FALSE)","v":{"$error":"#VALUE!"}},{"$f":"T96-HLOOKUP(Y96,Feuil2!$C$1:$CD$9,9,FALSE)","v":{"$error":"#VALUE!"}},null,null,null,null,null,null,null,{"$error":"#VALUE!"},2016,null,{"$f":"IF(AQ96,VLOOKUP(AQ96,HOM!$AS$561:$AT$616,2))","v":3.5710000000000002}]
["H",null,null,null,null,null,null,null,null,null,null,null,null,null,"",null,null,null,"","","","","",{"$error":"#N/A"},{"$f":"IF(AND(J97<1920),VLOOKUP(K97,Feuil2!$F$10:$P$28,11),IF(AND(J97>=1920,J97<1937),VLOOKUP(K97,Feuil2!$F$10:$P$28,11),IF(AND(J97>=1936,J97<1942),VLOOKUP(K97,Feuil2!$F$10:$P$28,10),IF(AND(J97>=1942,J97<1947),VLOOKUP(K97,Feuil2!$F$10:$P$28,9),IF(AND(J97>=1947,J97<1952),VLOOKUP(K97,Feuil2!$F$10:$P$28,8),IF(AND(J97>=1952,J97<1957),VLOOKUP(K97,Feuil2!$F$10:$P$28,7),IF(AND(J97>=1957,J97<1962),VLOOKUP(K97,Feuil2!$F$10:$P$28,6),IF(AND(J97>=1962,J97<1967),VLOOKUP(K97,Feuil2!$F$10:$P$28,5),IF(AND(J97>=1967,J97<1972),VLOOKUP(K97,Feuil2!$F$10:$P$28,4),IF(AND(J97>=1972,J97<1977),VLOOKUP(K97,Feuil2!$F$10:$P$28,3),IF(AND(J97>=1977,J97<1982),VLOOKUP(K97,Feuil2!$F$10:$P$28,2),VLOOKUP(K97,Feuil2!$F$10:$P$28,2))))))))))))","v":{"$error":"#N/A"}},null,{"$f":"T97-HLOOKUP(Y97,Feuil2!$C$1:$CD$9,2,FALSE)","v":{"$error":"#VALUE!"}},{"$f":"T97-HLOOKUP(Y97,Feuil2!$C$1:$CD$9,3,FALSE)","v":{"$error":"#VALUE!"}},{"$f":"T97-HLOOKUP(Y97,Feuil2!$C$1:$CD$9,4,FALSE)","v":{"$error":"#VALUE!"}},{"$f":"T97-HLOOKUP(Y97,Feuil2!$C$1:$CD$9,5,FALSE)","v":{"$error":"#VALUE!"}},{"$f":"T97-HLOOKUP(Y97,Feuil2!$C$1:$CD$9,6,FALSE)","v":{"$error":"#VALUE!"}},{"$f":"T97-HLOOKUP(Y97,Feuil2!$C$1:$CD$9,7,FALSE)","v":{"$error":"#VALUE!"}},{"$f":"T97-HLOOKUP(Y97,Feuil2!$C$1:$CD$9,8,FALSE)","v":{"$error":"#VALUE!"}},{"$f":"T97-HLOOKUP(Y97,Feuil2!$C$1:$CD$9,9,FALSE)","v":{"$error":"#VALUE!"}},null,null,null,null,null,null,null,{"$error":"#VALUE!"},2016,null,{"$f":"IF(AQ97,VLOOKUP(AQ97,HOM!$AS$561:$AT$616,2))","v":3.5710000000000002}]
["H",null,null,null,null,null,null,null,null,null,null,null,null,null,"",null,null,null,"","","","","",{"$error":"#N/A"},{"$f":"IF(AND(J98<1920),VLOOKUP(K98,Feuil2!$F$10:$P$28,11),IF(AND(J98>=1920,J98<1937),VLOOKUP(K98,Feuil2!$F$10:$P$28,11),IF(AND(J98>=1936,J98<1942),VLOOKUP(K98,Feuil2!$F$10:$P$28,10),IF(AND(J98>=1942,J98<1947),VLOOKUP(K98,Feuil2!$F$10:$P$28,9),IF(AND(J98>=1947,J98<1952),VLOOKUP(K98,Feuil2!$F$10:$P$28,8),IF(AND(J98>=1952,J98<1957),VLOOKUP(K98,Feuil2!$F$10:$P$28,7),IF(AND(J98>=1957,J98<1962),VLOOKUP(K98,Feuil2!$F$10:$P$28,6),IF(AND(J98>=1962,J98<1967),VLOOKUP(K98,Feuil2!$F$10:$P$28,5),IF(AND(J98>=1967,J98<1972),VLOOKUP(K98,Feuil2!$F$10:$P$28,4),IF(AND(J98>=1972,J98<1977),VLOOKUP(K98,Feuil2!$F$10:$P$28,3),IF(AND(J98>=1977,J98<1982),VLOOKUP(K98,Feuil2!$F$10:$P$28,2),VLOOKUP(K98,Feuil2!$F$10:$P$28,2))))))))))))","v":{"$error":"#N/A"}},null,{"$f":"T98-HLOOKUP(Y98,Feuil2!$C$1:$CD$9,2,FALSE)","v":{"$error":"#VALUE!"}},{"$f":"T98-HLOOKUP(Y98,Feuil2!$C$1:$CD$9,3,FALSE)","v":{"$error":"#VALUE!"}},{"$f":"T98-HLOOKUP(Y98,Feuil2!$C$1:$CD$9,4,FALSE)","v":{"$error":"#VALUE!"}},{"$f":"T98-HLOOKUP(Y98,Feuil2!$C$1:$CD$9,5,FALSE)","v":{"$error":"#VALUE!"}},{"$f":"T98-HLOOKUP(Y98,Feuil2!$C$1:$CD$9,6,FALSE)","v":{"$error":"#VALUE!"}},{"$f":"T98-HLOOKUP(Y98,Feuil2!$C$1:$CD$9,7,FALSE)","v":{"$error":"#VALUE!"}},{"$f":"T98-HLOOKUP(Y98,Feuil2!$C$1:$CD$9,8,FALSE)","v":{"$error":"#VALUE!"}},{"$f":"T98-HLOOKUP(Y98,Feuil2!$C$1:$CD$9,9,FALSE)","v":{"$error":"#VALUE!"}},null,null,null,null,null,null,null,{"$error":"#VALUE!"},2016,null,{"$f":"IF(AQ98,VLOOKUP(AQ98,HOM!$AS$561:$AT$616,2))","v":3.5710000000000002}]
["H",null,null,null,null,null,null,null,null,null,null,null,null,null,"",null,null,null,"","","","","",{"$error":"#N/A"},{"$f":"IF(AND(J99<1920),VLOOKUP(K99,Feuil2!$F$10:$P$28,11),IF(AND(J99>=1920,J99<1937),VLOOKUP(K99,Feuil2!$F$10:$P$28,11),IF(AND(J99>=1936,J99<1942),VLOOKUP(K99,Feuil2!$F$10:$P$28,10),IF(AND(J99>=1942,J99<1947),VLOOKUP(K99,Feuil2!$F$10:$P$28,9),IF(AND(J99>=1947,J99<1952),VLOOKUP(K99,Feuil2!$F$10:$P$28,8),IF(AND(J99>=1952,J99<1957),VLOOKUP(K99,Feuil2!$F$10:$P$28,7),IF(AND(J99>=1957,J99<1962),VLOOKUP(K99,Feuil2!$F$10:$P$28,6),IF(AND(J99>=1962,J99<1967),VLOOKUP(K99,Feuil2!$F$10:$P$28,5),IF(AND(J99>=1967,J99<1972),VLOOKUP(K99,Feuil2!$F$10:$P$28,4),IF(AND(J99>=1972,J99<1977),VLOOKUP(K99,Feuil2!$F$10:$P$28,3),IF(AND(J99>=1977,J99<1982),VLOOKUP(K99,Feuil2!$F$10:$P$28,2),VLOOKUP(K99,Feuil2!$F$10:$P$28,2))))))))))))","v":{"$error":"#N/A"}},null,{"$f":"T99-HLOOKUP(Y99,Feuil2!$C$1:$CD$9,2,FALSE)","v":{"$error":"#VALUE!"}},{"$f":"T99-HLOOKUP(Y99,Feuil2!$C$1:$CD$9,3,FALSE)","v":{"$error":"#VALUE!"}},{"$f":"T99-HLOOKUP(Y99,Feuil2!$C$1:$CD$9,4,FALSE)","v":{"$error":"#VALUE!"}},{"$f":"T99-HLOOKUP(Y99,Feuil2!$C$1:$CD$9,5,FALSE)","v":{"$error":"#VALUE!"}},{"$f":"T99-HLOOKUP(Y99,Feuil2!$C$1:$CD$9,6,FALSE)","v":{"$error":"#VALUE!"}},{"$f":"T99-HLOOKUP(Y99,Feuil2!$C$1:$CD$9,7,FALSE)","v":{"$error":"#VALUE!"}},{"$f":"T99-HLOOKUP(Y99,Feuil2!$C$1:$CD$9,8,FALSE)","v":{"$error":"#VALUE!"}},{"$f":"T99-HLOOKUP(Y99,Feuil2!$C$1:$CD$9,9,FALSE)","v":{"$error":"#VALUE!"}},null,null,null,null,null,null,null,{"$error":"#VALUE!"},2016,null,{"$f":"IF(AQ99,VLOOKUP(AQ99,HOM!$AS$561:$AT$616,2))","v":3.5710000000000002}]
["H",null,null,null,null,null,null,null,null,null,null,null,null,null,"",null,null,null,"","","","","",{"$error":"#N/A"},{"$f":"IF(AND(J100<1920),VLOOKUP(K100,Feuil2!$F$10:$P$28,11),IF(AND(J100>=1920,J100<1937),VLOOKUP(K100,Feuil2!$F$10:$P$28,11),IF(AND(J100>=1936,J100<1942),VLOOKUP(K100,Feuil2!$F$10:$P$28,10),IF(AND(J100>=1942,J100<1947),VLOOKUP(K100,Feuil2!$F$10:$P$28,9),IF(AND(J100>=1947,J100<1952),VLOOKUP(K100,Feuil2!$F$10:$P$28,8),IF(AND(J100>=1952,J100<1957),VLOOKUP(K100,Feuil2!$F$10:$P$28,7),IF(AND(J100>=1957,J100<1962),VLOOKUP(K100,Feuil2!$F$10:$P$28,6),IF(AND(J100>=1962,J100<1967),VLOOKUP(K100,Feuil2!$F$10:$P$28,5),IF(AND(J100>=1967,J100<1972),VLOOKUP(K100,Feuil2!$F$10:$P$28,4),IF(AND(J100>=1972,J100<1977),VLOOKUP(K100,Feuil2!$F$10:$P$28,3),IF(AND(J100>=1977,J100<1982),VLOOKUP(K100,Feuil2!$F$10:$P$28,2),VLOOKUP(K100,Feuil2!$F$10:$P$28,2))))))))))))","v":{"$error":"#N/A"}},null,{"$f":"T100-HLOOKUP(Y100,Feuil2!$C$1:$CD$9,2,FALSE)","v":{"$error":"#VALUE!"}},{"$f":"T100-HLOOKUP(Y100,Feuil2!$C$1:$CD$9,3,FALSE)","v":{"$error":"#VALUE!"}},{"$f":"T100-HLOOKUP(Y100,Feuil2!$C$1:$CD$9,4,FALSE)","v":{"$error":"#VALUE!"}},{"$f":"T100-HLOOKUP(Y100,Feuil2!$C$1:$CD$9,5,FALSE)","v":{"$error":"#VALUE!"}},{"$f":"T100-HLOOKUP(Y100,Feuil2!$C$1:$CD$9,6,FALSE)","v":{"$error":"#VALUE!"}},{"$f":"T100-HLOOKUP(Y100,Feuil2!$C$1:$CD$9,7,FALSE)","v":{"$error":"#VALUE!"}},{"$f":"T100-HLOOKUP(Y100,Feuil2!$C$1:$CD$9,8,FALSE)","v":{"$error":"#VALUE!"}},{"$f":"T100-HLOOKUP(Y100,Feuil2!$C$1:$CD$9,9,FALSE)","v":{"$error":"#VALUE!"}},null,null,null,null,null,null,null,{"$error":"#VALUE!"},2016,null,{"$f":"IF(AQ100,VLOOKUP(AQ100,HOM!$AS$561:$AT$616,2))","v":3.5710000000000002}]
["H",null,null,null,null,null,null,null,null,null,null,null,null,null,"",null,null,null,"","","","","",{"$error":"#N/A"},{"$f":"IF(AND(J101<1920),VLOOKUP(K101,Feuil2!$F$10:$P$28,11),IF(AND(J101>=1920,J101<1937),VLOOKUP(K101,Feuil2!$F$10:$P$28,11),IF(AND(J101>=1936,J101<1942),VLOOKUP(K101,Feuil2!$F$10:$P$28,10),IF(AND(J101>=1942,J101<1947),VLOOKUP(K101,Feuil2!$F$10:$P$28,9),IF(AND(J101>=1947,J101<1952),VLOOKUP(K101,Feuil2!$F$10:$P$28,8),IF(AND(J101>=1952,J101<1957),VLOOKUP(K101,Feuil2!$F$10:$P$28,7),IF(AND(J101>=1957,J101<1962),VLOOKUP(K101,Feuil2!$F$10:$P$28,6),IF(AND(J101>=1962,J101<1967),VLOOKUP(K101,Feuil2!$F$10:$P$28,5),IF(AND(J101>=1967,J101<1972),VLOOKUP(K101,Feuil2!$F$10:$P$28,4),IF(AND(J101>=1972,J101<1977),VLOOKUP(K101,Feuil2!$F$10:$P$28,3),IF(AND(J101>=1977,J101<1982),VLOOKUP(K101,Feuil2!$F$10:$P$28,2),VLOOKUP(K101,Feuil2!$F$10:$P$28,2))))))))))))","v":{"$error":"#N/A"}},null,{"$f":"T101-HLOOKUP(Y101,Feuil2!$C$1:$CD$9,2,FALSE)","v":{"$error":"#VALUE!"}},{"$f":"T101-HLOOKUP(Y101,Feuil2!$C$1:$CD$9,3,FALSE)","v":{"$error":"#VALUE!"}},{"$f":"T101-HLOOKUP(Y101,Feuil2!$C$1:$CD$9,4,FALSE)","v":{"$error":"#VALUE!"}},{"$f":"T101-HLOOKUP(Y101,Feuil2!$C$1:$CD$9,5,FALSE)","v":{"$error":"#VALUE!"}},{"$f":"T101-HLOOKUP(Y101,Feuil2!$C$1:$CD$9,6,FALSE)","v":{"$error":"#VALUE!"}},{"$f":"T101-HLOOKUP(Y101,Feuil2!$C$1:$CD$9,7,FALSE)","v":{"$error":"#VALUE!"}},{"$f":"T101-HLOOKUP(Y101,Feuil2!$C$1:$CD$9,8,FALSE)","v":{"$error":"#VALUE!"}},{"$f":"T101-HLOOKUP(Y101,Feuil2!$C$1:$CD$9,9,FALSE)","v":{"$error":"#VALUE!"}},null,null,null,null,null,null,null,{"$error":"#VALUE!"},2016,null,{"$f":"IF(AQ101,VLOOKUP(AQ101,HOM!$AS$561:$AT$616,2))","v":3.5710000000000002}]
["H",null,null,null,null,null,null,null,null,null,null,null,null,null,"",null,null,null,"","","","","",{"$error":"#N/A"},{"$f":"IF(AND(J102<1920),VLOOKUP(K102,Feuil2!$F$10:$P$28,11),IF(AND(J102>=1920,J102<1937),VLOOKUP(K102,Feuil2!$F$10:$P$28,11),IF(AND(J102>=1936,J102<1942),VLOOKUP(K102,Feuil2!$F$10:$P$28,10),IF(AND(J102>=1942,J102<1947),VLOOKUP(K102,Feuil2!$F$10:$P$28,9),IF(AND(J102>=1947,J102<1952),VLOOKUP(K102,Feuil2!$F$10:$P$28,8),IF(AND(J102>=1952,J102<1957),VLOOKUP(K102,Feuil2!$F$10:$P$28,7),IF(AND(J102>=1957,J102<1962),VLOOKUP(K102,Feuil2!$F$10:$P$28,6),IF(AND(J102>=1962,J102<1967),VLOOKUP(K102,Feuil2!$F$10:$P$28,5),IF(AND(J102>=1967,J102<1972),VLOOKUP(K102,Feuil2!$F$10:$P$28,4),IF(AND(J102>=1972,J102<1977),VLOOKUP(K102,Feuil2!$F$10:$P$28,3),IF(AND(J102>=1977,J102<1982),VLOOKUP(K102,Feuil2!$F$10:$P$28,2),VLOOKUP(K102,Feuil2!$F$10:$P$28,2))))))))))))","v":{"$error":"#N/A"}},null,{"$f":"T102-HLOOKUP(Y102,Feuil2!$C$1:$CD$9,2,FALSE)","v":{"$error":"#VALUE!"}},{"$f":"T102-HLOOKUP(Y102,Feuil2!$C$1:$CD$9,3,FALSE)","v":{"$error":"#VALUE!"}},{"$f":"T102-HLOOKUP(Y102,Feuil2!$C$1:$CD$9,4,FALSE)","v":{"$error":"#VALUE!"}},{"$f":"T102-HLOOKUP(Y102,Feuil2!$C$1:$CD$9,5,FALSE)","v":{"$error":"#VALUE!"}},{"$f":"T102-HLOOKUP(Y102,Feuil2!$C$1:$CD$9,6,FALSE)","v":{"$error":"#VALUE!"}},{"$f":"T102-HLOOKUP(Y102,Feuil2!$C$1:$CD$9,7,FALSE)","v":{"$error":"#VALUE!"}},{"$f":"T102-HLOOKUP(Y102,Feuil2!$C$1:$CD$9,8,FALSE)","v":{"$error":"#VALUE!"}},{"$f":"T102-HLOOKUP(Y102,Feuil2!$C$1:$CD$9,9,FALSE)","v":{"$error":"#VALUE!"}},null,null,null,null,null,null,null,{"$error":"#VALUE!"},2016,null,{"$f":"IF(AQ102,VLOOKUP(AQ102,HOM!$AS$561:$AT$616,2))","v":3.5710000000000002}]
["H",null,null,null,null,null,null,null,null,null,null,null,null,null,"",null,null,null,"","","","","",{"$error":"#N/A"},{"$f":"IF(AND(J103<1920),VLOOKUP(K103,Feuil2!$F$10:$P$28,11),IF(AND(J103>=1920,J103<1937),VLOOKUP(K103,Feuil2!$F$10:$P$28,11),IF(AND(J103>=1936,J103<1942),VLOOKUP(K103,Feuil2!$F$10:$P$28,10),IF(AND(J103>=1942,J103<1947),VLOOKUP(K103,Feuil2!$F$10:$P$28,9),IF(AND(J103>=1947,J103<1952),VLOOKUP(K103,Feuil2!$F$10:$P$28,8),IF(AND(J103>=1952,J103<1957),VLOOKUP(K103,Feuil2!$F$10:$P$28,7),IF(AND(J103>=1957,J103<1962),VLOOKUP(K103,Feuil2!$F$10:$P$28,6),IF(AND(J103>=1962,J103<1967),VLOOKUP(K103,Feuil2!$F$10:$P$28,5),IF(AND(J103>=1967,J103<1972),VLOOKUP(K103,Feuil2!$F$10:$P$28,4),IF(AND(J103>=1972,J103<1977),VLOOKUP(K103,Feuil2!$F$10:$P$28,3),IF(AND(J103>=1977,J103<1982),VLOOKUP(K103,Feuil2!$F$10:$P$28,2),VLOOKUP(K103,Feuil2!$F$10:$P$28,2))))))))))))","v":{"$error":"#N/A"}},null,{"$f":"T103-HLOOKUP(Y103,Feuil2!$C$1:$CD$9,2,FALSE)","v":{"$error":"#VALUE!"}},{"$f":"T103-HLOOKUP(Y103,Feuil2!$C$1:$CD$9,3,FALSE)","v":{"$error":"#VALUE!"}},{"$f":"T103-HLOOKUP(Y103,Feuil2!$C$1:$CD$9,4,FALSE)","v":{"$error":"#VALUE!"}},{"$f":"T103-HLOOKUP(Y103,Feuil2!$C$1:$CD$9,5,FALSE)","v":{"$error":"#VALUE!"}},{"$f":"T103-HLOOKUP(Y103,Feuil2!$C$1:$CD$9,6,FALSE)","v":{"$error":"#VALUE!"}},{"$f":"T103-HLOOKUP(Y103,Feuil2!$C$1:$CD$9,7,FALSE)","v":{"$error":"#VALUE!"}},{"$f":"T103-HLOOKUP(Y103,Feuil2!$C$1:$CD$9,8,FALSE)","v":{"$error":"#VALUE!"}},{"$f":"T103-HLOOKUP(Y103,Feuil2!$C$1:$CD$9,9,FALSE)","v":{"$error":"#VALUE!"}},null,null,null,null,null,null,null,{"$error":"#VALUE!"},2016,null,{"$f":"IF(AQ103,VLOOKUP(AQ103,HOM!$AS$561:$AT$616,2))","v":3.5710000000000002}]
["H",null,null,null,null,null,null,null,null,null,null,null,null,null,"",null,null,null,"","","","","",{"$error":"#N/A"},{"$f":"IF(AND(J104<1920),VLOOKUP(K104,Feuil2!$F$10:$P$28,11),IF(AND(J104>=1920,J104<1937),VLOOKUP(K104,Feuil2!$F$10:$P$28,11),IF(AND(J104>=1936,J104<1942),VLOOKUP(K104,Feuil2!$F$10:$P$28,10),IF(AND(J104>=1942,J104<1947),VLOOKUP(K104,Feuil2!$F$10:$P$28,9),IF(AND(J104>=1947,J104<1952),VLOOKUP(K104,Feuil2!$F$10:$P$28,8),IF(AND(J104>=1952,J104<1957),VLOOKUP(K104,Feuil2!$F$10:$P$28,7),IF(AND(J104>=1957,J104<1962),VLOOKUP(K104,Feuil2!$F$10:$P$28,6),IF(AND(J104>=1962,J104<1967),VLOOKUP(K104,Feuil2!$F$10:$P$28,5),IF(AND(J104>=1967,J104<1972),VLOOKUP(K104,Feuil2!$F$10:$P$28,4),IF(AND(J104>=1972,J104<1977),VLOOKUP(K104,Feuil2!$F$10:$P$28,3),IF(AND(J104>=1977,J104<1982),VLOOKUP(K104,Feuil2!$F$10:$P$28,2),VLOOKUP(K104,Feuil2!$F$10:$P$28,2))))))))))))","v":{"$error":"#N/A"}},null,{"$f":"T104-HLOOKUP(Y104,Feuil2!$C$1:$CD$9,2,FALSE)","v":{"$error":"#VALUE!"}},{"$f":"T104-HLOOKUP(Y104,Feuil2!$C$1:$CD$9,3,FALSE)","v":{"$error":"#VALUE!"}},{"$f":"T104-HLOOKUP(Y104,Feuil2!$C$1:$CD$9,4,FALSE)","v":{"$error":"#VALUE!"}},{"$f":"T104-HLOOKUP(Y104,Feuil2!$C$1:$CD$9,5,FALSE)","v":{"$error":"#VALUE!"}},{"$f":"T104-HLOOKUP(Y104,Feuil2!$C$1:$CD$9,6,FALSE)","v":{"$error":"#VALUE!"}},{"$f":"T104-HLOOKUP(Y104,Feuil2!$C$1:$CD$9,7,FALSE)","v":{"$error":"#VALUE!"}},{"$f":"T104-HLOOKUP(Y104,Feuil2!$C$1:$CD$9,8,FALSE)","v":{"$error":"#VALUE!"}},{"$f":"T104-HLOOKUP(Y104,Feuil2!$C$1:$CD$9,9,FALSE)","v":{"$error":"#VALUE!"}},null,null,null,null,null,null,null,{"$error":"#VALUE!"},2016,null,{"$f":"IF(AQ104,VLOOKUP(AQ104,HOM!$AS$561:$AT$616,2))","v":3.5710000000000002}]
["H",null,null,null,null,null,null,null,null,null,null,null,null,null,"",null,null,null,"","","","","",{"$error":"#N/A"},{"$f":"IF(AND(J105<1920),VLOOKUP(K105,Feuil2!$F$10:$P$28,11),IF(AND(J105>=1920,J105<1937),VLOOKUP(K105,Feuil2!$F$10:$P$28,11),IF(AND(J105>=1936,J105<1942),VLOOKUP(K105,Feuil2!$F$10:$P$28,10),IF(AND(J105>=1942,J105<1947),VLOOKUP(K105,Feuil2!$F$10:$P$28,9),IF(AND(J105>=1947,J105<1952),VLOOKUP(K105,Feuil2!$F$10:$P$28,8),IF(AND(J105>=1952,J105<1957),VLOOKUP(K105,Feuil2!$F$10:$P$28,7),IF(AND(J105>=1957,J105<1962),VLOOKUP(K105,Feuil2!$F$10:$P$28,6),IF(AND(J105>=1962,J105<1967),VLOOKUP(K105,Feuil2!$F$10:$P$28,5),IF(AND(J105>=1967,J105<1972),VLOOKUP(K105,Feuil2!$F$10:$P$28,4),IF(AND(J105>=1972,J105<1977),VLOOKUP(K105,Feuil2!$F$10:$P$28,3),IF(AND(J105>=1977,J105<1982),VLOOKUP(K105,Feuil2!$F$10:$P$28,2),VLOOKUP(K105,Feuil2!$F$10:$P$28,2))))))))))))","v":{"$error":"#N/A"}},null,{"$f":"T105-HLOOKUP(Y105,Feuil2!$C$1:$CD$9,2,FALSE)","v":{"$error":"#VALUE!"}},{"$f":"T105-HLOOKUP(Y105,Feuil2!$C$1:$CD$9,3,FALSE)","v":{"$error":"#VALUE!"}},{"$f":"T105-HLOOKUP(Y105,Feuil2!$C$1:$CD$9,4,FALSE)","v":{"$error":"#VALUE!"}},{"$f":"T105-HLOOKUP(Y105,Feuil2!$C$1:$CD$9,5,FALSE)","v":{"$error":"#VALUE!"}},{"$f":"T105-HLOOKUP(Y105,Feuil2!$C$1:$CD$9,6,FALSE)","v":{"$error":"#VALUE!"}},{"$f":"T105-HLOOKUP(Y105,Feuil2!$C$1:$CD$9,7,FALSE)","v":{"$error":"#VALUE!"}},{"$f":"T105-HLOOKUP(Y105,Feuil2!$C$1:$CD$9,8,FALSE)","v":{"$error":"#VALUE!"}},{"$f":"T105-HLOOKUP(Y105,Feuil2!$C$1:$CD$9,9,FALSE)","v":{"$error":"#VALUE!"}},null,null,null,null,null,null,null,{"$error":"#VALUE!"},2016,null,{"$f":"IF(AQ105,VLOOKUP(AQ105,HOM!$AS$561:$AT$616,2))","v":3.5710000000000002}]
["H",null,null,null,null,null,null,null,null,null,null,null,null,null,"",null,null,null,"","","","","",{"$error":"#N/A"},{"$f":"IF(AND(J106<1920),VLOOKUP(K106,Feuil2!$F$10:$P$28,11),IF(AND(J106>=1920,J106<1937),VLOOKUP(K106,Feuil2!$F$10:$P$28,11),IF(AND(J106>=1936,J106<1942),VLOOKUP(K106,Feuil2!$F$10:$P$28,10),IF(AND(J106>=1942,J106<1947),VLOOKUP(K106,Feuil2!$F$10:$P$28,9),IF(AND(J106>=1947,J106<1952),VLOOKUP(K106,Feuil2!$F$10:$P$28,8),IF(AND(J106>=1952,J106<1957),VLOOKUP(K106,Feuil2!$F$10:$P$28,7),IF(AND(J106>=1957,J106<1962),VLOOKUP(K106,Feuil2!$F$10:$P$28,6),IF(AND(J106>=1962,J106<1967),VLOOKUP(K106,Feuil2!$F$10:$P$28,5),IF(AND(J106>=1967,J106<1972),VLOOKUP(K106,Feuil2!$F$10:$P$28,4),IF(AND(J106>=1972,J106<1977),VLOOKUP(K106,Feuil2!$F$10:$P$28,3),IF(AND(J106>=1977,J106<1982),VLOOKUP(K106,Feuil2!$F$10:$P$28,2),VLOOKUP(K106,Feuil2!$F$10:$P$28,2))))))))))))","v":{"$error":"#N/A"}},null,{"$f":"T106-HLOOKUP(Y106,Feuil2!$C$1:$CD$9,2,FALSE)","v":{"$error":"#VALUE!"}},{"$f":"T106-HLOOKUP(Y106,Feuil2!$C$1:$CD$9,3,FALSE)","v":{"$error":"#VALUE!"}},{"$f":"T106-HLOOKUP(Y106,Feuil2!$C$1:$CD$9,4,FALSE)","v":{"$error":"#VALUE!"}},{"$f":"T106-HLOOKUP(Y106,Feuil2!$C$1:$CD$9,5,FALSE)","v":{"$error":"#VALUE!"}},{"$f":"T106-HLOOKUP(Y106,Feuil2!$C$1:$CD$9,6,FALSE)","v":{"$error":"#VALUE!"}},{"$f":"T106-HLOOKUP(Y106,Feuil2!$C$1:$CD$9,7,FALSE)","v":{"$error":"#VALUE!"}},{"$f":"T106-HLOOKUP(Y106,Feuil2!$C$1:$CD$9,8,FALSE)","v":{"$error":"#VALUE!"}},{"$f":"T106-HLOOKUP(Y106,Feuil2!$C$1:$CD$9,9,FALSE)","v":{"$error":"#VALUE!"}},null,null,null,null,null,null,null,{"$error":"#VALUE!"},2016,null,{"$f":"IF(AQ106,VLOOKUP(AQ106,HOM!$AS$561:$AT$616,2))","v":3.5710000000000002}]
["H",null,null,null,null,null,null,null,null,null,null,null,null,null,"",null,null,null,"","","","","",{"$error":"#N/A"},{"$f":"IF(AND(J107<1920),VLOOKUP(K107,Feuil2!$F$10:$P$28,11),IF(AND(J107>=1920,J107<1937),VLOOKUP(K107,Feuil2!$F$10:$P$28,11),IF(AND(J107>=1936,J107<1942),VLOOKUP(K107,Feuil2!$F$10:$P$28,10),IF(AND(J107>=1942,J107<1947),VLOOKUP(K107,Feuil2!$F$10:$P$28,9),IF(AND(J107>=1947,J107<1952),VLOOKUP(K107,Feuil2!$F$10:$P$28,8),IF(AND(J107>=1952,J107<1957),VLOOKUP(K107,Feuil2!$F$10:$P$28,7),IF(AND(J107>=1957,J107<1962),VLOOKUP(K107,Feuil2!$F$10:$P$28,6),IF(AND(J107>=1962,J107<1967),VLOOKUP(K107,Feuil2!$F$10:$P$28,5),IF(AND(J107>=1967,J107<1972),VLOOKUP(K107,Feuil2!$F$10:$P$28,4),IF(AND(J107>=1972,J107<1977),VLOOKUP(K107,Feuil2!$F$10:$P$28,3),IF(AND(J107>=1977,J107<1982),VLOOKUP(K107,Feuil2!$F$10:$P$28,2),VLOOKUP(K107,Feuil2!$F$10:$P$28,2))))))))))))","v":{"$error":"#N/A"}},null,{"$f":"T107-HLOOKUP(Y107,Feuil2!$C$1:$CD$9,2,FALSE)","v":{"$error":"#VALUE!"}},{"$f":"T107-HLOOKUP(Y107,Feuil2!$C$1:$CD$9,3,FALSE)","v":{"$error":"#VALUE!"}},{"$f":"T107-HLOOKUP(Y107,Feuil2!$C$1:$CD$9,4,FALSE)","v":{"$error":"#VALUE!"}},{"$f":"T107-HLOOKUP(Y107,Feuil2!$C$1:$CD$9,5,FALSE)","v":{"$error":"#VALUE!"}},{"$f":"T107-HLOOKUP(Y107,Feuil2!$C$1:$CD$9,6,FALSE)","v":{"$error":"#VALUE!"}},{"$f":"T107-HLOOKUP(Y107,Feuil2!$C$1:$CD$9,7,FALSE)","v":{"$error":"#VALUE!"}},{"$f":"T107-HLOOKUP(Y107,Feuil2!$C$1:$CD$9,8,FALSE)","v":{"$error":"#VALUE!"}},{"$f":"T107-HLOOKUP(Y107,Feuil2!$C$1:$CD$9,9,FALSE)","v":{"$error":"#VALUE!"}},null,null,null,null,null,null,null,{"$error":"#VALUE!"},2016,null,{"$f":"IF(AQ107,VLOOKUP(AQ107,HOM!$AS$561:$AT$616,2))","v":3.5710000000000002}]
["H",null,null,null,null,null,null,null,null,null,null,null,null,null,"",null,null,null,"","","","","",{"$error":"#N/A"},{"$f":"IF(AND(J108<1920),VLOOKUP(K108,Feuil2!$F$10:$P$28,11),IF(AND(J108>=1920,J108<1937),VLOOKUP(K108,Feuil2!$F$10:$P$28,11),IF(AND(J108>=1936,J108<1942),VLOOKUP(K108,Feuil2!$F$10:$P$28,10),IF(AND(J108>=1942,J108<1947),VLOOKUP(K108,Feuil2!$F$10:$P$28,9),IF(AND(J108>=1947,J108<1952),VLOOKUP(K108,Feuil2!$F$10:$P$28,8),IF(AND(J108>=1952,J108<1957),VLOOKUP(K108,Feuil2!$F$10:$P$28,7),IF(AND(J108>=1957,J108<1962),VLOOKUP(K108,Feuil2!$F$10:$P$28,6),IF(AND(J108>=1962,J108<1967),VLOOKUP(K108,Feuil2!$F$10:$P$28,5),IF(AND(J108>=1967,J108<1972),VLOOKUP(K108,Feuil2!$F$10:$P$28,4),IF(AND(J108>=1972,J108<1977),VLOOKUP(K108,Feuil2!$F$10:$P$28,3),IF(AND(J108>=1977,J108<1982),VLOOKUP(K108,Feuil2!$F$10:$P$28,2),VLOOKUP(K108,Feuil2!$F$10:$P$28,2))))))))))))","v":{"$error":"#N/A"}},null,{"$f":"T108-HLOOKUP(Y108,Feuil2!$C$1:$CD$9,2,FALSE)","v":{"$error":"#VALUE!"}},{"$f":"T108-HLOOKUP(Y108,Feuil2!$C$1:$CD$9,3,FALSE)","v":{"$error":"#VALUE!"}},{"$f":"T108-HLOOKUP(Y108,Feuil2!$C$1:$CD$9,4,FALSE)","v":{"$error":"#VALUE!"}},{"$f":"T108-HLOOKUP(Y108,Feuil2!$C$1:$CD$9,5,FALSE)","v":{"$error":"#VALUE!"}},{"$f":"T108-HLOOKUP(Y108,Feuil2!$C$1:$CD$9,6,FALSE)","v":{"$error":"#VALUE!"}},{"$f":"T108-HLOOKUP(Y108,Feuil2!$C$1:$CD$9,7,FALSE)","v":{"$error":"#VALUE!"}},{"$f":"T108-HLOOKUP(Y108,Feuil2!$C$1:$CD$9,8,FALSE)","v":{"$error":"#VALUE!"}},{"$f":"T108-HLOOKUP(Y108,Feuil2!$C$1:$CD$9,9,FALSE)","v":{"$error":"#VALUE!"}},null,null,null,null,null,null,null,{"$error":"#VALUE!"},2016,null,{"$f":"IF(AQ108,VLOOKUP(AQ108,HOM!$AS$561:$AT$616,2))","v":3.5710000000000002}]
["H",null,null,null,null,null,null,null,null,null,null,null,null,null,"",null,null,null,"","","","","",{"$error":"#N/A"},{"$f":"IF(AND(J109<1920),VLOOKUP(K109,Feuil2!$F$10:$P$28,11),IF(AND(J109>=1920,J109<1937),VLOOKUP(K109,Feuil2!$F$10:$P$28,11),IF(AND(J109>=1936,J109<1942),VLOOKUP(K109,Feuil2!$F$10:$P$28,10),IF(AND(J109>=1942,J109<1947),VLOOKUP(K109,Feuil2!$F$10:$P$28,9),IF(AND(J109>=1947,J109<1952),VLOOKUP(K109,Feuil2!$F$10:$P$28,8),IF(AND(J109>=1952,J109<1957),VLOOKUP(K109,Feuil2!$F$10:$P$28,7),IF(AND(J109>=1957,J109<1962),VLOOKUP(K109,Feuil2!$F$10:$P$28,6),IF(AND(J109>=1962,J109<1967),VLOOKUP(K109,Feuil2!$F$10:$P$28,5),IF(AND(J109>=1967,J109<1972),VLOOKUP(K109,Feuil2!$F$10:$P$28,4),IF(AND(J109>=1972,J109<1977),VLOOKUP(K109,Feuil2!$F$10:$P$28,3),IF(AND(J109>=1977,J109<1982),VLOOKUP(K109,Feuil2!$F$10:$P$28,2),VLOOKUP(K109,Feuil2!$F$10:$P$28,2))))))))))))","v":{"$error":"#N/A"}},null,{"$f":"T109-HLOOKUP(Y109,Feuil2!$C$1:$CD$9,2,FALSE)","v":{"$error":"#VALUE!"}},{"$f":"T109-HLOOKUP(Y109,Feuil2!$C$1:$CD$9,3,FALSE)","v":{"$error":"#VALUE!"}},{"$f":"T109-HLOOKUP(Y109,Feuil2!$C$1:$CD$9,4,FALSE)","v":{"$error":"#VALUE!"}},{"$f":"T109-HLOOKUP(Y109,Feuil2!$C$1:$CD$9,5,FALSE)","v":{"$error":"#VALUE!"}},{"$f":"T109-HLOOKUP(Y109,Feuil2!$C$1:$CD$9,6,FALSE)","v":{"$error":"#VALUE!"}},{"$f":"T109-HLOOKUP(Y109,Feuil2!$C$1:$CD$9,7,FALSE)","v":{"$error":"#VALUE!"}},{"$f":"T109-HLOOKUP(Y109,Feuil2!$C$1:$CD$9,8,FALSE)","v":{"$error":"#VALUE!"}},{"$f":"T109-HLOOKUP(Y109,Feuil2!$C$1:$CD$9,9,FALSE)","v":{"$error":"#VALUE!"}},null,null,null,null,null,null,null,{"$error":"#VALUE!"},2016,null,{"$f":"IF(AQ109,VLOOKUP(AQ109,HOM!$AS$561:$AT$616,2))","v":3.5710000000000002}]
["H",null,null,null,null,null,null,null,null,null,null,null,null,null,"",null,null,null,"","","","","",{"$error":"#N/A"},{"$f":"IF(AND(J110<1920),VLOOKUP(K110,Feuil2!$F$10:$P$28,11),IF(AND(J110>=1920,J110<1937),VLOOKUP(K110,Feuil2!$F$10:$P$28,11),IF(AND(J110>=1936,J110<1942),VLOOKUP(K110,Feuil2!$F$10:$P$28,10),IF(AND(J110>=1942,J110<1947),VLOOKUP(K110,Feuil2!$F$10:$P$28,9),IF(AND(J110>=1947,J110<1952),VLOOKUP(K110,Feuil2!$F$10:$P$28,8),IF(AND(J110>=1952,J110<1957),VLOOKUP(K110,Feuil2!$F$10:$P$28,7),IF(AND(J110>=1957,J110<1962),VLOOKUP(K110,Feuil2!$F$10:$P$28,6),IF(AND(J110>=1962,J110<1967),VLOOKUP(K110,Feuil2!$F$10:$P$28,5),IF(AND(J110>=1967,J110<1972),VLOOKUP(K110,Feuil2!$F$10:$P$28,4),IF(AND(J110>=1972,J110<1977),VLOOKUP(K110,Feuil2!$F$10:$P$28,3),IF(AND(J110>=1977,J110<1982),VLOOKUP(K110,Feuil2!$F$10:$P$28,2),VLOOKUP(K110,Feuil2!$F$10:$P$28,2))))))))))))","v":{"$error":"#N/A"}},null,{"$f":"T110-HLOOKUP(Y110,Feuil2!$C$1:$CD$9,2,FALSE)","v":{"$error":"#VALUE!"}},{"$f":"T110-HLOOKUP(Y110,Feuil2!$C$1:$CD$9,3,FALSE)","v":{"$error":"#VALUE!"}},{"$f":"T110-HLOOKUP(Y110,Feuil2!$C$1:$CD$9,4,FALSE)","v":{"$error":"#VALUE!"}},{"$f":"T110-HLOOKUP(Y110,Feuil2!$C$1:$CD$9,5,FALSE)","v":{"$error":"#VALUE!"}},{"$f":"T110-HLOOKUP(Y110,Feuil2!$C$1:$CD$9,6,FALSE)","v":{"$error":"#VALUE!"}},{"$f":"T110-HLOOKUP(Y110,Feuil2!$C$1:$CD$9,7,FALSE)","v":{"$error":"#VALUE!"}},{"$f":"T110-HLOOKUP(Y110,Feuil2!$C$1:$CD$9,8,FALSE)","v":{"$error":"#VALUE!"}},{"$f":"T110-HLOOKUP(Y110,Feuil2!$C$1:$CD$9,9,FALSE)","v":{"$error":"#VALUE!"}},null,null,null,null,null,null,null,{"$error":"#VALUE!"},2016,null,{"$f":"IF(AQ110,VLOOKUP(AQ110,HOM!$AS$561:$AT$616,2))","v":3.5710000000000002}]
["H",null,null,null,null,null,null,null,null,null,null,null,null,null,"",null,null,null,"","","","","",{"$error":"#N/A"},{"$f":"IF(AND(J111<1920),VLOOKUP(K111,Feuil2!$F$10:$P$28,11),IF(AND(J111>=1920,J111<1937),VLOOKUP(K111,Feuil2!$F$10:$P$28,11),IF(AND(J111>=1936,J111<1942),VLOOKUP(K111,Feuil2!$F$10:$P$28,10),IF(AND(J111>=1942,J111<1947),VLOOKUP(K111,Feuil2!$F$10:$P$28,9),IF(AND(J111>=1947,J111<1952),VLOOKUP(K111,Feuil2!$F$10:$P$28,8),IF(AND(J111>=1952,J111<1957),VLOOKUP(K111,Feuil2!$F$10:$P$28,7),IF(AND(J111>=1957,J111<1962),VLOOKUP(K111,Feuil2!$F$10:$P$28,6),IF(AND(J111>=1962,J111<1967),VLOOKUP(K111,Feuil2!$F$10:$P$28,5),IF(AND(J111>=1967,J111<1972),VLOOKUP(K111,Feuil2!$F$10:$P$28,4),IF(AND(J111>=1972,J111<1977),VLOOKUP(K111,Feuil2!$F$10:$P$28,3),IF(AND(J111>=1977,J111<1982),VLOOKUP(K111,Feuil2!$F$10:$P$28,2),VLOOKUP(K111,Feuil2!$F$10:$P$28,2))))))))))))","v":{"$error":"#N/A"}},null,{"$f":"T111-HLOOKUP(Y111,Feuil2!$C$1:$CD$9,2,FALSE)","v":{"$error":"#VALUE!"}},{"$f":"T111-HLOOKUP(Y111,Feuil2!$C$1:$CD$9,3,FALSE)","v":{"$error":"#VALUE!"}},{"$f":"T111-HLOOKUP(Y111,Feuil2!$C$1:$CD$9,4,FALSE)","v":{"$error":"#VALUE!"}},{"$f":"T111-HLOOKUP(Y111,Feuil2!$C$1:$CD$9,5,FALSE)","v":{"$error":"#VALUE!"}},{"$f":"T111-HLOOKUP(Y111,Feuil2!$C$1:$CD$9,6,FALSE)","v":{"$error":"#VALUE!"}},{"$f":"T111-HLOOKUP(Y111,Feuil2!$C$1:$CD$9,7,FALSE)","v":{"$error":"#VALUE!"}},{"$f":"T111-HLOOKUP(Y111,Feuil2!$C$1:$CD$9,8,FALSE)","v":{"$error":"#VALUE!"}},{"$f":"T111-HLOOKUP(Y111,Feuil2!$C$1:$CD$9,9,FALSE)","v":{"$error":"#VALUE!"}},null,null,null,null,null,null,null,{"$error":"#VALUE!"},2016,null,{"$f":"IF(AQ111,VLOOKUP(AQ111,HOM!$AS$561:$AT$616,2))","v":3.5710000000000002}]
["H",null,null,null,null,null,null,null,null,null,null,null,null,null,"",null,null,null,{"$f":"IF(K112=\"\",\"\",IF(MAXA(P112:R112)<=0,0,MAXA(P112:R112)))","v":""},{"$f":"IF(K112=\"\",\"\",IF(OR(O112=0,S112=0),0,O112+S112))","v":""},"","","",{"$error":"#N/A"},{"$f":"IF(AND(J112<1920),VLOOKUP(K112,Feuil2!$F$10:$P$28,11),IF(AND(J112>=1920,J112<1937),VLOOKUP(K112,Feuil2!$F$10:$P$28,11),IF(AND(J112>=1936,J112<1942),VLOOKUP(K112,Feuil2!$F$10:$P$28,10),IF(AND(J112>=1942,J112<1947),VLOOKUP(K112,Feuil2!$F$10:$P$28,9),IF(AND(J112>=1947,J112<1952),VLOOKUP(K112,Feuil2!$F$10:$P$28,8),IF(AND(J112>=1952,J112<1957),VLOOKUP(K112,Feuil2!$F$10:$P$28,7),IF(AND(J112>=1957,J112<1962),VLOOKUP(K112,Feuil2!$F$10:$P$28,6),IF(AND(J112>=1962,J112<1967),VLOOKUP(K112,Feuil2!$F$10:$P$28,5),IF(AND(J112>=1967,J112<1972),VLOOKUP(K112,Feuil2!$F$10:$P$28,4),IF(AND(J112>=1972,J112<1977),VLOOKUP(K112,Feuil2!$F$10:$P$28,3),IF(AND(J112>=1977,J112<1982),VLOOKUP(K112,Feuil2!$F$10:$P$28,2),VLOOKUP(K112,Feuil2!$F$10:$P$28,2))))))))))))","v":{"$error":"#N/A"}},null,{"$f":"T112-HLOOKUP(Y112,Feuil2!$C$1:$CD$9,2,FALSE)","v":{"$error":"#VALUE!"}},{"$f":"T112-HLOOKUP(Y112,Feuil2!$C$1:$CD$9,3,FALSE)","v":{"$error":"#VALUE!"}},{"$f":"T112-HLOOKUP(Y112,Feuil2!$C$1:$CD$9,4,FALSE)","v":{"$error":"#VALUE!"}},{"$f":"T112-HLOOKUP(Y112,Feuil2!$C$1:$CD$9,5,FALSE)","v":{"$error":"#VALUE!"}},{"$f":"T112-HLOOKUP(Y112,Feuil2!$C$1:$CD$9,6,FALSE)","v":{"$error":"#VALUE!"}},{"$f":"T112-HLOOKUP(Y112,Feuil2!$C$1:$CD$9,7,FALSE)","v":{"$error":"#VALUE!"}},{"$f":"T112-HLOOKUP(Y112,Feuil2!$C$1:$CD$9,8,FALSE)","v":{"$error":"#VALUE!"}},{"$f":"T112-HLOOKUP(Y112,Feuil2!$C$1:$CD$9,9,FALSE)","v":{"$error":"#VALUE!"}},null,null,null,null,null,null,null,{"$error":"#VALUE!"},2016,null,{"$f":"IF(AQ112,VLOOKUP(AQ112,HOM!$AS$561:$AT$616,2))","v":3.5710000000000002}]
["H",null,null,null,null,null,null,null,null,null,null,null,null,null,"",null,null,null,"","","","","",{"$error":"#N/A"},{"$f":"IF(AND(J113<1920),VLOOKUP(K113,Feuil2!$F$10:$P$28,11),IF(AND(J113>=1920,J113<1937),VLOOKUP(K113,Feuil2!$F$10:$P$28,11),IF(AND(J113>=1936,J113<1942),VLOOKUP(K113,Feuil2!$F$10:$P$28,10),IF(AND(J113>=1942,J113<1947),VLOOKUP(K113,Feuil2!$F$10:$P$28,9),IF(AND(J113>=1947,J113<1952),VLOOKUP(K113,Feuil2!$F$10:$P$28,8),IF(AND(J113>=1952,J113<1957),VLOOKUP(K113,Feuil2!$F$10:$P$28,7),IF(AND(J113>=1957,J113<1962),VLOOKUP(K113,Feuil2!$F$10:$P$28,6),IF(AND(J113>=1962,J113<1967),VLOOKUP(K113,Feuil2!$F$10:$P$28,5),IF(AND(J113>=1967,J113<1972),VLOOKUP(K113,Feuil2!$F$10:$P$28,4),IF(AND(J113>=1972,J113<1977),VLOOKUP(K113,Feuil2!$F$10:$P$28,3),IF(AND(J113>=1977,J113<1982),VLOOKUP(K113,Feuil2!$F$10:$P$28,2),VLOOKUP(K113,Feuil2!$F$10:$P$28,2))))))))))))","v":{"$error":"#N/A"}},null,{"$f":"T113-HLOOKUP(Y113,Feuil2!$C$1:$CD$9,2,FALSE)","v":{"$error":"#VALUE!"}},{"$f":"T113-HLOOKUP(Y113,Feuil2!$C$1:$CD$9,3,FALSE)","v":{"$error":"#VALUE!"}},{"$f":"T113-HLOOKUP(Y113,Feuil2!$C$1:$CD$9,4,FALSE)","v":{"$error":"#VALUE!"}},{"$f":"T113-HLOOKUP(Y113,Feuil2!$C$1:$CD$9,5,FALSE)","v":{"$error":"#VALUE!"}},{"$f":"T113-HLOOKUP(Y113,Feuil2!$C$1:$CD$9,6,FALSE)","v":{"$error":"#VALUE!"}},{"$f":"T113-HLOOKUP(Y113,Feuil2!$C$1:$CD$9,7,FALSE)","v":{"$error":"#VALUE!"}},{"$f":"T113-HLOOKUP(Y113,Feuil2!$C$1:$CD$9,8,FALSE)","v":{"$error":"#VALUE!"}},{"$f":"T113-HLOOKUP(Y113,Feuil2!$C$1:$CD$9,9,FALSE)","v":{"$error":"#VALUE!"}},null,null,null,null,null,null,null,{"$error":"#VALUE!"},2016,null,{"$f":"IF(AQ113,VLOOKUP(AQ113,HOM!$AS$561:$AT$616,2))","v":3.5710000000000002}]
["H",null,null,null,null,null,null,null,null,null,null,null,null,null,"",null,null,null,"","","","","",{"$error":"#N/A"},{"$f":"IF(AND(J114<1920),VLOOKUP(K114,Feuil2!$F$10:$P$28,11),IF(AND(J114>=1920,J114<1937),VLOOKUP(K114,Feuil2!$F$10:$P$28,11),IF(AND(J114>=1936,J114<1942),VLOOKUP(K114,Feuil2!$F$10:$P$28,10),IF(AND(J114>=1942,J114<1947),VLOOKUP(K114,Feuil2!$F$10:$P$28,9),IF(AND(J114>=1947,J114<1952),VLOOKUP(K114,Feuil2!$F$10:$P$28,8),IF(AND(J114>=1952,J114<1957),VLOOKUP(K114,Feuil2!$F$10:$P$28,7),IF(AND(J114>=1957,J114<1962),VLOOKUP(K114,Feuil2!$F$10:$P$28,6),IF(AND(J114>=1962,J114<1967),VLOOKUP(K114,Feuil2!$F$10:$P$28,5),IF(AND(J114>=1967,J114<1972),VLOOKUP(K114,Feuil2!$F$10:$P$28,4),IF(AND(J114>=1972,J114<1977),VLOOKUP(K114,Feuil2!$F$10:$P$28,3),IF(AND(J114>=1977,J114<1982),VLOOKUP(K114,Feuil2!$F$10:$P$28,2),VLOOKUP(K114,Feuil2!$F$10:$P$28,2))))))))))))","v":{"$error":"#N/A"}},null,{"$f":"T114-HLOOKUP(Y114,Feuil2!$C$1:$CD$9,2,FALSE)","v":{"$error":"#VALUE!"}},{"$f":"T114-HLOOKUP(Y114,Feuil2!$C$1:$CD$9,3,FALSE)","v":{"$error":"#VALUE!"}},{"$f":"T114-HLOOKUP(Y114,Feuil2!$C$1:$CD$9,4,FALSE)","v":{"$error":"#VALUE!"}},{"$f":"T114-HLOOKUP(Y114,Feuil2!$C$1:$CD$9,5,FALSE)","v":{"$error":"#VALUE!"}},{"$f":"T114-HLOOKUP(Y114,Feuil2!$C$1:$CD$9,6,FALSE)","v":{"$error":"#VALUE!"}},{"$f":"T114-HLOOKUP(Y114,Feuil2!$C$1:$CD$9,7,FALSE)","v":{"$error":"#VALUE!"}},{"$f":"T114-HLOOKUP(Y114,Feuil2!$C$1:$CD$9,8,FALSE)","v":{"$error":"#VALUE!"}},{"$f":"T114-HLOOKUP(Y114,Feuil2!$C$1:$CD$9,9,FALSE)","v":{"$error":"#VALUE!"}},null,null,null,null,null,null,null,{"$error":"#VALUE!"},2016,null,{"$f":"IF(AQ114,VLOOKUP(AQ114,HOM!$AS$561:$AT$616,2))","v":3.5710000000000002}]
["H",null,null,null,null,null,null,null,null,null,null,null,null,null,"",null,null,null,"","","","","",{"$error":"#N/A"},{"$f":"IF(AND(J115<1920),VLOOKUP(K115,Feuil2!$F$10:$P$28,11),IF(AND(J115>=1920,J115<1937),VLOOKUP(K115,Feuil2!$F$10:$P$28,11),IF(AND(J115>=1936,J115<1942),VLOOKUP(K115,Feuil2!$F$10:$P$28,10),IF(AND(J115>=1942,J115<1947),VLOOKUP(K115,Feuil2!$F$10:$P$28,9),IF(AND(J115>=1947,J115<1952),VLOOKUP(K115,Feuil2!$F$10:$P$28,8),IF(AND(J115>=1952,J115<1957),VLOOKUP(K115,Feuil2!$F$10:$P$28,7),IF(AND(J115>=1957,J115<1962),VLOOKUP(K115,Feuil2!$F$10:$P$28,6),IF(AND(J115>=1962,J115<1967),VLOOKUP(K115,Feuil2!$F$10:$P$28,5),IF(AND(J115>=1967,J115<1972),VLOOKUP(K115,Feuil2!$F$10:$P$28,4),IF(AND(J115>=1972,J115<1977),VLOOKUP(K115,Feuil2!$F$10:$P$28,3),IF(AND(J115>=1977,J115<1982),VLOOKUP(K115,Feuil2!$F$10:$P$28,2),VLOOKUP(K115,Feuil2!$F$10:$P$28,2))))))))))))","v":{"$error":"#N/A"}},null,{"$f":"T115-HLOOKUP(Y115,Feuil2!$C$1:$CD$9,2,FALSE)","v":{"$error":"#VALUE!"}},{"$f":"T115-HLOOKUP(Y115,Feuil2!$C$1:$CD$9,3,FALSE)","v":{"$error":"#VALUE!"}},{"$f":"T115-HLOOKUP(Y115,Feuil2!$C$1:$CD$9,4,FALSE)","v":{"$error":"#VALUE!"}},{"$f":"T115-HLOOKUP(Y115,Feuil2!$C$1:$CD$9,5,FALSE)","v":{"$error":"#VALUE!"}},{"$f":"T115-HLOOKUP(Y115,Feuil2!$C$1:$CD$9,6,FALSE)","v":{"$error":"#VALUE!"}},{"$f":"T115-HLOOKUP(Y115,Feuil2!$C$1:$CD$9,7,FALSE)","v":{"$error":"#VALUE!"}},{"$f":"T115-HLOOKUP(Y115,Feuil2!$C$1:$CD$9,8,FALSE)","v":{"$error":"#VALUE!"}},{"$f":"T115-HLOOKUP(Y115,Feuil2!$C$1:$CD$9,9,FALSE)","v":{"$error":"#VALUE!"}},null,null,null,null,null,null,null,{"$error":"#VALUE!"},2016,null,{"$f":"IF(AQ115,VLOOKUP(AQ115,HOM!$AS$561:$AT$616,2))","v":3.5710000000000002}]
["H",null,null,null,null,null,null,null,null,null,null,null,null,null,"",null,null,null,"","","","","",{"$error":"#N/A"},{"$f":"IF(AND(J116<1920),VLOOKUP(K116,Feuil2!$F$10:$P$28,11),IF(AND(J116>=1920,J116<1937),VLOOKUP(K116,Feuil2!$F$10:$P$28,11),IF(AND(J116>=1936,J116<1942),VLOOKUP(K116,Feuil2!$F$10:$P$28,10),IF(AND(J116>=1942,J116<1947),VLOOKUP(K116,Feuil2!$F$10:$P$28,9),IF(AND(J116>=1947,J116<1952),VLOOKUP(K116,Feuil2!$F$10:$P$28,8),IF(AND(J116>=1952,J116<1957),VLOOKUP(K116,Feuil2!$F$10:$P$28,7),IF(AND(J116>=1957,J116<1962),VLOOKUP(K116,Feuil2!$F$10:$P$28,6),IF(AND(J116>=1962,J116<1967),VLOOKUP(K116,Feuil2!$F$10:$P$28,5),IF(AND(J116>=1967,J116<1972),VLOOKUP(K116,Feuil2!$F$10:$P$28,4),IF(AND(J116>=1972,J116<1977),VLOOKUP(K116,Feuil2!$F$10:$P$28,3),IF(AND(J116>=1977,J116<1982),VLOOKUP(K116,Feuil2!$F$10:$P$28,2),VLOOKUP(K116,Feuil2!$F$10:$P$28,2))))))))))))","v":{"$error":"#N/A"}},null,{"$f":"T116-HLOOKUP(Y116,Feuil2!$C$1:$CD$9,2,FALSE)","v":{"$error":"#VALUE!"}},{"$f":"T116-HLOOKUP(Y116,Feuil2!$C$1:$CD$9,3,FALSE)","v":{"$error":"#VALUE!"}},{"$f":"T116-HLOOKUP(Y116,Feuil2!$C$1:$CD$9,4,FALSE)","v":{"$error":"#VALUE!"}},{"$f":"T116-HLOOKUP(Y116,Feuil2!$C$1:$CD$9,5,FALSE)","v":{"$error":"#VALUE!"}},{"$f":"T116-HLOOKUP(Y116,Feuil2!$C$1:$CD$9,6,FALSE)","v":{"$error":"#VALUE!"}},{"$f":"T116-HLOOKUP(Y116,Feuil2!$C$1:$CD$9,7,FALSE)","v":{"$error":"#VALUE!"}},{"$f":"T116-HLOOKUP(Y116,Feuil2!$C$1:$CD$9,8,FALSE)","v":{"$error":"#VALUE!"}},{"$f":"T116-HLOOKUP(Y116,Feuil2!$C$1:$CD$9,9,FALSE)","v":{"$error":"#VALUE!"}},null,null,null,null,null,null,null,{"$error":"#VALUE!"},2016,null,{"$f":"IF(AQ116,VLOOKUP(AQ116,HOM!$AS$561:$AT$616,2))","v":3.5710000000000002}]
["H",null,null,null,null,null,null,null,null,null,null,null,null,null,"",null,null,null,"","","","","",{"$error":"#N/A"},{"$f":"IF(AND(J117<1920),VLOOKUP(K117,Feuil2!$F$10:$P$28,11),IF(AND(J117>=1920,J117<1937),VLOOKUP(K117,Feuil2!$F$10:$P$28,11),IF(AND(J117>=1936,J117<1942),VLOOKUP(K117,Feuil2!$F$10:$P$28,10),IF(AND(J117>=1942,J117<1947),VLOOKUP(K117,Feuil2!$F$10:$P$28,9),IF(AND(J117>=1947,J117<1952),VLOOKUP(K117,Feuil2!$F$10:$P$28,8),IF(AND(J117>=1952,J117<1957),VLOOKUP(K117,Feuil2!$F$10:$P$28,7),IF(AND(J117>=1957,J117<1962),VLOOKUP(K117,Feuil2!$F$10:$P$28,6),IF(AND(J117>=1962,J117<1967),VLOOKUP(K117,Feuil2!$F$10:$P$28,5),IF(AND(J117>=1967,J117<1972),VLOOKUP(K117,Feuil2!$F$10:$P$28,4),IF(AND(J117>=1972,J117<1977),VLOOKUP(K117,Feuil2!$F$10:$P$28,3),IF(AND(J117>=1977,J117<1982),VLOOKUP(K117,Feuil2!$F$10:$P$28,2),VLOOKUP(K117,Feuil2!$F$10:$P$28,2))))))))))))","v":{"$error":"#N/A"}},null,{"$f":"T117-HLOOKUP(Y117,Feuil2!$C$1:$CD$9,2,FALSE)","v":{"$error":"#VALUE!"}},{"$f":"T117-HLOOKUP(Y117,Feuil2!$C$1:$CD$9,3,FALSE)","v":{"$error":"#VALUE!"}},{"$f":"T117-HLOOKUP(Y117,Feuil2!$C$1:$CD$9,4,FALSE)","v":{"$error":"#VALUE!"}},{"$f":"T117-HLOOKUP(Y117,Feuil2!$C$1:$CD$9,5,FALSE)","v":{"$error":"#VALUE!"}},{"$f":"T117-HLOOKUP(Y117,Feuil2!$C$1:$CD$9,6,FALSE)","v":{"$error":"#VALUE!"}},{"$f":"T117-HLOOKUP(Y117,Feuil2!$C$1:$CD$9,7,FALSE)","v":{"$error":"#VALUE!"}},{"$f":"T117-HLOOKUP(Y117,Feuil2!$C$1:$CD$9,8,FALSE)","v":{"$error":"#VALUE!"}},{"$f":"T117-HLOOKUP(Y117,Feuil2!$C$1:$CD$9,9,FALSE)","v":{"$error":"#VALUE!"}},null,null,null,null,null,null,null,{"$error":"#VALUE!"},2016,null,{"$f":"IF(AQ117,VLOOKUP(AQ117,HOM!$AS$561:$AT$616,2))","v":3.5710000000000002}]
["H",null,null,null,null,null,null,null,null,null,null,null,null,null,{"$f":"IF(K118=\"\",\"\",IF(MAXA(L118:N118)<=0,0,MAXA(L118:N118)))","v":""},null,null,null,{"$f":"IF(K118=\"\",\"\",IF(MAXA(P118:R118)<=0,0,MAXA(P118:R118)))","v":""},{"$f":"IF(K118=\"\",\"\",IF(OR(O118=0,S118=0),0,O118+S118))","v":""},"","","",{"$error":"#N/A"},{"$f":"IF(AND(J118<1920),VLOOKUP(K118,Feuil2!$F$10:$P$28,11),IF(AND(J118>=1920,J118<1937),VLOOKUP(K118,Feuil2!$F$10:$P$28,11),IF(AND(J118>=1936,J118<1942),VLOOKUP(K118,Feuil2!$F$10:$P$28,10),IF(AND(J118>=1942,J118<1947),VLOOKUP(K118,Feuil2!$F$10:$P$28,9),IF(AND(J118>=1947,J118<1952),VLOOKUP(K118,Feuil2!$F$10:$P$28,8),IF(AND(J118>=1952,J118<1957),VLOOKUP(K118,Feuil2!$F$10:$P$28,7),IF(AND(J118>=1957,J118<1962),VLOOKUP(K118,Feuil2!$F$10:$P$28,6),IF(AND(J118>=1962,J118<1967),VLOOKUP(K118,Feuil2!$F$10:$P$28,5),IF(AND(J118>=1967,J118<1972),VLOOKUP(K118,Feuil2!$F$10:$P$28,4),IF(AND(J118>=1972,J118<1977),VLOOKUP(K118,Feuil2!$F$10:$P$28,3),IF(AND(J118>=1977,J118<1982),VLOOKUP(K118,Feuil2!$F$10:$P$28,2),VLOOKUP(K118,Feuil2!$F$10:$P$28,2))))))))))))","v":{"$error":"#N/A"}},null,{"$f":"T118-HLOOKUP(Y118,Feuil2!$C$1:$CD$9,2,FALSE)","v":{"$error":"#VALUE!"}},{"$f":"T118-HLOOKUP(Y118,Feuil2!$C$1:$CD$9,3,FALSE)","v":{"$error":"#VALUE!"}},{"$f":"T118-HLOOKUP(Y118,Feuil2!$C$1:$CD$9,4,FALSE)","v":{"$error":"#VALUE!"}},{"$f":"T118-HLOOKUP(Y118,Feuil2!$C$1:$CD$9,5,FALSE)","v":{"$error":"#VALUE!"}},{"$f":"T118-HLOOKUP(Y118,Feuil2!$C$1:$CD$9,6,FALSE)","v":{"$error":"#VALUE!"}},{"$f":"T118-HLOOKUP(Y118,Feuil2!$C$1:$CD$9,7,FALSE)","v":{"$error":"#VALUE!"}},{"$f":"T118-HLOOKUP(Y118,Feuil2!$C$1:$CD$9,8,FALSE)","v":{"$error":"#VALUE!"}},{"$f":"T118-HLOOKUP(Y118,Feuil2!$C$1:$CD$9,9,FALSE)","v":{"$error":"#VALUE!"}},null,null,null,null,null,null,null,{"$error":"#VALUE!"},2016,null,{"$f":"IF(AQ118,VLOOKUP(AQ118,HOM!$AS$561:$AT$616,2))","v":3.5710000000000002}]
["F",null,null,null,null,null,null,null,null,null,null,null,null,null,{"$f":"IF(K119=\"\",\"\",IF(MAXA(L119:N119)<=0,0,MAXA(L119:N119)))","v":""},null,null,null,"","","","","",{"$error":"#N/A"},{"$f":"IF(AND(J119<1920),VLOOKUP(K119,Feuil2!$F$10:$P$28,11),IF(AND(J119>=1920,J119<1937),VLOOKUP(K119,Feuil2!$F$10:$P$28,11),IF(AND(J119>=1936,J119<1942),VLOOKUP(K119,Feuil2!$F$10:$P$28,10),IF(AND(J119>=1942,J119<1947),VLOOKUP(K119,Feuil2!$F$10:$P$28,9),IF(AND(J119>=1947,J119<1952),VLOOKUP(K119,Feuil2!$F$10:$P$28,8),IF(AND(J119>=1952,J119<1957),VLOOKUP(K119,Feuil2!$F$10:$P$28,7),IF(AND(J119>=1957,J119<1962),VLOOKUP(K119,Feuil2!$F$10:$P$28,6),IF(AND(J119>=1962,J119<1967),VLOOKUP(K119,Feuil2!$F$10:$P$28,5),IF(AND(J119>=1967,J119<1972),VLOOKUP(K119,Feuil2!$F$10:$P$28,4),IF(AND(J119>=1972,J119<1977),VLOOKUP(K119,Feuil2!$F$10:$P$28,3),IF(AND(J119>=1977,J119<1982),VLOOKUP(K119,Feuil2!$F$10:$P$28,2),VLOOKUP(K119,Feuil2!$F$10:$P$28,2))))))))))))","v":{"$error":"#N/A"}},null,{"$f":"T119-HLOOKUP(Y119,Feuil2!$C$1:$CD$9,2,FALSE)","v":{"$error":"#VALUE!"}},{"$f":"T119-HLOOKUP(Y119,Feuil2!$C$1:$CD$9,3,FALSE)","v":{"$error":"#VALUE!"}},{"$f":"T119-HLOOKUP(Y119,Feuil2!$C$1:$CD$9,4,FALSE)","v":{"$error":"#VALUE!"}},{"$f":"T119-HLOOKUP(Y119,Feuil2!$C$1:$CD$9,5,FALSE)","v":{"$error":"#VALUE!"}},{"$f":"T119-HLOOKUP(Y119,Feuil2!$C$1:$CD$9,6,FALSE)","v":{"$error":"#VALUE!"}},{"$f":"T119-HLOOKUP(Y119,Feuil2!$C$1:$CD$9,7,FALSE)","v":{"$error":"#VALUE!"}},{"$f":"T119-HLOOKUP(Y119,Feuil2!$C$1:$CD$9,8,FALSE)","v":{"$error":"#VALUE!"}},{"$f":"T119-HLOOKUP(Y119,Feuil2!$C$1:$CD$9,9,FALSE)","v":{"$error":"#VALUE!"}},null,null,null,null,null,null,null,{"$error":"#VALUE!"},2016,null,{"$f":"IF(AQ119,VLOOKUP(AQ119,HOM!$AS$561:$AT$616,2))","v":3.5710000000000002}]
["H",null,null,null,null,null,null,null,null,null,null,null,null,null,{"$f":"IF(K120=\"\",\"\",IF(MAXA(L120:N120)<=0,0,MAXA(L120:N120)))","v":""},null,null,null,"","","","","",{"$error":"#N/A"},{"$f":"IF(AND(J120<1920),VLOOKUP(K120,Feuil2!$F$10:$P$28,11),IF(AND(J120>=1920,J120<1937),VLOOKUP(K120,Feuil2!$F$10:$P$28,11),IF(AND(J120>=1936,J120<1942),VLOOKUP(K120,Feuil2!$F$10:$P$28,10),IF(AND(J120>=1942,J120<1947),VLOOKUP(K120,Feuil2!$F$10:$P$28,9),IF(AND(J120>=1947,J120<1952),VLOOKUP(K120,Feuil2!$F$10:$P$28,8),IF(AND(J120>=1952,J120<1957),VLOOKUP(K120,Feuil2!$F$10:$P$28,7),IF(AND(J120>=1957,J120<1962),VLOOKUP(K120,Feuil2!$F$10:$P$28,6),IF(AND(J120>=1962,J120<1967),VLOOKUP(K120,Feuil2!$F$10:$P$28,5),IF(AND(J120>=1967,J120<1972),VLOOKUP(K120,Feuil2!$F$10:$P$28,4),IF(AND(J120>=1972,J120<1977),VLOOKUP(K120,Feuil2!$F$10:$P$28,3),IF(AND(J120>=1977,J120<1982),VLOOKUP(K120,Feuil2!$F$10:$P$28,2),VLOOKUP(K120,Feuil2!$F$10:$P$28,2))))))))))))","v":{"$error":"#N/A"}},null,{"$f":"T120-HLOOKUP(Y120,Feuil2!$C$1:$CD$9,2,FALSE)","v":{"$error":"#VALUE!"}},{"$f":"T120-HLOOKUP(Y120,Feuil2!$C$1:$CD$9,3,FALSE)","v":{"$error":"#VALUE!"}},{"$f":"T120-HLOOKUP(Y120,Feuil2!$C$1:$CD$9,4,FALSE)","v":{"$error":"#VALUE!"}},{"$f":"T120-HLOOKUP(Y120,Feuil2!$C$1:$CD$9,5,FALSE)","v":{"$error":"#VALUE!"}},{"$f":"T120-HLOOKUP(Y120,Feuil2!$C$1:$CD$9,6,FALSE)","v":{"$error":"#VALUE!"}},{"$f":"T120-HLOOKUP(Y120,Feuil2!$C$1:$CD$9,7,FALSE)","v":{"$error":"#VALUE!"}},{"$f":"T120-HLOOKUP(Y120,Feuil2!$C$1:$CD$9,8,FALSE)","v":{"$error":"#VALUE!"}},{"$f":"T120-HLOOKUP(Y120,Feuil2!$C$1:$CD$9,9,FALSE)","v":{"$error":"#VALUE!"}},null,null,null,null,null,null,null,{"$error":"#VALUE!"},2016,null,{"$f":"IF(AQ120,VLOOKUP(AQ120,HOM!$AS$561:$AT$616,2))","v":3.5710000000000002}]
["H",null,null,null,null,null,null,null,null,null,null,null,null,null,"",null,null,null,"","","","","",{"$error":"#N/A"},{"$f":"IF(AND(J121<1920),VLOOKUP(K121,Feuil2!$F$10:$P$28,11),IF(AND(J121>=1920,J121<1937),VLOOKUP(K121,Feuil2!$F$10:$P$28,11),IF(AND(J121>=1936,J121<1942),VLOOKUP(K121,Feuil2!$F$10:$P$28,10),IF(AND(J121>=1942,J121<1947),VLOOKUP(K121,Feuil2!$F$10:$P$28,9),IF(AND(J121>=1947,J121<1952),VLOOKUP(K121,Feuil2!$F$10:$P$28,8),IF(AND(J121>=1952,J121<1957),VLOOKUP(K121,Feuil2!$F$10:$P$28,7),IF(AND(J121>=1957,J121<1962),VLOOKUP(K121,Feuil2!$F$10:$P$28,6),IF(AND(J121>=1962,J121<1967),VLOOKUP(K121,Feuil2!$F$10:$P$28,5),IF(AND(J121>=1967,J121<1972),VLOOKUP(K121,Feuil2!$F$10:$P$28,4),IF(AND(J121>=1972,J121<1977),VLOOKUP(K121,Feuil2!$F$10:$P$28,3),IF(AND(J121>=1977,J121<1982),VLOOKUP(K121,Feuil2!$F$10:$P$28,2),VLOOKUP(K121,Feuil2!$F$10:$P$28,2))))))))))))","v":{"$error":"#N/A"}},null,{"$f":"T121-HLOOKUP(Y121,Feuil2!$C$1:$CD$9,2,FALSE)","v":{"$error":"#VALUE!"}},{"$f":"T121-HLOOKUP(Y121,Feuil2!$C$1:$CD$9,3,FALSE)","v":{"$error":"#VALUE!"}},{"$f":"T121-HLOOKUP(Y121,Feuil2!$C$1:$CD$9,4,FALSE)","v":{"$error":"#VALUE!"}},{"$f":"T121-HLOOKUP(Y121,Feuil2!$C$1:$CD$9,5,FALSE)","v":{"$error":"#VALUE!"}},{"$f":"T121-HLOOKUP(Y121,Feuil2!$C$1:$CD$9,6,FALSE)","v":{"$error":"#VALUE!"}},{"$f":"T121-HLOOKUP(Y121,Feuil2!$C$1:$CD$9,7,FALSE)","v":{"$error":"#VALUE!"}},{"$f":"T121-HLOOKUP(Y121,Feuil2!$C$1:$CD$9,8,FALSE)","v":{"$error":"#VALUE!"}},{"$f":"T121-HLOOKUP(Y121,Feuil2!$C$1:$CD$9,9,FALSE)","v":{"$error":"#VALUE!"}},null,null,null,null,null,null,null,{"$error":"#VALUE!"},2016,null,{"$f":"IF(AQ121,VLOOKUP(AQ121,HOM!$AS$561:$AT$616,2))","v":3.5710000000000002}]
["H",null,null,null,null,null,null,null,null,null,null,null,null,null,"",null,null,null,"","","","","",{"$error":"#N/A"},{"$f":"IF(AND(J122<1920),VLOOKUP(K122,Feuil2!$F$10:$P$28,11),IF(AND(J122>=1920,J122<1937),VLOOKUP(K122,Feuil2!$F$10:$P$28,11),IF(AND(J122>=1936,J122<1942),VLOOKUP(K122,Feuil2!$F$10:$P$28,10),IF(AND(J122>=1942,J122<1947),VLOOKUP(K122,Feuil2!$F$10:$P$28,9),IF(AND(J122>=1947,J122<1952),VLOOKUP(K122,Feuil2!$F$10:$P$28,8),IF(AND(J122>=1952,J122<1957),VLOOKUP(K122,Feuil2!$F$10:$P$28,7),IF(AND(J122>=1957,J122<1962),VLOOKUP(K122,Feuil2!$F$10:$P$28,6),IF(AND(J122>=1962,J122<1967),VLOOKUP(K122,Feuil2!$F$10:$P$28,5),IF(AND(J122>=1967,J122<1972),VLOOKUP(K122,Feuil2!$F$10:$P$28,4),IF(AND(J122>=1972,J122<1977),VLOOKUP(K122,Feuil2!$F$10:$P$28,3),IF(AND(J122>=1977,J122<1982),VLOOKUP(K122,Feuil2!$F$10:$P$28,2),VLOOKUP(K122,Feuil2!$F$10:$P$28,2))))))))))))","v":{"$error":"#N/A"}},null,{"$f":"T122-HLOOKUP(Y122,Feuil2!$C$1:$CD$9,2,FALSE)","v":{"$error":"#VALUE!"}},{"$f":"T122-HLOOKUP(Y122,Feuil2!$C$1:$CD$9,3,FALSE)","v":{"$error":"#VALUE!"}},{"$f":"T122-HLOOKUP(Y122,Feuil2!$C$1:$CD$9,4,FALSE)","v":{"$error":"#VALUE!"}},{"$f":"T122-HLOOKUP(Y122,Feuil2!$C$1:$CD$9,5,FALSE)","v":{"$error":"#VALUE!"}},{"$f":"T122-HLOOKUP(Y122,Feuil2!$C$1:$CD$9,6,FALSE)","v":{"$error":"#VALUE!"}},{"$f":"T122-HLOOKUP(Y122,Feuil2!$C$1:$CD$9,7,FALSE)","v":{"$error":"#VALUE!"}},{"$f":"T122-HLOOKUP(Y122,Feuil2!$C$1:$CD$9,8,FALSE)","v":{"$error":"#VALUE!"}},{"$f":"T122-HLOOKUP(Y122,Feuil2!$C$1:$CD$9,9,FALSE)","v":{"$error":"#VALUE!"}},null,null,null,null,null,null,null,{"$error":"#VALUE!"},2016,null,{"$f":"IF(AQ122,VLOOKUP(AQ122,HOM!$AS$561:$AT$616,2))","v":3.5710000000000002}]
["H",null,null,null,null,null,null,null,null,null,null,null,null,null,"",null,null,null,"","","","","",{"$error":"#N/A"},{"$f":"IF(AND(J123<1920),VLOOKUP(K123,Feuil2!$F$10:$P$28,11),IF(AND(J123>=1920,J123<1937),VLOOKUP(K123,Feuil2!$F$10:$P$28,11),IF(AND(J123>=1936,J123<1942),VLOOKUP(K123,Feuil2!$F$10:$P$28,10),IF(AND(J123>=1942,J123<1947),VLOOKUP(K123,Feuil2!$F$10:$P$28,9),IF(AND(J123>=1947,J123<1952),VLOOKUP(K123,Feuil2!$F$10:$P$28,8),IF(AND(J123>=1952,J123<1957),VLOOKUP(K123,Feuil2!$F$10:$P$28,7),IF(AND(J123>=1957,J123<1962),VLOOKUP(K123,Feuil2!$F$10:$P$28,6),IF(AND(J123>=1962,J123<1967),VLOOKUP(K123,Feuil2!$F$10:$P$28,5),IF(AND(J123>=1967,J123<1972),VLOOKUP(K123,Feuil2!$F$10:$P$28,4),IF(AND(J123>=1972,J123<1977),VLOOKUP(K123,Feuil2!$F$10:$P$28,3),IF(AND(J123>=1977,J123<1982),VLOOKUP(K123,Feuil2!$F$10:$P$28,2),VLOOKUP(K123,Feuil2!$F$10:$P$28,2))))))))))))","v":{"$error":"#N/A"}},null,{"$f":"T123-HLOOKUP(Y123,Feuil2!$C$1:$CD$9,2,FALSE)","v":{"$error":"#VALUE!"}},{"$f":"T123-HLOOKUP(Y123,Feuil2!$C$1:$CD$9,3,FALSE)","v":{"$error":"#VALUE!"}},{"$f":"T123-HLOOKUP(Y123,Feuil2!$C$1:$CD$9,4,FALSE)","v":{"$error":"#VALUE!"}},{"$f":"T123-HLOOKUP(Y123,Feuil2!$C$1:$CD$9,5,FALSE)","v":{"$error":"#VALUE!"}},{"$f":"T123-HLOOKUP(Y123,Feuil2!$C$1:$CD$9,6,FALSE)","v":{"$error":"#VALUE!"}},{"$f":"T123-HLOOKUP(Y123,Feuil2!$C$1:$CD$9,7,FALSE)","v":{"$error":"#VALUE!"}},{"$f":"T123-HLOOKUP(Y123,Feuil2!$C$1:$CD$9,8,FALSE)","v":{"$error":"#VALUE!"}},{"$f":"T123-HLOOKUP(Y123,Feuil2!$C$1:$CD$9,9,FALSE)","v":{"$error":"#VALUE!"}},null,null,null,null,null,null,null,{"$error":"#VALUE!"},2016,null,{"$f":"IF(AQ123,VLOOKUP(AQ123,HOM!$AS$561:$AT$616,2))","v":3.5710000000000002}]
["H",null,null,null,null,null,null,null,null,null,null,null,null,null,"",null,null,null,"","","","","",{"$error":"#N/A"},{"$f":"IF(AND(J124<1920),VLOOKUP(K124,Feuil2!$F$10:$P$28,11),IF(AND(J124>=1920,J124<1937),VLOOKUP(K124,Feuil2!$F$10:$P$28,11),IF(AND(J124>=1936,J124<1942),VLOOKUP(K124,Feuil2!$F$10:$P$28,10),IF(AND(J124>=1942,J124<1947),VLOOKUP(K124,Feuil2!$F$10:$P$28,9),IF(AND(J124>=1947,J124<1952),VLOOKUP(K124,Feuil2!$F$10:$P$28,8),IF(AND(J124>=1952,J124<1957),VLOOKUP(K124,Feuil2!$F$10:$P$28,7),IF(AND(J124>=1957,J124<1962),VLOOKUP(K124,Feuil2!$F$10:$P$28,6),IF(AND(J124>=1962,J124<1967),VLOOKUP(K124,Feuil2!$F$10:$P$28,5),IF(AND(J124>=1967,J124<1972),VLOOKUP(K124,Feuil2!$F$10:$P$28,4),IF(AND(J124>=1972,J124<1977),VLOOKUP(K124,Feuil2!$F$10:$P$28,3),IF(AND(J124>=1977,J124<1982),VLOOKUP(K124,Feuil2!$F$10:$P$28,2),VLOOKUP(K124,Feuil2!$F$10:$P$28,2))))))))))))","v":{"$error":"#N/A"}},null,{"$f":"T124-HLOOKUP(Y124,Feuil2!$C$1:$CD$9,2,FALSE)","v":{"$error":"#VALUE!"}},{"$f":"T124-HLOOKUP(Y124,Feuil2!$C$1:$CD$9,3,FALSE)","v":{"$error":"#VALUE!"}},{"$f":"T124-HLOOKUP(Y124,Feuil2!$C$1:$CD$9,4,FALSE)","v":{"$error":"#VALUE!"}},{"$f":"T124-HLOOKUP(Y124,Feuil2!$C$1:$CD$9,5,FALSE)","v":{"$error":"#VALUE!"}},{"$f":"T124-HLOOKUP(Y124,Feuil2!$C$1:$CD$9,6,FALSE)","v":{"$error":"#VALUE!"}},{"$f":"T124-HLOOKUP(Y124,Feuil2!$C$1:$CD$9,7,FALSE)","v":{"$error":"#VALUE!"}},{"$f":"T124-HLOOKUP(Y124,Feuil2!$C$1:$CD$9,8,FALSE)","v":{"$error":"#VALUE!"}},{"$f":"T124-HLOOKUP(Y124,Feuil2!$C$1:$CD$9,9,FALSE)","v":{"$error":"#VALUE!"}},null,null,null,null,null,null,null,{"$error":"#VALUE!"},2016,null,{"$f":"IF(AQ124,VLOOKUP(AQ124,HOM!$AS$561:$AT$616,2))","v":3.5710000000000002}]
["H",null,null,null,null,null,null,null,null,null,null,null,null,null,"",null,null,null,"","","","","",{"$error":"#N/A"},{"$f":"IF(AND(J125<1920),VLOOKUP(K125,Feuil2!$F$10:$P$28,11),IF(AND(J125>=1920,J125<1937),VLOOKUP(K125,Feuil2!$F$10:$P$28,11),IF(AND(J125>=1936,J125<1942),VLOOKUP(K125,Feuil2!$F$10:$P$28,10),IF(AND(J125>=1942,J125<1947),VLOOKUP(K125,Feuil2!$F$10:$P$28,9),IF(AND(J125>=1947,J125<1952),VLOOKUP(K125,Feuil2!$F$10:$P$28,8),IF(AND(J125>=1952,J125<1957),VLOOKUP(K125,Feuil2!$F$10:$P$28,7),IF(AND(J125>=1957,J125<1962),VLOOKUP(K125,Feuil2!$F$10:$P$28,6),IF(AND(J125>=1962,J125<1967),VLOOKUP(K125,Feuil2!$F$10:$P$28,5),IF(AND(J125>=1967,J125<1972),VLOOKUP(K125,Feuil2!$F$10:$P$28,4),IF(AND(J125>=1972,J125<1977),VLOOKUP(K125,Feuil2!$F$10:$P$28,3),IF(AND(J125>=1977,J125<1982),VLOOKUP(K125,Feuil2!$F$10:$P$28,2),VLOOKUP(K125,Feuil2!$F$10:$P$28,2))))))))))))","v":{"$error":"#N/A"}},null,{"$f":"T125-HLOOKUP(Y125,Feuil2!$C$1:$CD$9,2,FALSE)","v":{"$error":"#VALUE!"}},{"$f":"T125-HLOOKUP(Y125,Feuil2!$C$1:$CD$9,3,FALSE)","v":{"$error":"#VALUE!"}},{"$f":"T125-HLOOKUP(Y125,Feuil2!$C$1:$CD$9,4,FALSE)","v":{"$error":"#VALUE!"}},{"$f":"T125-HLOOKUP(Y125,Feuil2!$C$1:$CD$9,5,FALSE)","v":{"$error":"#VALUE!"}},{"$f":"T125-HLOOKUP(Y125,Feuil2!$C$1:$CD$9,6,FALSE)","v":{"$error":"#VALUE!"}},{"$f":"T125-HLOOKUP(Y125,Feuil2!$C$1:$CD$9,7,FALSE)","v":{"$error":"#VALUE!"}},{"$f":"T125-HLOOKUP(Y125,Feuil2!$C$1:$CD$9,8,FALSE)","v":{"$error":"#VALUE!"}},{"$f":"T125-HLOOKUP(Y125,Feuil2!$C$1:$CD$9,9,FALSE)","v":{"$error":"#VALUE!"}},null,null,null,null,null,null,null,{"$error":"#VALUE!"},2016,null,{"$f":"IF(AQ125,VLOOKUP(AQ125,HOM!$AS$561:$AT$616,2))","v":3.5710000000000002}]
["H",null,null,null,null,null,null,null,null,null,null,null,null,null,"",null,null,null,"","","","","",{"$error":"#N/A"},{"$f":"IF(AND(J126<1920),VLOOKUP(K126,Feuil2!$F$10:$P$28,11),IF(AND(J126>=1920,J126<1937),VLOOKUP(K126,Feuil2!$F$10:$P$28,11),IF(AND(J126>=1936,J126<1942),VLOOKUP(K126,Feuil2!$F$10:$P$28,10),IF(AND(J126>=1942,J126<1947),VLOOKUP(K126,Feuil2!$F$10:$P$28,9),IF(AND(J126>=1947,J126<1952),VLOOKUP(K126,Feuil2!$F$10:$P$28,8),IF(AND(J126>=1952,J126<1957),VLOOKUP(K126,Feuil2!$F$10:$P$28,7),IF(AND(J126>=1957,J126<1962),VLOOKUP(K126,Feuil2!$F$10:$P$28,6),IF(AND(J126>=1962,J126<1967),VLOOKUP(K126,Feuil2!$F$10:$P$28,5),IF(AND(J126>=1967,J126<1972),VLOOKUP(K126,Feuil2!$F$10:$P$28,4),IF(AND(J126>=1972,J126<1977),VLOOKUP(K126,Feuil2!$F$10:$P$28,3),IF(AND(J126>=1977,J126<1982),VLOOKUP(K126,Feuil2!$F$10:$P$28,2),VLOOKUP(K126,Feuil2!$F$10:$P$28,2))))))))))))","v":{"$error":"#N/A"}},null,{"$f":"T126-HLOOKUP(Y126,Feuil2!$C$1:$CD$9,2,FALSE)","v":{"$error":"#VALUE!"}},{"$f":"T126-HLOOKUP(Y126,Feuil2!$C$1:$CD$9,3,FALSE)","v":{"$error":"#VALUE!"}},{"$f":"T126-HLOOKUP(Y126,Feuil2!$C$1:$CD$9,4,FALSE)","v":{"$error":"#VALUE!"}},{"$f":"T126-HLOOKUP(Y126,Feuil2!$C$1:$CD$9,5,FALSE)","v":{"$error":"#VALUE!"}},{"$f":"T126-HLOOKUP(Y126,Feuil2!$C$1:$CD$9,6,FALSE)","v":{"$error":"#VALUE!"}},{"$f":"T126-HLOOKUP(Y126,Feuil2!$C$1:$CD$9,7,FALSE)","v":{"$error":"#VALUE!"}},{"$f":"T126-HLOOKUP(Y126,Feuil2!$C$1:$CD$9,8,FALSE)","v":{"$error":"#VALUE!"}},{"$f":"T126-HLOOKUP(Y126,Feuil2!$C$1:$CD$9,9,FALSE)","v":{"$error":"#VALUE!"}},null,null,null,null,null,null,null,{"$error":"#VALUE!"},2016,null,{"$f":"IF(AQ126,VLOOKUP(AQ126,HOM!$AS$561:$AT$616,2))","v":3.5710000000000002}]
["H",null,null,null,null,null,null,null,null,null,null,null,null,null,"",null,null,null,"","","","","",{"$error":"#N/A"},{"$f":"IF(AND(J127<1920),VLOOKUP(K127,Feuil2!$F$10:$P$28,11),IF(AND(J127>=1920,J127<1937),VLOOKUP(K127,Feuil2!$F$10:$P$28,11),IF(AND(J127>=1936,J127<1942),VLOOKUP(K127,Feuil2!$F$10:$P$28,10),IF(AND(J127>=1942,J127<1947),VLOOKUP(K127,Feuil2!$F$10:$P$28,9),IF(AND(J127>=1947,J127<1952),VLOOKUP(K127,Feuil2!$F$10:$P$28,8),IF(AND(J127>=1952,J127<1957),VLOOKUP(K127,Feuil2!$F$10:$P$28,7),IF(AND(J127>=1957,J127<1962),VLOOKUP(K127,Feuil2!$F$10:$P$28,6),IF(AND(J127>=1962,J127<1967),VLOOKUP(K127,Feuil2!$F$10:$P$28,5),IF(AND(J127>=1967,J127<1972),VLOOKUP(K127,Feuil2!$F$10:$P$28,4),IF(AND(J127>=1972,J127<1977),VLOOKUP(K127,Feuil2!$F$10:$P$28,3),IF(AND(J127>=1977,J127<1982),VLOOKUP(K127,Feuil2!$F$10:$P$28,2),VLOOKUP(K127,Feuil2!$F$10:$P$28,2))))))))))))","v":{"$error":"#N/A"}},null,{"$f":"T127-HLOOKUP(Y127,Feuil2!$C$1:$CD$9,2,FALSE)","v":{"$error":"#VALUE!"}},{"$f":"T127-HLOOKUP(Y127,Feuil2!$C$1:$CD$9,3,FALSE)","v":{"$error":"#VALUE!"}},{"$f":"T127-HLOOKUP(Y127,Feuil2!$C$1:$CD$9,4,FALSE)","v":{"$error":"#VALUE!"}},{"$f":"T127-HLOOKUP(Y127,Feuil2!$C$1:$CD$9,5,FALSE)","v":{"$error":"#VALUE!"}},{"$f":"T127-HLOOKUP(Y127,Feuil2!$C$1:$CD$9,6,FALSE)","v":{"$error":"#VALUE!"}},{"$f":"T127-HLOOKUP(Y127,Feuil2!$C$1:$CD$9,7,FALSE)","v":{"$error":"#VALUE!"}},{"$f":"T127-HLOOKUP(Y127,Feuil2!$C$1:$CD$9,8,FALSE)","v":{"$error":"#VALUE!"}},{"$f":"T127-HLOOKUP(Y127,Feuil2!$C$1:$CD$9,9,FALSE)","v":{"$error":"#VALUE!"}},null,null,null,null,null,null,null,{"$error":"#VALUE!"},2016,null,{"$f":"IF(AQ127,VLOOKUP(AQ127,HOM!$AS$561:$AT$616,2))","v":3.5710000000000002}]
["H",null,null,null,null,null,null,null,null,null,null,null,null,null,{"$f":"IF(K128=\"\",\"\",IF(MAXA(L128:N128)<=0,0,MAXA(L128:N128)))","v":""},null,null,null,"","","","","",{"$error":"#N/A"},{"$f":"IF(AND(J128<1920),VLOOKUP(K128,Feuil2!$F$10:$P$28,11),IF(AND(J128>=1920,J128<1937),VLOOKUP(K128,Feuil2!$F$10:$P$28,11),IF(AND(J128>=1936,J128<1942),VLOOKUP(K128,Feuil2!$F$10:$P$28,10),IF(AND(J128>=1942,J128<1947),VLOOKUP(K128,Feuil2!$F$10:$P$28,9),IF(AND(J128>=1947,J128<1952),VLOOKUP(K128,Feuil2!$F$10:$P$28,8),IF(AND(J128>=1952,J128<1957),VLOOKUP(K128,Feuil2!$F$10:$P$28,7),IF(AND(J128>=1957,J128<1962),VLOOKUP(K128,Feuil2!$F$10:$P$28,6),IF(AND(J128>=1962,J128<1967),VLOOKUP(K128,Feuil2!$F$10:$P$28,5),IF(AND(J128>=1967,J128<1972),VLOOKUP(K128,Feuil2!$F$10:$P$28,4),IF(AND(J128>=1972,J128<1977),VLOOKUP(K128,Feuil2!$F$10:$P$28,3),IF(AND(J128>=1977,J128<1982),VLOOKUP(K128,Feuil2!$F$10:$P$28,2),VLOOKUP(K128,Feuil2!$F$10:$P$28,2))))))))))))","v":{"$error":"#N/A"}},null,{"$f":"T128-HLOOKUP(Y128,Feuil2!$C$1:$CD$9,2,FALSE)","v":{"$error":"#VALUE!"}},{"$f":"T128-HLOOKUP(Y128,Feuil2!$C$1:$CD$9,3,FALSE)","v":{"$error":"#VALUE!"}},{"$f":"T128-HLOOKUP(Y128,Feuil2!$C$1:$CD$9,4,FALSE)","v":{"$error":"#VALUE!"}},{"$f":"T128-HLOOKUP(Y128,Feuil2!$C$1:$CD$9,5,FALSE)","v":{"$error":"#VALUE!"}},{"$f":"T128-HLOOKUP(Y128,Feuil2!$C$1:$CD$9,6,FALSE)","v":{"$error":"#VALUE!"}},{"$f":"T128-HLOOKUP(Y128,Feuil2!$C$1:$CD$9,7,FALSE)","v":{"$error":"#VALUE!"}},{"$f":"T128-HLOOKUP(Y128,Feuil2!$C$1:$CD$9,8,FALSE)","v":{"$error":"#VALUE!"}},{"$f":"T128-HLOOKUP(Y128,Feuil2!$C$1:$CD$9,9,FALSE)","v":{"$error":"#VALUE!"}},null,null,null,null,null,null,null,{"$error":"#VALUE!"},2016,null,{"$f":"IF(AQ128,VLOOKUP(AQ128,HOM!$AS$561:$AT$616,2))","v":3.5710000000000002}]
["H",null,null,null,null,null,null,null,null,null,null,null,null,null,"",null,null,null,"","","","","",{"$error":"#N/A"},{"$f":"IF(AND(J129<1920),VLOOKUP(K129,Feuil2!$F$10:$P$28,11),IF(AND(J129>=1920,J129<1937),VLOOKUP(K129,Feuil2!$F$10:$P$28,11),IF(AND(J129>=1936,J129<1942),VLOOKUP(K129,Feuil2!$F$10:$P$28,10),IF(AND(J129>=1942,J129<1947),VLOOKUP(K129,Feuil2!$F$10:$P$28,9),IF(AND(J129>=1947,J129<1952),VLOOKUP(K129,Feuil2!$F$10:$P$28,8),IF(AND(J129>=1952,J129<1957),VLOOKUP(K129,Feuil2!$F$10:$P$28,7),IF(AND(J129>=1957,J129<1962),VLOOKUP(K129,Feuil2!$F$10:$P$28,6),IF(AND(J129>=1962,J129<1967),VLOOKUP(K129,Feuil2!$F$10:$P$28,5),IF(AND(J129>=1967,J129<1972),VLOOKUP(K129,Feuil2!$F$10:$P$28,4),IF(AND(J129>=1972,J129<1977),VLOOKUP(K129,Feuil2!$F$10:$P$28,3),IF(AND(J129>=1977,J129<1982),VLOOKUP(K129,Feuil2!$F$10:$P$28,2),VLOOKUP(K129,Feuil2!$F$10:$P$28,2))))))))))))","v":{"$error":"#N/A"}},null,{"$f":"T129-HLOOKUP(Y129,Feuil2!$C$1:$CD$9,2,FALSE)","v":{"$error":"#VALUE!"}},{"$f":"T129-HLOOKUP(Y129,Feuil2!$C$1:$CD$9,3,FALSE)","v":{"$error":"#VALUE!"}},{"$f":"T129-HLOOKUP(Y129,Feuil2!$C$1:$CD$9,4,FALSE)","v":{"$error":"#VALUE!"}},{"$f":"T129-HLOOKUP(Y129,Feuil2!$C$1:$CD$9,5,FALSE)","v":{"$error":"#VALUE!"}},{"$f":"T129-HLOOKUP(Y129,Feuil2!$C$1:$CD$9,6,FALSE)","v":{"$error":"#VALUE!"}},{"$f":"T129-HLOOKUP(Y129,Feuil2!$C$1:$CD$9,7,FALSE)","v":{"$error":"#VALUE!"}},{"$f":"T129-HLOOKUP(Y129,Feuil2!$C$1:$CD$9,8,FALSE)","v":{"$error":"#VALUE!"}},{"$f":"T129-HLOOKUP(Y129,Feuil2!$C$1:$CD$9,9,FALSE)","v":{"$error":"#VALUE!"}},null,null,null,null,null,null,null,{"$error":"#VALUE!"},2016,null,{"$f":"IF(AQ129,VLOOKUP(AQ129,HOM!$AS$561:$AT$616,2))","v":3.5710000000000002}]
["H",null,null,null,null,null,null,null,null,null,null,null,null,null,"",null,null,null,"","","","","",{"$error":"#N/A"},{"$f":"IF(AND(J130<1920),VLOOKUP(K130,Feuil2!$F$10:$P$28,11),IF(AND(J130>=1920,J130<1937),VLOOKUP(K130,Feuil2!$F$10:$P$28,11),IF(AND(J130>=1936,J130<1942),VLOOKUP(K130,Feuil2!$F$10:$P$28,10),IF(AND(J130>=1942,J130<1947),VLOOKUP(K130,Feuil2!$F$10:$P$28,9),IF(AND(J130>=1947,J130<1952),VLOOKUP(K130,Feuil2!$F$10:$P$28,8),IF(AND(J130>=1952,J130<1957),VLOOKUP(K130,Feuil2!$F$10:$P$28,7),IF(AND(J130>=1957,J130<1962),VLOOKUP(K130,Feuil2!$F$10:$P$28,6),IF(AND(J130>=1962,J130<1967),VLOOKUP(K130,Feuil2!$F$10:$P$28,5),IF(AND(J130>=1967,J130<1972),VLOOKUP(K130,Feuil2!$F$10:$P$28,4),IF(AND(J130>=1972,J130<1977),VLOOKUP(K130,Feuil2!$F$10:$P$28,3),IF(AND(J130>=1977,J130<1982),VLOOKUP(K130,Feuil2!$F$10:$P$28,2),VLOOKUP(K130,Feuil2!$F$10:$P$28,2))))))))))))","v":{"$error":"#N/A"}},null,{"$f":"T130-HLOOKUP(Y130,Feuil2!$C$1:$CD$9,2,FALSE)","v":{"$error":"#VALUE!"}},{"$f":"T130-HLOOKUP(Y130,Feuil2!$C$1:$CD$9,3,FALSE)","v":{"$error":"#VALUE!"}},{"$f":"T130-HLOOKUP(Y130,Feuil2!$C$1:$CD$9,4,FALSE)","v":{"$error":"#VALUE!"}},{"$f":"T130-HLOOKUP(Y130,Feuil2!$C$1:$CD$9,5,FALSE)","v":{"$error":"#VALUE!"}},{"$f":"T130-HLOOKUP(Y130,Feuil2!$C$1:$CD$9,6,FALSE)","v":{"$error":"#VALUE!"}},{"$f":"T130-HLOOKUP(Y130,Feuil2!$C$1:$CD$9,7,FALSE)","v":{"$error":"#VALUE!"}},{"$f":"T130-HLOOKUP(Y130,Feuil2!$C$1:$CD$9,8,FALSE)","v":{"$error":"#VALUE!"}},{"$f":"T130-HLOOKUP(Y130,Feuil2!$C$1:$CD$9,9,FALSE)","v":{"$error":"#VALUE!"}},null,null,null,null,null,null,null,{"$error":"#VALUE!"},2016,null,{"$f":"IF(AQ130,VLOOKUP(AQ130,HOM!$AS$561:$AT$616,2))","v":3.5710000000000002}]
["H",null,null,null,null,null,null,null,null,null,null,null,null,null,"",null,null,null,"","","","","",{"$error":"#N/A"},{"$f":"IF(AND(J131<1920),VLOOKUP(K131,Feuil2!$F$10:$P$28,11),IF(AND(J131>=1920,J131<1937),VLOOKUP(K131,Feuil2!$F$10:$P$28,11),IF(AND(J131>=1936,J131<1942),VLOOKUP(K131,Feuil2!$F$10:$P$28,10),IF(AND(J131>=1942,J131<1947),VLOOKUP(K131,Feuil2!$F$10:$P$28,9),IF(AND(J131>=1947,J131<1952),VLOOKUP(K131,Feuil2!$F$10:$P$28,8),IF(AND(J131>=1952,J131<1957),VLOOKUP(K131,Feuil2!$F$10:$P$28,7),IF(AND(J131>=1957,J131<1962),VLOOKUP(K131,Feuil2!$F$10:$P$28,6),IF(AND(J131>=1962,J131<1967),VLOOKUP(K131,Feuil2!$F$10:$P$28,5),IF(AND(J131>=1967,J131<1972),VLOOKUP(K131,Feuil2!$F$10:$P$28,4),IF(AND(J131>=1972,J131<1977),VLOOKUP(K131,Feuil2!$F$10:$P$28,3),IF(AND(J131>=1977,J131<1982),VLOOKUP(K131,Feuil2!$F$10:$P$28,2),VLOOKUP(K131,Feuil2!$F$10:$P$28,2))))))))))))","v":{"$error":"#N/A"}},null,{"$f":"T131-HLOOKUP(Y131,Feuil2!$C$1:$CD$9,2,FALSE)","v":{"$error":"#VALUE!"}},{"$f":"T131-HLOOKUP(Y131,Feuil2!$C$1:$CD$9,3,FALSE)","v":{"$error":"#VALUE!"}},{"$f":"T131-HLOOKUP(Y131,Feuil2!$C$1:$CD$9,4,FALSE)","v":{"$error":"#VALUE!"}},{"$f":"T131-HLOOKUP(Y131,Feuil2!$C$1:$CD$9,5,FALSE)","v":{"$error":"#VALUE!"}},{"$f":"T131-HLOOKUP(Y131,Feuil2!$C$1:$CD$9,6,FALSE)","v":{"$error":"#VALUE!"}},{"$f":"T131-HLOOKUP(Y131,Feuil2!$C$1:$CD$9,7,FALSE)","v":{"$error":"#VALUE!"}},{"$f":"T131-HLOOKUP(Y131,Feuil2!$C$1:$CD$9,8,FALSE)","v":{"$error":"#VALUE!"}},{"$f":"T131-HLOOKUP(Y131,Feuil2!$C$1:$CD$9,9,FALSE)","v":{"$error":"#VALUE!"}},null,null,null,null,null,null,null,{"$error":"#VALUE!"},2016,null,{"$f":"IF(AQ131,VLOOKUP(AQ131,HOM!$AS$561:$AT$616,2))","v":3.5710000000000002}]
["H",null,null,null,null,null,null,null,null,null,null,null,null,null,"",null,null,null,"","","","","",{"$error":"#N/A"},{"$f":"IF(AND(J132<1920),VLOOKUP(K132,Feuil2!$F$10:$P$28,11),IF(AND(J132>=1920,J132<1937),VLOOKUP(K132,Feuil2!$F$10:$P$28,11),IF(AND(J132>=1936,J132<1942),VLOOKUP(K132,Feuil2!$F$10:$P$28,10),IF(AND(J132>=1942,J132<1947),VLOOKUP(K132,Feuil2!$F$10:$P$28,9),IF(AND(J132>=1947,J132<1952),VLOOKUP(K132,Feuil2!$F$10:$P$28,8),IF(AND(J132>=1952,J132<1957),VLOOKUP(K132,Feuil2!$F$10:$P$28,7),IF(AND(J132>=1957,J132<1962),VLOOKUP(K132,Feuil2!$F$10:$P$28,6),IF(AND(J132>=1962,J132<1967),VLOOKUP(K132,Feuil2!$F$10:$P$28,5),IF(AND(J132>=1967,J132<1972),VLOOKUP(K132,Feuil2!$F$10:$P$28,4),IF(AND(J132>=1972,J132<1977),VLOOKUP(K132,Feuil2!$F$10:$P$28,3),IF(AND(J132>=1977,J132<1982),VLOOKUP(K132,Feuil2!$F$10:$P$28,2),VLOOKUP(K132,Feuil2!$F$10:$P$28,2))))))))))))","v":{"$error":"#N/A"}},null,{"$f":"T132-HLOOKUP(Y132,Feuil2!$C$1:$CD$9,2,FALSE)","v":{"$error":"#VALUE!"}},{"$f":"T132-HLOOKUP(Y132,Feuil2!$C$1:$CD$9,3,FALSE)","v":{"$error":"#VALUE!"}},{"$f":"T132-HLOOKUP(Y132,Feuil2!$C$1:$CD$9,4,FALSE)","v":{"$error":"#VALUE!"}},{"$f":"T132-HLOOKUP(Y132,Feuil2!$C$1:$CD$9,5,FALSE)","v":{"$error":"#VALUE!"}},{"$f":"T132-HLOOKUP(Y132,Feuil2!$C$1:$CD$9,6,FALSE)","v":{"$error":"#VALUE!"}},{"$f":"T132-HLOOKUP(Y132,Feuil2!$C$1:$CD$9,7,FALSE)","v":{"$error":"#VALUE!"}},{"$f":"T132-HLOOKUP(Y132,Feuil2!$C$1:$CD$9,8,FALSE)","v":{"$error":"#VALUE!"}},{"$f":"T132-HLOOKUP(Y132,Feuil2!$C$1:$CD$9,9,FALSE)","v":{"$error":"#VALUE!"}},null,null,null,null,null,null,null,{"$error":"#VALUE!"},2016,null,{"$f":"IF(AQ132,VLOOKUP(AQ132,HOM!$AS$561:$AT$616,2))","v":3.5710000000000002}]
["H",null,null,null,null,null,null,null,null,null,null,null,null,null,"",null,null,null,"","","","","",{"$error":"#N/A"},{"$f":"IF(AND(J133<1920),VLOOKUP(K133,Feuil2!$F$10:$P$28,11),IF(AND(J133>=1920,J133<1937),VLOOKUP(K133,Feuil2!$F$10:$P$28,11),IF(AND(J133>=1936,J133<1942),VLOOKUP(K133,Feuil2!$F$10:$P$28,10),IF(AND(J133>=1942,J133<1947),VLOOKUP(K133,Feuil2!$F$10:$P$28,9),IF(AND(J133>=1947,J133<1952),VLOOKUP(K133,Feuil2!$F$10:$P$28,8),IF(AND(J133>=1952,J133<1957),VLOOKUP(K133,Feuil2!$F$10:$P$28,7),IF(AND(J133>=1957,J133<1962),VLOOKUP(K133,Feuil2!$F$10:$P$28,6),IF(AND(J133>=1962,J133<1967),VLOOKUP(K133,Feuil2!$F$10:$P$28,5),IF(AND(J133>=1967,J133<1972),VLOOKUP(K133,Feuil2!$F$10:$P$28,4),IF(AND(J133>=1972,J133<1977),VLOOKUP(K133,Feuil2!$F$10:$P$28,3),IF(AND(J133>=1977,J133<1982),VLOOKUP(K133,Feuil2!$F$10:$P$28,2),VLOOKUP(K133,Feuil2!$F$10:$P$28,2))))))))))))","v":{"$error":"#N/A"}},null,{"$f":"T133-HLOOKUP(Y133,Feuil2!$C$1:$CD$9,2,FALSE)","v":{"$error":"#VALUE!"}},{"$f":"T133-HLOOKUP(Y133,Feuil2!$C$1:$CD$9,3,FALSE)","v":{"$error":"#VALUE!"}},{"$f":"T133-HLOOKUP(Y133,Feuil2!$C$1:$CD$9,4,FALSE)","v":{"$error":"#VALUE!"}},{"$f":"T133-HLOOKUP(Y133,Feuil2!$C$1:$CD$9,5,FALSE)","v":{"$error":"#VALUE!"}},{"$f":"T133-HLOOKUP(Y133,Feuil2!$C$1:$CD$9,6,FALSE)","v":{"$error":"#VALUE!"}},{"$f":"T133-HLOOKUP(Y133,Feuil2!$C$1:$CD$9,7,FALSE)","v":{"$error":"#VALUE!"}},{"$f":"T133-HLOOKUP(Y133,Feuil2!$C$1:$CD$9,8,FALSE)","v":{"$error":"#VALUE!"}},{"$f":"T133-HLOOKUP(Y133,Feuil2!$C$1:$CD$9,9,FALSE)","v":{"$error":"#VALUE!"}},null,null,null,null,null,null,null,{"$error":"#VALUE!"},2016,null,{"$f":"IF(AQ133,VLOOKUP(AQ133,HOM!$AS$561:$AT$616,2))","v":3.5710000000000002}]
["H",null,null,null,null,null,null,null,null,null,null,null,null,null,"",null,null,null,"","","","","",{"$error":"#N/A"},{"$f":"IF(AND(J134<1920),VLOOKUP(K134,Feuil2!$F$10:$P$28,11),IF(AND(J134>=1920,J134<1937),VLOOKUP(K134,Feuil2!$F$10:$P$28,11),IF(AND(J134>=1936,J134<1942),VLOOKUP(K134,Feuil2!$F$10:$P$28,10),IF(AND(J134>=1942,J134<1947),VLOOKUP(K134,Feuil2!$F$10:$P$28,9),IF(AND(J134>=1947,J134<1952),VLOOKUP(K134,Feuil2!$F$10:$P$28,8),IF(AND(J134>=1952,J134<1957),VLOOKUP(K134,Feuil2!$F$10:$P$28,7),IF(AND(J134>=1957,J134<1962),VLOOKUP(K134,Feuil2!$F$10:$P$28,6),IF(AND(J134>=1962,J134<1967),VLOOKUP(K134,Feuil2!$F$10:$P$28,5),IF(AND(J134>=1967,J134<1972),VLOOKUP(K134,Feuil2!$F$10:$P$28,4),IF(AND(J134>=1972,J134<1977),VLOOKUP(K134,Feuil2!$F$10:$P$28,3),IF(AND(J134>=1977,J134<1982),VLOOKUP(K134,Feuil2!$F$10:$P$28,2),VLOOKUP(K134,Feuil2!$F$10:$P$28,2))))))))))))","v":{"$error":"#N/A"}},null,{"$f":"T134-HLOOKUP(Y134,Feuil2!$C$1:$CD$9,2,FALSE)","v":{"$error":"#VALUE!"}},{"$f":"T134-HLOOKUP(Y134,Feuil2!$C$1:$CD$9,3,FALSE)","v":{"$error":"#VALUE!"}},{"$f":"T134-HLOOKUP(Y134,Feuil2!$C$1:$CD$9,4,FALSE)","v":{"$error":"#VALUE!"}},{"$f":"T134-HLOOKUP(Y134,Feuil2!$C$1:$CD$9,5,FALSE)","v":{"$error":"#VALUE!"}},{"$f":"T134-HLOOKUP(Y134,Feuil2!$C$1:$CD$9,6,FALSE)","v":{"$error":"#VALUE!"}},{"$f":"T134-HLOOKUP(Y134,Feuil2!$C$1:$CD$9,7,FALSE)","v":{"$error":"#VALUE!"}},{"$f":"T134-HLOOKUP(Y134,Feuil2!$C$1:$CD$9,8,FALSE)","v":{"$error":"#VALUE!"}},{"$f":"T134-HLOOKUP(Y134,Feuil2!$C$1:$CD$9,9,FALSE)","v":{"$error":"#VALUE!"}},null,null,null,null,null,null,null,{"$error":"#VALUE!"},2016,null,{"$f":"IF(AQ134,VLOOKUP(AQ134,HOM!$AS$561:$AT$616,2))","v":3.5710000000000002}]
["H",null,null,null,null,null,null,null,null,null,null,null,null,null,"",null,null,null,"","","","","",{"$error":"#N/A"},{"$f":"IF(AND(J135<1920),VLOOKUP(K135,Feuil2!$F$10:$P$28,11),IF(AND(J135>=1920,J135<1937),VLOOKUP(K135,Feuil2!$F$10:$P$28,11),IF(AND(J135>=1936,J135<1942),VLOOKUP(K135,Feuil2!$F$10:$P$28,10),IF(AND(J135>=1942,J135<1947),VLOOKUP(K135,Feuil2!$F$10:$P$28,9),IF(AND(J135>=1947,J135<1952),VLOOKUP(K135,Feuil2!$F$10:$P$28,8),IF(AND(J135>=1952,J135<1957),VLOOKUP(K135,Feuil2!$F$10:$P$28,7),IF(AND(J135>=1957,J135<1962),VLOOKUP(K135,Feuil2!$F$10:$P$28,6),IF(AND(J135>=1962,J135<1967),VLOOKUP(K135,Feuil2!$F$10:$P$28,5),IF(AND(J135>=1967,J135<1972),VLOOKUP(K135,Feuil2!$F$10:$P$28,4),IF(AND(J135>=1972,J135<1977),VLOOKUP(K135,Feuil2!$F$10:$P$28,3),IF(AND(J135>=1977,J135<1982),VLOOKUP(K135,Feuil2!$F$10:$P$28,2),VLOOKUP(K135,Feuil2!$F$10:$P$28,2))))))))))))","v":{"$error":"#N/A"}},null,{"$f":"T135-HLOOKUP(Y135,Feuil2!$C$1:$CD$9,2,FALSE)","v":{"$error":"#VALUE!"}},{"$f":"T135-HLOOKUP(Y135,Feuil2!$C$1:$CD$9,3,FALSE)","v":{"$error":"#VALUE!"}},{"$f":"T135-HLOOKUP(Y135,Feuil2!$C$1:$CD$9,4,FALSE)","v":{"$error":"#VALUE!"}},{"$f":"T135-HLOOKUP(Y135,Feuil2!$C$1:$CD$9,5,FALSE)","v":{"$error":"#VALUE!"}},{"$f":"T135-HLOOKUP(Y135,Feuil2!$C$1:$CD$9,6,FALSE)","v":{"$error":"#VALUE!"}},{"$f":"T135-HLOOKUP(Y135,Feuil2!$C$1:$CD$9,7,FALSE)","v":{"$error":"#VALUE!"}},{"$f":"T135-HLOOKUP(Y135,Feuil2!$C$1:$CD$9,8,FALSE)","v":{"$error":"#VALUE!"}},{"$f":"T135-HLOOKUP(Y135,Feuil2!$C$1:$CD$9,9,FALSE)","v":{"$error":"#VALUE!"}},null,null,null,null,null,null,null,{"$error":"#VALUE!"},2016,null,{"$f":"IF(AQ135,VLOOKUP(AQ135,HOM!$AS$561:$AT$616,2))","v":3.5710000000000002}]
["H",null,null,null,null,null,null,null,null,null,null,null,null,null,"",null,null,null,"","","",{"$f":"IF(K136=\"\",\"\",AP136)","v":""},{"$f":"IF(K136=\"\",\"\",IF(AH136>=0,AH136,IF(AG136>=0,AG136,IF(AF136>=0,AF136,IF(AE136>=0,AE136,IF(AD136>=0,AD136,IF(AC136>=0,AC136,IF(AB136>=0,AB136,AA136))))))))","v":""},{"$error":"#N/A"},{"$f":"IF(AND(J136<1920),VLOOKUP(K136,Feuil2!$F$10:$P$28,11),IF(AND(J136>=1920,J136<1937),VLOOKUP(K136,Feuil2!$F$10:$P$28,11),IF(AND(J136>=1936,J136<1942),VLOOKUP(K136,Feuil2!$F$10:$P$28,10),IF(AND(J136>=1942,J136<1947),VLOOKUP(K136,Feuil2!$F$10:$P$28,9),IF(AND(J136>=1947,J136<1952),VLOOKUP(K136,Feuil2!$F$10:$P$28,8),IF(AND(J136>=1952,J136<1957),VLOOKUP(K136,Feuil2!$F$10:$P$28,7),IF(AND(J136>=1957,J136<1962),VLOOKUP(K136,Feuil2!$F$10:$P$28,6),IF(AND(J136>=1962,J136<1967),VLOOKUP(K136,Feuil2!$F$10:$P$28,5),IF(AND(J136>=1967,J136<1972),VLOOKUP(K136,Feuil2!$F$10:$P$28,4),IF(AND(J136>=1972,J136<1977),VLOOKUP(K136,Feuil2!$F$10:$P$28,3),IF(AND(J136>=1977,J136<1982),VLOOKUP(K136,Feuil2!$F$10:$P$28,2),VLOOKUP(K136,Feuil2!$F$10:$P$28,2))))))))))))","v":{"$error":"#N/A"}},null,{"$f":"T136-HLOOKUP(Y136,Feuil2!$C$1:$CD$9,2,FALSE)","v":{"$error":"#VALUE!"}},{"$f":"T136-HLOOKUP(Y136,Feuil2!$C$1:$CD$9,3,FALSE)","v":{"$error":"#VALUE!"}},{"$f":"T136-HLOOKUP(Y136,Feuil2!$C$1:$CD$9,4,FALSE)","v":{"$error":"#VALUE!"}},{"$f":"T136-HLOOKUP(Y136,Feuil2!$C$1:$CD$9,5,FALSE)","v":{"$error":"#VALUE!"}},{"$f":"T136-HLOOKUP(Y136,Feuil2!$C$1:$CD$9,6,FALSE)","v":{"$error":"#VALUE!"}},{"$f":"T136-HLOOKUP(Y136,Feuil2!$C$1:$CD$9,7,FALSE)","v":{"$error":"#VALUE!"}},{"$f":"T136-HLOOKUP(Y136,Feuil2!$C$1:$CD$9,8,FALSE)","v":{"$error":"#VALUE!"}},{"$f":"T136-HLOOKUP(Y136,Feuil2!$C$1:$CD$9,9,FALSE)","v":{"$error":"#VALUE!"}},null,null,null,null,null,null,null,{"$f":"IF(AH136>=0,$AH$4,IF(AG136>=0,$AG$4,IF(AF136>=0,$AF$4,IF(AE136>=0,$AE$4,IF(AD136>=0,$AD$4,IF(AC136>=0,$AC$4,IF(AB136>=0,$AB$4,IF(AA136>=0,$AA$4,$AI$4))))))))","v":{"$error":"#VALUE!"}},2016,null,{"$f":"IF(AQ136,VLOOKUP(AQ136,HOM!$AS$561:$AT$616,2))","v":3.5710000000000002}]
["H",null,null,null,null,null,null,null,null,null,null,null,null,null,"",null,null,null,"","","","","",{"$error":"#N/A"},{"$f":"IF(AND(J137<1920),VLOOKUP(K137,Feuil2!$F$10:$P$28,11),IF(AND(J137>=1920,J137<1937),VLOOKUP(K137,Feuil2!$F$10:$P$28,11),IF(AND(J137>=1936,J137<1942),VLOOKUP(K137,Feuil2!$F$10:$P$28,10),IF(AND(J137>=1942,J137<1947),VLOOKUP(K137,Feuil2!$F$10:$P$28,9),IF(AND(J137>=1947,J137<1952),VLOOKUP(K137,Feuil2!$F$10:$P$28,8),IF(AND(J137>=1952,J137<1957),VLOOKUP(K137,Feuil2!$F$10:$P$28,7),IF(AND(J137>=1957,J137<1962),VLOOKUP(K137,Feuil2!$F$10:$P$28,6),IF(AND(J137>=1962,J137<1967),VLOOKUP(K137,Feuil2!$F$10:$P$28,5),IF(AND(J137>=1967,J137<1972),VLOOKUP(K137,Feuil2!$F$10:$P$28,4),IF(AND(J137>=1972,J137<1977),VLOOKUP(K137,Feuil2!$F$10:$P$28,3),IF(AND(J137>=1977,J137<1982),VLOOKUP(K137,Feuil2!$F$10:$P$28,2),VLOOKUP(K137,Feuil2!$F$10:$P$28,2))))))))))))","v":{"$error":"#N/A"}},null,{"$f":"T137-HLOOKUP(Y137,Feuil2!$C$1:$CD$9,2,FALSE)","v":{"$error":"#VALUE!"}},{"$f":"T137-HLOOKUP(Y137,Feuil2!$C$1:$CD$9,3,FALSE)","v":{"$error":"#VALUE!"}},{"$f":"T137-HLOOKUP(Y137,Feuil2!$C$1:$CD$9,4,FALSE)","v":{"$error":"#VALUE!"}},{"$f":"T137-HLOOKUP(Y137,Feuil2!$C$1:$CD$9,5,FALSE)","v":{"$error":"#VALUE!"}},{"$f":"T137-HLOOKUP(Y137,Feuil2!$C$1:$CD$9,6,FALSE)","v":{"$error":"#VALUE!"}},{"$f":"T137-HLOOKUP(Y137,Feuil2!$C$1:$CD$9,7,FALSE)","v":{"$error":"#VALUE!"}},{"$f":"T137-HLOOKUP(Y137,Feuil2!$C$1:$CD$9,8,FALSE)","v":{"$error":"#VALUE!"}},{"$f":"T137-HLOOKUP(Y137,Feuil2!$C$1:$CD$9,9,FALSE)","v":{"$error":"#VALUE!"}},null,null,null,null,null,null,null,{"$error":"#VALUE!"},2016,null,{"$f":"IF(AQ137,VLOOKUP(AQ137,HOM!$AS$561:$AT$616,2))","v":3.5710000000000002}]
["H",null,null,null,null,null,null,null,null,null,null,null,null,null,"",null,null,null,"","","","","",{"$error":"#N/A"},{"$f":"IF(AND(J138<1920),VLOOKUP(K138,Feuil2!$F$10:$P$28,11),IF(AND(J138>=1920,J138<1937),VLOOKUP(K138,Feuil2!$F$10:$P$28,11),IF(AND(J138>=1936,J138<1942),VLOOKUP(K138,Feuil2!$F$10:$P$28,10),IF(AND(J138>=1942,J138<1947),VLOOKUP(K138,Feuil2!$F$10:$P$28,9),IF(AND(J138>=1947,J138<1952),VLOOKUP(K138,Feuil2!$F$10:$P$28,8),IF(AND(J138>=1952,J138<1957),VLOOKUP(K138,Feuil2!$F$10:$P$28,7),IF(AND(J138>=1957,J138<1962),VLOOKUP(K138,Feuil2!$F$10:$P$28,6),IF(AND(J138>=1962,J138<1967),VLOOKUP(K138,Feuil2!$F$10:$P$28,5),IF(AND(J138>=1967,J138<1972),VLOOKUP(K138,Feuil2!$F$10:$P$28,4),IF(AND(J138>=1972,J138<1977),VLOOKUP(K138,Feuil2!$F$10:$P$28,3),IF(AND(J138>=1977,J138<1982),VLOOKUP(K138,Feuil2!$F$10:$P$28,2),VLOOKUP(K138,Feuil2!$F$10:$P$28,2))))))))))))","v":{"$error":"#N/A"}},null,{"$f":"T138-HLOOKUP(Y138,Feuil2!$C$1:$CD$9,2,FALSE)","v":{"$error":"#VALUE!"}},{"$f":"T138-HLOOKUP(Y138,Feuil2!$C$1:$CD$9,3,FALSE)","v":{"$error":"#VALUE!"}},{"$f":"T138-HLOOKUP(Y138,Feuil2!$C$1:$CD$9,4,FALSE)","v":{"$error":"#VALUE!"}},{"$f":"T138-HLOOKUP(Y138,Feuil2!$C$1:$CD$9,5,FALSE)","v":{"$error":"#VALUE!"}},{"$f":"T138-HLOOKUP(Y138,Feuil2!$C$1:$CD$9,6,FALSE)","v":{"$error":"#VALUE!"}},{"$f":"T138-HLOOKUP(Y138,Feuil2!$C$1:$CD$9,7,FALSE)","v":{"$error":"#VALUE!"}},{"$f":"T138-HLOOKUP(Y138,Feuil2!$C$1:$CD$9,8,FALSE)","v":{"$error":"#VALUE!"}},{"$f":"T138-HLOOKUP(Y138,Feuil2!$C$1:$CD$9,9,FALSE)","v":{"$error":"#VALUE!"}},null,null,null,null,null,null,null,{"$error":"#VALUE!"},2016,null,{"$f":"IF(AQ138,VLOOKUP(AQ138,HOM!$AS$561:$AT$616,2))","v":3.5710000000000002}]
["H",null,null,null,null,null,null,null,null,null,null,null,null,null,"",null,null,null,"","","","","",{"$error":"#N/A"},{"$f":"IF(AND(J139<1920),VLOOKUP(K139,Feuil2!$F$10:$P$28,11),IF(AND(J139>=1920,J139<1937),VLOOKUP(K139,Feuil2!$F$10:$P$28,11),IF(AND(J139>=1936,J139<1942),VLOOKUP(K139,Feuil2!$F$10:$P$28,10),IF(AND(J139>=1942,J139<1947),VLOOKUP(K139,Feuil2!$F$10:$P$28,9),IF(AND(J139>=1947,J139<1952),VLOOKUP(K139,Feuil2!$F$10:$P$28,8),IF(AND(J139>=1952,J139<1957),VLOOKUP(K139,Feuil2!$F$10:$P$28,7),IF(AND(J139>=1957,J139<1962),VLOOKUP(K139,Feuil2!$F$10:$P$28,6),IF(AND(J139>=1962,J139<1967),VLOOKUP(K139,Feuil2!$F$10:$P$28,5),IF(AND(J139>=1967,J139<1972),VLOOKUP(K139,Feuil2!$F$10:$P$28,4),IF(AND(J139>=1972,J139<1977),VLOOKUP(K139,Feuil2!$F$10:$P$28,3),IF(AND(J139>=1977,J139<1982),VLOOKUP(K139,Feuil2!$F$10:$P$28,2),VLOOKUP(K139,Feuil2!$F$10:$P$28,2))))))))))))","v":{"$error":"#N/A"}},null,{"$f":"T139-HLOOKUP(Y139,Feuil2!$C$1:$CD$9,2,FALSE)","v":{"$error":"#VALUE!"}},{"$f":"T139-HLOOKUP(Y139,Feuil2!$C$1:$CD$9,3,FALSE)","v":{"$error":"#VALUE!"}},{"$f":"T139-HLOOKUP(Y139,Feuil2!$C$1:$CD$9,4,FALSE)","v":{"$error":"#VALUE!"}},{"$f":"T139-HLOOKUP(Y139,Feuil2!$C$1:$CD$9,5,FALSE)","v":{"$error":"#VALUE!"}},{"$f":"T139-HLOOKUP(Y139,Feuil2!$C$1:$CD$9,6,FALSE)","v":{"$error":"#VALUE!"}},{"$f":"T139-HLOOKUP(Y139,Feuil2!$C$1:$CD$9,7,FALSE)","v":{"$error":"#VALUE!"}},{"$f":"T139-HLOOKUP(Y139,Feuil2!$C$1:$CD$9,8,FALSE)","v":{"$error":"#VALUE!"}},{"$f":"T139-HLOOKUP(Y139,Feuil2!$C$1:$CD$9,9,FALSE)","v":{"$error":"#VALUE!"}},null,null,null,null,null,null,null,{"$error":"#VALUE!"},2016,null,{"$f":"IF(AQ139,VLOOKUP(AQ139,HOM!$AS$561:$AT$616,2))","v":3.5710000000000002}]
["H",null,null,null,null,null,null,null,null,null,null,null,null,null,"",null,null,null,"","","","","",{"$error":"#N/A"},{"$f":"IF(AND(J140<1920),VLOOKUP(K140,Feuil2!$F$10:$P$28,11),IF(AND(J140>=1920,J140<1937),VLOOKUP(K140,Feuil2!$F$10:$P$28,11),IF(AND(J140>=1936,J140<1942),VLOOKUP(K140,Feuil2!$F$10:$P$28,10),IF(AND(J140>=1942,J140<1947),VLOOKUP(K140,Feuil2!$F$10:$P$28,9),IF(AND(J140>=1947,J140<1952),VLOOKUP(K140,Feuil2!$F$10:$P$28,8),IF(AND(J140>=1952,J140<1957),VLOOKUP(K140,Feuil2!$F$10:$P$28,7),IF(AND(J140>=1957,J140<1962),VLOOKUP(K140,Feuil2!$F$10:$P$28,6),IF(AND(J140>=1962,J140<1967),VLOOKUP(K140,Feuil2!$F$10:$P$28,5),IF(AND(J140>=1967,J140<1972),VLOOKUP(K140,Feuil2!$F$10:$P$28,4),IF(AND(J140>=1972,J140<1977),VLOOKUP(K140,Feuil2!$F$10:$P$28,3),IF(AND(J140>=1977,J140<1982),VLOOKUP(K140,Feuil2!$F$10:$P$28,2),VLOOKUP(K140,Feuil2!$F$10:$P$28,2))))))))))))","v":{"$error":"#N/A"}},null,{"$f":"T140-HLOOKUP(Y140,Feuil2!$C$1:$CD$9,2,FALSE)","v":{"$error":"#VALUE!"}},{"$f":"T140-HLOOKUP(Y140,Feuil2!$C$1:$CD$9,3,FALSE)","v":{"$error":"#VALUE!"}},{"$f":"T140-HLOOKUP(Y140,Feuil2!$C$1:$CD$9,4,FALSE)","v":{"$error":"#VALUE!"}},{"$f":"T140-HLOOKUP(Y140,Feuil2!$C$1:$CD$9,5,FALSE)","v":{"$error":"#VALUE!"}},{"$f":"T140-HLOOKUP(Y140,Feuil2!$C$1:$CD$9,6,FALSE)","v":{"$error":"#VALUE!"}},{"$f":"T140-HLOOKUP(Y140,Feuil2!$C$1:$CD$9,7,FALSE)","v":{"$error":"#VALUE!"}},{"$f":"T140-HLOOKUP(Y140,Feuil2!$C$1:$CD$9,8,FALSE)","v":{"$error":"#VALUE!"}},{"$f":"T140-HLOOKUP(Y140,Feuil2!$C$1:$CD$9,9,FALSE)","v":{"$error":"#VALUE!"}},null,null,null,null,null,null,null,{"$error":"#VALUE!"},2016,null,{"$f":"IF(AQ140,VLOOKUP(AQ140,HOM!$AS$561:$AT$616,2))","v":3.5710000000000002}]
["H",null,null,null,null,null,null,null,null,null,null,null,null,null,"",null,null,null,"","","","","",{"$error":"#N/A"},{"$f":"IF(AND(J141<1920),VLOOKUP(K141,Feuil2!$F$10:$P$28,11),IF(AND(J141>=1920,J141<1937),VLOOKUP(K141,Feuil2!$F$10:$P$28,11),IF(AND(J141>=1936,J141<1942),VLOOKUP(K141,Feuil2!$F$10:$P$28,10),IF(AND(J141>=1942,J141<1947),VLOOKUP(K141,Feuil2!$F$10:$P$28,9),IF(AND(J141>=1947,J141<1952),VLOOKUP(K141,Feuil2!$F$10:$P$28,8),IF(AND(J141>=1952,J141<1957),VLOOKUP(K141,Feuil2!$F$10:$P$28,7),IF(AND(J141>=1957,J141<1962),VLOOKUP(K141,Feuil2!$F$10:$P$28,6),IF(AND(J141>=1962,J141<1967),VLOOKUP(K141,Feuil2!$F$10:$P$28,5),IF(AND(J141>=1967,J141<1972),VLOOKUP(K141,Feuil2!$F$10:$P$28,4),IF(AND(J141>=1972,J141<1977),VLOOKUP(K141,Feuil2!$F$10:$P$28,3),IF(AND(J141>=1977,J141<1982),VLOOKUP(K141,Feuil2!$F$10:$P$28,2),VLOOKUP(K141,Feuil2!$F$10:$P$28,2))))))))))))","v":{"$error":"#N/A"}},null,{"$f":"T141-HLOOKUP(Y141,Feuil2!$C$1:$CD$9,2,FALSE)","v":{"$error":"#VALUE!"}},{"$f":"T141-HLOOKUP(Y141,Feuil2!$C$1:$CD$9,3,FALSE)","v":{"$error":"#VALUE!"}},{"$f":"T141-HLOOKUP(Y141,Feuil2!$C$1:$CD$9,4,FALSE)","v":{"$error":"#VALUE!"}},{"$f":"T141-HLOOKUP(Y141,Feuil2!$C$1:$CD$9,5,FALSE)","v":{"$error":"#VALUE!"}},{"$f":"T141-HLOOKUP(Y141,Feuil2!$C$1:$CD$9,6,FALSE)","v":{"$error":"#VALUE!"}},{"$f":"T141-HLOOKUP(Y141,Feuil2!$C$1:$CD$9,7,FALSE)","v":{"$error":"#VALUE!"}},{"$f":"T141-HLOOKUP(Y141,Feuil2!$C$1:$CD$9,8,FALSE)","v":{"$error":"#VALUE!"}},{"$f":"T141-HLOOKUP(Y141,Feuil2!$C$1:$CD$9,9,FALSE)","v":{"$error":"#VALUE!"}},null,null,null,null,null,null,null,{"$error":"#VALUE!"},2016,null,{"$f":"IF(AQ141,VLOOKUP(AQ141,HOM!$AS$561:$AT$616,2))","v":3.5710000000000002}]
["H",null,null,null,null,null,null,null,null,null,null,null,null,null,"",null,null,null,"","","","","",{"$error":"#N/A"},{"$f":"IF(AND(J142<1920),VLOOKUP(K142,Feuil2!$F$10:$P$28,11),IF(AND(J142>=1920,J142<1937),VLOOKUP(K142,Feuil2!$F$10:$P$28,11),IF(AND(J142>=1936,J142<1942),VLOOKUP(K142,Feuil2!$F$10:$P$28,10),IF(AND(J142>=1942,J142<1947),VLOOKUP(K142,Feuil2!$F$10:$P$28,9),IF(AND(J142>=1947,J142<1952),VLOOKUP(K142,Feuil2!$F$10:$P$28,8),IF(AND(J142>=1952,J142<1957),VLOOKUP(K142,Feuil2!$F$10:$P$28,7),IF(AND(J142>=1957,J142<1962),VLOOKUP(K142,Feuil2!$F$10:$P$28,6),IF(AND(J142>=1962,J142<1967),VLOOKUP(K142,Feuil2!$F$10:$P$28,5),IF(AND(J142>=1967,J142<1972),VLOOKUP(K142,Feuil2!$F$10:$P$28,4),IF(AND(J142>=1972,J142<1977),VLOOKUP(K142,Feuil2!$F$10:$P$28,3),IF(AND(J142>=1977,J142<1982),VLOOKUP(K142,Feuil2!$F$10:$P$28,2),VLOOKUP(K142,Feuil2!$F$10:$P$28,2))))))))))))","v":{"$error":"#N/A"}},null,{"$f":"T142-HLOOKUP(Y142,Feuil2!$C$1:$CD$9,2,FALSE)","v":{"$error":"#VALUE!"}},{"$f":"T142-HLOOKUP(Y142,Feuil2!$C$1:$CD$9,3,FALSE)","v":{"$error":"#VALUE!"}},{"$f":"T142-HLOOKUP(Y142,Feuil2!$C$1:$CD$9,4,FALSE)","v":{"$error":"#VALUE!"}},{"$f":"T142-HLOOKUP(Y142,Feuil2!$C$1:$CD$9,5,FALSE)","v":{"$error":"#VALUE!"}},{"$f":"T142-HLOOKUP(Y142,Feuil2!$C$1:$CD$9,6,FALSE)","v":{"$error":"#VALUE!"}},{"$f":"T142-HLOOKUP(Y142,Feuil2!$C$1:$CD$9,7,FALSE)","v":{"$error":"#VALUE!"}},{"$f":"T142-HLOOKUP(Y142,Feuil2!$C$1:$CD$9,8,FALSE)","v":{"$error":"#VALUE!"}},{"$f":"T142-HLOOKUP(Y142,Feuil2!$C$1:$CD$9,9,FALSE)","v":{"$error":"#VALUE!"}},null,null,null,null,null,null,null,{"$error":"#VALUE!"},2016,null,{"$f":"IF(AQ142,VLOOKUP(AQ142,HOM!$AS$561:$AT$616,2))","v":3.5710000000000002}]
["H",null,null,null,null,null,null,null,null,null,null,null,null,null,"",null,null,null,"","",{"$f":"IF(K143=\"\",\"\",IF(A143=\"H\",10^(0.794358141*LOG(K143/174.393)^2)*T143*AS143,IF(A143=\"F\",10^(0.89726074 * LOG(K143/148.026)^2)*T143*AS143,\"\")))","v":""},"","",{"$f":"IF(BI143<95,IF(BI143<=90,VLOOKUP(BI143,$AQ$560:$AR$615,2)))","v":{"$error":"#N/A"}},{"$f":"IF(AND(J143<1920),VLOOKUP(K143,Feuil2!$F$10:$P$28,11),IF(AND(J143>=1920,J143<1937),VLOOKUP(K143,Feuil2!$F$10:$P$28,11),IF(AND(J143>=1936,J143<1942),VLOOKUP(K143,Feuil2!$F$10:$P$28,10),IF(AND(J143>=1942,J143<1947),VLOOKUP(K143,Feuil2!$F$10:$P$28,9),IF(AND(J143>=1947,J143<1952),VLOOKUP(K143,Feuil2!$F$10:$P$28,8),IF(AND(J143>=1952,J143<1957),VLOOKUP(K143,Feuil2!$F$10:$P$28,7),IF(AND(J143>=1957,J143<1962),VLOOKUP(K143,Feuil2!$F$10:$P$28,6),IF(AND(J143>=1962,J143<1967),VLOOKUP(K143,Feuil2!$F$10:$P$28,5),IF(AND(J143>=1967,J143<1972),VLOOKUP(K143,Feuil2!$F$10:$P$28,4),IF(AND(J143>=1972,J143<1977),VLOOKUP(K143,Feuil2!$F$10:$P$28,3),IF(AND(J143>=1977,J143<1982),VLOOKUP(K143,Feuil2!$F$10:$P$28,2),VLOOKUP(K143,Feuil2!$F$10:$P$28,2))))))))))))","v":{"$error":"#N/A"}},null,{"$f":"T143-HLOOKUP(Y143,Feuil2!$C$1:$CD$9,2,FALSE)","v":{"$error":"#VALUE!"}},{"$f":"T143-HLOOKUP(Y143,Feuil2!$C$1:$CD$9,3,FALSE)","v":{"$error":"#VALUE!"}},{"$f":"T143-HLOOKUP(Y143,Feuil2!$C$1:$CD$9,4,FALSE)","v":{"$error":"#VALUE!"}},{"$f":"T143-HLOOKUP(Y143,Feuil2!$C$1:$CD$9,5,FALSE)","v":{"$error":"#VALUE!"}},{"$f":"T143-HLOOKUP(Y143,Feuil2!$C$1:$CD$9,6,FALSE)","v":{"$error":"#VALUE!"}},{"$f":"T143-HLOOKUP(Y143,Feuil2!$C$1:$CD$9,7,FALSE)","v":{"$error":"#VALUE!"}},{"$f":"T143-HLOOKUP(Y143,Feuil2!$C$1:$CD$9,8,FALSE)","v":{"$error":"#VALUE!"}},{"$f":"T143-HLOOKUP(Y143,Feuil2!$C$1:$CD$9,9,FALSE)","v":{"$error":"#VALUE!"}},null,null,null,null,null,null,null,{"$error":"#VALUE!"},2016,null,{"$f":"IF(AQ143,VLOOKUP(AQ143,HOM!$AS$561:$AT$616,2))","v":3.5710000000000002}]
["H",null,null,null,null,null,null,null,null,null,null,null,null,null,"",null,null,null,"","","","","",{"$error":"#N/A"},{"$f":"IF(AND(J144<1920),VLOOKUP(K144,Feuil2!$F$10:$P$28,11),IF(AND(J144>=1920,J144<1937),VLOOKUP(K144,Feuil2!$F$10:$P$28,11),IF(AND(J144>=1936,J144<1942),VLOOKUP(K144,Feuil2!$F$10:$P$28,10),IF(AND(J144>=1942,J144<1947),VLOOKUP(K144,Feuil2!$F$10:$P$28,9),IF(AND(J144>=1947,J144<1952),VLOOKUP(K144,Feuil2!$F$10:$P$28,8),IF(AND(J144>=1952,J144<1957),VLOOKUP(K144,Feuil2!$F$10:$P$28,7),IF(AND(J144>=1957,J144<1962),VLOOKUP(K144,Feuil2!$F$10:$P$28,6),IF(AND(J144>=1962,J144<1967),VLOOKUP(K144,Feuil2!$F$10:$P$28,5),IF(AND(J144>=1967,J144<1972),VLOOKUP(K144,Feuil2!$F$10:$P$28,4),IF(AND(J144>=1972,J144<1977),VLOOKUP(K144,Feuil2!$F$10:$P$28,3),IF(AND(J144>=1977,J144<1982),VLOOKUP(K144,Feuil2!$F$10:$P$28,2),VLOOKUP(K144,Feuil2!$F$10:$P$28,2))))))))))))","v":{"$error":"#N/A"}},null,{"$f":"T144-HLOOKUP(Y144,Feuil2!$C$1:$CD$9,2,FALSE)","v":{"$error":"#VALUE!"}},{"$f":"T144-HLOOKUP(Y144,Feuil2!$C$1:$CD$9,3,FALSE)","v":{"$error":"#VALUE!"}},{"$f":"T144-HLOOKUP(Y144,Feuil2!$C$1:$CD$9,4,FALSE)","v":{"$error":"#VALUE!"}},{"$f":"T144-HLOOKUP(Y144,Feuil2!$C$1:$CD$9,5,FALSE)","v":{"$error":"#VALUE!"}},{"$f":"T144-HLOOKUP(Y144,Feuil2!$C$1:$CD$9,6,FALSE)","v":{"$error":"#VALUE!"}},{"$f":"T144-HLOOKUP(Y144,Feuil2!$C$1:$CD$9,7,FALSE)","v":{"$error":"#VALUE!"}},{"$f":"T144-HLOOKUP(Y144,Feuil2!$C$1:$CD$9,8,FALSE)","v":{"$error":"#VALUE!"}},{"$f":"T144-HLOOKUP(Y144,Feuil2!$C$1:$CD$9,9,FALSE)","v":{"$error":"#VALUE!"}},null,null,null,null,null,null,null,{"$error":"#VALUE!"},2016,null,{"$f":"IF(AQ144,VLOOKUP(AQ144,HOM!$AS$561:$AT$616,2))","v":3.5710000000000002}]
["H",null,null,null,null,null,null,null,null,null,null,null,null,null,"",null,null,null,"","","","","",{"$error":"#N/A"},{"$f":"IF(AND(J145<1920),VLOOKUP(K145,Feuil2!$F$10:$P$28,11),IF(AND(J145>=1920,J145<1937),VLOOKUP(K145,Feuil2!$F$10:$P$28,11),IF(AND(J145>=1936,J145<1942),VLOOKUP(K145,Feuil2!$F$10:$P$28,10),IF(AND(J145>=1942,J145<1947),VLOOKUP(K145,Feuil2!$F$10:$P$28,9),IF(AND(J145>=1947,J145<1952),VLOOKUP(K145,Feuil2!$F$10:$P$28,8),IF(AND(J145>=1952,J145<1957),VLOOKUP(K145,Feuil2!$F$10:$P$28,7),IF(AND(J145>=1957,J145<1962),VLOOKUP(K145,Feuil2!$F$10:$P$28,6),IF(AND(J145>=1962,J145<1967),VLOOKUP(K145,Feuil2!$F$10:$P$28,5),IF(AND(J145>=1967,J145<1972),VLOOKUP(K145,Feuil2!$F$10:$P$28,4),IF(AND(J145>=1972,J145<1977),VLOOKUP(K145,Feuil2!$F$10:$P$28,3),IF(AND(J145>=1977,J145<1982),VLOOKUP(K145,Feuil2!$F$10:$P$28,2),VLOOKUP(K145,Feuil2!$F$10:$P$28,2))))))))))))","v":{"$error":"#N/A"}},null,{"$f":"T145-HLOOKUP(Y145,Feuil2!$C$1:$CD$9,2,FALSE)","v":{"$error":"#VALUE!"}},{"$f":"T145-HLOOKUP(Y145,Feuil2!$C$1:$CD$9,3,FALSE)","v":{"$error":"#VALUE!"}},{"$f":"T145-HLOOKUP(Y145,Feuil2!$C$1:$CD$9,4,FALSE)","v":{"$error":"#VALUE!"}},{"$f":"T145-HLOOKUP(Y145,Feuil2!$C$1:$CD$9,5,FALSE)","v":{"$error":"#VALUE!"}},{"$f":"T145-HLOOKUP(Y145,Feuil2!$C$1:$CD$9,6,FALSE)","v":{"$error":"#VALUE!"}},{"$f":"T145-HLOOKUP(Y145,Feuil2!$C$1:$CD$9,7,FALSE)","v":{"$error":"#VALUE!"}},{"$f":"T145-HLOOKUP(Y145,Feuil2!$C$1:$CD$9,8,FALSE)","v":{"$error":"#VALUE!"}},{"$f":"T145-HLOOKUP(Y145,Feuil2!$C$1:$CD$9,9,FALSE)","v":{"$error":"#VALUE!"}},null,null,null,null,null,null,null,{"$error":"#VALUE!"},{"$f":"2016-J145","v":2016},null,{"$f":"IF(AQ145,VLOOKUP(AQ145,HOM!$AS$561:$AT$616,2))","v":3.5710000000000002}]
["H",null,null,null,null,null,null,null,null,null,null,null,null,null,"",null,null,null,"","","","","",{"$error":"#N/A"},{"$f":"IF(AND(J146<1920),VLOOKUP(K146,Feuil2!$F$10:$P$28,11),IF(AND(J146>=1920,J146<1937),VLOOKUP(K146,Feuil2!$F$10:$P$28,11),IF(AND(J146>=1936,J146<1942),VLOOKUP(K146,Feuil2!$F$10:$P$28,10),IF(AND(J146>=1942,J146<1947),VLOOKUP(K146,Feuil2!$F$10:$P$28,9),IF(AND(J146>=1947,J146<1952),VLOOKUP(K146,Feuil2!$F$10:$P$28,8),IF(AND(J146>=1952,J146<1957),VLOOKUP(K146,Feuil2!$F$10:$P$28,7),IF(AND(J146>=1957,J146<1962),VLOOKUP(K146,Feuil2!$F$10:$P$28,6),IF(AND(J146>=1962,J146<1967),VLOOKUP(K146,Feuil2!$F$10:$P$28,5),IF(AND(J146>=1967,J146<1972),VLOOKUP(K146,Feuil2!$F$10:$P$28,4),IF(AND(J146>=1972,J146<1977),VLOOKUP(K146,Feuil2!$F$10:$P$28,3),IF(AND(J146>=1977,J146<1982),VLOOKUP(K146,Feuil2!$F$10:$P$28,2),VLOOKUP(K146,Feuil2!$F$10:$P$28,2))))))))))))","v":{"$error":"#N/A"}},null,{"$f":"T146-HLOOKUP(Y146,Feuil2!$C$1:$CD$9,2,FALSE)","v":{"$error":"#VALUE!"}},{"$f":"T146-HLOOKUP(Y146,Feuil2!$C$1:$CD$9,3,FALSE)","v":{"$error":"#VALUE!"}},{"$f":"T146-HLOOKUP(Y146,Feuil2!$C$1:$CD$9,4,FALSE)","v":{"$error":"#VALUE!"}},{"$f":"T146-HLOOKUP(Y146,Feuil2!$C$1:$CD$9,5,FALSE)","v":{"$error":"#VALUE!"}},{"$f":"T146-HLOOKUP(Y146,Feuil2!$C$1:$CD$9,6,FALSE)","v":{"$error":"#VALUE!"}},{"$f":"T146-HLOOKUP(Y146,Feuil2!$C$1:$CD$9,7,FALSE)","v":{"$error":"#VALUE!"}},{"$f":"T146-HLOOKUP(Y146,Feuil2!$C$1:$CD$9,8,FALSE)","v":{"$error":"#VALUE!"}},{"$f":"T146-HLOOKUP(Y146,Feuil2!$C$1:$CD$9,9,FALSE)","v":{"$error":"#VALUE!"}},null,null,null,null,null,null,null,{"$error":"#VALUE!"},2016,null,{"$f":"IF(AQ146,VLOOKUP(AQ146,HOM!$AS$561:$AT$616,2))","v":3.5710000000000002}]
["H",null,null,null,null,null,null,null,null,null,null,null,null,null,"",null,null,null,"","","","","",{"$error":"#N/A"},{"$f":"IF(AND(J147<1920),VLOOKUP(K147,Feuil2!$F$10:$P$28,11),IF(AND(J147>=1920,J147<1937),VLOOKUP(K147,Feuil2!$F$10:$P$28,11),IF(AND(J147>=1936,J147<1942),VLOOKUP(K147,Feuil2!$F$10:$P$28,10),IF(AND(J147>=1942,J147<1947),VLOOKUP(K147,Feuil2!$F$10:$P$28,9),IF(AND(J147>=1947,J147<1952),VLOOKUP(K147,Feuil2!$F$10:$P$28,8),IF(AND(J147>=1952,J147<1957),VLOOKUP(K147,Feuil2!$F$10:$P$28,7),IF(AND(J147>=1957,J147<1962),VLOOKUP(K147,Feuil2!$F$10:$P$28,6),IF(AND(J147>=1962,J147<1967),VLOOKUP(K147,Feuil2!$F$10:$P$28,5),IF(AND(J147>=1967,J147<1972),VLOOKUP(K147,Feuil2!$F$10:$P$28,4),IF(AND(J147>=1972,J147<1977),VLOOKUP(K147,Feuil2!$F$10:$P$28,3),IF(AND(J147>=1977,J147<1982),VLOOKUP(K147,Feuil2!$F$10:$P$28,2),VLOOKUP(K147,Feuil2!$F$10:$P$28,2))))))))))))","v":{"$error":"#N/A"}},null,{"$f":"T147-HLOOKUP(Y147,Feuil2!$C$1:$CD$9,2,FALSE)","v":{"$error":"#VALUE!"}},{"$f":"T147-HLOOKUP(Y147,Feuil2!$C$1:$CD$9,3,FALSE)","v":{"$error":"#VALUE!"}},{"$f":"T147-HLOOKUP(Y147,Feuil2!$C$1:$CD$9,4,FALSE)","v":{"$error":"#VALUE!"}},{"$f":"T147-HLOOKUP(Y147,Feuil2!$C$1:$CD$9,5,FALSE)","v":{"$error":"#VALUE!"}},{"$f":"T147-HLOOKUP(Y147,Feuil2!$C$1:$CD$9,6,FALSE)","v":{"$error":"#VALUE!"}},{"$f":"T147-HLOOKUP(Y147,Feuil2!$C$1:$CD$9,7,FALSE)","v":{"$error":"#VALUE!"}},{"$f":"T147-HLOOKUP(Y147,Feuil2!$C$1:$CD$9,8,FALSE)","v":{"$error":"#VALUE!"}},{"$f":"T147-HLOOKUP(Y147,Feuil2!$C$1:$CD$9,9,FALSE)","v":{"$error":"#VALUE!"}},null,null,null,null,null,null,null,{"$error":"#VALUE!"},2016,null,{"$f":"IF(AQ147,VLOOKUP(AQ147,HOM!$AS$561:$AT$616,2))","v":3.5710000000000002}]
["H",null,null,null,null,null,null,null,null,null,null,null,null,null,"",null,null,null,"","","","","",{"$error":"#N/A"},{"$f":"IF(AND(J148<1920),VLOOKUP(K148,Feuil2!$F$10:$P$28,11),IF(AND(J148>=1920,J148<1937),VLOOKUP(K148,Feuil2!$F$10:$P$28,11),IF(AND(J148>=1936,J148<1942),VLOOKUP(K148,Feuil2!$F$10:$P$28,10),IF(AND(J148>=1942,J148<1947),VLOOKUP(K148,Feuil2!$F$10:$P$28,9),IF(AND(J148>=1947,J148<1952),VLOOKUP(K148,Feuil2!$F$10:$P$28,8),IF(AND(J148>=1952,J148<1957),VLOOKUP(K148,Feuil2!$F$10:$P$28,7),IF(AND(J148>=1957,J148<1962),VLOOKUP(K148,Feuil2!$F$10:$P$28,6),IF(AND(J148>=1962,J148<1967),VLOOKUP(K148,Feuil2!$F$10:$P$28,5),IF(AND(J148>=1967,J148<1972),VLOOKUP(K148,Feuil2!$F$10:$P$28,4),IF(AND(J148>=1972,J148<1977),VLOOKUP(K148,Feuil2!$F$10:$P$28,3),IF(AND(J148>=1977,J148<1982),VLOOKUP(K148,Feuil2!$F$10:$P$28,2),VLOOKUP(K148,Feuil2!$F$10:$P$28,2))))))))))))","v":{"$error":"#N/A"}},null,{"$f":"T148-HLOOKUP(Y148,Feuil2!$C$1:$CD$9,2,FALSE)","v":{"$error":"#VALUE!"}},{"$f":"T148-HLOOKUP(Y148,Feuil2!$C$1:$CD$9,3,FALSE)","v":{"$error":"#VALUE!"}},{"$f":"T148-HLOOKUP(Y148,Feuil2!$C$1:$CD$9,4,FALSE)","v":{"$error":"#VALUE!"}},{"$f":"T148-HLOOKUP(Y148,Feuil2!$C$1:$CD$9,5,FALSE)","v":{"$error":"#VALUE!"}},{"$f":"T148-HLOOKUP(Y148,Feuil2!$C$1:$CD$9,6,FALSE)","v":{"$error":"#VALUE!"}},{"$f":"T148-HLOOKUP(Y148,Feuil2!$C$1:$CD$9,7,FALSE)","v":{"$error":"#VALUE!"}},{"$f":"T148-HLOOKUP(Y148,Feuil2!$C$1:$CD$9,8,FALSE)","v":{"$error":"#VALUE!"}},{"$f":"T148-HLOOKUP(Y148,Feuil2!$C$1:$CD$9,9,FALSE)","v":{"$error":"#VALUE!"}},null,null,null,null,null,null,null,{"$error":"#VALUE!"},2016,null,{"$f":"IF(AQ148,VLOOKUP(AQ148,HOM!$AS$561:$AT$616,2))","v":3.5710000000000002}]
["H",null,null,null,null,null,null,null,null,null,null,null,null,null,{"$f":"IF(K149=\"\",\"\",IF(MAXA(L149:N149)<=0,0,MAXA(L149:N149)))","v":""},null,null,null,"","","","","",{"$error":"#N/A"},{"$f":"IF(AND(J149<1920),VLOOKUP(K149,Feuil2!$F$10:$P$28,11),IF(AND(J149>=1920,J149<1937),VLOOKUP(K149,Feuil2!$F$10:$P$28,11),IF(AND(J149>=1936,J149<1942),VLOOKUP(K149,Feuil2!$F$10:$P$28,10),IF(AND(J149>=1942,J149<1947),VLOOKUP(K149,Feuil2!$F$10:$P$28,9),IF(AND(J149>=1947,J149<1952),VLOOKUP(K149,Feuil2!$F$10:$P$28,8),IF(AND(J149>=1952,J149<1957),VLOOKUP(K149,Feuil2!$F$10:$P$28,7),IF(AND(J149>=1957,J149<1962),VLOOKUP(K149,Feuil2!$F$10:$P$28,6),IF(AND(J149>=1962,J149<1967),VLOOKUP(K149,Feuil2!$F$10:$P$28,5),IF(AND(J149>=1967,J149<1972),VLOOKUP(K149,Feuil2!$F$10:$P$28,4),IF(AND(J149>=1972,J149<1977),VLOOKUP(K149,Feuil2!$F$10:$P$28,3),IF(AND(J149>=1977,J149<1982),VLOOKUP(K149,Feuil2!$F$10:$P$28,2),VLOOKUP(K149,Feuil2!$F$10:$P$28,2))))))))))))","v":{"$error":"#N/A"}},null,{"$f":"T149-HLOOKUP(Y149,Feuil2!$C$1:$CD$9,2,FALSE)","v":{"$error":"#VALUE!"}},{"$f":"T149-HLOOKUP(Y149,Feuil2!$C$1:$CD$9,3,FALSE)","v":{"$error":"#VALUE!"}},{"$f":"T149-HLOOKUP(Y149,Feuil2!$C$1:$CD$9,4,FALSE)","v":{"$error":"#VALUE!"}},{"$f":"T149-HLOOKUP(Y149,Feuil2!$C$1:$CD$9,5,FALSE)","v":{"$error":"#VALUE!"}},{"$f":"T149-HLOOKUP(Y149,Feuil2!$C$1:$CD$9,6,FALSE)","v":{"$error":"#VALUE!"}},{"$f":"T149-HLOOKUP(Y149,Feuil2!$C$1:$CD$9,7,FALSE)","v":{"$error":"#VALUE!"}},{"$f":"T149-HLOOKUP(Y149,Feuil2!$C$1:$CD$9,8,FALSE)","v":{"$error":"#VALUE!"}},{"$f":"T149-HLOOKUP(Y149,Feuil2!$C$1:$CD$9,9,FALSE)","v":{"$error":"#VALUE!"}},null,null,null,null,null,null,null,{"$error":"#VALUE!"},2016,null,{"$f":"IF(AQ149,VLOOKUP(AQ149,HOM!$AS$561:$AT$616,2))","v":3.5710000000000002}]
["H",null,null,null,null,null,null,null,null,null,null,null,null,null,{"$f":"IF(K150=\"\",\"\",IF(MAXA(L150:N150)<=0,0,MAXA(L150:N150)))","v":""},null,null,null,{"$f":"IF(K150=\"\",\"\",IF(MAXA(P150:R150)<=0,0,MAXA(P150:R150)))","v":""},{"$f":"IF(K150=\"\",\"\",IF(OR(O150=0,S150=0),0,O150+S150))","v":""},"","","",{"$error":"#N/A"},{"$f":"IF(AND(J150<1920),VLOOKUP(K150,Feuil2!$F$10:$P$28,11),IF(AND(J150>=1920,J150<1937),VLOOKUP(K150,Feuil2!$F$10:$P$28,11),IF(AND(J150>=1936,J150<1942),VLOOKUP(K150,Feuil2!$F$10:$P$28,10),IF(AND(J150>=1942,J150<1947),VLOOKUP(K150,Feuil2!$F$10:$P$28,9),IF(AND(J150>=1947,J150<1952),VLOOKUP(K150,Feuil2!$F$10:$P$28,8),IF(AND(J150>=1952,J150<1957),VLOOKUP(K150,Feuil2!$F$10:$P$28,7),IF(AND(J150>=1957,J150<1962),VLOOKUP(K150,Feuil2!$F$10:$P$28,6),IF(AND(J150>=1962,J150<1967),VLOOKUP(K150,Feuil2!$F$10:$P$28,5),IF(AND(J150>=1967,J150<1972),VLOOKUP(K150,Feuil2!$F$10:$P$28,4),IF(AND(J150>=1972,J150<1977),VLOOKUP(K150,Feuil2!$F$10:$P$28,3),IF(AND(J150>=1977,J150<1982),VLOOKUP(K150,Feuil2!$F$10:$P$28,2),VLOOKUP(K150,Feuil2!$F$10:$P$28,2))))))))))))","v":{"$error":"#N/A"}},null,{"$f":"T150-HLOOKUP(Y150,Feuil2!$C$1:$CD$9,2,FALSE)","v":{"$error":"#VALUE!"}},{"$f":"T150-HLOOKUP(Y150,Feuil2!$C$1:$CD$9,3,FALSE)","v":{"$error":"#VALUE!"}},{"$f":"T150-HLOOKUP(Y150,Feuil2!$C$1:$CD$9,4,FALSE)","v":{"$error":"#VALUE!"}},{"$f":"T150-HLOOKUP(Y150,Feuil2!$C$1:$CD$9,5,FALSE)","v":{"$error":"#VALUE!"}},{"$f":"T150-HLOOKUP(Y150,Feuil2!$C$1:$CD$9,6,FALSE)","v":{"$error":"#VALUE!"}},{"$f":"T150-HLOOKUP(Y150,Feuil2!$C$1:$CD$9,7,FALSE)","v":{"$error":"#VALUE!"}},{"$f":"T150-HLOOKUP(Y150,Feuil2!$C$1:$CD$9,8,FALSE)","v":{"$error":"#VALUE!"}},{"$f":"T150-HLOOKUP(Y150,Feuil2!$C$1:$CD$9,9,FALSE)","v":{"$error":"#VALUE!"}},null,null,null,null,null,null,null,{"$error":"#VALUE!"},2016,null,{"$f":"IF(AQ150,VLOOKUP(AQ150,HOM!$AS$561:$AT$616,2))","v":3.5710000000000002}]
["H",null,null,null,null,null,null,null,null,null,null,null,null,null,"",null,null,null,"","","","","",{"$error":"#N/A"},{"$f":"IF(AND(J151<1920),VLOOKUP(K151,Feuil2!$F$10:$P$28,11),IF(AND(J151>=1920,J151<1937),VLOOKUP(K151,Feuil2!$F$10:$P$28,11),IF(AND(J151>=1936,J151<1942),VLOOKUP(K151,Feuil2!$F$10:$P$28,10),IF(AND(J151>=1942,J151<1947),VLOOKUP(K151,Feuil2!$F$10:$P$28,9),IF(AND(J151>=1947,J151<1952),VLOOKUP(K151,Feuil2!$F$10:$P$28,8),IF(AND(J151>=1952,J151<1957),VLOOKUP(K151,Feuil2!$F$10:$P$28,7),IF(AND(J151>=1957,J151<1962),VLOOKUP(K151,Feuil2!$F$10:$P$28,6),IF(AND(J151>=1962,J151<1967),VLOOKUP(K151,Feuil2!$F$10:$P$28,5),IF(AND(J151>=1967,J151<1972),VLOOKUP(K151,Feuil2!$F$10:$P$28,4),IF(AND(J151>=1972,J151<1977),VLOOKUP(K151,Feuil2!$F$10:$P$28,3),IF(AND(J151>=1977,J151<1982),VLOOKUP(K151,Feuil2!$F$10:$P$28,2),VLOOKUP(K151,Feuil2!$F$10:$P$28,2))))))))))))","v":{"$error":"#N/A"}},null,{"$f":"T151-HLOOKUP(Y151,Feuil2!$C$1:$CD$9,2,FALSE)","v":{"$error":"#VALUE!"}},{"$f":"T151-HLOOKUP(Y151,Feuil2!$C$1:$CD$9,3,FALSE)","v":{"$error":"#VALUE!"}},{"$f":"T151-HLOOKUP(Y151,Feuil2!$C$1:$CD$9,4,FALSE)","v":{"$error":"#VALUE!"}},{"$f":"T151-HLOOKUP(Y151,Feuil2!$C$1:$CD$9,5,FALSE)","v":{"$error":"#VALUE!"}},{"$f":"T151-HLOOKUP(Y151,Feuil2!$C$1:$CD$9,6,FALSE)","v":{"$error":"#VALUE!"}},{"$f":"T151-HLOOKUP(Y151,Feuil2!$C$1:$CD$9,7,FALSE)","v":{"$error":"#VALUE!"}},{"$f":"T151-HLOOKUP(Y151,Feuil2!$C$1:$CD$9,8,FALSE)","v":{"$error":"#VALUE!"}},{"$f":"T151-HLOOKUP(Y151,Feuil2!$C$1:$CD$9,9,FALSE)","v":{"$error":"#VALUE!"}},null,null,null,null,null,null,null,{"$error":"#VALUE!"},2016,null,{"$f":"IF(AQ151,VLOOKUP(AQ151,HOM!$AS$561:$AT$616,2))","v":3.5710000000000002}]
["H",null,null,null,null,null,null,null,null,null,null,null,null,null,"",null,null,null,"","","","","",{"$error":"#N/A"},{"$f":"IF(AND(J152<1920),VLOOKUP(K152,Feuil2!$F$10:$P$28,11),IF(AND(J152>=1920,J152<1937),VLOOKUP(K152,Feuil2!$F$10:$P$28,11),IF(AND(J152>=1936,J152<1942),VLOOKUP(K152,Feuil2!$F$10:$P$28,10),IF(AND(J152>=1942,J152<1947),VLOOKUP(K152,Feuil2!$F$10:$P$28,9),IF(AND(J152>=1947,J152<1952),VLOOKUP(K152,Feuil2!$F$10:$P$28,8),IF(AND(J152>=1952,J152<1957),VLOOKUP(K152,Feuil2!$F$10:$P$28,7),IF(AND(J152>=1957,J152<1962),VLOOKUP(K152,Feuil2!$F$10:$P$28,6),IF(AND(J152>=1962,J152<1967),VLOOKUP(K152,Feuil2!$F$10:$P$28,5),IF(AND(J152>=1967,J152<1972),VLOOKUP(K152,Feuil2!$F$10:$P$28,4),IF(AND(J152>=1972,J152<1977),VLOOKUP(K152,Feuil2!$F$10:$P$28,3),IF(AND(J152>=1977,J152<1982),VLOOKUP(K152,Feuil2!$F$10:$P$28,2),VLOOKUP(K152,Feuil2!$F$10:$P$28,2))))))))))))","v":{"$error":"#N/A"}},null,{"$f":"T152-HLOOKUP(Y152,Feuil2!$C$1:$CD$9,2,FALSE)","v":{"$error":"#VALUE!"}},{"$f":"T152-HLOOKUP(Y152,Feuil2!$C$1:$CD$9,3,FALSE)","v":{"$error":"#VALUE!"}},{"$f":"T152-HLOOKUP(Y152,Feuil2!$C$1:$CD$9,4,FALSE)","v":{"$error":"#VALUE!"}},{"$f":"T152-HLOOKUP(Y152,Feuil2!$C$1:$CD$9,5,FALSE)","v":{"$error":"#VALUE!"}},{"$f":"T152-HLOOKUP(Y152,Feuil2!$C$1:$CD$9,6,FALSE)","v":{"$error":"#VALUE!"}},{"$f":"T152-HLOOKUP(Y152,Feuil2!$C$1:$CD$9,7,FALSE)","v":{"$error":"#VALUE!"}},{"$f":"T152-HLOOKUP(Y152,Feuil2!$C$1:$CD$9,8,FALSE)","v":{"$error":"#VALUE!"}},{"$f":"T152-HLOOKUP(Y152,Feuil2!$C$1:$CD$9,9,FALSE)","v":{"$error":"#VALUE!"}},null,null,null,null,null,null,null,{"$error":"#VALUE!"},2016,null,{"$f":"IF(AQ152,VLOOKUP(AQ152,HOM!$AS$561:$AT$616,2))","v":3.5710000000000002}]
["H",null,null,null,null,null,null,null,null,null,null,null,null,null,"",null,null,null,"","","","","",{"$error":"#N/A"},{"$f":"IF(AND(J153<1920),VLOOKUP(K153,Feuil2!$F$10:$P$28,11),IF(AND(J153>=1920,J153<1937),VLOOKUP(K153,Feuil2!$F$10:$P$28,11),IF(AND(J153>=1936,J153<1942),VLOOKUP(K153,Feuil2!$F$10:$P$28,10),IF(AND(J153>=1942,J153<1947),VLOOKUP(K153,Feuil2!$F$10:$P$28,9),IF(AND(J153>=1947,J153<1952),VLOOKUP(K153,Feuil2!$F$10:$P$28,8),IF(AND(J153>=1952,J153<1957),VLOOKUP(K153,Feuil2!$F$10:$P$28,7),IF(AND(J153>=1957,J153<1962),VLOOKUP(K153,Feuil2!$F$10:$P$28,6),IF(AND(J153>=1962,J153<1967),VLOOKUP(K153,Feuil2!$F$10:$P$28,5),IF(AND(J153>=1967,J153<1972),VLOOKUP(K153,Feuil2!$F$10:$P$28,4),IF(AND(J153>=1972,J153<1977),VLOOKUP(K153,Feuil2!$F$10:$P$28,3),IF(AND(J153>=1977,J153<1982),VLOOKUP(K153,Feuil2!$F$10:$P$28,2),VLOOKUP(K153,Feuil2!$F$10:$P$28,2))))))))))))","v":{"$error":"#N/A"}},null,{"$f":"T153-HLOOKUP(Y153,Feuil2!$C$1:$CD$9,2,FALSE)","v":{"$error":"#VALUE!"}},{"$f":"T153-HLOOKUP(Y153,Feuil2!$C$1:$CD$9,3,FALSE)","v":{"$error":"#VALUE!"}},{"$f":"T153-HLOOKUP(Y153,Feuil2!$C$1:$CD$9,4,FALSE)","v":{"$error":"#VALUE!"}},{"$f":"T153-HLOOKUP(Y153,Feuil2!$C$1:$CD$9,5,FALSE)","v":{"$error":"#VALUE!"}},{"$f":"T153-HLOOKUP(Y153,Feuil2!$C$1:$CD$9,6,FALSE)","v":{"$error":"#VALUE!"}},{"$f":"T153-HLOOKUP(Y153,Feuil2!$C$1:$CD$9,7,FALSE)","v":{"$error":"#VALUE!"}},{"$f":"T153-HLOOKUP(Y153,Feuil2!$C$1:$CD$9,8,FALSE)","v":{"$error":"#VALUE!"}},{"$f":"T153-HLOOKUP(Y153,Feuil2!$C$1:$CD$9,9,FALSE)","v":{"$error":"#VALUE!"}},null,null,null,null,null,null,null,{"$error":"#VALUE!"},2016,null,{"$f":"IF(AQ153,VLOOKUP(AQ153,HOM!$AS$561:$AT$616,2))","v":3.5710000000000002}]
["H",null,null,null,null,null,null,null,null,null,null,null,null,null,"",null,null,null,"","","","","",{"$error":"#N/A"},{"$f":"IF(AND(J154<1920),VLOOKUP(K154,Feuil2!$F$10:$P$28,11),IF(AND(J154>=1920,J154<1937),VLOOKUP(K154,Feuil2!$F$10:$P$28,11),IF(AND(J154>=1936,J154<1942),VLOOKUP(K154,Feuil2!$F$10:$P$28,10),IF(AND(J154>=1942,J154<1947),VLOOKUP(K154,Feuil2!$F$10:$P$28,9),IF(AND(J154>=1947,J154<1952),VLOOKUP(K154,Feuil2!$F$10:$P$28,8),IF(AND(J154>=1952,J154<1957),VLOOKUP(K154,Feuil2!$F$10:$P$28,7),IF(AND(J154>=1957,J154<1962),VLOOKUP(K154,Feuil2!$F$10:$P$28,6),IF(AND(J154>=1962,J154<1967),VLOOKUP(K154,Feuil2!$F$10:$P$28,5),IF(AND(J154>=1967,J154<1972),VLOOKUP(K154,Feuil2!$F$10:$P$28,4),IF(AND(J154>=1972,J154<1977),VLOOKUP(K154,Feuil2!$F$10:$P$28,3),IF(AND(J154>=1977,J154<1982),VLOOKUP(K154,Feuil2!$F$10:$P$28,2),VLOOKUP(K154,Feuil2!$F$10:$P$28,2))))))))))))","v":{"$error":"#N/A"}},null,{"$f":"T154-HLOOKUP(Y154,Feuil2!$C$1:$CD$9,2,FALSE)","v":{"$error":"#VALUE!"}},{"$f":"T154-HLOOKUP(Y154,Feuil2!$C$1:$CD$9,3,FALSE)","v":{"$error":"#VALUE!"}},{"$f":"T154-HLOOKUP(Y154,Feuil2!$C$1:$CD$9,4,FALSE)","v":{"$error":"#VALUE!"}},{"$f":"T154-HLOOKUP(Y154,Feuil2!$C$1:$CD$9,5,FALSE)","v":{"$error":"#VALUE!"}},{"$f":"T154-HLOOKUP(Y154,Feuil2!$C$1:$CD$9,6,FALSE)","v":{"$error":"#VALUE!"}},{"$f":"T154-HLOOKUP(Y154,Feuil2!$C$1:$CD$9,7,FALSE)","v":{"$error":"#VALUE!"}},{"$f":"T154-HLOOKUP(Y154,Feuil2!$C$1:$CD$9,8,FALSE)","v":{"$error":"#VALUE!"}},{"$f":"T154-HLOOKUP(Y154,Feuil2!$C$1:$CD$9,9,FALSE)","v":{"$error":"#VALUE!"}},null,null,null,null,null,null,null,{"$error":"#VALUE!"},2016,null,{"$f":"IF(AQ154,VLOOKUP(AQ154,HOM!$AS$561:$AT$616,2))","v":3.5710000000000002}]
["H",null,null,null,null,null,null,null,null,null,null,null,null,null,"",null,null,null,"","","","","",{"$error":"#N/A"},{"$f":"IF(AND(J155<1920),VLOOKUP(K155,Feuil2!$F$10:$P$28,11),IF(AND(J155>=1920,J155<1937),VLOOKUP(K155,Feuil2!$F$10:$P$28,11),IF(AND(J155>=1936,J155<1942),VLOOKUP(K155,Feuil2!$F$10:$P$28,10),IF(AND(J155>=1942,J155<1947),VLOOKUP(K155,Feuil2!$F$10:$P$28,9),IF(AND(J155>=1947,J155<1952),VLOOKUP(K155,Feuil2!$F$10:$P$28,8),IF(AND(J155>=1952,J155<1957),VLOOKUP(K155,Feuil2!$F$10:$P$28,7),IF(AND(J155>=1957,J155<1962),VLOOKUP(K155,Feuil2!$F$10:$P$28,6),IF(AND(J155>=1962,J155<1967),VLOOKUP(K155,Feuil2!$F$10:$P$28,5),IF(AND(J155>=1967,J155<1972),VLOOKUP(K155,Feuil2!$F$10:$P$28,4),IF(AND(J155>=1972,J155<1977),VLOOKUP(K155,Feuil2!$F$10:$P$28,3),IF(AND(J155>=1977,J155<1982),VLOOKUP(K155,Feuil2!$F$10:$P$28,2),VLOOKUP(K155,Feuil2!$F$10:$P$28,2))))))))))))","v":{"$error":"#N/A"}},null,{"$f":"T155-HLOOKUP(Y155,Feuil2!$C$1:$CD$9,2,FALSE)","v":{"$error":"#VALUE!"}},{"$f":"T155-HLOOKUP(Y155,Feuil2!$C$1:$CD$9,3,FALSE)","v":{"$error":"#VALUE!"}},{"$f":"T155-HLOOKUP(Y155,Feuil2!$C$1:$CD$9,4,FALSE)","v":{"$error":"#VALUE!"}},{"$f":"T155-HLOOKUP(Y155,Feuil2!$C$1:$CD$9,5,FALSE)","v":{"$error":"#VALUE!"}},{"$f":"T155-HLOOKUP(Y155,Feuil2!$C$1:$CD$9,6,FALSE)","v":{"$error":"#VALUE!"}},{"$f":"T155-HLOOKUP(Y155,Feuil2!$C$1:$CD$9,7,FALSE)","v":{"$error":"#VALUE!"}},{"$f":"T155-HLOOKUP(Y155,Feuil2!$C$1:$CD$9,8,FALSE)","v":{"$error":"#VALUE!"}},{"$f":"T155-HLOOKUP(Y155,Feuil2!$C$1:$CD$9,9,FALSE)","v":{"$error":"#VALUE!"}},null,null,null,null,null,null,null,{"$error":"#VALUE!"},2016,null,{"$f":"IF(AQ155,VLOOKUP(AQ155,HOM!$AS$561:$AT$616,2))","v":3.5710000000000002}]
["H",null,null,null,null,null,null,null,null,null,null,null,null,null,"",null,null,null,"","","","","",{"$error":"#N/A"},{"$f":"IF(AND(J156<1920),VLOOKUP(K156,Feuil2!$F$10:$P$28,11),IF(AND(J156>=1920,J156<1937),VLOOKUP(K156,Feuil2!$F$10:$P$28,11),IF(AND(J156>=1936,J156<1942),VLOOKUP(K156,Feuil2!$F$10:$P$28,10),IF(AND(J156>=1942,J156<1947),VLOOKUP(K156,Feuil2!$F$10:$P$28,9),IF(AND(J156>=1947,J156<1952),VLOOKUP(K156,Feuil2!$F$10:$P$28,8),IF(AND(J156>=1952,J156<1957),VLOOKUP(K156,Feuil2!$F$10:$P$28,7),IF(AND(J156>=1957,J156<1962),VLOOKUP(K156,Feuil2!$F$10:$P$28,6),IF(AND(J156>=1962,J156<1967),VLOOKUP(K156,Feuil2!$F$10:$P$28,5),IF(AND(J156>=1967,J156<1972),VLOOKUP(K156,Feuil2!$F$10:$P$28,4),IF(AND(J156>=1972,J156<1977),VLOOKUP(K156,Feuil2!$F$10:$P$28,3),IF(AND(J156>=1977,J156<1982),VLOOKUP(K156,Feuil2!$F$10:$P$28,2),VLOOKUP(K156,Feuil2!$F$10:$P$28,2))))))))))))","v":{"$error":"#N/A"}},null,{"$f":"T156-HLOOKUP(Y156,Feuil2!$C$1:$CD$9,2,FALSE)","v":{"$error":"#VALUE!"}},{"$f":"T156-HLOOKUP(Y156,Feuil2!$C$1:$CD$9,3,FALSE)","v":{"$error":"#VALUE!"}},{"$f":"T156-HLOOKUP(Y156,Feuil2!$C$1:$CD$9,4,FALSE)","v":{"$error":"#VALUE!"}},{"$f":"T156-HLOOKUP(Y156,Feuil2!$C$1:$CD$9,5,FALSE)","v":{"$error":"#VALUE!"}},{"$f":"T156-HLOOKUP(Y156,Feuil2!$C$1:$CD$9,6,FALSE)","v":{"$error":"#VALUE!"}},{"$f":"T156-HLOOKUP(Y156,Feuil2!$C$1:$CD$9,7,FALSE)","v":{"$error":"#VALUE!"}},{"$f":"T156-HLOOKUP(Y156,Feuil2!$C$1:$CD$9,8,FALSE)","v":{"$error":"#VALUE!"}},{"$f":"T156-HLOOKUP(Y156,Feuil2!$C$1:$CD$9,9,FALSE)","v":{"$error":"#VALUE!"}},null,null,null,null,null,null,null,{"$error":"#VALUE!"},2016,null,{"$f":"IF(AQ156,VLOOKUP(AQ156,HOM!$AS$561:$AT$616,2))","v":3.5710000000000002}]
["H",null,null,null,null,null,null,null,null,null,null,null,null,null,"",null,null,null,"","","","","",{"$error":"#N/A"},{"$f":"IF(AND(J157<1920),VLOOKUP(K157,Feuil2!$F$10:$P$28,11),IF(AND(J157>=1920,J157<1937),VLOOKUP(K157,Feuil2!$F$10:$P$28,11),IF(AND(J157>=1936,J157<1942),VLOOKUP(K157,Feuil2!$F$10:$P$28,10),IF(AND(J157>=1942,J157<1947),VLOOKUP(K157,Feuil2!$F$10:$P$28,9),IF(AND(J157>=1947,J157<1952),VLOOKUP(K157,Feuil2!$F$10:$P$28,8),IF(AND(J157>=1952,J157<1957),VLOOKUP(K157,Feuil2!$F$10:$P$28,7),IF(AND(J157>=1957,J157<1962),VLOOKUP(K157,Feuil2!$F$10:$P$28,6),IF(AND(J157>=1962,J157<1967),VLOOKUP(K157,Feuil2!$F$10:$P$28,5),IF(AND(J157>=1967,J157<1972),VLOOKUP(K157,Feuil2!$F$10:$P$28,4),IF(AND(J157>=1972,J157<1977),VLOOKUP(K157,Feuil2!$F$10:$P$28,3),IF(AND(J157>=1977,J157<1982),VLOOKUP(K157,Feuil2!$F$10:$P$28,2),VLOOKUP(K157,Feuil2!$F$10:$P$28,2))))))))))))","v":{"$error":"#N/A"}},null,{"$f":"T157-HLOOKUP(Y157,Feuil2!$C$1:$CD$9,2,FALSE)","v":{"$error":"#VALUE!"}},{"$f":"T157-HLOOKUP(Y157,Feuil2!$C$1:$CD$9,3,FALSE)","v":{"$error":"#VALUE!"}},{"$f":"T157-HLOOKUP(Y157,Feuil2!$C$1:$CD$9,4,FALSE)","v":{"$error":"#VALUE!"}},{"$f":"T157-HLOOKUP(Y157,Feuil2!$C$1:$CD$9,5,FALSE)","v":{"$error":"#VALUE!"}},{"$f":"T157-HLOOKUP(Y157,Feuil2!$C$1:$CD$9,6,FALSE)","v":{"$error":"#VALUE!"}},{"$f":"T157-HLOOKUP(Y157,Feuil2!$C$1:$CD$9,7,FALSE)","v":{"$error":"#VALUE!"}},{"$f":"T157-HLOOKUP(Y157,Feuil2!$C$1:$CD$9,8,FALSE)","v":{"$error":"#VALUE!"}},{"$f":"T157-HLOOKUP(Y157,Feuil2!$C$1:$CD$9,9,FALSE)","v":{"$error":"#VALUE!"}},null,null,null,null,null,null,null,{"$error":"#VALUE!"},2016,null,{"$f":"IF(AQ157,VLOOKUP(AQ157,HOM!$AS$561:$AT$616,2))","v":3.5710000000000002}]
["H",null,null,null,null,null,null,null,null,null,null,null,null,null,"",null,null,null,"","","","","",{"$error":"#N/A"},{"$f":"IF(AND(J158<1920),VLOOKUP(K158,Feuil2!$F$10:$P$28,11),IF(AND(J158>=1920,J158<1937),VLOOKUP(K158,Feuil2!$F$10:$P$28,11),IF(AND(J158>=1936,J158<1942),VLOOKUP(K158,Feuil2!$F$10:$P$28,10),IF(AND(J158>=1942,J158<1947),VLOOKUP(K158,Feuil2!$F$10:$P$28,9),IF(AND(J158>=1947,J158<1952),VLOOKUP(K158,Feuil2!$F$10:$P$28,8),IF(AND(J158>=1952,J158<1957),VLOOKUP(K158,Feuil2!$F$10:$P$28,7),IF(AND(J158>=1957,J158<1962),VLOOKUP(K158,Feuil2!$F$10:$P$28,6),IF(AND(J158>=1962,J158<1967),VLOOKUP(K158,Feuil2!$F$10:$P$28,5),IF(AND(J158>=1967,J158<1972),VLOOKUP(K158,Feuil2!$F$10:$P$28,4),IF(AND(J158>=1972,J158<1977),VLOOKUP(K158,Feuil2!$F$10:$P$28,3),IF(AND(J158>=1977,J158<1982),VLOOKUP(K158,Feuil2!$F$10:$P$28,2),VLOOKUP(K158,Feuil2!$F$10:$P$28,2))))))))))))","v":{"$error":"#N/A"}},null,{"$f":"T158-HLOOKUP(Y158,Feuil2!$C$1:$CD$9,2,FALSE)","v":{"$error":"#VALUE!"}},{"$f":"T158-HLOOKUP(Y158,Feuil2!$C$1:$CD$9,3,FALSE)","v":{"$error":"#VALUE!"}},{"$f":"T158-HLOOKUP(Y158,Feuil2!$C$1:$CD$9,4,FALSE)","v":{"$error":"#VALUE!"}},{"$f":"T158-HLOOKUP(Y158,Feuil2!$C$1:$CD$9,5,FALSE)","v":{"$error":"#VALUE!"}},{"$f":"T158-HLOOKUP(Y158,Feuil2!$C$1:$CD$9,6,FALSE)","v":{"$error":"#VALUE!"}},{"$f":"T158-HLOOKUP(Y158,Feuil2!$C$1:$CD$9,7,FALSE)","v":{"$error":"#VALUE!"}},{"$f":"T158-HLOOKUP(Y158,Feuil2!$C$1:$CD$9,8,FALSE)","v":{"$error":"#VALUE!"}},{"$f":"T158-HLOOKUP(Y158,Feuil2!$C$1:$CD$9,9,FALSE)","v":{"$error":"#VALUE!"}},null,null,null,null,null,null,null,{"$error":"#VALUE!"},2016,null,{"$f":"IF(AQ158,VLOOKUP(AQ158,HOM!$AS$561:$AT$616,2))","v":3.5710000000000002}]
["H",null,null,null,null,null,null,null,null,null,null,null,null,null,"",null,null,null,"","","","","",{"$error":"#N/A"},{"$f":"IF(AND(J159<1920),VLOOKUP(K159,Feuil2!$F$10:$P$28,11),IF(AND(J159>=1920,J159<1937),VLOOKUP(K159,Feuil2!$F$10:$P$28,11),IF(AND(J159>=1936,J159<1942),VLOOKUP(K159,Feuil2!$F$10:$P$28,10),IF(AND(J159>=1942,J159<1947),VLOOKUP(K159,Feuil2!$F$10:$P$28,9),IF(AND(J159>=1947,J159<1952),VLOOKUP(K159,Feuil2!$F$10:$P$28,8),IF(AND(J159>=1952,J159<1957),VLOOKUP(K159,Feuil2!$F$10:$P$28,7),IF(AND(J159>=1957,J159<1962),VLOOKUP(K159,Feuil2!$F$10:$P$28,6),IF(AND(J159>=1962,J159<1967),VLOOKUP(K159,Feuil2!$F$10:$P$28,5),IF(AND(J159>=1967,J159<1972),VLOOKUP(K159,Feuil2!$F$10:$P$28,4),IF(AND(J159>=1972,J159<1977),VLOOKUP(K159,Feuil2!$F$10:$P$28,3),IF(AND(J159>=1977,J159<1982),VLOOKUP(K159,Feuil2!$F$10:$P$28,2),VLOOKUP(K159,Feuil2!$F$10:$P$28,2))))))))))))","v":{"$error":"#N/A"}},null,{"$f":"T159-HLOOKUP(Y159,Feuil2!$C$1:$CD$9,2,FALSE)","v":{"$error":"#VALUE!"}},{"$f":"T159-HLOOKUP(Y159,Feuil2!$C$1:$CD$9,3,FALSE)","v":{"$error":"#VALUE!"}},{"$f":"T159-HLOOKUP(Y159,Feuil2!$C$1:$CD$9,4,FALSE)","v":{"$error":"#VALUE!"}},{"$f":"T159-HLOOKUP(Y159,Feuil2!$C$1:$CD$9,5,FALSE)","v":{"$error":"#VALUE!"}},{"$f":"T159-HLOOKUP(Y159,Feuil2!$C$1:$CD$9,6,FALSE)","v":{"$error":"#VALUE!"}},{"$f":"T159-HLOOKUP(Y159,Feuil2!$C$1:$CD$9,7,FALSE)","v":{"$error":"#VALUE!"}},{"$f":"T159-HLOOKUP(Y159,Feuil2!$C$1:$CD$9,8,FALSE)","v":{"$error":"#VALUE!"}},{"$f":"T159-HLOOKUP(Y159,Feuil2!$C$1:$CD$9,9,FALSE)","v":{"$error":"#VALUE!"}},null,null,null,null,null,null,null,{"$error":"#VALUE!"},2016,null,{"$f":"IF(AQ159,VLOOKUP(AQ159,HOM!$AS$561:$AT$616,2))","v":3.5710000000000002}]
["H",null,null,null,null,null,null,null,null,null,null,null,null,null,"",null,null,null,"","","","","",{"$error":"#N/A"},{"$f":"IF(AND(J160<1920),VLOOKUP(K160,Feuil2!$F$10:$P$28,11),IF(AND(J160>=1920,J160<1937),VLOOKUP(K160,Feuil2!$F$10:$P$28,11),IF(AND(J160>=1936,J160<1942),VLOOKUP(K160,Feuil2!$F$10:$P$28,10),IF(AND(J160>=1942,J160<1947),VLOOKUP(K160,Feuil2!$F$10:$P$28,9),IF(AND(J160>=1947,J160<1952),VLOOKUP(K160,Feuil2!$F$10:$P$28,8),IF(AND(J160>=1952,J160<1957),VLOOKUP(K160,Feuil2!$F$10:$P$28,7),IF(AND(J160>=1957,J160<1962),VLOOKUP(K160,Feuil2!$F$10:$P$28,6),IF(AND(J160>=1962,J160<1967),VLOOKUP(K160,Feuil2!$F$10:$P$28,5),IF(AND(J160>=1967,J160<1972),VLOOKUP(K160,Feuil2!$F$10:$P$28,4),IF(AND(J160>=1972,J160<1977),VLOOKUP(K160,Feuil2!$F$10:$P$28,3),IF(AND(J160>=1977,J160<1982),VLOOKUP(K160,Feuil2!$F$10:$P$28,2),VLOOKUP(K160,Feuil2!$F$10:$P$28,2))))))))))))","v":{"$error":"#N/A"}},null,{"$f":"T160-HLOOKUP(Y160,Feuil2!$C$1:$CD$9,2,FALSE)","v":{"$error":"#VALUE!"}},{"$f":"T160-HLOOKUP(Y160,Feuil2!$C$1:$CD$9,3,FALSE)","v":{"$error":"#VALUE!"}},{"$f":"T160-HLOOKUP(Y160,Feuil2!$C$1:$CD$9,4,FALSE)","v":{"$error":"#VALUE!"}},{"$f":"T160-HLOOKUP(Y160,Feuil2!$C$1:$CD$9,5,FALSE)","v":{"$error":"#VALUE!"}},{"$f":"T160-HLOOKUP(Y160,Feuil2!$C$1:$CD$9,6,FALSE)","v":{"$error":"#VALUE!"}},{"$f":"T160-HLOOKUP(Y160,Feuil2!$C$1:$CD$9,7,FALSE)","v":{"$error":"#VALUE!"}},{"$f":"T160-HLOOKUP(Y160,Feuil2!$C$1:$CD$9,8,FALSE)","v":{"$error":"#VALUE!"}},{"$f":"T160-HLOOKUP(Y160,Feuil2!$C$1:$CD$9,9,FALSE)","v":{"$error":"#VALUE!"}},null,null,null,null,null,null,null,{"$error":"#VALUE!"},2016,null,{"$f":"IF(AQ160,VLOOKUP(AQ160,HOM!$AS$561:$AT$616,2))","v":3.5710000000000002}]
["H",null,null,null,null,null,null,null,null,null,null,null,null,null,"",null,null,null,"","","","","",{"$error":"#N/A"},{"$f":"IF(AND(J161<1920),VLOOKUP(K161,Feuil2!$F$10:$P$28,11),IF(AND(J161>=1920,J161<1937),VLOOKUP(K161,Feuil2!$F$10:$P$28,11),IF(AND(J161>=1936,J161<1942),VLOOKUP(K161,Feuil2!$F$10:$P$28,10),IF(AND(J161>=1942,J161<1947),VLOOKUP(K161,Feuil2!$F$10:$P$28,9),IF(AND(J161>=1947,J161<1952),VLOOKUP(K161,Feuil2!$F$10:$P$28,8),IF(AND(J161>=1952,J161<1957),VLOOKUP(K161,Feuil2!$F$10:$P$28,7),IF(AND(J161>=1957,J161<1962),VLOOKUP(K161,Feuil2!$F$10:$P$28,6),IF(AND(J161>=1962,J161<1967),VLOOKUP(K161,Feuil2!$F$10:$P$28,5),IF(AND(J161>=1967,J161<1972),VLOOKUP(K161,Feuil2!$F$10:$P$28,4),IF(AND(J161>=1972,J161<1977),VLOOKUP(K161,Feuil2!$F$10:$P$28,3),IF(AND(J161>=1977,J161<1982),VLOOKUP(K161,Feuil2!$F$10:$P$28,2),VLOOKUP(K161,Feuil2!$F$10:$P$28,2))))))))))))","v":{"$error":"#N/A"}},null,{"$f":"T161-HLOOKUP(Y161,Feuil2!$C$1:$CD$9,2,FALSE)","v":{"$error":"#VALUE!"}},{"$f":"T161-HLOOKUP(Y161,Feuil2!$C$1:$CD$9,3,FALSE)","v":{"$error":"#VALUE!"}},{"$f":"T161-HLOOKUP(Y161,Feuil2!$C$1:$CD$9,4,FALSE)","v":{"$error":"#VALUE!"}},{"$f":"T161-HLOOKUP(Y161,Feuil2!$C$1:$CD$9,5,FALSE)","v":{"$error":"#VALUE!"}},{"$f":"T161-HLOOKUP(Y161,Feuil2!$C$1:$CD$9,6,FALSE)","v":{"$error":"#VALUE!"}},{"$f":"T161-HLOOKUP(Y161,Feuil2!$C$1:$CD$9,7,FALSE)","v":{"$error":"#VALUE!"}},{"$f":"T161-HLOOKUP(Y161,Feuil2!$C$1:$CD$9,8,FALSE)","v":{"$error":"#VALUE!"}},{"$f":"T161-HLOOKUP(Y161,Feuil2!$C$1:$CD$9,9,FALSE)","v":{"$error":"#VALUE!"}},null,null,null,null,null,null,null,{"$error":"#VALUE!"},2016,null,{"$f":"IF(AQ161,VLOOKUP(AQ161,HOM!$AS$561:$AT$616,2))","v":3.5710000000000002}]
["H",null,null,null,null,null,null,null,null,null,null,null,null,null,"",null,null,null,"","","","","",{"$error":"#N/A"},{"$f":"IF(AND(J162<1920),VLOOKUP(K162,Feuil2!$F$10:$P$28,11),IF(AND(J162>=1920,J162<1937),VLOOKUP(K162,Feuil2!$F$10:$P$28,11),IF(AND(J162>=1936,J162<1942),VLOOKUP(K162,Feuil2!$F$10:$P$28,10),IF(AND(J162>=1942,J162<1947),VLOOKUP(K162,Feuil2!$F$10:$P$28,9),IF(AND(J162>=1947,J162<1952),VLOOKUP(K162,Feuil2!$F$10:$P$28,8),IF(AND(J162>=1952,J162<1957),VLOOKUP(K162,Feuil2!$F$10:$P$28,7),IF(AND(J162>=1957,J162<1962),VLOOKUP(K162,Feuil2!$F$10:$P$28,6),IF(AND(J162>=1962,J162<1967),VLOOKUP(K162,Feuil2!$F$10:$P$28,5),IF(AND(J162>=1967,J162<1972),VLOOKUP(K162,Feuil2!$F$10:$P$28,4),IF(AND(J162>=1972,J162<1977),VLOOKUP(K162,Feuil2!$F$10:$P$28,3),IF(AND(J162>=1977,J162<1982),VLOOKUP(K162,Feuil2!$F$10:$P$28,2),VLOOKUP(K162,Feuil2!$F$10:$P$28,2))))))))))))","v":{"$error":"#N/A"}},null,{"$f":"T162-HLOOKUP(Y162,Feuil2!$C$1:$CD$9,2,FALSE)","v":{"$error":"#VALUE!"}},{"$f":"T162-HLOOKUP(Y162,Feuil2!$C$1:$CD$9,3,FALSE)","v":{"$error":"#VALUE!"}},{"$f":"T162-HLOOKUP(Y162,Feuil2!$C$1:$CD$9,4,FALSE)","v":{"$error":"#VALUE!"}},{"$f":"T162-HLOOKUP(Y162,Feuil2!$C$1:$CD$9,5,FALSE)","v":{"$error":"#VALUE!"}},{"$f":"T162-HLOOKUP(Y162,Feuil2!$C$1:$CD$9,6,FALSE)","v":{"$error":"#VALUE!"}},{"$f":"T162-HLOOKUP(Y162,Feuil2!$C$1:$CD$9,7,FALSE)","v":{"$error":"#VALUE!"}},{"$f":"T162-HLOOKUP(Y162,Feuil2!$C$1:$CD$9,8,FALSE)","v":{"$error":"#VALUE!"}},{"$f":"T162-HLOOKUP(Y162,Feuil2!$C$1:$CD$9,9,FALSE)","v":{"$error":"#VALUE!"}},null,null,null,null,null,null,null,{"$error":"#VALUE!"},2016,null,{"$f":"IF(AQ162,VLOOKUP(AQ162,HOM!$AS$561:$AT$616,2))","v":3.5710000000000002}]
["H",null,null,null,null,null,null,null,null,null,null,null,null,null,"",null,null,null,"","","","","",{"$error":"#N/A"},{"$f":"IF(AND(J163<1920),VLOOKUP(K163,Feuil2!$F$10:$P$28,11),IF(AND(J163>=1920,J163<1937),VLOOKUP(K163,Feuil2!$F$10:$P$28,11),IF(AND(J163>=1936,J163<1942),VLOOKUP(K163,Feuil2!$F$10:$P$28,10),IF(AND(J163>=1942,J163<1947),VLOOKUP(K163,Feuil2!$F$10:$P$28,9),IF(AND(J163>=1947,J163<1952),VLOOKUP(K163,Feuil2!$F$10:$P$28,8),IF(AND(J163>=1952,J163<1957),VLOOKUP(K163,Feuil2!$F$10:$P$28,7),IF(AND(J163>=1957,J163<1962),VLOOKUP(K163,Feuil2!$F$10:$P$28,6),IF(AND(J163>=1962,J163<1967),VLOOKUP(K163,Feuil2!$F$10:$P$28,5),IF(AND(J163>=1967,J163<1972),VLOOKUP(K163,Feuil2!$F$10:$P$28,4),IF(AND(J163>=1972,J163<1977),VLOOKUP(K163,Feuil2!$F$10:$P$28,3),IF(AND(J163>=1977,J163<1982),VLOOKUP(K163,Feuil2!$F$10:$P$28,2),VLOOKUP(K163,Feuil2!$F$10:$P$28,2))))))))))))","v":{"$error":"#N/A"}},null,{"$f":"T163-HLOOKUP(Y163,Feuil2!$C$1:$CD$9,2,FALSE)","v":{"$error":"#VALUE!"}},{"$f":"T163-HLOOKUP(Y163,Feuil2!$C$1:$CD$9,3,FALSE)","v":{"$error":"#VALUE!"}},{"$f":"T163-HLOOKUP(Y163,Feuil2!$C$1:$CD$9,4,FALSE)","v":{"$error":"#VALUE!"}},{"$f":"T163-HLOOKUP(Y163,Feuil2!$C$1:$CD$9,5,FALSE)","v":{"$error":"#VALUE!"}},{"$f":"T163-HLOOKUP(Y163,Feuil2!$C$1:$CD$9,6,FALSE)","v":{"$error":"#VALUE!"}},{"$f":"T163-HLOOKUP(Y163,Feuil2!$C$1:$CD$9,7,FALSE)","v":{"$error":"#VALUE!"}},{"$f":"T163-HLOOKUP(Y163,Feuil2!$C$1:$CD$9,8,FALSE)","v":{"$error":"#VALUE!"}},{"$f":"T163-HLOOKUP(Y163,Feuil2!$C$1:$CD$9,9,FALSE)","v":{"$error":"#VALUE!"}},null,null,null,null,null,null,null,{"$error":"#VALUE!"},2016,null,{"$f":"IF(AQ163,VLOOKUP(AQ163,HOM!$AS$561:$AT$616,2))","v":3.5710000000000002}]
["H",null,null,null,null,null,null,null,null,null,null,null,null,null,"",null,null,null,"","","","","",{"$error":"#N/A"},{"$f":"IF(AND(J164<1920),VLOOKUP(K164,Feuil2!$F$10:$P$28,11),IF(AND(J164>=1920,J164<1937),VLOOKUP(K164,Feuil2!$F$10:$P$28,11),IF(AND(J164>=1936,J164<1942),VLOOKUP(K164,Feuil2!$F$10:$P$28,10),IF(AND(J164>=1942,J164<1947),VLOOKUP(K164,Feuil2!$F$10:$P$28,9),IF(AND(J164>=1947,J164<1952),VLOOKUP(K164,Feuil2!$F$10:$P$28,8),IF(AND(J164>=1952,J164<1957),VLOOKUP(K164,Feuil2!$F$10:$P$28,7),IF(AND(J164>=1957,J164<1962),VLOOKUP(K164,Feuil2!$F$10:$P$28,6),IF(AND(J164>=1962,J164<1967),VLOOKUP(K164,Feuil2!$F$10:$P$28,5),IF(AND(J164>=1967,J164<1972),VLOOKUP(K164,Feuil2!$F$10:$P$28,4),IF(AND(J164>=1972,J164<1977),VLOOKUP(K164,Feuil2!$F$10:$P$28,3),IF(AND(J164>=1977,J164<1982),VLOOKUP(K164,Feuil2!$F$10:$P$28,2),VLOOKUP(K164,Feuil2!$F$10:$P$28,2))))))))))))","v":{"$error":"#N/A"}},null,{"$f":"T164-HLOOKUP(Y164,Feuil2!$C$1:$CD$9,2,FALSE)","v":{"$error":"#VALUE!"}},{"$f":"T164-HLOOKUP(Y164,Feuil2!$C$1:$CD$9,3,FALSE)","v":{"$error":"#VALUE!"}},{"$f":"T164-HLOOKUP(Y164,Feuil2!$C$1:$CD$9,4,FALSE)","v":{"$error":"#VALUE!"}},{"$f":"T164-HLOOKUP(Y164,Feuil2!$C$1:$CD$9,5,FALSE)","v":{"$error":"#VALUE!"}},{"$f":"T164-HLOOKUP(Y164,Feuil2!$C$1:$CD$9,6,FALSE)","v":{"$error":"#VALUE!"}},{"$f":"T164-HLOOKUP(Y164,Feuil2!$C$1:$CD$9,7,FALSE)","v":{"$error":"#VALUE!"}},{"$f":"T164-HLOOKUP(Y164,Feuil2!$C$1:$CD$9,8,FALSE)","v":{"$error":"#VALUE!"}},{"$f":"T164-HLOOKUP(Y164,Feuil2!$C$1:$CD$9,9,FALSE)","v":{"$error":"#VALUE!"}},null,null,null,null,null,null,null,{"$error":"#VALUE!"},2016,null,{"$f":"IF(AQ164,VLOOKUP(AQ164,HOM!$AS$561:$AT$616,2))","v":3.5710000000000002}]
["H",null,null,null,null,null,null,null,null,null,null,null,null,null,"",null,null,null,"","","","","",{"$error":"#N/A"},{"$f":"IF(AND(J165<1920),VLOOKUP(K165,Feuil2!$F$10:$P$28,11),IF(AND(J165>=1920,J165<1937),VLOOKUP(K165,Feuil2!$F$10:$P$28,11),IF(AND(J165>=1936,J165<1942),VLOOKUP(K165,Feuil2!$F$10:$P$28,10),IF(AND(J165>=1942,J165<1947),VLOOKUP(K165,Feuil2!$F$10:$P$28,9),IF(AND(J165>=1947,J165<1952),VLOOKUP(K165,Feuil2!$F$10:$P$28,8),IF(AND(J165>=1952,J165<1957),VLOOKUP(K165,Feuil2!$F$10:$P$28,7),IF(AND(J165>=1957,J165<1962),VLOOKUP(K165,Feuil2!$F$10:$P$28,6),IF(AND(J165>=1962,J165<1967),VLOOKUP(K165,Feuil2!$F$10:$P$28,5),IF(AND(J165>=1967,J165<1972),VLOOKUP(K165,Feuil2!$F$10:$P$28,4),IF(AND(J165>=1972,J165<1977),VLOOKUP(K165,Feuil2!$F$10:$P$28,3),IF(AND(J165>=1977,J165<1982),VLOOKUP(K165,Feuil2!$F$10:$P$28,2),VLOOKUP(K165,Feuil2!$F$10:$P$28,2))))))))))))","v":{"$error":"#N/A"}},null,{"$f":"T165-HLOOKUP(Y165,Feuil2!$C$1:$CD$9,2,FALSE)","v":{"$error":"#VALUE!"}},{"$f":"T165-HLOOKUP(Y165,Feuil2!$C$1:$CD$9,3,FALSE)","v":{"$error":"#VALUE!"}},{"$f":"T165-HLOOKUP(Y165,Feuil2!$C$1:$CD$9,4,FALSE)","v":{"$error":"#VALUE!"}},{"$f":"T165-HLOOKUP(Y165,Feuil2!$C$1:$CD$9,5,FALSE)","v":{"$error":"#VALUE!"}},{"$f":"T165-HLOOKUP(Y165,Feuil2!$C$1:$CD$9,6,FALSE)","v":{"$error":"#VALUE!"}},{"$f":"T165-HLOOKUP(Y165,Feuil2!$C$1:$CD$9,7,FALSE)","v":{"$error":"#VALUE!"}},{"$f":"T165-HLOOKUP(Y165,Feuil2!$C$1:$CD$9,8,FALSE)","v":{"$error":"#VALUE!"}},{"$f":"T165-HLOOKUP(Y165,Feuil2!$C$1:$CD$9,9,FALSE)","v":{"$error":"#VALUE!"}},null,null,null,null,null,null,null,{"$error":"#VALUE!"},2016,null,{"$f":"IF(AQ165,VLOOKUP(AQ165,HOM!$AS$561:$AT$616,2))","v":3.5710000000000002}]
["H",null,null,null,null,null,null,null,null,null,null,null,null,null,"",null,null,null,"","","","","",{"$error":"#N/A"},{"$f":"IF(AND(J166<1920),VLOOKUP(K166,Feuil2!$F$10:$P$28,11),IF(AND(J166>=1920,J166<1937),VLOOKUP(K166,Feuil2!$F$10:$P$28,11),IF(AND(J166>=1936,J166<1942),VLOOKUP(K166,Feuil2!$F$10:$P$28,10),IF(AND(J166>=1942,J166<1947),VLOOKUP(K166,Feuil2!$F$10:$P$28,9),IF(AND(J166>=1947,J166<1952),VLOOKUP(K166,Feuil2!$F$10:$P$28,8),IF(AND(J166>=1952,J166<1957),VLOOKUP(K166,Feuil2!$F$10:$P$28,7),IF(AND(J166>=1957,J166<1962),VLOOKUP(K166,Feuil2!$F$10:$P$28,6),IF(AND(J166>=1962,J166<1967),VLOOKUP(K166,Feuil2!$F$10:$P$28,5),IF(AND(J166>=1967,J166<1972),VLOOKUP(K166,Feuil2!$F$10:$P$28,4),IF(AND(J166>=1972,J166<1977),VLOOKUP(K166,Feuil2!$F$10:$P$28,3),IF(AND(J166>=1977,J166<1982),VLOOKUP(K166,Feuil2!$F$10:$P$28,2),VLOOKUP(K166,Feuil2!$F$10:$P$28,2))))))))))))","v":{"$error":"#N/A"}},null,{"$f":"T166-HLOOKUP(Y166,Feuil2!$C$1:$CD$9,2,FALSE)","v":{"$error":"#VALUE!"}},{"$f":"T166-HLOOKUP(Y166,Feuil2!$C$1:$CD$9,3,FALSE)","v":{"$error":"#VALUE!"}},{"$f":"T166-HLOOKUP(Y166,Feuil2!$C$1:$CD$9,4,FALSE)","v":{"$error":"#VALUE!"}},{"$f":"T166-HLOOKUP(Y166,Feuil2!$C$1:$CD$9,5,FALSE)","v":{"$error":"#VALUE!"}},{"$f":"T166-HLOOKUP(Y166,Feuil2!$C$1:$CD$9,6,FALSE)","v":{"$error":"#VALUE!"}},{"$f":"T166-HLOOKUP(Y166,Feuil2!$C$1:$CD$9,7,FALSE)","v":{"$error":"#VALUE!"}},{"$f":"T166-HLOOKUP(Y166,Feuil2!$C$1:$CD$9,8,FALSE)","v":{"$error":"#VALUE!"}},{"$f":"T166-HLOOKUP(Y166,Feuil2!$C$1:$CD$9,9,FALSE)","v":{"$error":"#VALUE!"}},null,null,null,null,null,null,null,{"$error":"#VALUE!"},2016,null,{"$f":"IF(AQ166,VLOOKUP(AQ166,HOM!$AS$561:$AT$616,2))","v":3.5710000000000002}]
["H",null,null,null,null,null,null,null,null,null,null,null,null,null,"",null,null,null,"","","","","",{"$error":"#N/A"},{"$f":"IF(AND(J167<1920),VLOOKUP(K167,Feuil2!$F$10:$P$28,11),IF(AND(J167>=1920,J167<1937),VLOOKUP(K167,Feuil2!$F$10:$P$28,11),IF(AND(J167>=1936,J167<1942),VLOOKUP(K167,Feuil2!$F$10:$P$28,10),IF(AND(J167>=1942,J167<1947),VLOOKUP(K167,Feuil2!$F$10:$P$28,9),IF(AND(J167>=1947,J167<1952),VLOOKUP(K167,Feuil2!$F$10:$P$28,8),IF(AND(J167>=1952,J167<1957),VLOOKUP(K167,Feuil2!$F$10:$P$28,7),IF(AND(J167>=1957,J167<1962),VLOOKUP(K167,Feuil2!$F$10:$P$28,6),IF(AND(J167>=1962,J167<1967),VLOOKUP(K167,Feuil2!$F$10:$P$28,5),IF(AND(J167>=1967,J167<1972),VLOOKUP(K167,Feuil2!$F$10:$P$28,4),IF(AND(J167>=1972,J167<1977),VLOOKUP(K167,Feuil2!$F$10:$P$28,3),IF(AND(J167>=1977,J167<1982),VLOOKUP(K167,Feuil2!$F$10:$P$28,2),VLOOKUP(K167,Feuil2!$F$10:$P$28,2))))))))))))","v":{"$error":"#N/A"}},null,{"$f":"T167-HLOOKUP(Y167,Feuil2!$C$1:$CD$9,2,FALSE)","v":{"$error":"#VALUE!"}},{"$f":"T167-HLOOKUP(Y167,Feuil2!$C$1:$CD$9,3,FALSE)","v":{"$error":"#VALUE!"}},{"$f":"T167-HLOOKUP(Y167,Feuil2!$C$1:$CD$9,4,FALSE)","v":{"$error":"#VALUE!"}},{"$f":"T167-HLOOKUP(Y167,Feuil2!$C$1:$CD$9,5,FALSE)","v":{"$error":"#VALUE!"}},{"$f":"T167-HLOOKUP(Y167,Feuil2!$C$1:$CD$9,6,FALSE)","v":{"$error":"#VALUE!"}},{"$f":"T167-HLOOKUP(Y167,Feuil2!$C$1:$CD$9,7,FALSE)","v":{"$error":"#VALUE!"}},{"$f":"T167-HLOOKUP(Y167,Feuil2!$C$1:$CD$9,8,FALSE)","v":{"$error":"#VALUE!"}},{"$f":"T167-HLOOKUP(Y167,Feuil2!$C$1:$CD$9,9,FALSE)","v":{"$error":"#VALUE!"}},null,null,null,null,null,null,null,{"$error":"#VALUE!"},2016,null,{"$f":"IF(AQ167,VLOOKUP(AQ167,HOM!$AS$561:$AT$616,2))","v":3.5710000000000002}]
["H",null,null,null,null,null,null,null,null,null,null,null,null,null,"",null,null,null,"","","","","",{"$error":"#N/A"},{"$f":"IF(AND(J168<1920),VLOOKUP(K168,Feuil2!$F$10:$P$28,11),IF(AND(J168>=1920,J168<1937),VLOOKUP(K168,Feuil2!$F$10:$P$28,11),IF(AND(J168>=1936,J168<1942),VLOOKUP(K168,Feuil2!$F$10:$P$28,10),IF(AND(J168>=1942,J168<1947),VLOOKUP(K168,Feuil2!$F$10:$P$28,9),IF(AND(J168>=1947,J168<1952),VLOOKUP(K168,Feuil2!$F$10:$P$28,8),IF(AND(J168>=1952,J168<1957),VLOOKUP(K168,Feuil2!$F$10:$P$28,7),IF(AND(J168>=1957,J168<1962),VLOOKUP(K168,Feuil2!$F$10:$P$28,6),IF(AND(J168>=1962,J168<1967),VLOOKUP(K168,Feuil2!$F$10:$P$28,5),IF(AND(J168>=1967,J168<1972),VLOOKUP(K168,Feuil2!$F$10:$P$28,4),IF(AND(J168>=1972,J168<1977),VLOOKUP(K168,Feuil2!$F$10:$P$28,3),IF(AND(J168>=1977,J168<1982),VLOOKUP(K168,Feuil2!$F$10:$P$28,2),VLOOKUP(K168,Feuil2!$F$10:$P$28,2))))))))))))","v":{"$error":"#N/A"}},null,{"$f":"T168-HLOOKUP(Y168,Feuil2!$C$1:$CD$9,2,FALSE)","v":{"$error":"#VALUE!"}},{"$f":"T168-HLOOKUP(Y168,Feuil2!$C$1:$CD$9,3,FALSE)","v":{"$error":"#VALUE!"}},{"$f":"T168-HLOOKUP(Y168,Feuil2!$C$1:$CD$9,4,FALSE)","v":{"$error":"#VALUE!"}},{"$f":"T168-HLOOKUP(Y168,Feuil2!$C$1:$CD$9,5,FALSE)","v":{"$error":"#VALUE!"}},{"$f":"T168-HLOOKUP(Y168,Feuil2!$C$1:$CD$9,6,FALSE)","v":{"$error":"#VALUE!"}},{"$f":"T168-HLOOKUP(Y168,Feuil2!$C$1:$CD$9,7,FALSE)","v":{"$error":"#VALUE!"}},{"$f":"T168-HLOOKUP(Y168,Feuil2!$C$1:$CD$9,8,FALSE)","v":{"$error":"#VALUE!"}},{"$f":"T168-HLOOKUP(Y168,Feuil2!$C$1:$CD$9,9,FALSE)","v":{"$error":"#VALUE!"}},null,null,null,null,null,null,null,{"$error":"#VALUE!"},2016,null,{"$f":"IF(AQ168,VLOOKUP(AQ168,HOM!$AS$561:$AT$616,2))","v":3.5710000000000002}]
["H",null,null,null,null,null,null,null,null,null,null,null,null,null,{"$f":"IF(K169=\"\",\"\",IF(MAXA(L169:N169)<=0,0,MAXA(L169:N169)))","v":""},null,null,null,{"$f":"IF(K169=\"\",\"\",IF(MAXA(P169:R169)<=0,0,MAXA(P169:R169)))","v":""},{"$f":"IF(K169=\"\",\"\",IF(OR(O169=0,S169=0),0,O169+S169))","v":""},"",{"$f":"IF(K169=\"\",\"\",AP169)","v":""},{"$f":"IF(K169=\"\",\"\",IF(AH169>=0,AH169,IF(AG169>=0,AG169,IF(AF169>=0,AF169,IF(AE169>=0,AE169,IF(AD169>=0,AD169,IF(AC169>=0,AC169,IF(AB169>=0,AB169,AA169))))))))","v":""},{"$error":"#N/A"},{"$f":"IF(AND(J169<1920),VLOOKUP(K169,Feuil2!$F$10:$P$28,11),IF(AND(J169>=1920,J169<1937),VLOOKUP(K169,Feuil2!$F$10:$P$28,11),IF(AND(J169>=1936,J169<1942),VLOOKUP(K169,Feuil2!$F$10:$P$28,10),IF(AND(J169>=1942,J169<1947),VLOOKUP(K169,Feuil2!$F$10:$P$28,9),IF(AND(J169>=1947,J169<1952),VLOOKUP(K169,Feuil2!$F$10:$P$28,8),IF(AND(J169>=1952,J169<1957),VLOOKUP(K169,Feuil2!$F$10:$P$28,7),IF(AND(J169>=1957,J169<1962),VLOOKUP(K169,Feuil2!$F$10:$P$28,6),IF(AND(J169>=1962,J169<1967),VLOOKUP(K169,Feuil2!$F$10:$P$28,5),IF(AND(J169>=1967,J169<1972),VLOOKUP(K169,Feuil2!$F$10:$P$28,4),IF(AND(J169>=1972,J169<1977),VLOOKUP(K169,Feuil2!$F$10:$P$28,3),IF(AND(J169>=1977,J169<1982),VLOOKUP(K169,Feuil2!$F$10:$P$28,2),VLOOKUP(K169,Feuil2!$F$10:$P$28,2))))))))))))","v":{"$error":"#N/A"}},null,{"$f":"T169-HLOOKUP(Y169,Feuil2!$C$1:$CD$9,2,FALSE)","v":{"$error":"#VALUE!"}},{"$f":"T169-HLOOKUP(Y169,Feuil2!$C$1:$CD$9,3,FALSE)","v":{"$error":"#VALUE!"}},{"$f":"T169-HLOOKUP(Y169,Feuil2!$C$1:$CD$9,4,FALSE)","v":{"$error":"#VALUE!"}},{"$f":"T169-HLOOKUP(Y169,Feuil2!$C$1:$CD$9,5,FALSE)","v":{"$error":"#VALUE!"}},{"$f":"T169-HLOOKUP(Y169,Feuil2!$C$1:$CD$9,6,FALSE)","v":{"$error":"#VALUE!"}},{"$f":"T169-HLOOKUP(Y169,Feuil2!$C$1:$CD$9,7,FALSE)","v":{"$error":"#VALUE!"}},{"$f":"T169-HLOOKUP(Y169,Feuil2!$C$1:$CD$9,8,FALSE)","v":{"$error":"#VALUE!"}},{"$f":"T169-HLOOKUP(Y169,Feuil2!$C$1:$CD$9,9,FALSE)","v":{"$error":"#VALUE!"}},null,null,null,null,null,null,null,{"$f":"IF(AH169>=0,$AH$4,IF(AG169>=0,$AG$4,IF(AF169>=0,$AF$4,IF(AE169>=0,$AE$4,IF(AD169>=0,$AD$4,IF(AC169>=0,$AC$4,IF(AB169>=0,$AB$4,IF(AA169>=0,$AA$4,$AI$4))))))))","v":{"$error":"#VALUE!"}},2016,null,{"$f":"IF(AQ169,VLOOKUP(AQ169,HOM!$AS$561:$AT$616,2))","v":3.5710000000000002}]
["H",null,null,null,null,null,null,null,null,null,null,null,null,null,"",null,null,null,"","","","","",{"$error":"#N/A"},{"$f":"IF(AND(J170<1920),VLOOKUP(K170,Feuil2!$F$10:$P$28,11),IF(AND(J170>=1920,J170<1937),VLOOKUP(K170,Feuil2!$F$10:$P$28,11),IF(AND(J170>=1936,J170<1942),VLOOKUP(K170,Feuil2!$F$10:$P$28,10),IF(AND(J170>=1942,J170<1947),VLOOKUP(K170,Feuil2!$F$10:$P$28,9),IF(AND(J170>=1947,J170<1952),VLOOKUP(K170,Feuil2!$F$10:$P$28,8),IF(AND(J170>=1952,J170<1957),VLOOKUP(K170,Feuil2!$F$10:$P$28,7),IF(AND(J170>=1957,J170<1962),VLOOKUP(K170,Feuil2!$F$10:$P$28,6),IF(AND(J170>=1962,J170<1967),VLOOKUP(K170,Feuil2!$F$10:$P$28,5),IF(AND(J170>=1967,J170<1972),VLOOKUP(K170,Feuil2!$F$10:$P$28,4),IF(AND(J170>=1972,J170<1977),VLOOKUP(K170,Feuil2!$F$10:$P$28,3),IF(AND(J170>=1977,J170<1982),VLOOKUP(K170,Feuil2!$F$10:$P$28,2),VLOOKUP(K170,Feuil2!$F$10:$P$28,2))))))))))))","v":{"$error":"#N/A"}},null,{"$f":"T170-HLOOKUP(Y170,Feuil2!$C$1:$CD$9,2,FALSE)","v":{"$error":"#VALUE!"}},{"$f":"T170-HLOOKUP(Y170,Feuil2!$C$1:$CD$9,3,FALSE)","v":{"$error":"#VALUE!"}},{"$f":"T170-HLOOKUP(Y170,Feuil2!$C$1:$CD$9,4,FALSE)","v":{"$error":"#VALUE!"}},{"$f":"T170-HLOOKUP(Y170,Feuil2!$C$1:$CD$9,5,FALSE)","v":{"$error":"#VALUE!"}},{"$f":"T170-HLOOKUP(Y170,Feuil2!$C$1:$CD$9,6,FALSE)","v":{"$error":"#VALUE!"}},{"$f":"T170-HLOOKUP(Y170,Feuil2!$C$1:$CD$9,7,FALSE)","v":{"$error":"#VALUE!"}},{"$f":"T170-HLOOKUP(Y170,Feuil2!$C$1:$CD$9,8,FALSE)","v":{"$error":"#VALUE!"}},{"$f":"T170-HLOOKUP(Y170,Feuil2!$C$1:$CD$9,9,FALSE)","v":{"$error":"#VALUE!"}},null,null,null,null,null,null,null,{"$error":"#VALUE!"},2016,null,{"$f":"IF(AQ170,VLOOKUP(AQ170,HOM!$AS$561:$AT$616,2))","v":3.5710000000000002}]
["H",null,null,null,null,null,null,null,null,null,null,null,null,null,"",null,null,null,"","","","","",{"$error":"#N/A"},{"$f":"IF(AND(J171<1920),VLOOKUP(K171,Feuil2!$F$10:$P$28,11),IF(AND(J171>=1920,J171<1937),VLOOKUP(K171,Feuil2!$F$10:$P$28,11),IF(AND(J171>=1936,J171<1942),VLOOKUP(K171,Feuil2!$F$10:$P$28,10),IF(AND(J171>=1942,J171<1947),VLOOKUP(K171,Feuil2!$F$10:$P$28,9),IF(AND(J171>=1947,J171<1952),VLOOKUP(K171,Feuil2!$F$10:$P$28,8),IF(AND(J171>=1952,J171<1957),VLOOKUP(K171,Feuil2!$F$10:$P$28,7),IF(AND(J171>=1957,J171<1962),VLOOKUP(K171,Feuil2!$F$10:$P$28,6),IF(AND(J171>=1962,J171<1967),VLOOKUP(K171,Feuil2!$F$10:$P$28,5),IF(AND(J171>=1967,J171<1972),VLOOKUP(K171,Feuil2!$F$10:$P$28,4),IF(AND(J171>=1972,J171<1977),VLOOKUP(K171,Feuil2!$F$10:$P$28,3),IF(AND(J171>=1977,J171<1982),VLOOKUP(K171,Feuil2!$F$10:$P$28,2),VLOOKUP(K171,Feuil2!$F$10:$P$28,2))))))))))))","v":{"$error":"#N/A"}},null,{"$f":"T171-HLOOKUP(Y171,Feuil2!$C$1:$CD$9,2,FALSE)","v":{"$error":"#VALUE!"}},{"$f":"T171-HLOOKUP(Y171,Feuil2!$C$1:$CD$9,3,FALSE)","v":{"$error":"#VALUE!"}},{"$f":"T171-HLOOKUP(Y171,Feuil2!$C$1:$CD$9,4,FALSE)","v":{"$error":"#VALUE!"}},{"$f":"T171-HLOOKUP(Y171,Feuil2!$C$1:$CD$9,5,FALSE)","v":{"$error":"#VALUE!"}},{"$f":"T171-HLOOKUP(Y171,Feuil2!$C$1:$CD$9,6,FALSE)","v":{"$error":"#VALUE!"}},{"$f":"T171-HLOOKUP(Y171,Feuil2!$C$1:$CD$9,7,FALSE)","v":{"$error":"#VALUE!"}},{"$f":"T171-HLOOKUP(Y171,Feuil2!$C$1:$CD$9,8,FALSE)","v":{"$error":"#VALUE!"}},{"$f":"T171-HLOOKUP(Y171,Feuil2!$C$1:$CD$9,9,FALSE)","v":{"$error":"#VALUE!"}},null,null,null,null,null,null,null,{"$error":"#VALUE!"},2016,null,{"$f":"IF(AQ171,VLOOKUP(AQ171,HOM!$AS$561:$AT$616,2))","v":3.5710000000000002}]
["H",null,null,null,null,null,null,null,null,null,null,null,null,null,"",null,null,null,"","","","","",{"$error":"#N/A"},{"$f":"IF(AND(J172<1920),VLOOKUP(K172,Feuil2!$F$10:$P$28,11),IF(AND(J172>=1920,J172<1937),VLOOKUP(K172,Feuil2!$F$10:$P$28,11),IF(AND(J172>=1936,J172<1942),VLOOKUP(K172,Feuil2!$F$10:$P$28,10),IF(AND(J172>=1942,J172<1947),VLOOKUP(K172,Feuil2!$F$10:$P$28,9),IF(AND(J172>=1947,J172<1952),VLOOKUP(K172,Feuil2!$F$10:$P$28,8),IF(AND(J172>=1952,J172<1957),VLOOKUP(K172,Feuil2!$F$10:$P$28,7),IF(AND(J172>=1957,J172<1962),VLOOKUP(K172,Feuil2!$F$10:$P$28,6),IF(AND(J172>=1962,J172<1967),VLOOKUP(K172,Feuil2!$F$10:$P$28,5),IF(AND(J172>=1967,J172<1972),VLOOKUP(K172,Feuil2!$F$10:$P$28,4),IF(AND(J172>=1972,J172<1977),VLOOKUP(K172,Feuil2!$F$10:$P$28,3),IF(AND(J172>=1977,J172<1982),VLOOKUP(K172,Feuil2!$F$10:$P$28,2),VLOOKUP(K172,Feuil2!$F$10:$P$28,2))))))))))))","v":{"$error":"#N/A"}},null,{"$f":"T172-HLOOKUP(Y172,Feuil2!$C$1:$CD$9,2,FALSE)","v":{"$error":"#VALUE!"}},{"$f":"T172-HLOOKUP(Y172,Feuil2!$C$1:$CD$9,3,FALSE)","v":{"$error":"#VALUE!"}},{"$f":"T172-HLOOKUP(Y172,Feuil2!$C$1:$CD$9,4,FALSE)","v":{"$error":"#VALUE!"}},{"$f":"T172-HLOOKUP(Y172,Feuil2!$C$1:$CD$9,5,FALSE)","v":{"$error":"#VALUE!"}},{"$f":"T172-HLOOKUP(Y172,Feuil2!$C$1:$CD$9,6,FALSE)","v":{"$error":"#VALUE!"}},{"$f":"T172-HLOOKUP(Y172,Feuil2!$C$1:$CD$9,7,FALSE)","v":{"$error":"#VALUE!"}},{"$f":"T172-HLOOKUP(Y172,Feuil2!$C$1:$CD$9,8,FALSE)","v":{"$error":"#VALUE!"}},{"$f":"T172-HLOOKUP(Y172,Feuil2!$C$1:$CD$9,9,FALSE)","v":{"$error":"#VALUE!"}},null,null,null,null,null,null,null,{"$error":"#VALUE!"},2016,null,{"$f":"IF(AQ172,VLOOKUP(AQ172,HOM!$AS$561:$AT$616,2))","v":3.5710000000000002}]
["H",null,null,null,null,null,null,null,null,null,null,null,null,null,"",null,null,null,"","","","","",{"$error":"#N/A"},{"$f":"IF(AND(J173<1920),VLOOKUP(K173,Feuil2!$F$10:$P$28,11),IF(AND(J173>=1920,J173<1937),VLOOKUP(K173,Feuil2!$F$10:$P$28,11),IF(AND(J173>=1936,J173<1942),VLOOKUP(K173,Feuil2!$F$10:$P$28,10),IF(AND(J173>=1942,J173<1947),VLOOKUP(K173,Feuil2!$F$10:$P$28,9),IF(AND(J173>=1947,J173<1952),VLOOKUP(K173,Feuil2!$F$10:$P$28,8),IF(AND(J173>=1952,J173<1957),VLOOKUP(K173,Feuil2!$F$10:$P$28,7),IF(AND(J173>=1957,J173<1962),VLOOKUP(K173,Feuil2!$F$10:$P$28,6),IF(AND(J173>=1962,J173<1967),VLOOKUP(K173,Feuil2!$F$10:$P$28,5),IF(AND(J173>=1967,J173<1972),VLOOKUP(K173,Feuil2!$F$10:$P$28,4),IF(AND(J173>=1972,J173<1977),VLOOKUP(K173,Feuil2!$F$10:$P$28,3),IF(AND(J173>=1977,J173<1982),VLOOKUP(K173,Feuil2!$F$10:$P$28,2),VLOOKUP(K173,Feuil2!$F$10:$P$28,2))))))))))))","v":{"$error":"#N/A"}},null,{"$f":"T173-HLOOKUP(Y173,Feuil2!$C$1:$CD$9,2,FALSE)","v":{"$error":"#VALUE!"}},{"$f":"T173-HLOOKUP(Y173,Feuil2!$C$1:$CD$9,3,FALSE)","v":{"$error":"#VALUE!"}},{"$f":"T173-HLOOKUP(Y173,Feuil2!$C$1:$CD$9,4,FALSE)","v":{"$error":"#VALUE!"}},{"$f":"T173-HLOOKUP(Y173,Feuil2!$C$1:$CD$9,5,FALSE)","v":{"$error":"#VALUE!"}},{"$f":"T173-HLOOKUP(Y173,Feuil2!$C$1:$CD$9,6,FALSE)","v":{"$error":"#VALUE!"}},{"$f":"T173-HLOOKUP(Y173,Feuil2!$C$1:$CD$9,7,FALSE)","v":{"$error":"#VALUE!"}},{"$f":"T173-HLOOKUP(Y173,Feuil2!$C$1:$CD$9,8,FALSE)","v":{"$error":"#VALUE!"}},{"$f":"T173-HLOOKUP(Y173,Feuil2!$C$1:$CD$9,9,FALSE)","v":{"$error":"#VALUE!"}},null,null,null,null,null,null,null,{"$error":"#VALUE!"},2016,null,{"$f":"IF(AQ173,VLOOKUP(AQ173,HOM!$AS$561:$AT$616,2))","v":3.5710000000000002}]
["H",null,null,null,null,null,null,null,null,null,null,null,null,null,"",null,null,null,"","","","","",{"$error":"#N/A"},{"$f":"IF(AND(J174<1920),VLOOKUP(K174,Feuil2!$F$10:$P$28,11),IF(AND(J174>=1920,J174<1937),VLOOKUP(K174,Feuil2!$F$10:$P$28,11),IF(AND(J174>=1936,J174<1942),VLOOKUP(K174,Feuil2!$F$10:$P$28,10),IF(AND(J174>=1942,J174<1947),VLOOKUP(K174,Feuil2!$F$10:$P$28,9),IF(AND(J174>=1947,J174<1952),VLOOKUP(K174,Feuil2!$F$10:$P$28,8),IF(AND(J174>=1952,J174<1957),VLOOKUP(K174,Feuil2!$F$10:$P$28,7),IF(AND(J174>=1957,J174<1962),VLOOKUP(K174,Feuil2!$F$10:$P$28,6),IF(AND(J174>=1962,J174<1967),VLOOKUP(K174,Feuil2!$F$10:$P$28,5),IF(AND(J174>=1967,J174<1972),VLOOKUP(K174,Feuil2!$F$10:$P$28,4),IF(AND(J174>=1972,J174<1977),VLOOKUP(K174,Feuil2!$F$10:$P$28,3),IF(AND(J174>=1977,J174<1982),VLOOKUP(K174,Feuil2!$F$10:$P$28,2),VLOOKUP(K174,Feuil2!$F$10:$P$28,2))))))))))))","v":{"$error":"#N/A"}},null,{"$f":"T174-HLOOKUP(Y174,Feuil2!$C$1:$CD$9,2,FALSE)","v":{"$error":"#VALUE!"}},{"$f":"T174-HLOOKUP(Y174,Feuil2!$C$1:$CD$9,3,FALSE)","v":{"$error":"#VALUE!"}},{"$f":"T174-HLOOKUP(Y174,Feuil2!$C$1:$CD$9,4,FALSE)","v":{"$error":"#VALUE!"}},{"$f":"T174-HLOOKUP(Y174,Feuil2!$C$1:$CD$9,5,FALSE)","v":{"$error":"#VALUE!"}},{"$f":"T174-HLOOKUP(Y174,Feuil2!$C$1:$CD$9,6,FALSE)","v":{"$error":"#VALUE!"}},{"$f":"T174-HLOOKUP(Y174,Feuil2!$C$1:$CD$9,7,FALSE)","v":{"$error":"#VALUE!"}},{"$f":"T174-HLOOKUP(Y174,Feuil2!$C$1:$CD$9,8,FALSE)","v":{"$error":"#VALUE!"}},{"$f":"T174-HLOOKUP(Y174,Feuil2!$C$1:$CD$9,9,FALSE)","v":{"$error":"#VALUE!"}},null,null,null,null,null,null,null,{"$error":"#VALUE!"},2016,null,{"$f":"IF(AQ174,VLOOKUP(AQ174,HOM!$AS$561:$AT$616,2))","v":3.5710000000000002}]
["H",null,null,null,null,null,null,null,null,null,null,null,null,null,"",null,null,null,"","","","","",{"$error":"#N/A"},{"$f":"IF(AND(J175<1920),VLOOKUP(K175,Feuil2!$F$10:$P$28,11),IF(AND(J175>=1920,J175<1937),VLOOKUP(K175,Feuil2!$F$10:$P$28,11),IF(AND(J175>=1936,J175<1942),VLOOKUP(K175,Feuil2!$F$10:$P$28,10),IF(AND(J175>=1942,J175<1947),VLOOKUP(K175,Feuil2!$F$10:$P$28,9),IF(AND(J175>=1947,J175<1952),VLOOKUP(K175,Feuil2!$F$10:$P$28,8),IF(AND(J175>=1952,J175<1957),VLOOKUP(K175,Feuil2!$F$10:$P$28,7),IF(AND(J175>=1957,J175<1962),VLOOKUP(K175,Feuil2!$F$10:$P$28,6),IF(AND(J175>=1962,J175<1967),VLOOKUP(K175,Feuil2!$F$10:$P$28,5),IF(AND(J175>=1967,J175<1972),VLOOKUP(K175,Feuil2!$F$10:$P$28,4),IF(AND(J175>=1972,J175<1977),VLOOKUP(K175,Feuil2!$F$10:$P$28,3),IF(AND(J175>=1977,J175<1982),VLOOKUP(K175,Feuil2!$F$10:$P$28,2),VLOOKUP(K175,Feuil2!$F$10:$P$28,2))))))))))))","v":{"$error":"#N/A"}},null,{"$f":"T175-HLOOKUP(Y175,Feuil2!$C$1:$CD$9,2,FALSE)","v":{"$error":"#VALUE!"}},{"$f":"T175-HLOOKUP(Y175,Feuil2!$C$1:$CD$9,3,FALSE)","v":{"$error":"#VALUE!"}},{"$f":"T175-HLOOKUP(Y175,Feuil2!$C$1:$CD$9,4,FALSE)","v":{"$error":"#VALUE!"}},{"$f":"T175-HLOOKUP(Y175,Feuil2!$C$1:$CD$9,5,FALSE)","v":{"$error":"#VALUE!"}},{"$f":"T175-HLOOKUP(Y175,Feuil2!$C$1:$CD$9,6,FALSE)","v":{"$error":"#VALUE!"}},{"$f":"T175-HLOOKUP(Y175,Feuil2!$C$1:$CD$9,7,FALSE)","v":{"$error":"#VALUE!"}},{"$f":"T175-HLOOKUP(Y175,Feuil2!$C$1:$CD$9,8,FALSE)","v":{"$error":"#VALUE!"}},{"$f":"T175-HLOOKUP(Y175,Feuil2!$C$1:$CD$9,9,FALSE)","v":{"$error":"#VALUE!"}},null,null,null,null,null,null,null,{"$error":"#VALUE!"},2016,null,{"$f":"IF(AQ175,VLOOKUP(AQ175,HOM!$AS$561:$AT$616,2))","v":3.5710000000000002}]
["H",null,null,null,null,null,null,null,null,null,null,null,null,null,"",null,null,null,"","","","","",{"$error":"#N/A"},{"$f":"IF(AND(J176<1920),VLOOKUP(K176,Feuil2!$F$10:$P$28,11),IF(AND(J176>=1920,J176<1937),VLOOKUP(K176,Feuil2!$F$10:$P$28,11),IF(AND(J176>=1936,J176<1942),VLOOKUP(K176,Feuil2!$F$10:$P$28,10),IF(AND(J176>=1942,J176<1947),VLOOKUP(K176,Feuil2!$F$10:$P$28,9),IF(AND(J176>=1947,J176<1952),VLOOKUP(K176,Feuil2!$F$10:$P$28,8),IF(AND(J176>=1952,J176<1957),VLOOKUP(K176,Feuil2!$F$10:$P$28,7),IF(AND(J176>=1957,J176<1962),VLOOKUP(K176,Feuil2!$F$10:$P$28,6),IF(AND(J176>=1962,J176<1967),VLOOKUP(K176,Feuil2!$F$10:$P$28,5),IF(AND(J176>=1967,J176<1972),VLOOKUP(K176,Feuil2!$F$10:$P$28,4),IF(AND(J176>=1972,J176<1977),VLOOKUP(K176,Feuil2!$F$10:$P$28,3),IF(AND(J176>=1977,J176<1982),VLOOKUP(K176,Feuil2!$F$10:$P$28,2),VLOOKUP(K176,Feuil2!$F$10:$P$28,2))))))))))))","v":{"$error":"#N/A"}},null,{"$f":"T176-HLOOKUP(Y176,Feuil2!$C$1:$CD$9,2,FALSE)","v":{"$error":"#VALUE!"}},{"$f":"T176-HLOOKUP(Y176,Feuil2!$C$1:$CD$9,3,FALSE)","v":{"$error":"#VALUE!"}},{"$f":"T176-HLOOKUP(Y176,Feuil2!$C$1:$CD$9,4,FALSE)","v":{"$error":"#VALUE!"}},{"$f":"T176-HLOOKUP(Y176,Feuil2!$C$1:$CD$9,5,FALSE)","v":{"$error":"#VALUE!"}},{"$f":"T176-HLOOKUP(Y176,Feuil2!$C$1:$CD$9,6,FALSE)","v":{"$error":"#VALUE!"}},{"$f":"T176-HLOOKUP(Y176,Feuil2!$C$1:$CD$9,7,FALSE)","v":{"$error":"#VALUE!"}},{"$f":"T176-HLOOKUP(Y176,Feuil2!$C$1:$CD$9,8,FALSE)","v":{"$error":"#VALUE!"}},{"$f":"T176-HLOOKUP(Y176,Feuil2!$C$1:$CD$9,9,FALSE)","v":{"$error":"#VALUE!"}},null,null,null,null,null,null,null,{"$error":"#VALUE!"},2016,null,{"$f":"IF(AQ176,VLOOKUP(AQ176,HOM!$AS$561:$AT$616,2))","v":3.5710000000000002}]
["H",null,null,null,null,null,null,null,null,null,null,null,null,null,"",null,null,null,"","","","","",{"$error":"#N/A"},{"$f":"IF(AND(J177<1920),VLOOKUP(K177,Feuil2!$F$10:$P$28,11),IF(AND(J177>=1920,J177<1937),VLOOKUP(K177,Feuil2!$F$10:$P$28,11),IF(AND(J177>=1936,J177<1942),VLOOKUP(K177,Feuil2!$F$10:$P$28,10),IF(AND(J177>=1942,J177<1947),VLOOKUP(K177,Feuil2!$F$10:$P$28,9),IF(AND(J177>=1947,J177<1952),VLOOKUP(K177,Feuil2!$F$10:$P$28,8),IF(AND(J177>=1952,J177<1957),VLOOKUP(K177,Feuil2!$F$10:$P$28,7),IF(AND(J177>=1957,J177<1962),VLOOKUP(K177,Feuil2!$F$10:$P$28,6),IF(AND(J177>=1962,J177<1967),VLOOKUP(K177,Feuil2!$F$10:$P$28,5),IF(AND(J177>=1967,J177<1972),VLOOKUP(K177,Feuil2!$F$10:$P$28,4),IF(AND(J177>=1972,J177<1977),VLOOKUP(K177,Feuil2!$F$10:$P$28,3),IF(AND(J177>=1977,J177<1982),VLOOKUP(K177,Feuil2!$F$10:$P$28,2),VLOOKUP(K177,Feuil2!$F$10:$P$28,2))))))))))))","v":{"$error":"#N/A"}},null,{"$f":"T177-HLOOKUP(Y177,Feuil2!$C$1:$CD$9,2,FALSE)","v":{"$error":"#VALUE!"}},{"$f":"T177-HLOOKUP(Y177,Feuil2!$C$1:$CD$9,3,FALSE)","v":{"$error":"#VALUE!"}},{"$f":"T177-HLOOKUP(Y177,Feuil2!$C$1:$CD$9,4,FALSE)","v":{"$error":"#VALUE!"}},{"$f":"T177-HLOOKUP(Y177,Feuil2!$C$1:$CD$9,5,FALSE)","v":{"$error":"#VALUE!"}},{"$f":"T177-HLOOKUP(Y177,Feuil2!$C$1:$CD$9,6,FALSE)","v":{"$error":"#VALUE!"}},{"$f":"T177-HLOOKUP(Y177,Feuil2!$C$1:$CD$9,7,FALSE)","v":{"$error":"#VALUE!"}},{"$f":"T177-HLOOKUP(Y177,Feuil2!$C$1:$CD$9,8,FALSE)","v":{"$error":"#VALUE!"}},{"$f":"T177-HLOOKUP(Y177,Feuil2!$C$1:$CD$9,9,FALSE)","v":{"$error":"#VALUE!"}},null,null,null,null,null,null,null,{"$error":"#VALUE!"},2016,null,{"$f":"IF(AQ177,VLOOKUP(AQ177,HOM!$AS$561:$AT$616,2))","v":3.5710000000000002}]
["H",null,null,null,null,null,null,null,null,null,null,null,null,null,"",null,null,null,"","","","","",{"$error":"#N/A"},{"$f":"IF(AND(J178<1920),VLOOKUP(K178,Feuil2!$F$10:$P$28,11),IF(AND(J178>=1920,J178<1937),VLOOKUP(K178,Feuil2!$F$10:$P$28,11),IF(AND(J178>=1936,J178<1942),VLOOKUP(K178,Feuil2!$F$10:$P$28,10),IF(AND(J178>=1942,J178<1947),VLOOKUP(K178,Feuil2!$F$10:$P$28,9),IF(AND(J178>=1947,J178<1952),VLOOKUP(K178,Feuil2!$F$10:$P$28,8),IF(AND(J178>=1952,J178<1957),VLOOKUP(K178,Feuil2!$F$10:$P$28,7),IF(AND(J178>=1957,J178<1962),VLOOKUP(K178,Feuil2!$F$10:$P$28,6),IF(AND(J178>=1962,J178<1967),VLOOKUP(K178,Feuil2!$F$10:$P$28,5),IF(AND(J178>=1967,J178<1972),VLOOKUP(K178,Feuil2!$F$10:$P$28,4),IF(AND(J178>=1972,J178<1977),VLOOKUP(K178,Feuil2!$F$10:$P$28,3),IF(AND(J178>=1977,J178<1982),VLOOKUP(K178,Feuil2!$F$10:$P$28,2),VLOOKUP(K178,Feuil2!$F$10:$P$28,2))))))))))))","v":{"$error":"#N/A"}},null,{"$f":"T178-HLOOKUP(Y178,Feuil2!$C$1:$CD$9,2,FALSE)","v":{"$error":"#VALUE!"}},{"$f":"T178-HLOOKUP(Y178,Feuil2!$C$1:$CD$9,3,FALSE)","v":{"$error":"#VALUE!"}},{"$f":"T178-HLOOKUP(Y178,Feuil2!$C$1:$CD$9,4,FALSE)","v":{"$error":"#VALUE!"}},{"$f":"T178-HLOOKUP(Y178,Feuil2!$C$1:$CD$9,5,FALSE)","v":{"$error":"#VALUE!"}},{"$f":"T178-HLOOKUP(Y178,Feuil2!$C$1:$CD$9,6,FALSE)","v":{"$error":"#VALUE!"}},{"$f":"T178-HLOOKUP(Y178,Feuil2!$C$1:$CD$9,7,FALSE)","v":{"$error":"#VALUE!"}},{"$f":"T178-HLOOKUP(Y178,Feuil2!$C$1:$CD$9,8,FALSE)","v":{"$error":"#VALUE!"}},{"$f":"T178-HLOOKUP(Y178,Feuil2!$C$1:$CD$9,9,FALSE)","v":{"$error":"#VALUE!"}},null,null,null,null,null,null,null,{"$error":"#VALUE!"},2016,null,{"$f":"IF(AQ178,VLOOKUP(AQ178,HOM!$AS$561:$AT$616,2))","v":3.5710000000000002}]
["H",null,null,null,null,null,null,null,null,null,null,null,null,null,"",null,null,null,"","","","","",{"$error":"#N/A"},{"$f":"IF(AND(J179<1920),VLOOKUP(K179,Feuil2!$F$10:$P$28,11),IF(AND(J179>=1920,J179<1937),VLOOKUP(K179,Feuil2!$F$10:$P$28,11),IF(AND(J179>=1936,J179<1942),VLOOKUP(K179,Feuil2!$F$10:$P$28,10),IF(AND(J179>=1942,J179<1947),VLOOKUP(K179,Feuil2!$F$10:$P$28,9),IF(AND(J179>=1947,J179<1952),VLOOKUP(K179,Feuil2!$F$10:$P$28,8),IF(AND(J179>=1952,J179<1957),VLOOKUP(K179,Feuil2!$F$10:$P$28,7),IF(AND(J179>=1957,J179<1962),VLOOKUP(K179,Feuil2!$F$10:$P$28,6),IF(AND(J179>=1962,J179<1967),VLOOKUP(K179,Feuil2!$F$10:$P$28,5),IF(AND(J179>=1967,J179<1972),VLOOKUP(K179,Feuil2!$F$10:$P$28,4),IF(AND(J179>=1972,J179<1977),VLOOKUP(K179,Feuil2!$F$10:$P$28,3),IF(AND(J179>=1977,J179<1982),VLOOKUP(K179,Feuil2!$F$10:$P$28,2),VLOOKUP(K179,Feuil2!$F$10:$P$28,2))))))))))))","v":{"$error":"#N/A"}},null,{"$f":"T179-HLOOKUP(Y179,Feuil2!$C$1:$CD$9,2,FALSE)","v":{"$error":"#VALUE!"}},{"$f":"T179-HLOOKUP(Y179,Feuil2!$C$1:$CD$9,3,FALSE)","v":{"$error":"#VALUE!"}},{"$f":"T179-HLOOKUP(Y179,Feuil2!$C$1:$CD$9,4,FALSE)","v":{"$error":"#VALUE!"}},{"$f":"T179-HLOOKUP(Y179,Feuil2!$C$1:$CD$9,5,FALSE)","v":{"$error":"#VALUE!"}},{"$f":"T179-HLOOKUP(Y179,Feuil2!$C$1:$CD$9,6,FALSE)","v":{"$error":"#VALUE!"}},{"$f":"T179-HLOOKUP(Y179,Feuil2!$C$1:$CD$9,7,FALSE)","v":{"$error":"#VALUE!"}},{"$f":"T179-HLOOKUP(Y179,Feuil2!$C$1:$CD$9,8,FALSE)","v":{"$error":"#VALUE!"}},{"$f":"T179-HLOOKUP(Y179,Feuil2!$C$1:$CD$9,9,FALSE)","v":{"$error":"#VALUE!"}},null,null,null,null,null,null,null,{"$error":"#VALUE!"},2016,null,{"$f":"IF(AQ179,VLOOKUP(AQ179,HOM!$AS$561:$AT$616,2))","v":3.5710000000000002}]
["H",null,null,null,null,null,null,null,null,null,null,null,null,null,"",null,null,null,"","","","","",{"$error":"#N/A"},{"$f":"IF(AND(J180<1920),VLOOKUP(K180,Feuil2!$F$10:$P$28,11),IF(AND(J180>=1920,J180<1937),VLOOKUP(K180,Feuil2!$F$10:$P$28,11),IF(AND(J180>=1936,J180<1942),VLOOKUP(K180,Feuil2!$F$10:$P$28,10),IF(AND(J180>=1942,J180<1947),VLOOKUP(K180,Feuil2!$F$10:$P$28,9),IF(AND(J180>=1947,J180<1952),VLOOKUP(K180,Feuil2!$F$10:$P$28,8),IF(AND(J180>=1952,J180<1957),VLOOKUP(K180,Feuil2!$F$10:$P$28,7),IF(AND(J180>=1957,J180<1962),VLOOKUP(K180,Feuil2!$F$10:$P$28,6),IF(AND(J180>=1962,J180<1967),VLOOKUP(K180,Feuil2!$F$10:$P$28,5),IF(AND(J180>=1967,J180<1972),VLOOKUP(K180,Feuil2!$F$10:$P$28,4),IF(AND(J180>=1972,J180<1977),VLOOKUP(K180,Feuil2!$F$10:$P$28,3),IF(AND(J180>=1977,J180<1982),VLOOKUP(K180,Feuil2!$F$10:$P$28,2),VLOOKUP(K180,Feuil2!$F$10:$P$28,2))))))))))))","v":{"$error":"#N/A"}},null,{"$f":"T180-HLOOKUP(Y180,Feuil2!$C$1:$CD$9,2,FALSE)","v":{"$error":"#VALUE!"}},{"$f":"T180-HLOOKUP(Y180,Feuil2!$C$1:$CD$9,3,FALSE)","v":{"$error":"#VALUE!"}},{"$f":"T180-HLOOKUP(Y180,Feuil2!$C$1:$CD$9,4,FALSE)","v":{"$error":"#VALUE!"}},{"$f":"T180-HLOOKUP(Y180,Feuil2!$C$1:$CD$9,5,FALSE)","v":{"$error":"#VALUE!"}},{"$f":"T180-HLOOKUP(Y180,Feuil2!$C$1:$CD$9,6,FALSE)","v":{"$error":"#VALUE!"}},{"$f":"T180-HLOOKUP(Y180,Feuil2!$C$1:$CD$9,7,FALSE)","v":{"$error":"#VALUE!"}},{"$f":"T180-HLOOKUP(Y180,Feuil2!$C$1:$CD$9,8,FALSE)","v":{"$error":"#VALUE!"}},{"$f":"T180-HLOOKUP(Y180,Feuil2!$C$1:$CD$9,9,FALSE)","v":{"$error":"#VALUE!"}},null,null,null,null,null,null,null,{"$error":"#VALUE!"},2016,null,{"$f":"IF(AQ180,VLOOKUP(AQ180,HOM!$AS$561:$AT$616,2))","v":3.5710000000000002}]
["H",null,null,null,null,null,null,null,null,null,null,null,null,null,"",null,null,null,"","","","","",{"$error":"#N/A"},{"$f":"IF(AND(J181<1920),VLOOKUP(K181,Feuil2!$F$10:$P$28,11),IF(AND(J181>=1920,J181<1937),VLOOKUP(K181,Feuil2!$F$10:$P$28,11),IF(AND(J181>=1936,J181<1942),VLOOKUP(K181,Feuil2!$F$10:$P$28,10),IF(AND(J181>=1942,J181<1947),VLOOKUP(K181,Feuil2!$F$10:$P$28,9),IF(AND(J181>=1947,J181<1952),VLOOKUP(K181,Feuil2!$F$10:$P$28,8),IF(AND(J181>=1952,J181<1957),VLOOKUP(K181,Feuil2!$F$10:$P$28,7),IF(AND(J181>=1957,J181<1962),VLOOKUP(K181,Feuil2!$F$10:$P$28,6),IF(AND(J181>=1962,J181<1967),VLOOKUP(K181,Feuil2!$F$10:$P$28,5),IF(AND(J181>=1967,J181<1972),VLOOKUP(K181,Feuil2!$F$10:$P$28,4),IF(AND(J181>=1972,J181<1977),VLOOKUP(K181,Feuil2!$F$10:$P$28,3),IF(AND(J181>=1977,J181<1982),VLOOKUP(K181,Feuil2!$F$10:$P$28,2),VLOOKUP(K181,Feuil2!$F$10:$P$28,2))))))))))))","v":{"$error":"#N/A"}},null,{"$f":"T181-HLOOKUP(Y181,Feuil2!$C$1:$CD$9,2,FALSE)","v":{"$error":"#VALUE!"}},{"$f":"T181-HLOOKUP(Y181,Feuil2!$C$1:$CD$9,3,FALSE)","v":{"$error":"#VALUE!"}},{"$f":"T181-HLOOKUP(Y181,Feuil2!$C$1:$CD$9,4,FALSE)","v":{"$error":"#VALUE!"}},{"$f":"T181-HLOOKUP(Y181,Feuil2!$C$1:$CD$9,5,FALSE)","v":{"$error":"#VALUE!"}},{"$f":"T181-HLOOKUP(Y181,Feuil2!$C$1:$CD$9,6,FALSE)","v":{"$error":"#VALUE!"}},{"$f":"T181-HLOOKUP(Y181,Feuil2!$C$1:$CD$9,7,FALSE)","v":{"$error":"#VALUE!"}},{"$f":"T181-HLOOKUP(Y181,Feuil2!$C$1:$CD$9,8,FALSE)","v":{"$error":"#VALUE!"}},{"$f":"T181-HLOOKUP(Y181,Feuil2!$C$1:$CD$9,9,FALSE)","v":{"$error":"#VALUE!"}},null,null,null,null,null,null,null,{"$error":"#VALUE!"},2016,null,{"$f":"IF(AQ181,VLOOKUP(AQ181,HOM!$AS$561:$AT$616,2))","v":3.5710000000000002}]
["H",null,null,null,null,null,null,null,null,null,null,null,null,null,"",null,null,null,"","","","","",{"$error":"#N/A"},{"$f":"IF(AND(J182<1920),VLOOKUP(K182,Feuil2!$F$10:$P$28,11),IF(AND(J182>=1920,J182<1937),VLOOKUP(K182,Feuil2!$F$10:$P$28,11),IF(AND(J182>=1936,J182<1942),VLOOKUP(K182,Feuil2!$F$10:$P$28,10),IF(AND(J182>=1942,J182<1947),VLOOKUP(K182,Feuil2!$F$10:$P$28,9),IF(AND(J182>=1947,J182<1952),VLOOKUP(K182,Feuil2!$F$10:$P$28,8),IF(AND(J182>=1952,J182<1957),VLOOKUP(K182,Feuil2!$F$10:$P$28,7),IF(AND(J182>=1957,J182<1962),VLOOKUP(K182,Feuil2!$F$10:$P$28,6),IF(AND(J182>=1962,J182<1967),VLOOKUP(K182,Feuil2!$F$10:$P$28,5),IF(AND(J182>=1967,J182<1972),VLOOKUP(K182,Feuil2!$F$10:$P$28,4),IF(AND(J182>=1972,J182<1977),VLOOKUP(K182,Feuil2!$F$10:$P$28,3),IF(AND(J182>=1977,J182<1982),VLOOKUP(K182,Feuil2!$F$10:$P$28,2),VLOOKUP(K182,Feuil2!$F$10:$P$28,2))))))))))))","v":{"$error":"#N/A"}},null,{"$f":"T182-HLOOKUP(Y182,Feuil2!$C$1:$CD$9,2,FALSE)","v":{"$error":"#VALUE!"}},{"$f":"T182-HLOOKUP(Y182,Feuil2!$C$1:$CD$9,3,FALSE)","v":{"$error":"#VALUE!"}},{"$f":"T182-HLOOKUP(Y182,Feuil2!$C$1:$CD$9,4,FALSE)","v":{"$error":"#VALUE!"}},{"$f":"T182-HLOOKUP(Y182,Feuil2!$C$1:$CD$9,5,FALSE)","v":{"$error":"#VALUE!"}},{"$f":"T182-HLOOKUP(Y182,Feuil2!$C$1:$CD$9,6,FALSE)","v":{"$error":"#VALUE!"}},{"$f":"T182-HLOOKUP(Y182,Feuil2!$C$1:$CD$9,7,FALSE)","v":{"$error":"#VALUE!"}},{"$f":"T182-HLOOKUP(Y182,Feuil2!$C$1:$CD$9,8,FALSE)","v":{"$error":"#VALUE!"}},{"$f":"T182-HLOOKUP(Y182,Feuil2!$C$1:$CD$9,9,FALSE)","v":{"$error":"#VALUE!"}},null,null,null,null,null,null,null,{"$error":"#VALUE!"},2016,null,{"$f":"IF(AQ182,VLOOKUP(AQ182,HOM!$AS$561:$AT$616,2))","v":3.5710000000000002}]
["H",null,null,null,null,null,null,null,null,null,null,null,null,null,"",null,null,null,"","","","","",{"$error":"#N/A"},{"$f":"IF(AND(J183<1920),VLOOKUP(K183,Feuil2!$F$10:$P$28,11),IF(AND(J183>=1920,J183<1937),VLOOKUP(K183,Feuil2!$F$10:$P$28,11),IF(AND(J183>=1936,J183<1942),VLOOKUP(K183,Feuil2!$F$10:$P$28,10),IF(AND(J183>=1942,J183<1947),VLOOKUP(K183,Feuil2!$F$10:$P$28,9),IF(AND(J183>=1947,J183<1952),VLOOKUP(K183,Feuil2!$F$10:$P$28,8),IF(AND(J183>=1952,J183<1957),VLOOKUP(K183,Feuil2!$F$10:$P$28,7),IF(AND(J183>=1957,J183<1962),VLOOKUP(K183,Feuil2!$F$10:$P$28,6),IF(AND(J183>=1962,J183<1967),VLOOKUP(K183,Feuil2!$F$10:$P$28,5),IF(AND(J183>=1967,J183<1972),VLOOKUP(K183,Feuil2!$F$10:$P$28,4),IF(AND(J183>=1972,J183<1977),VLOOKUP(K183,Feuil2!$F$10:$P$28,3),IF(AND(J183>=1977,J183<1982),VLOOKUP(K183,Feuil2!$F$10:$P$28,2),VLOOKUP(K183,Feuil2!$F$10:$P$28,2))))))))))))","v":{"$error":"#N/A"}},null,{"$f":"T183-HLOOKUP(Y183,Feuil2!$C$1:$CD$9,2,FALSE)","v":{"$error":"#VALUE!"}},{"$f":"T183-HLOOKUP(Y183,Feuil2!$C$1:$CD$9,3,FALSE)","v":{"$error":"#VALUE!"}},{"$f":"T183-HLOOKUP(Y183,Feuil2!$C$1:$CD$9,4,FALSE)","v":{"$error":"#VALUE!"}},{"$f":"T183-HLOOKUP(Y183,Feuil2!$C$1:$CD$9,5,FALSE)","v":{"$error":"#VALUE!"}},{"$f":"T183-HLOOKUP(Y183,Feuil2!$C$1:$CD$9,6,FALSE)","v":{"$error":"#VALUE!"}},{"$f":"T183-HLOOKUP(Y183,Feuil2!$C$1:$CD$9,7,FALSE)","v":{"$error":"#VALUE!"}},{"$f":"T183-HLOOKUP(Y183,Feuil2!$C$1:$CD$9,8,FALSE)","v":{"$error":"#VALUE!"}},{"$f":"T183-HLOOKUP(Y183,Feuil2!$C$1:$CD$9,9,FALSE)","v":{"$error":"#VALUE!"}},null,null,null,null,null,null,null,{"$error":"#VALUE!"},2016,null,{"$f":"IF(AQ183,VLOOKUP(AQ183,HOM!$AS$561:$AT$616,2))","v":3.5710000000000002}]
["H",null,null,null,null,null,null,null,null,null,null,null,null,null,"",null,null,null,"","","","","",{"$error":"#N/A"},{"$f":"IF(AND(J184<1920),VLOOKUP(K184,Feuil2!$F$10:$P$28,11),IF(AND(J184>=1920,J184<1937),VLOOKUP(K184,Feuil2!$F$10:$P$28,11),IF(AND(J184>=1936,J184<1942),VLOOKUP(K184,Feuil2!$F$10:$P$28,10),IF(AND(J184>=1942,J184<1947),VLOOKUP(K184,Feuil2!$F$10:$P$28,9),IF(AND(J184>=1947,J184<1952),VLOOKUP(K184,Feuil2!$F$10:$P$28,8),IF(AND(J184>=1952,J184<1957),VLOOKUP(K184,Feuil2!$F$10:$P$28,7),IF(AND(J184>=1957,J184<1962),VLOOKUP(K184,Feuil2!$F$10:$P$28,6),IF(AND(J184>=1962,J184<1967),VLOOKUP(K184,Feuil2!$F$10:$P$28,5),IF(AND(J184>=1967,J184<1972),VLOOKUP(K184,Feuil2!$F$10:$P$28,4),IF(AND(J184>=1972,J184<1977),VLOOKUP(K184,Feuil2!$F$10:$P$28,3),IF(AND(J184>=1977,J184<1982),VLOOKUP(K184,Feuil2!$F$10:$P$28,2),VLOOKUP(K184,Feuil2!$F$10:$P$28,2))))))))))))","v":{"$error":"#N/A"}},null,{"$f":"T184-HLOOKUP(Y184,Feuil2!$C$1:$CD$9,2,FALSE)","v":{"$error":"#VALUE!"}},{"$f":"T184-HLOOKUP(Y184,Feuil2!$C$1:$CD$9,3,FALSE)","v":{"$error":"#VALUE!"}},{"$f":"T184-HLOOKUP(Y184,Feuil2!$C$1:$CD$9,4,FALSE)","v":{"$error":"#VALUE!"}},{"$f":"T184-HLOOKUP(Y184,Feuil2!$C$1:$CD$9,5,FALSE)","v":{"$error":"#VALUE!"}},{"$f":"T184-HLOOKUP(Y184,Feuil2!$C$1:$CD$9,6,FALSE)","v":{"$error":"#VALUE!"}},{"$f":"T184-HLOOKUP(Y184,Feuil2!$C$1:$CD$9,7,FALSE)","v":{"$error":"#VALUE!"}},{"$f":"T184-HLOOKUP(Y184,Feuil2!$C$1:$CD$9,8,FALSE)","v":{"$error":"#VALUE!"}},{"$f":"T184-HLOOKUP(Y184,Feuil2!$C$1:$CD$9,9,FALSE)","v":{"$error":"#VALUE!"}},null,null,null,null,null,null,null,{"$error":"#VALUE!"},2016,null,{"$f":"IF(AQ184,VLOOKUP(AQ184,HOM!$AS$561:$AT$616,2))","v":3.5710000000000002}]
["H",null,null,null,null,null,null,null,null,null,null,null,null,null,"",null,null,null,"","","","","",{"$error":"#N/A"},{"$f":"IF(AND(J185<1920),VLOOKUP(K185,Feuil2!$F$10:$P$28,11),IF(AND(J185>=1920,J185<1937),VLOOKUP(K185,Feuil2!$F$10:$P$28,11),IF(AND(J185>=1936,J185<1942),VLOOKUP(K185,Feuil2!$F$10:$P$28,10),IF(AND(J185>=1942,J185<1947),VLOOKUP(K185,Feuil2!$F$10:$P$28,9),IF(AND(J185>=1947,J185<1952),VLOOKUP(K185,Feuil2!$F$10:$P$28,8),IF(AND(J185>=1952,J185<1957),VLOOKUP(K185,Feuil2!$F$10:$P$28,7),IF(AND(J185>=1957,J185<1962),VLOOKUP(K185,Feuil2!$F$10:$P$28,6),IF(AND(J185>=1962,J185<1967),VLOOKUP(K185,Feuil2!$F$10:$P$28,5),IF(AND(J185>=1967,J185<1972),VLOOKUP(K185,Feuil2!$F$10:$P$28,4),IF(AND(J185>=1972,J185<1977),VLOOKUP(K185,Feuil2!$F$10:$P$28,3),IF(AND(J185>=1977,J185<1982),VLOOKUP(K185,Feuil2!$F$10:$P$28,2),VLOOKUP(K185,Feuil2!$F$10:$P$28,2))))))))))))","v":{"$error":"#N/A"}},null,{"$f":"T185-HLOOKUP(Y185,Feuil2!$C$1:$CD$9,2,FALSE)","v":{"$error":"#VALUE!"}},{"$f":"T185-HLOOKUP(Y185,Feuil2!$C$1:$CD$9,3,FALSE)","v":{"$error":"#VALUE!"}},{"$f":"T185-HLOOKUP(Y185,Feuil2!$C$1:$CD$9,4,FALSE)","v":{"$error":"#VALUE!"}},{"$f":"T185-HLOOKUP(Y185,Feuil2!$C$1:$CD$9,5,FALSE)","v":{"$error":"#VALUE!"}},{"$f":"T185-HLOOKUP(Y185,Feuil2!$C$1:$CD$9,6,FALSE)","v":{"$error":"#VALUE!"}},{"$f":"T185-HLOOKUP(Y185,Feuil2!$C$1:$CD$9,7,FALSE)","v":{"$error":"#VALUE!"}},{"$f":"T185-HLOOKUP(Y185,Feuil2!$C$1:$CD$9,8,FALSE)","v":{"$error":"#VALUE!"}},{"$f":"T185-HLOOKUP(Y185,Feuil2!$C$1:$CD$9,9,FALSE)","v":{"$error":"#VALUE!"}},null,null,null,null,null,null,null,{"$error":"#VALUE!"},2016,null,{"$f":"IF(AQ185,VLOOKUP(AQ185,HOM!$AS$561:$AT$616,2))","v":3.5710000000000002}]
["H",null,null,null,null,null,null,null,null,null,null,null,null,null,"",null,null,null,"","","","","",{"$error":"#N/A"},{"$f":"IF(AND(J186<1920),VLOOKUP(K186,Feuil2!$F$10:$P$28,11),IF(AND(J186>=1920,J186<1937),VLOOKUP(K186,Feuil2!$F$10:$P$28,11),IF(AND(J186>=1936,J186<1942),VLOOKUP(K186,Feuil2!$F$10:$P$28,10),IF(AND(J186>=1942,J186<1947),VLOOKUP(K186,Feuil2!$F$10:$P$28,9),IF(AND(J186>=1947,J186<1952),VLOOKUP(K186,Feuil2!$F$10:$P$28,8),IF(AND(J186>=1952,J186<1957),VLOOKUP(K186,Feuil2!$F$10:$P$28,7),IF(AND(J186>=1957,J186<1962),VLOOKUP(K186,Feuil2!$F$10:$P$28,6),IF(AND(J186>=1962,J186<1967),VLOOKUP(K186,Feuil2!$F$10:$P$28,5),IF(AND(J186>=1967,J186<1972),VLOOKUP(K186,Feuil2!$F$10:$P$28,4),IF(AND(J186>=1972,J186<1977),VLOOKUP(K186,Feuil2!$F$10:$P$28,3),IF(AND(J186>=1977,J186<1982),VLOOKUP(K186,Feuil2!$F$10:$P$28,2),VLOOKUP(K186,Feuil2!$F$10:$P$28,2))))))))))))","v":{"$error":"#N/A"}},null,{"$f":"T186-HLOOKUP(Y186,Feuil2!$C$1:$CD$9,2,FALSE)","v":{"$error":"#VALUE!"}},{"$f":"T186-HLOOKUP(Y186,Feuil2!$C$1:$CD$9,3,FALSE)","v":{"$error":"#VALUE!"}},{"$f":"T186-HLOOKUP(Y186,Feuil2!$C$1:$CD$9,4,FALSE)","v":{"$error":"#VALUE!"}},{"$f":"T186-HLOOKUP(Y186,Feuil2!$C$1:$CD$9,5,FALSE)","v":{"$error":"#VALUE!"}},{"$f":"T186-HLOOKUP(Y186,Feuil2!$C$1:$CD$9,6,FALSE)","v":{"$error":"#VALUE!"}},{"$f":"T186-HLOOKUP(Y186,Feuil2!$C$1:$CD$9,7,FALSE)","v":{"$error":"#VALUE!"}},{"$f":"T186-HLOOKUP(Y186,Feuil2!$C$1:$CD$9,8,FALSE)","v":{"$error":"#VALUE!"}},{"$f":"T186-HLOOKUP(Y186,Feuil2!$C$1:$CD$9,9,FALSE)","v":{"$error":"#VALUE!"}},null,null,null,null,null,null,null,{"$error":"#VALUE!"},2016,null,{"$f":"IF(AQ186,VLOOKUP(AQ186,HOM!$AS$561:$AT$616,2))","v":3.5710000000000002}]
["H",null,null,null,null,null,null,null,null,null,null,null,null,null,{"$f":"IF(K187=\"\",\"\",IF(MAXA(L187:N187)<=0,0,MAXA(L187:N187)))","v":""},null,null,null,{"$f":"IF(K187=\"\",\"\",IF(MAXA(P187:R187)<=0,0,MAXA(P187:R187)))","v":""},{"$f":"IF(K187=\"\",\"\",IF(OR(O187=0,S187=0),0,O187+S187))","v":""},"","","",{"$error":"#N/A"},{"$f":"IF(AND(J187<1920),VLOOKUP(K187,Feuil2!$F$10:$P$28,11),IF(AND(J187>=1920,J187<1937),VLOOKUP(K187,Feuil2!$F$10:$P$28,11),IF(AND(J187>=1936,J187<1942),VLOOKUP(K187,Feuil2!$F$10:$P$28,10),IF(AND(J187>=1942,J187<1947),VLOOKUP(K187,Feuil2!$F$10:$P$28,9),IF(AND(J187>=1947,J187<1952),VLOOKUP(K187,Feuil2!$F$10:$P$28,8),IF(AND(J187>=1952,J187<1957),VLOOKUP(K187,Feuil2!$F$10:$P$28,7),IF(AND(J187>=1957,J187<1962),VLOOKUP(K187,Feuil2!$F$10:$P$28,6),IF(AND(J187>=1962,J187<1967),VLOOKUP(K187,Feuil2!$F$10:$P$28,5),IF(AND(J187>=1967,J187<1972),VLOOKUP(K187,Feuil2!$F$10:$P$28,4),IF(AND(J187>=1972,J187<1977),VLOOKUP(K187,Feuil2!$F$10:$P$28,3),IF(AND(J187>=1977,J187<1982),VLOOKUP(K187,Feuil2!$F$10:$P$28,2),VLOOKUP(K187,Feuil2!$F$10:$P$28,2))))))))))))","v":{"$error":"#N/A"}},null,{"$f":"T187-HLOOKUP(Y187,Feuil2!$C$1:$CD$9,2,FALSE)","v":{"$error":"#VALUE!"}},{"$f":"T187-HLOOKUP(Y187,Feuil2!$C$1:$CD$9,3,FALSE)","v":{"$error":"#VALUE!"}},{"$f":"T187-HLOOKUP(Y187,Feuil2!$C$1:$CD$9,4,FALSE)","v":{"$error":"#VALUE!"}},{"$f":"T187-HLOOKUP(Y187,Feuil2!$C$1:$CD$9,5,FALSE)","v":{"$error":"#VALUE!"}},{"$f":"T187-HLOOKUP(Y187,Feuil2!$C$1:$CD$9,6,FALSE)","v":{"$error":"#VALUE!"}},{"$f":"T187-HLOOKUP(Y187,Feuil2!$C$1:$CD$9,7,FALSE)","v":{"$error":"#VALUE!"}},{"$f":"T187-HLOOKUP(Y187,Feuil2!$C$1:$CD$9,8,FALSE)","v":{"$error":"#VALUE!"}},{"$f":"T187-HLOOKUP(Y187,Feuil2!$C$1:$CD$9,9,FALSE)","v":{"$error":"#VALUE!"}},null,null,null,null,null,null,null,{"$error":"#VALUE!"},2016,null,{"$f":"IF(AQ187,VLOOKUP(AQ187,HOM!$AS$561:$AT$616,2))","v":3.5710000000000002}]
["H",null,null,null,null,null,null,null,null,null,null,null,null,null,"",null,null,null,"","","","","",{"$error":"#N/A"},{"$f":"IF(AND(J188<1920),VLOOKUP(K188,Feuil2!$F$10:$P$28,11),IF(AND(J188>=1920,J188<1937),VLOOKUP(K188,Feuil2!$F$10:$P$28,11),IF(AND(J188>=1936,J188<1942),VLOOKUP(K188,Feuil2!$F$10:$P$28,10),IF(AND(J188>=1942,J188<1947),VLOOKUP(K188,Feuil2!$F$10:$P$28,9),IF(AND(J188>=1947,J188<1952),VLOOKUP(K188,Feuil2!$F$10:$P$28,8),IF(AND(J188>=1952,J188<1957),VLOOKUP(K188,Feuil2!$F$10:$P$28,7),IF(AND(J188>=1957,J188<1962),VLOOKUP(K188,Feuil2!$F$10:$P$28,6),IF(AND(J188>=1962,J188<1967),VLOOKUP(K188,Feuil2!$F$10:$P$28,5),IF(AND(J188>=1967,J188<1972),VLOOKUP(K188,Feuil2!$F$10:$P$28,4),IF(AND(J188>=1972,J188<1977),VLOOKUP(K188,Feuil2!$F$10:$P$28,3),IF(AND(J188>=1977,J188<1982),VLOOKUP(K188,Feuil2!$F$10:$P$28,2),VLOOKUP(K188,Feuil2!$F$10:$P$28,2))))))))))))","v":{"$error":"#N/A"}},null,{"$f":"T188-HLOOKUP(Y188,Feuil2!$C$1:$CD$9,2,FALSE)","v":{"$error":"#VALUE!"}},{"$f":"T188-HLOOKUP(Y188,Feuil2!$C$1:$CD$9,3,FALSE)","v":{"$error":"#VALUE!"}},{"$f":"T188-HLOOKUP(Y188,Feuil2!$C$1:$CD$9,4,FALSE)","v":{"$error":"#VALUE!"}},{"$f":"T188-HLOOKUP(Y188,Feuil2!$C$1:$CD$9,5,FALSE)","v":{"$error":"#VALUE!"}},{"$f":"T188-HLOOKUP(Y188,Feuil2!$C$1:$CD$9,6,FALSE)","v":{"$error":"#VALUE!"}},{"$f":"T188-HLOOKUP(Y188,Feuil2!$C$1:$CD$9,7,FALSE)","v":{"$error":"#VALUE!"}},{"$f":"T188-HLOOKUP(Y188,Feuil2!$C$1:$CD$9,8,FALSE)","v":{"$error":"#VALUE!"}},{"$f":"T188-HLOOKUP(Y188,Feuil2!$C$1:$CD$9,9,FALSE)","v":{"$error":"#VALUE!"}},null,null,null,null,null,null,null,{"$error":"#VALUE!"},2016,null,{"$f":"IF(AQ188,VLOOKUP(AQ188,HOM!$AS$561:$AT$616,2))","v":3.5710000000000002}]
["H",null,null,null,null,null,null,null,null,null,null,null,null,null,"",null,null,null,"","","","","",{"$error":"#N/A"},{"$f":"IF(AND(J189<1920),VLOOKUP(K189,Feuil2!$F$10:$P$28,11),IF(AND(J189>=1920,J189<1937),VLOOKUP(K189,Feuil2!$F$10:$P$28,11),IF(AND(J189>=1936,J189<1942),VLOOKUP(K189,Feuil2!$F$10:$P$28,10),IF(AND(J189>=1942,J189<1947),VLOOKUP(K189,Feuil2!$F$10:$P$28,9),IF(AND(J189>=1947,J189<1952),VLOOKUP(K189,Feuil2!$F$10:$P$28,8),IF(AND(J189>=1952,J189<1957),VLOOKUP(K189,Feuil2!$F$10:$P$28,7),IF(AND(J189>=1957,J189<1962),VLOOKUP(K189,Feuil2!$F$10:$P$28,6),IF(AND(J189>=1962,J189<1967),VLOOKUP(K189,Feuil2!$F$10:$P$28,5),IF(AND(J189>=1967,J189<1972),VLOOKUP(K189,Feuil2!$F$10:$P$28,4),IF(AND(J189>=1972,J189<1977),VLOOKUP(K189,Feuil2!$F$10:$P$28,3),IF(AND(J189>=1977,J189<1982),VLOOKUP(K189,Feuil2!$F$10:$P$28,2),VLOOKUP(K189,Feuil2!$F$10:$P$28,2))))))))))))","v":{"$error":"#N/A"}},null,{"$f":"T189-HLOOKUP(Y189,Feuil2!$C$1:$CD$9,2,FALSE)","v":{"$error":"#VALUE!"}},{"$f":"T189-HLOOKUP(Y189,Feuil2!$C$1:$CD$9,3,FALSE)","v":{"$error":"#VALUE!"}},{"$f":"T189-HLOOKUP(Y189,Feuil2!$C$1:$CD$9,4,FALSE)","v":{"$error":"#VALUE!"}},{"$f":"T189-HLOOKUP(Y189,Feuil2!$C$1:$CD$9,5,FALSE)","v":{"$error":"#VALUE!"}},{"$f":"T189-HLOOKUP(Y189,Feuil2!$C$1:$CD$9,6,FALSE)","v":{"$error":"#VALUE!"}},{"$f":"T189-HLOOKUP(Y189,Feuil2!$C$1:$CD$9,7,FALSE)","v":{"$error":"#VALUE!"}},{"$f":"T189-HLOOKUP(Y189,Feuil2!$C$1:$CD$9,8,FALSE)","v":{"$error":"#VALUE!"}},{"$f":"T189-HLOOKUP(Y189,Feuil2!$C$1:$CD$9,9,FALSE)","v":{"$error":"#VALUE!"}},null,null,null,null,null,null,null,{"$error":"#VALUE!"},2016,null,{"$f":"IF(AQ189,VLOOKUP(AQ189,HOM!$AS$561:$AT$616,2))","v":3.5710000000000002}]
["H",null,null,null,null,null,null,null,null,null,null,null,null,null,"",null,null,null,"","","","","",{"$error":"#N/A"},{"$f":"IF(AND(J190<1920),VLOOKUP(K190,Feuil2!$F$10:$P$28,11),IF(AND(J190>=1920,J190<1937),VLOOKUP(K190,Feuil2!$F$10:$P$28,11),IF(AND(J190>=1936,J190<1942),VLOOKUP(K190,Feuil2!$F$10:$P$28,10),IF(AND(J190>=1942,J190<1947),VLOOKUP(K190,Feuil2!$F$10:$P$28,9),IF(AND(J190>=1947,J190<1952),VLOOKUP(K190,Feuil2!$F$10:$P$28,8),IF(AND(J190>=1952,J190<1957),VLOOKUP(K190,Feuil2!$F$10:$P$28,7),IF(AND(J190>=1957,J190<1962),VLOOKUP(K190,Feuil2!$F$10:$P$28,6),IF(AND(J190>=1962,J190<1967),VLOOKUP(K190,Feuil2!$F$10:$P$28,5),IF(AND(J190>=1967,J190<1972),VLOOKUP(K190,Feuil2!$F$10:$P$28,4),IF(AND(J190>=1972,J190<1977),VLOOKUP(K190,Feuil2!$F$10:$P$28,3),IF(AND(J190>=1977,J190<1982),VLOOKUP(K190,Feuil2!$F$10:$P$28,2),VLOOKUP(K190,Feuil2!$F$10:$P$28,2))))))))))))","v":{"$error":"#N/A"}},null,{"$f":"T190-HLOOKUP(Y190,Feuil2!$C$1:$CD$9,2,FALSE)","v":{"$error":"#VALUE!"}},{"$f":"T190-HLOOKUP(Y190,Feuil2!$C$1:$CD$9,3,FALSE)","v":{"$error":"#VALUE!"}},{"$f":"T190-HLOOKUP(Y190,Feuil2!$C$1:$CD$9,4,FALSE)","v":{"$error":"#VALUE!"}},{"$f":"T190-HLOOKUP(Y190,Feuil2!$C$1:$CD$9,5,FALSE)","v":{"$error":"#VALUE!"}},{"$f":"T190-HLOOKUP(Y190,Feuil2!$C$1:$CD$9,6,FALSE)","v":{"$error":"#VALUE!"}},{"$f":"T190-HLOOKUP(Y190,Feuil2!$C$1:$CD$9,7,FALSE)","v":{"$error":"#VALUE!"}},{"$f":"T190-HLOOKUP(Y190,Feuil2!$C$1:$CD$9,8,FALSE)","v":{"$error":"#VALUE!"}},{"$f":"T190-HLOOKUP(Y190,Feuil2!$C$1:$CD$9,9,FALSE)","v":{"$error":"#VALUE!"}},null,null,null,null,null,null,null,{"$error":"#VALUE!"},2016,null,{"$f":"IF(AQ190,VLOOKUP(AQ190,HOM!$AS$561:$AT$616,2))","v":3.5710000000000002}]
["H",null,null,null,null,null,null,null,null,null,null,null,null,null,"",null,null,null,"","","","","",{"$error":"#N/A"},{"$f":"IF(AND(J191<1920),VLOOKUP(K191,Feuil2!$F$10:$P$28,11),IF(AND(J191>=1920,J191<1937),VLOOKUP(K191,Feuil2!$F$10:$P$28,11),IF(AND(J191>=1936,J191<1942),VLOOKUP(K191,Feuil2!$F$10:$P$28,10),IF(AND(J191>=1942,J191<1947),VLOOKUP(K191,Feuil2!$F$10:$P$28,9),IF(AND(J191>=1947,J191<1952),VLOOKUP(K191,Feuil2!$F$10:$P$28,8),IF(AND(J191>=1952,J191<1957),VLOOKUP(K191,Feuil2!$F$10:$P$28,7),IF(AND(J191>=1957,J191<1962),VLOOKUP(K191,Feuil2!$F$10:$P$28,6),IF(AND(J191>=1962,J191<1967),VLOOKUP(K191,Feuil2!$F$10:$P$28,5),IF(AND(J191>=1967,J191<1972),VLOOKUP(K191,Feuil2!$F$10:$P$28,4),IF(AND(J191>=1972,J191<1977),VLOOKUP(K191,Feuil2!$F$10:$P$28,3),IF(AND(J191>=1977,J191<1982),VLOOKUP(K191,Feuil2!$F$10:$P$28,2),VLOOKUP(K191,Feuil2!$F$10:$P$28,2))))))))))))","v":{"$error":"#N/A"}},null,{"$f":"T191-HLOOKUP(Y191,Feuil2!$C$1:$CD$9,2,FALSE)","v":{"$error":"#VALUE!"}},{"$f":"T191-HLOOKUP(Y191,Feuil2!$C$1:$CD$9,3,FALSE)","v":{"$error":"#VALUE!"}},{"$f":"T191-HLOOKUP(Y191,Feuil2!$C$1:$CD$9,4,FALSE)","v":{"$error":"#VALUE!"}},{"$f":"T191-HLOOKUP(Y191,Feuil2!$C$1:$CD$9,5,FALSE)","v":{"$error":"#VALUE!"}},{"$f":"T191-HLOOKUP(Y191,Feuil2!$C$1:$CD$9,6,FALSE)","v":{"$error":"#VALUE!"}},{"$f":"T191-HLOOKUP(Y191,Feuil2!$C$1:$CD$9,7,FALSE)","v":{"$error":"#VALUE!"}},{"$f":"T191-HLOOKUP(Y191,Feuil2!$C$1:$CD$9,8,FALSE)","v":{"$error":"#VALUE!"}},{"$f":"T191-HLOOKUP(Y191,Feuil2!$C$1:$CD$9,9,FALSE)","v":{"$error":"#VALUE!"}},null,null,null,null,null,null,null,{"$error":"#VALUE!"},2016,null,{"$f":"IF(AQ191,VLOOKUP(AQ191,HOM!$AS$561:$AT$616,2))","v":3.5710000000000002}]
["H",null,null,null,null,null,null,null,null,null,null,null,null,null,"",null,null,null,"","","",{"$f":"IF(K192=\"\",\"\",AP192)","v":""},{"$f":"IF(K192=\"\",\"\",IF(AH192>=0,AH192,IF(AG192>=0,AG192,IF(AF192>=0,AF192,IF(AE192>=0,AE192,IF(AD192>=0,AD192,IF(AC192>=0,AC192,IF(AB192>=0,AB192,AA192))))))))","v":""},{"$error":"#N/A"},{"$f":"IF(AND(J192<1920),VLOOKUP(K192,Feuil2!$F$10:$P$28,11),IF(AND(J192>=1920,J192<1937),VLOOKUP(K192,Feuil2!$F$10:$P$28,11),IF(AND(J192>=1936,J192<1942),VLOOKUP(K192,Feuil2!$F$10:$P$28,10),IF(AND(J192>=1942,J192<1947),VLOOKUP(K192,Feuil2!$F$10:$P$28,9),IF(AND(J192>=1947,J192<1952),VLOOKUP(K192,Feuil2!$F$10:$P$28,8),IF(AND(J192>=1952,J192<1957),VLOOKUP(K192,Feuil2!$F$10:$P$28,7),IF(AND(J192>=1957,J192<1962),VLOOKUP(K192,Feuil2!$F$10:$P$28,6),IF(AND(J192>=1962,J192<1967),VLOOKUP(K192,Feuil2!$F$10:$P$28,5),IF(AND(J192>=1967,J192<1972),VLOOKUP(K192,Feuil2!$F$10:$P$28,4),IF(AND(J192>=1972,J192<1977),VLOOKUP(K192,Feuil2!$F$10:$P$28,3),IF(AND(J192>=1977,J192<1982),VLOOKUP(K192,Feuil2!$F$10:$P$28,2),VLOOKUP(K192,Feuil2!$F$10:$P$28,2))))))))))))","v":{"$error":"#N/A"}},null,{"$f":"T192-HLOOKUP(Y192,Feuil2!$C$1:$CD$9,2,FALSE)","v":{"$error":"#VALUE!"}},{"$f":"T192-HLOOKUP(Y192,Feuil2!$C$1:$CD$9,3,FALSE)","v":{"$error":"#VALUE!"}},{"$f":"T192-HLOOKUP(Y192,Feuil2!$C$1:$CD$9,4,FALSE)","v":{"$error":"#VALUE!"}},{"$f":"T192-HLOOKUP(Y192,Feuil2!$C$1:$CD$9,5,FALSE)","v":{"$error":"#VALUE!"}},{"$f":"T192-HLOOKUP(Y192,Feuil2!$C$1:$CD$9,6,FALSE)","v":{"$error":"#VALUE!"}},{"$f":"T192-HLOOKUP(Y192,Feuil2!$C$1:$CD$9,7,FALSE)","v":{"$error":"#VALUE!"}},{"$f":"T192-HLOOKUP(Y192,Feuil2!$C$1:$CD$9,8,FALSE)","v":{"$error":"#VALUE!"}},{"$f":"T192-HLOOKUP(Y192,Feuil2!$C$1:$CD$9,9,FALSE)","v":{"$error":"#VALUE!"}},null,null,null,null,null,null,null,{"$f":"IF(AH192>=0,$AH$4,IF(AG192>=0,$AG$4,IF(AF192>=0,$AF$4,IF(AE192>=0,$AE$4,IF(AD192>=0,$AD$4,IF(AC192>=0,$AC$4,IF(AB192>=0,$AB$4,IF(AA192>=0,$AA$4,$AI$4))))))))","v":{"$error":"#VALUE!"}},2016,null,{"$f":"IF(AQ192,VLOOKUP(AQ192,HOM!$AS$561:$AT$616,2))","v":3.5710000000000002}]
["H",null,null,null,null,null,null,null,null,null,null,null,null,null,"",null,null,null,"","","","","",{"$error":"#N/A"},{"$f":"IF(AND(J193<1920),VLOOKUP(K193,Feuil2!$F$10:$P$28,11),IF(AND(J193>=1920,J193<1937),VLOOKUP(K193,Feuil2!$F$10:$P$28,11),IF(AND(J193>=1936,J193<1942),VLOOKUP(K193,Feuil2!$F$10:$P$28,10),IF(AND(J193>=1942,J193<1947),VLOOKUP(K193,Feuil2!$F$10:$P$28,9),IF(AND(J193>=1947,J193<1952),VLOOKUP(K193,Feuil2!$F$10:$P$28,8),IF(AND(J193>=1952,J193<1957),VLOOKUP(K193,Feuil2!$F$10:$P$28,7),IF(AND(J193>=1957,J193<1962),VLOOKUP(K193,Feuil2!$F$10:$P$28,6),IF(AND(J193>=1962,J193<1967),VLOOKUP(K193,Feuil2!$F$10:$P$28,5),IF(AND(J193>=1967,J193<1972),VLOOKUP(K193,Feuil2!$F$10:$P$28,4),IF(AND(J193>=1972,J193<1977),VLOOKUP(K193,Feuil2!$F$10:$P$28,3),IF(AND(J193>=1977,J193<1982),VLOOKUP(K193,Feuil2!$F$10:$P$28,2),VLOOKUP(K193,Feuil2!$F$10:$P$28,2))))))))))))","v":{"$error":"#N/A"}},null,{"$f":"T193-HLOOKUP(Y193,Feuil2!$C$1:$CD$9,2,FALSE)","v":{"$error":"#VALUE!"}},{"$f":"T193-HLOOKUP(Y193,Feuil2!$C$1:$CD$9,3,FALSE)","v":{"$error":"#VALUE!"}},{"$f":"T193-HLOOKUP(Y193,Feuil2!$C$1:$CD$9,4,FALSE)","v":{"$error":"#VALUE!"}},{"$f":"T193-HLOOKUP(Y193,Feuil2!$C$1:$CD$9,5,FALSE)","v":{"$error":"#VALUE!"}},{"$f":"T193-HLOOKUP(Y193,Feuil2!$C$1:$CD$9,6,FALSE)","v":{"$error":"#VALUE!"}},{"$f":"T193-HLOOKUP(Y193,Feuil2!$C$1:$CD$9,7,FALSE)","v":{"$error":"#VALUE!"}},{"$f":"T193-HLOOKUP(Y193,Feuil2!$C$1:$CD$9,8,FALSE)","v":{"$error":"#VALUE!"}},{"$f":"T193-HLOOKUP(Y193,Feuil2!$C$1:$CD$9,9,FALSE)","v":{"$error":"#VALUE!"}},null,null,null,null,null,null,null,{"$error":"#VALUE!"},2016,null,{"$f":"IF(AQ193,VLOOKUP(AQ193,HOM!$AS$561:$AT$616,2))","v":3.5710000000000002}]
["H",null,null,null,null,null,null,null,null,null,null,null,null,null,"",null,null,null,"","","","","",{"$error":"#N/A"},{"$f":"IF(AND(J194<1920),VLOOKUP(K194,Feuil2!$F$10:$P$28,11),IF(AND(J194>=1920,J194<1937),VLOOKUP(K194,Feuil2!$F$10:$P$28,11),IF(AND(J194>=1936,J194<1942),VLOOKUP(K194,Feuil2!$F$10:$P$28,10),IF(AND(J194>=1942,J194<1947),VLOOKUP(K194,Feuil2!$F$10:$P$28,9),IF(AND(J194>=1947,J194<1952),VLOOKUP(K194,Feuil2!$F$10:$P$28,8),IF(AND(J194>=1952,J194<1957),VLOOKUP(K194,Feuil2!$F$10:$P$28,7),IF(AND(J194>=1957,J194<1962),VLOOKUP(K194,Feuil2!$F$10:$P$28,6),IF(AND(J194>=1962,J194<1967),VLOOKUP(K194,Feuil2!$F$10:$P$28,5),IF(AND(J194>=1967,J194<1972),VLOOKUP(K194,Feuil2!$F$10:$P$28,4),IF(AND(J194>=1972,J194<1977),VLOOKUP(K194,Feuil2!$F$10:$P$28,3),IF(AND(J194>=1977,J194<1982),VLOOKUP(K194,Feuil2!$F$10:$P$28,2),VLOOKUP(K194,Feuil2!$F$10:$P$28,2))))))))))))","v":{"$error":"#N/A"}},null,{"$f":"T194-HLOOKUP(Y194,Feuil2!$C$1:$CD$9,2,FALSE)","v":{"$error":"#VALUE!"}},{"$f":"T194-HLOOKUP(Y194,Feuil2!$C$1:$CD$9,3,FALSE)","v":{"$error":"#VALUE!"}},{"$f":"T194-HLOOKUP(Y194,Feuil2!$C$1:$CD$9,4,FALSE)","v":{"$error":"#VALUE!"}},{"$f":"T194-HLOOKUP(Y194,Feuil2!$C$1:$CD$9,5,FALSE)","v":{"$error":"#VALUE!"}},{"$f":"T194-HLOOKUP(Y194,Feuil2!$C$1:$CD$9,6,FALSE)","v":{"$error":"#VALUE!"}},{"$f":"T194-HLOOKUP(Y194,Feuil2!$C$1:$CD$9,7,FALSE)","v":{"$error":"#VALUE!"}},{"$f":"T194-HLOOKUP(Y194,Feuil2!$C$1:$CD$9,8,FALSE)","v":{"$error":"#VALUE!"}},{"$f":"T194-HLOOKUP(Y194,Feuil2!$C$1:$CD$9,9,FALSE)","v":{"$error":"#VALUE!"}},null,null,null,null,null,null,null,{"$error":"#VALUE!"},2016,null,{"$f":"IF(AQ194,VLOOKUP(AQ194,HOM!$AS$561:$AT$616,2))","v":3.5710000000000002}]
["H",null,null,null,null,null,null,null,null,null,null,null,null,null,{"$f":"IF(K195=\"\",\"\",IF(MAXA(L195:N195)<=0,0,MAXA(L195:N195)))","v":""},null,null,null,{"$f":"IF(K195=\"\",\"\",IF(MAXA(P195:R195)<=0,0,MAXA(P195:R195)))","v":""},{"$f":"IF(K195=\"\",\"\",IF(OR(O195=0,S195=0),0,O195+S195))","v":""},"","","",{"$f":"IF(BI195<95,IF(BI195<=90,VLOOKUP(BI195,$AQ$554:$AR$609,2)))","v":{"$error":"#N/A"}},{"$f":"IF(AND(J195<1920),VLOOKUP(K195,Feuil2!$F$10:$P$28,11),IF(AND(J195>=1920,J195<1937),VLOOKUP(K195,Feuil2!$F$10:$P$28,11),IF(AND(J195>=1936,J195<1942),VLOOKUP(K195,Feuil2!$F$10:$P$28,10),IF(AND(J195>=1942,J195<1947),VLOOKUP(K195,Feuil2!$F$10:$P$28,9),IF(AND(J195>=1947,J195<1952),VLOOKUP(K195,Feuil2!$F$10:$P$28,8),IF(AND(J195>=1952,J195<1957),VLOOKUP(K195,Feuil2!$F$10:$P$28,7),IF(AND(J195>=1957,J195<1962),VLOOKUP(K195,Feuil2!$F$10:$P$28,6),IF(AND(J195>=1962,J195<1967),VLOOKUP(K195,Feuil2!$F$10:$P$28,5),IF(AND(J195>=1967,J195<1972),VLOOKUP(K195,Feuil2!$F$10:$P$28,4),IF(AND(J195>=1972,J195<1977),VLOOKUP(K195,Feuil2!$F$10:$P$28,3),IF(AND(J195>=1977,J195<1982),VLOOKUP(K195,Feuil2!$F$10:$P$28,2),VLOOKUP(K195,Feuil2!$F$10:$P$28,2))))))))))))","v":{"$error":"#N/A"}},null,{"$f":"T195-HLOOKUP(Y195,Feuil2!$C$1:$CD$9,2,FALSE)","v":{"$error":"#VALUE!"}},{"$f":"T195-HLOOKUP(Y195,Feuil2!$C$1:$CD$9,3,FALSE)","v":{"$error":"#VALUE!"}},{"$f":"T195-HLOOKUP(Y195,Feuil2!$C$1:$CD$9,4,FALSE)","v":{"$error":"#VALUE!"}},{"$f":"T195-HLOOKUP(Y195,Feuil2!$C$1:$CD$9,5,FALSE)","v":{"$error":"#VALUE!"}},{"$f":"T195-HLOOKUP(Y195,Feuil2!$C$1:$CD$9,6,FALSE)","v":{"$error":"#VALUE!"}},{"$f":"T195-HLOOKUP(Y195,Feuil2!$C$1:$CD$9,7,FALSE)","v":{"$error":"#VALUE!"}},{"$f":"T195-HLOOKUP(Y195,Feuil2!$C$1:$CD$9,8,FALSE)","v":{"$error":"#VALUE!"}},{"$f":"T195-HLOOKUP(Y195,Feuil2!$C$1:$CD$9,9,FALSE)","v":{"$error":"#VALUE!"}},null,null,null,null,null,null,null,{"$error":"#VALUE!"},2016,null,{"$f":"IF(AQ195,VLOOKUP(AQ195,HOM!$AS$561:$AT$616,2))","v":3.5710000000000002}]
["H",null,null,null,null,null,null,null,null,null,null,null,null,null,"",null,null,null,"","","","","",{"$error":"#N/A"},{"$f":"IF(AND(J196<1920),VLOOKUP(K196,Feuil2!$F$10:$P$28,11),IF(AND(J196>=1920,J196<1937),VLOOKUP(K196,Feuil2!$F$10:$P$28,11),IF(AND(J196>=1936,J196<1942),VLOOKUP(K196,Feuil2!$F$10:$P$28,10),IF(AND(J196>=1942,J196<1947),VLOOKUP(K196,Feuil2!$F$10:$P$28,9),IF(AND(J196>=1947,J196<1952),VLOOKUP(K196,Feuil2!$F$10:$P$28,8),IF(AND(J196>=1952,J196<1957),VLOOKUP(K196,Feuil2!$F$10:$P$28,7),IF(AND(J196>=1957,J196<1962),VLOOKUP(K196,Feuil2!$F$10:$P$28,6),IF(AND(J196>=1962,J196<1967),VLOOKUP(K196,Feuil2!$F$10:$P$28,5),IF(AND(J196>=1967,J196<1972),VLOOKUP(K196,Feuil2!$F$10:$P$28,4),IF(AND(J196>=1972,J196<1977),VLOOKUP(K196,Feuil2!$F$10:$P$28,3),IF(AND(J196>=1977,J196<1982),VLOOKUP(K196,Feuil2!$F$10:$P$28,2),VLOOKUP(K196,Feuil2!$F$10:$P$28,2))))))))))))","v":{"$error":"#N/A"}},null,{"$f":"T196-HLOOKUP(Y196,Feuil2!$C$1:$CD$9,2,FALSE)","v":{"$error":"#VALUE!"}},{"$f":"T196-HLOOKUP(Y196,Feuil2!$C$1:$CD$9,3,FALSE)","v":{"$error":"#VALUE!"}},{"$f":"T196-HLOOKUP(Y196,Feuil2!$C$1:$CD$9,4,FALSE)","v":{"$error":"#VALUE!"}},{"$f":"T196-HLOOKUP(Y196,Feuil2!$C$1:$CD$9,5,FALSE)","v":{"$error":"#VALUE!"}},{"$f":"T196-HLOOKUP(Y196,Feuil2!$C$1:$CD$9,6,FALSE)","v":{"$error":"#VALUE!"}},{"$f":"T196-HLOOKUP(Y196,Feuil2!$C$1:$CD$9,7,FALSE)","v":{"$error":"#VALUE!"}},{"$f":"T196-HLOOKUP(Y196,Feuil2!$C$1:$CD$9,8,FALSE)","v":{"$error":"#VALUE!"}},{"$f":"T196-HLOOKUP(Y196,Feuil2!$C$1:$CD$9,9,FALSE)","v":{"$error":"#VALUE!"}},null,null,null,null,null,null,null,{"$error":"#VALUE!"},2016,null,{"$f":"IF(AQ196,VLOOKUP(AQ196,HOM!$AS$561:$AT$616,2))","v":3.5710000000000002}]
["H",null,null,null,null,null,null,null,null,null,null,null,null,null,"",null,null,null,"","","","","",{"$error":"#N/A"},{"$f":"IF(AND(J197<1920),VLOOKUP(K197,Feuil2!$F$10:$P$28,11),IF(AND(J197>=1920,J197<1937),VLOOKUP(K197,Feuil2!$F$10:$P$28,11),IF(AND(J197>=1936,J197<1942),VLOOKUP(K197,Feuil2!$F$10:$P$28,10),IF(AND(J197>=1942,J197<1947),VLOOKUP(K197,Feuil2!$F$10:$P$28,9),IF(AND(J197>=1947,J197<1952),VLOOKUP(K197,Feuil2!$F$10:$P$28,8),IF(AND(J197>=1952,J197<1957),VLOOKUP(K197,Feuil2!$F$10:$P$28,7),IF(AND(J197>=1957,J197<1962),VLOOKUP(K197,Feuil2!$F$10:$P$28,6),IF(AND(J197>=1962,J197<1967),VLOOKUP(K197,Feuil2!$F$10:$P$28,5),IF(AND(J197>=1967,J197<1972),VLOOKUP(K197,Feuil2!$F$10:$P$28,4),IF(AND(J197>=1972,J197<1977),VLOOKUP(K197,Feuil2!$F$10:$P$28,3),IF(AND(J197>=1977,J197<1982),VLOOKUP(K197,Feuil2!$F$10:$P$28,2),VLOOKUP(K197,Feuil2!$F$10:$P$28,2))))))))))))","v":{"$error":"#N/A"}},null,{"$f":"T197-HLOOKUP(Y197,Feuil2!$C$1:$CD$9,2,FALSE)","v":{"$error":"#VALUE!"}},{"$f":"T197-HLOOKUP(Y197,Feuil2!$C$1:$CD$9,3,FALSE)","v":{"$error":"#VALUE!"}},{"$f":"T197-HLOOKUP(Y197,Feuil2!$C$1:$CD$9,4,FALSE)","v":{"$error":"#VALUE!"}},{"$f":"T197-HLOOKUP(Y197,Feuil2!$C$1:$CD$9,5,FALSE)","v":{"$error":"#VALUE!"}},{"$f":"T197-HLOOKUP(Y197,Feuil2!$C$1:$CD$9,6,FALSE)","v":{"$error":"#VALUE!"}},{"$f":"T197-HLOOKUP(Y197,Feuil2!$C$1:$CD$9,7,FALSE)","v":{"$error":"#VALUE!"}},{"$f":"T197-HLOOKUP(Y197,Feuil2!$C$1:$CD$9,8,FALSE)","v":{"$error":"#VALUE!"}},{"$f":"T197-HLOOKUP(Y197,Feuil2!$C$1:$CD$9,9,FALSE)","v":{"$error":"#VALUE!"}},null,null,null,null,null,null,null,{"$error":"#VALUE!"},2016,null,{"$f":"IF(AQ197,VLOOKUP(AQ197,HOM!$AS$561:$AT$616,2))","v":3.5710000000000002}]
["H",null,null,null,null,null,null,null,null,null,null,null,null,null,"",null,null,null,"","","","","",{"$error":"#N/A"},{"$f":"IF(AND(J198<1920),VLOOKUP(K198,Feuil2!$F$10:$P$28,11),IF(AND(J198>=1920,J198<1937),VLOOKUP(K198,Feuil2!$F$10:$P$28,11),IF(AND(J198>=1936,J198<1942),VLOOKUP(K198,Feuil2!$F$10:$P$28,10),IF(AND(J198>=1942,J198<1947),VLOOKUP(K198,Feuil2!$F$10:$P$28,9),IF(AND(J198>=1947,J198<1952),VLOOKUP(K198,Feuil2!$F$10:$P$28,8),IF(AND(J198>=1952,J198<1957),VLOOKUP(K198,Feuil2!$F$10:$P$28,7),IF(AND(J198>=1957,J198<1962),VLOOKUP(K198,Feuil2!$F$10:$P$28,6),IF(AND(J198>=1962,J198<1967),VLOOKUP(K198,Feuil2!$F$10:$P$28,5),IF(AND(J198>=1967,J198<1972),VLOOKUP(K198,Feuil2!$F$10:$P$28,4),IF(AND(J198>=1972,J198<1977),VLOOKUP(K198,Feuil2!$F$10:$P$28,3),IF(AND(J198>=1977,J198<1982),VLOOKUP(K198,Feuil2!$F$10:$P$28,2),VLOOKUP(K198,Feuil2!$F$10:$P$28,2))))))))))))","v":{"$error":"#N/A"}},null,{"$f":"T198-HLOOKUP(Y198,Feuil2!$C$1:$CD$9,2,FALSE)","v":{"$error":"#VALUE!"}},{"$f":"T198-HLOOKUP(Y198,Feuil2!$C$1:$CD$9,3,FALSE)","v":{"$error":"#VALUE!"}},{"$f":"T198-HLOOKUP(Y198,Feuil2!$C$1:$CD$9,4,FALSE)","v":{"$error":"#VALUE!"}},{"$f":"T198-HLOOKUP(Y198,Feuil2!$C$1:$CD$9,5,FALSE)","v":{"$error":"#VALUE!"}},{"$f":"T198-HLOOKUP(Y198,Feuil2!$C$1:$CD$9,6,FALSE)","v":{"$error":"#VALUE!"}},{"$f":"T198-HLOOKUP(Y198,Feuil2!$C$1:$CD$9,7,FALSE)","v":{"$error":"#VALUE!"}},{"$f":"T198-HLOOKUP(Y198,Feuil2!$C$1:$CD$9,8,FALSE)","v":{"$error":"#VALUE!"}},{"$f":"T198-HLOOKUP(Y198,Feuil2!$C$1:$CD$9,9,FALSE)","v":{"$error":"#VALUE!"}},null,null,null,null,null,null,null,{"$error":"#VALUE!"},2016,null,{"$f":"IF(AQ198,VLOOKUP(AQ198,HOM!$AS$561:$AT$616,2))","v":3.5710000000000002}]
["H",null,null,null,null,null,null,null,null,null,null,null,null,null,"",null,null,null,"","","","","",{"$error":"#N/A"},{"$f":"IF(AND(J199<1920),VLOOKUP(K199,Feuil2!$F$10:$P$28,11),IF(AND(J199>=1920,J199<1937),VLOOKUP(K199,Feuil2!$F$10:$P$28,11),IF(AND(J199>=1936,J199<1942),VLOOKUP(K199,Feuil2!$F$10:$P$28,10),IF(AND(J199>=1942,J199<1947),VLOOKUP(K199,Feuil2!$F$10:$P$28,9),IF(AND(J199>=1947,J199<1952),VLOOKUP(K199,Feuil2!$F$10:$P$28,8),IF(AND(J199>=1952,J199<1957),VLOOKUP(K199,Feuil2!$F$10:$P$28,7),IF(AND(J199>=1957,J199<1962),VLOOKUP(K199,Feuil2!$F$10:$P$28,6),IF(AND(J199>=1962,J199<1967),VLOOKUP(K199,Feuil2!$F$10:$P$28,5),IF(AND(J199>=1967,J199<1972),VLOOKUP(K199,Feuil2!$F$10:$P$28,4),IF(AND(J199>=1972,J199<1977),VLOOKUP(K199,Feuil2!$F$10:$P$28,3),IF(AND(J199>=1977,J199<1982),VLOOKUP(K199,Feuil2!$F$10:$P$28,2),VLOOKUP(K199,Feuil2!$F$10:$P$28,2))))))))))))","v":{"$error":"#N/A"}},null,{"$f":"T199-HLOOKUP(Y199,Feuil2!$C$1:$CD$9,2,FALSE)","v":{"$error":"#VALUE!"}},{"$f":"T199-HLOOKUP(Y199,Feuil2!$C$1:$CD$9,3,FALSE)","v":{"$error":"#VALUE!"}},{"$f":"T199-HLOOKUP(Y199,Feuil2!$C$1:$CD$9,4,FALSE)","v":{"$error":"#VALUE!"}},{"$f":"T199-HLOOKUP(Y199,Feuil2!$C$1:$CD$9,5,FALSE)","v":{"$error":"#VALUE!"}},{"$f":"T199-HLOOKUP(Y199,Feuil2!$C$1:$CD$9,6,FALSE)","v":{"$error":"#VALUE!"}},{"$f":"T199-HLOOKUP(Y199,Feuil2!$C$1:$CD$9,7,FALSE)","v":{"$error":"#VALUE!"}},{"$f":"T199-HLOOKUP(Y199,Feuil2!$C$1:$CD$9,8,FALSE)","v":{"$error":"#VALUE!"}},{"$f":"T199-HLOOKUP(Y199,Feuil2!$C$1:$CD$9,9,FALSE)","v":{"$error":"#VALUE!"}},null,null,null,null,null,null,null,{"$error":"#VALUE!"},2016,null,{"$f":"IF(AQ199,VLOOKUP(AQ199,HOM!$AS$561:$AT$616,2))","v":3.5710000000000002}]
["H",null,null,null,null,null,null,null,null,null,null,null,null,null,"",null,null,null,"","","","","",{"$error":"#N/A"},{"$f":"IF(AND(J200<1920),VLOOKUP(K200,Feuil2!$F$10:$P$28,11),IF(AND(J200>=1920,J200<1937),VLOOKUP(K200,Feuil2!$F$10:$P$28,11),IF(AND(J200>=1936,J200<1942),VLOOKUP(K200,Feuil2!$F$10:$P$28,10),IF(AND(J200>=1942,J200<1947),VLOOKUP(K200,Feuil2!$F$10:$P$28,9),IF(AND(J200>=1947,J200<1952),VLOOKUP(K200,Feuil2!$F$10:$P$28,8),IF(AND(J200>=1952,J200<1957),VLOOKUP(K200,Feuil2!$F$10:$P$28,7),IF(AND(J200>=1957,J200<1962),VLOOKUP(K200,Feuil2!$F$10:$P$28,6),IF(AND(J200>=1962,J200<1967),VLOOKUP(K200,Feuil2!$F$10:$P$28,5),IF(AND(J200>=1967,J200<1972),VLOOKUP(K200,Feuil2!$F$10:$P$28,4),IF(AND(J200>=1972,J200<1977),VLOOKUP(K200,Feuil2!$F$10:$P$28,3),IF(AND(J200>=1977,J200<1982),VLOOKUP(K200,Feuil2!$F$10:$P$28,2),VLOOKUP(K200,Feuil2!$F$10:$P$28,2))))))))))))","v":{"$error":"#N/A"}},null,{"$f":"T200-HLOOKUP(Y200,Feuil2!$C$1:$CD$9,2,FALSE)","v":{"$error":"#VALUE!"}},{"$f":"T200-HLOOKUP(Y200,Feuil2!$C$1:$CD$9,3,FALSE)","v":{"$error":"#VALUE!"}},{"$f":"T200-HLOOKUP(Y200,Feuil2!$C$1:$CD$9,4,FALSE)","v":{"$error":"#VALUE!"}},{"$f":"T200-HLOOKUP(Y200,Feuil2!$C$1:$CD$9,5,FALSE)","v":{"$error":"#VALUE!"}},{"$f":"T200-HLOOKUP(Y200,Feuil2!$C$1:$CD$9,6,FALSE)","v":{"$error":"#VALUE!"}},{"$f":"T200-HLOOKUP(Y200,Feuil2!$C$1:$CD$9,7,FALSE)","v":{"$error":"#VALUE!"}},{"$f":"T200-HLOOKUP(Y200,Feuil2!$C$1:$CD$9,8,FALSE)","v":{"$error":"#VALUE!"}},{"$f":"T200-HLOOKUP(Y200,Feuil2!$C$1:$CD$9,9,FALSE)","v":{"$error":"#VALUE!"}},null,null,null,null,null,null,null,{"$error":"#VALUE!"},2016,null,{"$f":"IF(AQ200,VLOOKUP(AQ200,HOM!$AS$561:$AT$616,2))","v":3.5710000000000002}]
["H",null,null,null,null,null,null,null,null,null,null,null,null,null,"",null,null,null,"","","","","",{"$error":"#N/A"},{"$f":"IF(AND(J201<1920),VLOOKUP(K201,Feuil2!$F$10:$P$28,11),IF(AND(J201>=1920,J201<1937),VLOOKUP(K201,Feuil2!$F$10:$P$28,11),IF(AND(J201>=1936,J201<1942),VLOOKUP(K201,Feuil2!$F$10:$P$28,10),IF(AND(J201>=1942,J201<1947),VLOOKUP(K201,Feuil2!$F$10:$P$28,9),IF(AND(J201>=1947,J201<1952),VLOOKUP(K201,Feuil2!$F$10:$P$28,8),IF(AND(J201>=1952,J201<1957),VLOOKUP(K201,Feuil2!$F$10:$P$28,7),IF(AND(J201>=1957,J201<1962),VLOOKUP(K201,Feuil2!$F$10:$P$28,6),IF(AND(J201>=1962,J201<1967),VLOOKUP(K201,Feuil2!$F$10:$P$28,5),IF(AND(J201>=1967,J201<1972),VLOOKUP(K201,Feuil2!$F$10:$P$28,4),IF(AND(J201>=1972,J201<1977),VLOOKUP(K201,Feuil2!$F$10:$P$28,3),IF(AND(J201>=1977,J201<1982),VLOOKUP(K201,Feuil2!$F$10:$P$28,2),VLOOKUP(K201,Feuil2!$F$10:$P$28,2))))))))))))","v":{"$error":"#N/A"}},null,{"$f":"T201-HLOOKUP(Y201,Feuil2!$C$1:$CD$9,2,FALSE)","v":{"$error":"#VALUE!"}},{"$f":"T201-HLOOKUP(Y201,Feuil2!$C$1:$CD$9,3,FALSE)","v":{"$error":"#VALUE!"}},{"$f":"T201-HLOOKUP(Y201,Feuil2!$C$1:$CD$9,4,FALSE)","v":{"$error":"#VALUE!"}},{"$f":"T201-HLOOKUP(Y201,Feuil2!$C$1:$CD$9,5,FALSE)","v":{"$error":"#VALUE!"}},{"$f":"T201-HLOOKUP(Y201,Feuil2!$C$1:$CD$9,6,FALSE)","v":{"$error":"#VALUE!"}},{"$f":"T201-HLOOKUP(Y201,Feuil2!$C$1:$CD$9,7,FALSE)","v":{"$error":"#VALUE!"}},{"$f":"T201-HLOOKUP(Y201,Feuil2!$C$1:$CD$9,8,FALSE)","v":{"$error":"#VALUE!"}},{"$f":"T201-HLOOKUP(Y201,Feuil2!$C$1:$CD$9,9,FALSE)","v":{"$error":"#VALUE!"}},null,null,null,null,null,null,null,{"$error":"#VALUE!"},2016,null,{"$f":"IF(AQ201,VLOOKUP(AQ201,HOM!$AS$561:$AT$616,2))","v":3.5710000000000002}]
["H",null,null,null,null,null,null,null,null,null,null,null,null,null,"",null,null,null,"","","","","",{"$error":"#N/A"},{"$f":"IF(AND(J202<1920),VLOOKUP(K202,Feuil2!$F$10:$P$28,11),IF(AND(J202>=1920,J202<1937),VLOOKUP(K202,Feuil2!$F$10:$P$28,11),IF(AND(J202>=1936,J202<1942),VLOOKUP(K202,Feuil2!$F$10:$P$28,10),IF(AND(J202>=1942,J202<1947),VLOOKUP(K202,Feuil2!$F$10:$P$28,9),IF(AND(J202>=1947,J202<1952),VLOOKUP(K202,Feuil2!$F$10:$P$28,8),IF(AND(J202>=1952,J202<1957),VLOOKUP(K202,Feuil2!$F$10:$P$28,7),IF(AND(J202>=1957,J202<1962),VLOOKUP(K202,Feuil2!$F$10:$P$28,6),IF(AND(J202>=1962,J202<1967),VLOOKUP(K202,Feuil2!$F$10:$P$28,5),IF(AND(J202>=1967,J202<1972),VLOOKUP(K202,Feuil2!$F$10:$P$28,4),IF(AND(J202>=1972,J202<1977),VLOOKUP(K202,Feuil2!$F$10:$P$28,3),IF(AND(J202>=1977,J202<1982),VLOOKUP(K202,Feuil2!$F$10:$P$28,2),VLOOKUP(K202,Feuil2!$F$10:$P$28,2))))))))))))","v":{"$error":"#N/A"}},null,{"$f":"T202-HLOOKUP(Y202,Feuil2!$C$1:$CD$9,2,FALSE)","v":{"$error":"#VALUE!"}},{"$f":"T202-HLOOKUP(Y202,Feuil2!$C$1:$CD$9,3,FALSE)","v":{"$error":"#VALUE!"}},{"$f":"T202-HLOOKUP(Y202,Feuil2!$C$1:$CD$9,4,FALSE)","v":{"$error":"#VALUE!"}},{"$f":"T202-HLOOKUP(Y202,Feuil2!$C$1:$CD$9,5,FALSE)","v":{"$error":"#VALUE!"}},{"$f":"T202-HLOOKUP(Y202,Feuil2!$C$1:$CD$9,6,FALSE)","v":{"$error":"#VALUE!"}},{"$f":"T202-HLOOKUP(Y202,Feuil2!$C$1:$CD$9,7,FALSE)","v":{"$error":"#VALUE!"}},{"$f":"T202-HLOOKUP(Y202,Feuil2!$C$1:$CD$9,8,FALSE)","v":{"$error":"#VALUE!"}},{"$f":"T202-HLOOKUP(Y202,Feuil2!$C$1:$CD$9,9,FALSE)","v":{"$error":"#VALUE!"}},null,null,null,null,null,null,null,{"$error":"#VALUE!"},2016,null,{"$f":"IF(AQ202,VLOOKUP(AQ202,HOM!$AS$561:$AT$616,2))","v":3.5710000000000002}]
["H",null,null,null,null,null,null,null,null,null,null,null,null,null,"",null,null,null,"","","","","",{"$error":"#N/A"},{"$f":"IF(AND(J203<1920),VLOOKUP(K203,Feuil2!$F$10:$P$28,11),IF(AND(J203>=1920,J203<1937),VLOOKUP(K203,Feuil2!$F$10:$P$28,11),IF(AND(J203>=1936,J203<1942),VLOOKUP(K203,Feuil2!$F$10:$P$28,10),IF(AND(J203>=1942,J203<1947),VLOOKUP(K203,Feuil2!$F$10:$P$28,9),IF(AND(J203>=1947,J203<1952),VLOOKUP(K203,Feuil2!$F$10:$P$28,8),IF(AND(J203>=1952,J203<1957),VLOOKUP(K203,Feuil2!$F$10:$P$28,7),IF(AND(J203>=1957,J203<1962),VLOOKUP(K203,Feuil2!$F$10:$P$28,6),IF(AND(J203>=1962,J203<1967),VLOOKUP(K203,Feuil2!$F$10:$P$28,5),IF(AND(J203>=1967,J203<1972),VLOOKUP(K203,Feuil2!$F$10:$P$28,4),IF(AND(J203>=1972,J203<1977),VLOOKUP(K203,Feuil2!$F$10:$P$28,3),IF(AND(J203>=1977,J203<1982),VLOOKUP(K203,Feuil2!$F$10:$P$28,2),VLOOKUP(K203,Feuil2!$F$10:$P$28,2))))))))))))","v":{"$error":"#N/A"}},null,{"$f":"T203-HLOOKUP(Y203,Feuil2!$C$1:$CD$9,2,FALSE)","v":{"$error":"#VALUE!"}},{"$f":"T203-HLOOKUP(Y203,Feuil2!$C$1:$CD$9,3,FALSE)","v":{"$error":"#VALUE!"}},{"$f":"T203-HLOOKUP(Y203,Feuil2!$C$1:$CD$9,4,FALSE)","v":{"$error":"#VALUE!"}},{"$f":"T203-HLOOKUP(Y203,Feuil2!$C$1:$CD$9,5,FALSE)","v":{"$error":"#VALUE!"}},{"$f":"T203-HLOOKUP(Y203,Feuil2!$C$1:$CD$9,6,FALSE)","v":{"$error":"#VALUE!"}},{"$f":"T203-HLOOKUP(Y203,Feuil2!$C$1:$CD$9,7,FALSE)","v":{"$error":"#VALUE!"}},{"$f":"T203-HLOOKUP(Y203,Feuil2!$C$1:$CD$9,8,FALSE)","v":{"$error":"#VALUE!"}},{"$f":"T203-HLOOKUP(Y203,Feuil2!$C$1:$CD$9,9,FALSE)","v":{"$error":"#VALUE!"}},null,null,null,null,null,null,null,{"$error":"#VALUE!"},2016,null,{"$f":"IF(AQ203,VLOOKUP(AQ203,HOM!$AS$561:$AT$616,2))","v":3.5710000000000002}]
["H",null,null,null,null,null,null,null,null,null,null,null,null,null,"",null,null,null,"","","","","",{"$error":"#N/A"},{"$f":"IF(AND(J204<1920),VLOOKUP(K204,Feuil2!$F$10:$P$28,11),IF(AND(J204>=1920,J204<1937),VLOOKUP(K204,Feuil2!$F$10:$P$28,11),IF(AND(J204>=1936,J204<1942),VLOOKUP(K204,Feuil2!$F$10:$P$28,10),IF(AND(J204>=1942,J204<1947),VLOOKUP(K204,Feuil2!$F$10:$P$28,9),IF(AND(J204>=1947,J204<1952),VLOOKUP(K204,Feuil2!$F$10:$P$28,8),IF(AND(J204>=1952,J204<1957),VLOOKUP(K204,Feuil2!$F$10:$P$28,7),IF(AND(J204>=1957,J204<1962),VLOOKUP(K204,Feuil2!$F$10:$P$28,6),IF(AND(J204>=1962,J204<1967),VLOOKUP(K204,Feuil2!$F$10:$P$28,5),IF(AND(J204>=1967,J204<1972),VLOOKUP(K204,Feuil2!$F$10:$P$28,4),IF(AND(J204>=1972,J204<1977),VLOOKUP(K204,Feuil2!$F$10:$P$28,3),IF(AND(J204>=1977,J204<1982),VLOOKUP(K204,Feuil2!$F$10:$P$28,2),VLOOKUP(K204,Feuil2!$F$10:$P$28,2))))))))))))","v":{"$error":"#N/A"}},null,{"$f":"T204-HLOOKUP(Y204,Feuil2!$C$1:$CD$9,2,FALSE)","v":{"$error":"#VALUE!"}},{"$f":"T204-HLOOKUP(Y204,Feuil2!$C$1:$CD$9,3,FALSE)","v":{"$error":"#VALUE!"}},{"$f":"T204-HLOOKUP(Y204,Feuil2!$C$1:$CD$9,4,FALSE)","v":{"$error":"#VALUE!"}},{"$f":"T204-HLOOKUP(Y204,Feuil2!$C$1:$CD$9,5,FALSE)","v":{"$error":"#VALUE!"}},{"$f":"T204-HLOOKUP(Y204,Feuil2!$C$1:$CD$9,6,FALSE)","v":{"$error":"#VALUE!"}},{"$f":"T204-HLOOKUP(Y204,Feuil2!$C$1:$CD$9,7,FALSE)","v":{"$error":"#VALUE!"}},{"$f":"T204-HLOOKUP(Y204,Feuil2!$C$1:$CD$9,8,FALSE)","v":{"$error":"#VALUE!"}},{"$f":"T204-HLOOKUP(Y204,Feuil2!$C$1:$CD$9,9,FALSE)","v":{"$error":"#VALUE!"}},null,null,null,null,null,null,null,{"$error":"#VALUE!"},2016,null,{"$f":"IF(AQ204,VLOOKUP(AQ204,HOM!$AS$561:$AT$616,2))","v":3.5710000000000002}]
["H",null,null,null,null,null,null,null,null,null,null,null,null,null,"",null,null,null,"","","","","",{"$error":"#N/A"},{"$f":"IF(AND(J205<1920),VLOOKUP(K205,Feuil2!$F$10:$P$28,11),IF(AND(J205>=1920,J205<1937),VLOOKUP(K205,Feuil2!$F$10:$P$28,11),IF(AND(J205>=1936,J205<1942),VLOOKUP(K205,Feuil2!$F$10:$P$28,10),IF(AND(J205>=1942,J205<1947),VLOOKUP(K205,Feuil2!$F$10:$P$28,9),IF(AND(J205>=1947,J205<1952),VLOOKUP(K205,Feuil2!$F$10:$P$28,8),IF(AND(J205>=1952,J205<1957),VLOOKUP(K205,Feuil2!$F$10:$P$28,7),IF(AND(J205>=1957,J205<1962),VLOOKUP(K205,Feuil2!$F$10:$P$28,6),IF(AND(J205>=1962,J205<1967),VLOOKUP(K205,Feuil2!$F$10:$P$28,5),IF(AND(J205>=1967,J205<1972),VLOOKUP(K205,Feuil2!$F$10:$P$28,4),IF(AND(J205>=1972,J205<1977),VLOOKUP(K205,Feuil2!$F$10:$P$28,3),IF(AND(J205>=1977,J205<1982),VLOOKUP(K205,Feuil2!$F$10:$P$28,2),VLOOKUP(K205,Feuil2!$F$10:$P$28,2))))))))))))","v":{"$error":"#N/A"}},null,{"$f":"T205-HLOOKUP(Y205,Feuil2!$C$1:$CD$9,2,FALSE)","v":{"$error":"#VALUE!"}},{"$f":"T205-HLOOKUP(Y205,Feuil2!$C$1:$CD$9,3,FALSE)","v":{"$error":"#VALUE!"}},{"$f":"T205-HLOOKUP(Y205,Feuil2!$C$1:$CD$9,4,FALSE)","v":{"$error":"#VALUE!"}},{"$f":"T205-HLOOKUP(Y205,Feuil2!$C$1:$CD$9,5,FALSE)","v":{"$error":"#VALUE!"}},{"$f":"T205-HLOOKUP(Y205,Feuil2!$C$1:$CD$9,6,FALSE)","v":{"$error":"#VALUE!"}},{"$f":"T205-HLOOKUP(Y205,Feuil2!$C$1:$CD$9,7,FALSE)","v":{"$error":"#VALUE!"}},{"$f":"T205-HLOOKUP(Y205,Feuil2!$C$1:$CD$9,8,FALSE)","v":{"$error":"#VALUE!"}},{"$f":"T205-HLOOKUP(Y205,Feuil2!$C$1:$CD$9,9,FALSE)","v":{"$error":"#VALUE!"}},null,null,null,null,null,null,null,{"$error":"#VALUE!"},2016,null,{"$f":"IF(AQ205,VLOOKUP(AQ205,HOM!$AS$561:$AT$616,2))","v":3.5710000000000002}]
["H",null,null,null,null,null,null,null,null,null,null,null,null,null,"",null,null,null,"","","","","",{"$error":"#N/A"},{"$f":"IF(AND(J206<1920),VLOOKUP(K206,Feuil2!$F$10:$P$28,11),IF(AND(J206>=1920,J206<1937),VLOOKUP(K206,Feuil2!$F$10:$P$28,11),IF(AND(J206>=1936,J206<1942),VLOOKUP(K206,Feuil2!$F$10:$P$28,10),IF(AND(J206>=1942,J206<1947),VLOOKUP(K206,Feuil2!$F$10:$P$28,9),IF(AND(J206>=1947,J206<1952),VLOOKUP(K206,Feuil2!$F$10:$P$28,8),IF(AND(J206>=1952,J206<1957),VLOOKUP(K206,Feuil2!$F$10:$P$28,7),IF(AND(J206>=1957,J206<1962),VLOOKUP(K206,Feuil2!$F$10:$P$28,6),IF(AND(J206>=1962,J206<1967),VLOOKUP(K206,Feuil2!$F$10:$P$28,5),IF(AND(J206>=1967,J206<1972),VLOOKUP(K206,Feuil2!$F$10:$P$28,4),IF(AND(J206>=1972,J206<1977),VLOOKUP(K206,Feuil2!$F$10:$P$28,3),IF(AND(J206>=1977,J206<1982),VLOOKUP(K206,Feuil2!$F$10:$P$28,2),VLOOKUP(K206,Feuil2!$F$10:$P$28,2))))))))))))","v":{"$error":"#N/A"}},null,{"$f":"T206-HLOOKUP(Y206,Feuil2!$C$1:$CD$9,2,FALSE)","v":{"$error":"#VALUE!"}},{"$f":"T206-HLOOKUP(Y206,Feuil2!$C$1:$CD$9,3,FALSE)","v":{"$error":"#VALUE!"}},{"$f":"T206-HLOOKUP(Y206,Feuil2!$C$1:$CD$9,4,FALSE)","v":{"$error":"#VALUE!"}},{"$f":"T206-HLOOKUP(Y206,Feuil2!$C$1:$CD$9,5,FALSE)","v":{"$error":"#VALUE!"}},{"$f":"T206-HLOOKUP(Y206,Feuil2!$C$1:$CD$9,6,FALSE)","v":{"$error":"#VALUE!"}},{"$f":"T206-HLOOKUP(Y206,Feuil2!$C$1:$CD$9,7,FALSE)","v":{"$error":"#VALUE!"}},{"$f":"T206-HLOOKUP(Y206,Feuil2!$C$1:$CD$9,8,FALSE)","v":{"$error":"#VALUE!"}},{"$f":"T206-HLOOKUP(Y206,Feuil2!$C$1:$CD$9,9,FALSE)","v":{"$error":"#VALUE!"}},null,null,null,null,null,null,null,{"$error":"#VALUE!"},2016,null,{"$f":"IF(AQ206,VLOOKUP(AQ206,HOM!$AS$561:$AT$616,2))","v":3.5710000000000002}]
["H",null,null,null,null,null,null,null,null,null,null,null,null,null,"",null,null,null,"","",{"$f":"IF(K207=\"\",\"\",IF(A207=\"H\",10^(0.794358141*LOG(K207/174.393)^2)*T207*AS207,IF(A207=\"F\",10^(0.89726074 * LOG(K207/148.026)^2)*T207*AS207,\"\")))","v":""},"","",{"$error":"#N/A"},{"$f":"IF(AND(J207<1920),VLOOKUP(K207,Feuil2!$F$10:$P$28,11),IF(AND(J207>=1920,J207<1937),VLOOKUP(K207,Feuil2!$F$10:$P$28,11),IF(AND(J207>=1936,J207<1942),VLOOKUP(K207,Feuil2!$F$10:$P$28,10),IF(AND(J207>=1942,J207<1947),VLOOKUP(K207,Feuil2!$F$10:$P$28,9),IF(AND(J207>=1947,J207<1952),VLOOKUP(K207,Feuil2!$F$10:$P$28,8),IF(AND(J207>=1952,J207<1957),VLOOKUP(K207,Feuil2!$F$10:$P$28,7),IF(AND(J207>=1957,J207<1962),VLOOKUP(K207,Feuil2!$F$10:$P$28,6),IF(AND(J207>=1962,J207<1967),VLOOKUP(K207,Feuil2!$F$10:$P$28,5),IF(AND(J207>=1967,J207<1972),VLOOKUP(K207,Feuil2!$F$10:$P$28,4),IF(AND(J207>=1972,J207<1977),VLOOKUP(K207,Feuil2!$F$10:$P$28,3),IF(AND(J207>=1977,J207<1982),VLOOKUP(K207,Feuil2!$F$10:$P$28,2),VLOOKUP(K207,Feuil2!$F$10:$P$28,2))))))))))))","v":{"$error":"#N/A"}},null,{"$f":"T207-HLOOKUP(Y207,Feuil2!$C$1:$CD$9,2,FALSE)","v":{"$error":"#VALUE!"}},{"$f":"T207-HLOOKUP(Y207,Feuil2!$C$1:$CD$9,3,FALSE)","v":{"$error":"#VALUE!"}},{"$f":"T207-HLOOKUP(Y207,Feuil2!$C$1:$CD$9,4,FALSE)","v":{"$error":"#VALUE!"}},{"$f":"T207-HLOOKUP(Y207,Feuil2!$C$1:$CD$9,5,FALSE)","v":{"$error":"#VALUE!"}},{"$f":"T207-HLOOKUP(Y207,Feuil2!$C$1:$CD$9,6,FALSE)","v":{"$error":"#VALUE!"}},{"$f":"T207-HLOOKUP(Y207,Feuil2!$C$1:$CD$9,7,FALSE)","v":{"$error":"#VALUE!"}},{"$f":"T207-HLOOKUP(Y207,Feuil2!$C$1:$CD$9,8,FALSE)","v":{"$error":"#VALUE!"}},{"$f":"T207-HLOOKUP(Y207,Feuil2!$C$1:$CD$9,9,FALSE)","v":{"$error":"#VALUE!"}},null,null,null,null,null,null,null,{"$error":"#VALUE!"},2016,null,{"$f":"IF(AQ207,VLOOKUP(AQ207,HOM!$AS$561:$AT$616,2))","v":3.5710000000000002}]
["H",null,null,null,null,null,null,null,null,null,null,null,null,null,"",null,null,null,"","","","","",{"$error":"#N/A"},{"$f":"IF(AND(J208<1920),VLOOKUP(K208,Feuil2!$F$10:$P$28,11),IF(AND(J208>=1920,J208<1937),VLOOKUP(K208,Feuil2!$F$10:$P$28,11),IF(AND(J208>=1936,J208<1942),VLOOKUP(K208,Feuil2!$F$10:$P$28,10),IF(AND(J208>=1942,J208<1947),VLOOKUP(K208,Feuil2!$F$10:$P$28,9),IF(AND(J208>=1947,J208<1952),VLOOKUP(K208,Feuil2!$F$10:$P$28,8),IF(AND(J208>=1952,J208<1957),VLOOKUP(K208,Feuil2!$F$10:$P$28,7),IF(AND(J208>=1957,J208<1962),VLOOKUP(K208,Feuil2!$F$10:$P$28,6),IF(AND(J208>=1962,J208<1967),VLOOKUP(K208,Feuil2!$F$10:$P$28,5),IF(AND(J208>=1967,J208<1972),VLOOKUP(K208,Feuil2!$F$10:$P$28,4),IF(AND(J208>=1972,J208<1977),VLOOKUP(K208,Feuil2!$F$10:$P$28,3),IF(AND(J208>=1977,J208<1982),VLOOKUP(K208,Feuil2!$F$10:$P$28,2),VLOOKUP(K208,Feuil2!$F$10:$P$28,2))))))))))))","v":{"$error":"#N/A"}},null,{"$f":"T208-HLOOKUP(Y208,Feuil2!$C$1:$CD$9,2,FALSE)","v":{"$error":"#VALUE!"}},{"$f":"T208-HLOOKUP(Y208,Feuil2!$C$1:$CD$9,3,FALSE)","v":{"$error":"#VALUE!"}},{"$f":"T208-HLOOKUP(Y208,Feuil2!$C$1:$CD$9,4,FALSE)","v":{"$error":"#VALUE!"}},{"$f":"T208-HLOOKUP(Y208,Feuil2!$C$1:$CD$9,5,FALSE)","v":{"$error":"#VALUE!"}},{"$f":"T208-HLOOKUP(Y208,Feuil2!$C$1:$CD$9,6,FALSE)","v":{"$error":"#VALUE!"}},{"$f":"T208-HLOOKUP(Y208,Feuil2!$C$1:$CD$9,7,FALSE)","v":{"$error":"#VALUE!"}},{"$f":"T208-HLOOKUP(Y208,Feuil2!$C$1:$CD$9,8,FALSE)","v":{"$error":"#VALUE!"}},{"$f":"T208-HLOOKUP(Y208,Feuil2!$C$1:$CD$9,9,FALSE)","v":{"$error":"#VALUE!"}},null,null,null,null,null,null,null,{"$error":"#VALUE!"},2016,null,{"$f":"IF(AQ208,VLOOKUP(AQ208,HOM!$AS$561:$AT$616,2))","v":3.5710000000000002}]
["H",null,null,null,null,null,null,null,null,null,null,null,null,null,"",null,null,null,"","","","","",{"$error":"#N/A"},{"$f":"IF(AND(J209<1920),VLOOKUP(K209,Feuil2!$F$10:$P$28,11),IF(AND(J209>=1920,J209<1937),VLOOKUP(K209,Feuil2!$F$10:$P$28,11),IF(AND(J209>=1936,J209<1942),VLOOKUP(K209,Feuil2!$F$10:$P$28,10),IF(AND(J209>=1942,J209<1947),VLOOKUP(K209,Feuil2!$F$10:$P$28,9),IF(AND(J209>=1947,J209<1952),VLOOKUP(K209,Feuil2!$F$10:$P$28,8),IF(AND(J209>=1952,J209<1957),VLOOKUP(K209,Feuil2!$F$10:$P$28,7),IF(AND(J209>=1957,J209<1962),VLOOKUP(K209,Feuil2!$F$10:$P$28,6),IF(AND(J209>=1962,J209<1967),VLOOKUP(K209,Feuil2!$F$10:$P$28,5),IF(AND(J209>=1967,J209<1972),VLOOKUP(K209,Feuil2!$F$10:$P$28,4),IF(AND(J209>=1972,J209<1977),VLOOKUP(K209,Feuil2!$F$10:$P$28,3),IF(AND(J209>=1977,J209<1982),VLOOKUP(K209,Feuil2!$F$10:$P$28,2),VLOOKUP(K209,Feuil2!$F$10:$P$28,2))))))))))))","v":{"$error":"#N/A"}},null,{"$f":"T209-HLOOKUP(Y209,Feuil2!$C$1:$CD$9,2,FALSE)","v":{"$error":"#VALUE!"}},{"$f":"T209-HLOOKUP(Y209,Feuil2!$C$1:$CD$9,3,FALSE)","v":{"$error":"#VALUE!"}},{"$f":"T209-HLOOKUP(Y209,Feuil2!$C$1:$CD$9,4,FALSE)","v":{"$error":"#VALUE!"}},{"$f":"T209-HLOOKUP(Y209,Feuil2!$C$1:$CD$9,5,FALSE)","v":{"$error":"#VALUE!"}},{"$f":"T209-HLOOKUP(Y209,Feuil2!$C$1:$CD$9,6,FALSE)","v":{"$error":"#VALUE!"}},{"$f":"T209-HLOOKUP(Y209,Feuil2!$C$1:$CD$9,7,FALSE)","v":{"$error":"#VALUE!"}},{"$f":"T209-HLOOKUP(Y209,Feuil2!$C$1:$CD$9,8,FALSE)","v":{"$error":"#VALUE!"}},{"$f":"T209-HLOOKUP(Y209,Feuil2!$C$1:$CD$9,9,FALSE)","v":{"$error":"#VALUE!"}},null,null,null,null,null,null,null,{"$error":"#VALUE!"},{"$f":"2016-J209","v":2016},null,{"$f":"IF(AQ209,VLOOKUP(AQ209,HOM!$AS$561:$AT$616,2))","v":3.5710000000000002}]
["H",null,null,null,null,null,null,null,null,null,null,null,null,null,"",null,null,null,"","","","","",{"$error":"#N/A"},{"$f":"IF(AND(J210<1920),VLOOKUP(K210,Feuil2!$F$10:$P$28,11),IF(AND(J210>=1920,J210<1937),VLOOKUP(K210,Feuil2!$F$10:$P$28,11),IF(AND(J210>=1936,J210<1942),VLOOKUP(K210,Feuil2!$F$10:$P$28,10),IF(AND(J210>=1942,J210<1947),VLOOKUP(K210,Feuil2!$F$10:$P$28,9),IF(AND(J210>=1947,J210<1952),VLOOKUP(K210,Feuil2!$F$10:$P$28,8),IF(AND(J210>=1952,J210<1957),VLOOKUP(K210,Feuil2!$F$10:$P$28,7),IF(AND(J210>=1957,J210<1962),VLOOKUP(K210,Feuil2!$F$10:$P$28,6),IF(AND(J210>=1962,J210<1967),VLOOKUP(K210,Feuil2!$F$10:$P$28,5),IF(AND(J210>=1967,J210<1972),VLOOKUP(K210,Feuil2!$F$10:$P$28,4),IF(AND(J210>=1972,J210<1977),VLOOKUP(K210,Feuil2!$F$10:$P$28,3),IF(AND(J210>=1977,J210<1982),VLOOKUP(K210,Feuil2!$F$10:$P$28,2),VLOOKUP(K210,Feuil2!$F$10:$P$28,2))))))))))))","v":{"$error":"#N/A"}},null,{"$f":"T210-HLOOKUP(Y210,Feuil2!$C$1:$CD$9,2,FALSE)","v":{"$error":"#VALUE!"}},{"$f":"T210-HLOOKUP(Y210,Feuil2!$C$1:$CD$9,3,FALSE)","v":{"$error":"#VALUE!"}},{"$f":"T210-HLOOKUP(Y210,Feuil2!$C$1:$CD$9,4,FALSE)","v":{"$error":"#VALUE!"}},{"$f":"T210-HLOOKUP(Y210,Feuil2!$C$1:$CD$9,5,FALSE)","v":{"$error":"#VALUE!"}},{"$f":"T210-HLOOKUP(Y210,Feuil2!$C$1:$CD$9,6,FALSE)","v":{"$error":"#VALUE!"}},{"$f":"T210-HLOOKUP(Y210,Feuil2!$C$1:$CD$9,7,FALSE)","v":{"$error":"#VALUE!"}},{"$f":"T210-HLOOKUP(Y210,Feuil2!$C$1:$CD$9,8,FALSE)","v":{"$error":"#VALUE!"}},{"$f":"T210-HLOOKUP(Y210,Feuil2!$C$1:$CD$9,9,FALSE)","v":{"$error":"#VALUE!"}},null,null,null,null,null,null,null,{"$error":"#VALUE!"},2016,null,{"$f":"IF(AQ210,VLOOKUP(AQ210,HOM!$AS$561:$AT$616,2))","v":3.5710000000000002}]
["H",null,null,null,null,null,null,null,null,null,null,null,null,null,"",null,null,null,"","","","","",{"$error":"#N/A"},{"$f":"IF(AND(J211<1920),VLOOKUP(K211,Feuil2!$F$10:$P$28,11),IF(AND(J211>=1920,J211<1937),VLOOKUP(K211,Feuil2!$F$10:$P$28,11),IF(AND(J211>=1936,J211<1942),VLOOKUP(K211,Feuil2!$F$10:$P$28,10),IF(AND(J211>=1942,J211<1947),VLOOKUP(K211,Feuil2!$F$10:$P$28,9),IF(AND(J211>=1947,J211<1952),VLOOKUP(K211,Feuil2!$F$10:$P$28,8),IF(AND(J211>=1952,J211<1957),VLOOKUP(K211,Feuil2!$F$10:$P$28,7),IF(AND(J211>=1957,J211<1962),VLOOKUP(K211,Feuil2!$F$10:$P$28,6),IF(AND(J211>=1962,J211<1967),VLOOKUP(K211,Feuil2!$F$10:$P$28,5),IF(AND(J211>=1967,J211<1972),VLOOKUP(K211,Feuil2!$F$10:$P$28,4),IF(AND(J211>=1972,J211<1977),VLOOKUP(K211,Feuil2!$F$10:$P$28,3),IF(AND(J211>=1977,J211<1982),VLOOKUP(K211,Feuil2!$F$10:$P$28,2),VLOOKUP(K211,Feuil2!$F$10:$P$28,2))))))))))))","v":{"$error":"#N/A"}},null,{"$f":"T211-HLOOKUP(Y211,Feuil2!$C$1:$CD$9,2,FALSE)","v":{"$error":"#VALUE!"}},{"$f":"T211-HLOOKUP(Y211,Feuil2!$C$1:$CD$9,3,FALSE)","v":{"$error":"#VALUE!"}},{"$f":"T211-HLOOKUP(Y211,Feuil2!$C$1:$CD$9,4,FALSE)","v":{"$error":"#VALUE!"}},{"$f":"T211-HLOOKUP(Y211,Feuil2!$C$1:$CD$9,5,FALSE)","v":{"$error":"#VALUE!"}},{"$f":"T211-HLOOKUP(Y211,Feuil2!$C$1:$CD$9,6,FALSE)","v":{"$error":"#VALUE!"}},{"$f":"T211-HLOOKUP(Y211,Feuil2!$C$1:$CD$9,7,FALSE)","v":{"$error":"#VALUE!"}},{"$f":"T211-HLOOKUP(Y211,Feuil2!$C$1:$CD$9,8,FALSE)","v":{"$error":"#VALUE!"}},{"$f":"T211-HLOOKUP(Y211,Feuil2!$C$1:$CD$9,9,FALSE)","v":{"$error":"#VALUE!"}},null,null,null,null,null,null,null,{"$error":"#VALUE!"},2016,null,{"$f":"IF(AQ211,VLOOKUP(AQ211,HOM!$AS$561:$AT$616,2))","v":3.5710000000000002}]
["H",null,null,null,null,null,null,null,null,null,null,null,null,null,"",null,null,null,"","","","","",{"$error":"#N/A"},{"$f":"IF(AND(J212<1920),VLOOKUP(K212,Feuil2!$F$10:$P$28,11),IF(AND(J212>=1920,J212<1937),VLOOKUP(K212,Feuil2!$F$10:$P$28,11),IF(AND(J212>=1936,J212<1942),VLOOKUP(K212,Feuil2!$F$10:$P$28,10),IF(AND(J212>=1942,J212<1947),VLOOKUP(K212,Feuil2!$F$10:$P$28,9),IF(AND(J212>=1947,J212<1952),VLOOKUP(K212,Feuil2!$F$10:$P$28,8),IF(AND(J212>=1952,J212<1957),VLOOKUP(K212,Feuil2!$F$10:$P$28,7),IF(AND(J212>=1957,J212<1962),VLOOKUP(K212,Feuil2!$F$10:$P$28,6),IF(AND(J212>=1962,J212<1967),VLOOKUP(K212,Feuil2!$F$10:$P$28,5),IF(AND(J212>=1967,J212<1972),VLOOKUP(K212,Feuil2!$F$10:$P$28,4),IF(AND(J212>=1972,J212<1977),VLOOKUP(K212,Feuil2!$F$10:$P$28,3),IF(AND(J212>=1977,J212<1982),VLOOKUP(K212,Feuil2!$F$10:$P$28,2),VLOOKUP(K212,Feuil2!$F$10:$P$28,2))))))))))))","v":{"$error":"#N/A"}},null,{"$f":"T212-HLOOKUP(Y212,Feuil2!$C$1:$CD$9,2,FALSE)","v":{"$error":"#VALUE!"}},{"$f":"T212-HLOOKUP(Y212,Feuil2!$C$1:$CD$9,3,FALSE)","v":{"$error":"#VALUE!"}},{"$f":"T212-HLOOKUP(Y212,Feuil2!$C$1:$CD$9,4,FALSE)","v":{"$error":"#VALUE!"}},{"$f":"T212-HLOOKUP(Y212,Feuil2!$C$1:$CD$9,5,FALSE)","v":{"$error":"#VALUE!"}},{"$f":"T212-HLOOKUP(Y212,Feuil2!$C$1:$CD$9,6,FALSE)","v":{"$error":"#VALUE!"}},{"$f":"T212-HLOOKUP(Y212,Feuil2!$C$1:$CD$9,7,FALSE)","v":{"$error":"#VALUE!"}},{"$f":"T212-HLOOKUP(Y212,Feuil2!$C$1:$CD$9,8,FALSE)","v":{"$error":"#VALUE!"}},{"$f":"T212-HLOOKUP(Y212,Feuil2!$C$1:$CD$9,9,FALSE)","v":{"$error":"#VALUE!"}},null,null,null,null,null,null,null,{"$error":"#VALUE!"},2016,null,{"$f":"IF(AQ212,VLOOKUP(AQ212,HOM!$AS$561:$AT$616,2))","v":3.5710000000000002}]
["H",null,null,null,null,null,null,null,null,null,null,null,null,null,"",null,null,null,"","","","","",{"$error":"#N/A"},{"$f":"IF(AND(J213<1920),VLOOKUP(K213,Feuil2!$F$10:$P$28,11),IF(AND(J213>=1920,J213<1937),VLOOKUP(K213,Feuil2!$F$10:$P$28,11),IF(AND(J213>=1936,J213<1942),VLOOKUP(K213,Feuil2!$F$10:$P$28,10),IF(AND(J213>=1942,J213<1947),VLOOKUP(K213,Feuil2!$F$10:$P$28,9),IF(AND(J213>=1947,J213<1952),VLOOKUP(K213,Feuil2!$F$10:$P$28,8),IF(AND(J213>=1952,J213<1957),VLOOKUP(K213,Feuil2!$F$10:$P$28,7),IF(AND(J213>=1957,J213<1962),VLOOKUP(K213,Feuil2!$F$10:$P$28,6),IF(AND(J213>=1962,J213<1967),VLOOKUP(K213,Feuil2!$F$10:$P$28,5),IF(AND(J213>=1967,J213<1972),VLOOKUP(K213,Feuil2!$F$10:$P$28,4),IF(AND(J213>=1972,J213<1977),VLOOKUP(K213,Feuil2!$F$10:$P$28,3),IF(AND(J213>=1977,J213<1982),VLOOKUP(K213,Feuil2!$F$10:$P$28,2),VLOOKUP(K213,Feuil2!$F$10:$P$28,2))))))))))))","v":{"$error":"#N/A"}},null,{"$f":"T213-HLOOKUP(Y213,Feuil2!$C$1:$CD$9,2,FALSE)","v":{"$error":"#VALUE!"}},{"$f":"T213-HLOOKUP(Y213,Feuil2!$C$1:$CD$9,3,FALSE)","v":{"$error":"#VALUE!"}},{"$f":"T213-HLOOKUP(Y213,Feuil2!$C$1:$CD$9,4,FALSE)","v":{"$error":"#VALUE!"}},{"$f":"T213-HLOOKUP(Y213,Feuil2!$C$1:$CD$9,5,FALSE)","v":{"$error":"#VALUE!"}},{"$f":"T213-HLOOKUP(Y213,Feuil2!$C$1:$CD$9,6,FALSE)","v":{"$error":"#VALUE!"}},{"$f":"T213-HLOOKUP(Y213,Feuil2!$C$1:$CD$9,7,FALSE)","v":{"$error":"#VALUE!"}},{"$f":"T213-HLOOKUP(Y213,Feuil2!$C$1:$CD$9,8,FALSE)","v":{"$error":"#VALUE!"}},{"$f":"T213-HLOOKUP(Y213,Feuil2!$C$1:$CD$9,9,FALSE)","v":{"$error":"#VALUE!"}},null,null,null,null,null,null,null,{"$error":"#VALUE!"},2016,null,{"$f":"IF(AQ213,VLOOKUP(AQ213,HOM!$AS$561:$AT$616,2))","v":3.5710000000000002}]
["H",null,null,null,null,null,null,null,null,null,null,null,null,null,"",null,null,null,"","","","","",{"$error":"#N/A"},{"$f":"IF(AND(J214<1920),VLOOKUP(K214,Feuil2!$F$10:$P$28,11),IF(AND(J214>=1920,J214<1937),VLOOKUP(K214,Feuil2!$F$10:$P$28,11),IF(AND(J214>=1936,J214<1942),VLOOKUP(K214,Feuil2!$F$10:$P$28,10),IF(AND(J214>=1942,J214<1947),VLOOKUP(K214,Feuil2!$F$10:$P$28,9),IF(AND(J214>=1947,J214<1952),VLOOKUP(K214,Feuil2!$F$10:$P$28,8),IF(AND(J214>=1952,J214<1957),VLOOKUP(K214,Feuil2!$F$10:$P$28,7),IF(AND(J214>=1957,J214<1962),VLOOKUP(K214,Feuil2!$F$10:$P$28,6),IF(AND(J214>=1962,J214<1967),VLOOKUP(K214,Feuil2!$F$10:$P$28,5),IF(AND(J214>=1967,J214<1972),VLOOKUP(K214,Feuil2!$F$10:$P$28,4),IF(AND(J214>=1972,J214<1977),VLOOKUP(K214,Feuil2!$F$10:$P$28,3),IF(AND(J214>=1977,J214<1982),VLOOKUP(K214,Feuil2!$F$10:$P$28,2),VLOOKUP(K214,Feuil2!$F$10:$P$28,2))))))))))))","v":{"$error":"#N/A"}},null,{"$f":"T214-HLOOKUP(Y214,Feuil2!$C$1:$CD$9,2,FALSE)","v":{"$error":"#VALUE!"}},{"$f":"T214-HLOOKUP(Y214,Feuil2!$C$1:$CD$9,3,FALSE)","v":{"$error":"#VALUE!"}},{"$f":"T214-HLOOKUP(Y214,Feuil2!$C$1:$CD$9,4,FALSE)","v":{"$error":"#VALUE!"}},{"$f":"T214-HLOOKUP(Y214,Feuil2!$C$1:$CD$9,5,FALSE)","v":{"$error":"#VALUE!"}},{"$f":"T214-HLOOKUP(Y214,Feuil2!$C$1:$CD$9,6,FALSE)","v":{"$error":"#VALUE!"}},{"$f":"T214-HLOOKUP(Y214,Feuil2!$C$1:$CD$9,7,FALSE)","v":{"$error":"#VALUE!"}},{"$f":"T214-HLOOKUP(Y214,Feuil2!$C$1:$CD$9,8,FALSE)","v":{"$error":"#VALUE!"}},{"$f":"T214-HLOOKUP(Y214,Feuil2!$C$1:$CD$9,9,FALSE)","v":{"$error":"#VALUE!"}},null,null,null,null,null,null,null,{"$error":"#VALUE!"},2016,null,{"$f":"IF(AQ214,VLOOKUP(AQ214,HOM!$AS$561:$AT$616,2))","v":3.5710000000000002}]
["H",null,null,null,null,null,null,null,null,null,null,null,null,null,"",null,null,null,"","","","","",{"$error":"#N/A"},{"$f":"IF(AND(J215<1920),VLOOKUP(K215,Feuil2!$F$10:$P$28,11),IF(AND(J215>=1920,J215<1937),VLOOKUP(K215,Feuil2!$F$10:$P$28,11),IF(AND(J215>=1936,J215<1942),VLOOKUP(K215,Feuil2!$F$10:$P$28,10),IF(AND(J215>=1942,J215<1947),VLOOKUP(K215,Feuil2!$F$10:$P$28,9),IF(AND(J215>=1947,J215<1952),VLOOKUP(K215,Feuil2!$F$10:$P$28,8),IF(AND(J215>=1952,J215<1957),VLOOKUP(K215,Feuil2!$F$10:$P$28,7),IF(AND(J215>=1957,J215<1962),VLOOKUP(K215,Feuil2!$F$10:$P$28,6),IF(AND(J215>=1962,J215<1967),VLOOKUP(K215,Feuil2!$F$10:$P$28,5),IF(AND(J215>=1967,J215<1972),VLOOKUP(K215,Feuil2!$F$10:$P$28,4),IF(AND(J215>=1972,J215<1977),VLOOKUP(K215,Feuil2!$F$10:$P$28,3),IF(AND(J215>=1977,J215<1982),VLOOKUP(K215,Feuil2!$F$10:$P$28,2),VLOOKUP(K215,Feuil2!$F$10:$P$28,2))))))))))))","v":{"$error":"#N/A"}},null,{"$f":"T215-HLOOKUP(Y215,Feuil2!$C$1:$CD$9,2,FALSE)","v":{"$error":"#VALUE!"}},{"$f":"T215-HLOOKUP(Y215,Feuil2!$C$1:$CD$9,3,FALSE)","v":{"$error":"#VALUE!"}},{"$f":"T215-HLOOKUP(Y215,Feuil2!$C$1:$CD$9,4,FALSE)","v":{"$error":"#VALUE!"}},{"$f":"T215-HLOOKUP(Y215,Feuil2!$C$1:$CD$9,5,FALSE)","v":{"$error":"#VALUE!"}},{"$f":"T215-HLOOKUP(Y215,Feuil2!$C$1:$CD$9,6,FALSE)","v":{"$error":"#VALUE!"}},{"$f":"T215-HLOOKUP(Y215,Feuil2!$C$1:$CD$9,7,FALSE)","v":{"$error":"#VALUE!"}},{"$f":"T215-HLOOKUP(Y215,Feuil2!$C$1:$CD$9,8,FALSE)","v":{"$error":"#VALUE!"}},{"$f":"T215-HLOOKUP(Y215,Feuil2!$C$1:$CD$9,9,FALSE)","v":{"$error":"#VALUE!"}},null,null,null,null,null,null,null,{"$error":"#VALUE!"},2016,null,{"$f":"IF(AQ215,VLOOKUP(AQ215,HOM!$AS$561:$AT$616,2))","v":3.5710000000000002}]
["H",null,null,null,null,null,null,null,null,null,null,null,null,null,"",null,null,null,"","","","","",{"$error":"#N/A"},{"$f":"IF(AND(J216<1920),VLOOKUP(K216,Feuil2!$F$10:$P$28,11),IF(AND(J216>=1920,J216<1937),VLOOKUP(K216,Feuil2!$F$10:$P$28,11),IF(AND(J216>=1936,J216<1942),VLOOKUP(K216,Feuil2!$F$10:$P$28,10),IF(AND(J216>=1942,J216<1947),VLOOKUP(K216,Feuil2!$F$10:$P$28,9),IF(AND(J216>=1947,J216<1952),VLOOKUP(K216,Feuil2!$F$10:$P$28,8),IF(AND(J216>=1952,J216<1957),VLOOKUP(K216,Feuil2!$F$10:$P$28,7),IF(AND(J216>=1957,J216<1962),VLOOKUP(K216,Feuil2!$F$10:$P$28,6),IF(AND(J216>=1962,J216<1967),VLOOKUP(K216,Feuil2!$F$10:$P$28,5),IF(AND(J216>=1967,J216<1972),VLOOKUP(K216,Feuil2!$F$10:$P$28,4),IF(AND(J216>=1972,J216<1977),VLOOKUP(K216,Feuil2!$F$10:$P$28,3),IF(AND(J216>=1977,J216<1982),VLOOKUP(K216,Feuil2!$F$10:$P$28,2),VLOOKUP(K216,Feuil2!$F$10:$P$28,2))))))))))))","v":{"$error":"#N/A"}},null,{"$f":"T216-HLOOKUP(Y216,Feuil2!$C$1:$CD$9,2,FALSE)","v":{"$error":"#VALUE!"}},{"$f":"T216-HLOOKUP(Y216,Feuil2!$C$1:$CD$9,3,FALSE)","v":{"$error":"#VALUE!"}},{"$f":"T216-HLOOKUP(Y216,Feuil2!$C$1:$CD$9,4,FALSE)","v":{"$error":"#VALUE!"}},{"$f":"T216-HLOOKUP(Y216,Feuil2!$C$1:$CD$9,5,FALSE)","v":{"$error":"#VALUE!"}},{"$f":"T216-HLOOKUP(Y216,Feuil2!$C$1:$CD$9,6,FALSE)","v":{"$error":"#VALUE!"}},{"$f":"T216-HLOOKUP(Y216,Feuil2!$C$1:$CD$9,7,FALSE)","v":{"$error":"#VALUE!"}},{"$f":"T216-HLOOKUP(Y216,Feuil2!$C$1:$CD$9,8,FALSE)","v":{"$error":"#VALUE!"}},{"$f":"T216-HLOOKUP(Y216,Feuil2!$C$1:$CD$9,9,FALSE)","v":{"$error":"#VALUE!"}},null,null,null,null,null,null,null,{"$error":"#VALUE!"},2016,null,{"$f":"IF(AQ216,VLOOKUP(AQ216,HOM!$AS$561:$AT$616,2))","v":3.5710000000000002}]
["H",null,null,null,null,null,null,null,null,null,null,null,null,null,"",null,null,null,"","","","","",{"$error":"#N/A"},{"$f":"IF(AND(J217<1920),VLOOKUP(K217,Feuil2!$F$10:$P$28,11),IF(AND(J217>=1920,J217<1937),VLOOKUP(K217,Feuil2!$F$10:$P$28,11),IF(AND(J217>=1936,J217<1942),VLOOKUP(K217,Feuil2!$F$10:$P$28,10),IF(AND(J217>=1942,J217<1947),VLOOKUP(K217,Feuil2!$F$10:$P$28,9),IF(AND(J217>=1947,J217<1952),VLOOKUP(K217,Feuil2!$F$10:$P$28,8),IF(AND(J217>=1952,J217<1957),VLOOKUP(K217,Feuil2!$F$10:$P$28,7),IF(AND(J217>=1957,J217<1962),VLOOKUP(K217,Feuil2!$F$10:$P$28,6),IF(AND(J217>=1962,J217<1967),VLOOKUP(K217,Feuil2!$F$10:$P$28,5),IF(AND(J217>=1967,J217<1972),VLOOKUP(K217,Feuil2!$F$10:$P$28,4),IF(AND(J217>=1972,J217<1977),VLOOKUP(K217,Feuil2!$F$10:$P$28,3),IF(AND(J217>=1977,J217<1982),VLOOKUP(K217,Feuil2!$F$10:$P$28,2),VLOOKUP(K217,Feuil2!$F$10:$P$28,2))))))))))))","v":{"$error":"#N/A"}},null,{"$f":"T217-HLOOKUP(Y217,Feuil2!$C$1:$CD$9,2,FALSE)","v":{"$error":"#VALUE!"}},{"$f":"T217-HLOOKUP(Y217,Feuil2!$C$1:$CD$9,3,FALSE)","v":{"$error":"#VALUE!"}},{"$f":"T217-HLOOKUP(Y217,Feuil2!$C$1:$CD$9,4,FALSE)","v":{"$error":"#VALUE!"}},{"$f":"T217-HLOOKUP(Y217,Feuil2!$C$1:$CD$9,5,FALSE)","v":{"$error":"#VALUE!"}},{"$f":"T217-HLOOKUP(Y217,Feuil2!$C$1:$CD$9,6,FALSE)","v":{"$error":"#VALUE!"}},{"$f":"T217-HLOOKUP(Y217,Feuil2!$C$1:$CD$9,7,FALSE)","v":{"$error":"#VALUE!"}},{"$f":"T217-HLOOKUP(Y217,Feuil2!$C$1:$CD$9,8,FALSE)","v":{"$error":"#VALUE!"}},{"$f":"T217-HLOOKUP(Y217,Feuil2!$C$1:$CD$9,9,FALSE)","v":{"$error":"#VALUE!"}},null,null,null,null,null,null,null,{"$error":"#VALUE!"},2016,null,{"$f":"IF(AQ217,VLOOKUP(AQ217,HOM!$AS$561:$AT$616,2))","v":3.5710000000000002}]
["H",null,null,null,null,null,null,null,null,null,null,null,null,null,"",null,null,null,"","","","","",{"$error":"#N/A"},{"$f":"IF(AND(J218<1920),VLOOKUP(K218,Feuil2!$F$10:$P$28,11),IF(AND(J218>=1920,J218<1937),VLOOKUP(K218,Feuil2!$F$10:$P$28,11),IF(AND(J218>=1936,J218<1942),VLOOKUP(K218,Feuil2!$F$10:$P$28,10),IF(AND(J218>=1942,J218<1947),VLOOKUP(K218,Feuil2!$F$10:$P$28,9),IF(AND(J218>=1947,J218<1952),VLOOKUP(K218,Feuil2!$F$10:$P$28,8),IF(AND(J218>=1952,J218<1957),VLOOKUP(K218,Feuil2!$F$10:$P$28,7),IF(AND(J218>=1957,J218<1962),VLOOKUP(K218,Feuil2!$F$10:$P$28,6),IF(AND(J218>=1962,J218<1967),VLOOKUP(K218,Feuil2!$F$10:$P$28,5),IF(AND(J218>=1967,J218<1972),VLOOKUP(K218,Feuil2!$F$10:$P$28,4),IF(AND(J218>=1972,J218<1977),VLOOKUP(K218,Feuil2!$F$10:$P$28,3),IF(AND(J218>=1977,J218<1982),VLOOKUP(K218,Feuil2!$F$10:$P$28,2),VLOOKUP(K218,Feuil2!$F$10:$P$28,2))))))))))))","v":{"$error":"#N/A"}},null,{"$f":"T218-HLOOKUP(Y218,Feuil2!$C$1:$CD$9,2,FALSE)","v":{"$error":"#VALUE!"}},{"$f":"T218-HLOOKUP(Y218,Feuil2!$C$1:$CD$9,3,FALSE)","v":{"$error":"#VALUE!"}},{"$f":"T218-HLOOKUP(Y218,Feuil2!$C$1:$CD$9,4,FALSE)","v":{"$error":"#VALUE!"}},{"$f":"T218-HLOOKUP(Y218,Feuil2!$C$1:$CD$9,5,FALSE)","v":{"$error":"#VALUE!"}},{"$f":"T218-HLOOKUP(Y218,Feuil2!$C$1:$CD$9,6,FALSE)","v":{"$error":"#VALUE!"}},{"$f":"T218-HLOOKUP(Y218,Feuil2!$C$1:$CD$9,7,FALSE)","v":{"$error":"#VALUE!"}},{"$f":"T218-HLOOKUP(Y218,Feuil2!$C$1:$CD$9,8,FALSE)","v":{"$error":"#VALUE!"}},{"$f":"T218-HLOOKUP(Y218,Feuil2!$C$1:$CD$9,9,FALSE)","v":{"$error":"#VALUE!"}},null,null,null,null,null,null,null,{"$error":"#VALUE!"},2016,null,{"$f":"IF(AQ218,VLOOKUP(AQ218,HOM!$AS$561:$AT$616,2))","v":3.5710000000000002}]
["H",null,null,null,null,null,null,null,null,null,null,null,null,null,"",null,null,null,"","","","","",{"$error":"#N/A"},{"$f":"IF(AND(J219<1920),VLOOKUP(K219,Feuil2!$F$10:$P$28,11),IF(AND(J219>=1920,J219<1937),VLOOKUP(K219,Feuil2!$F$10:$P$28,11),IF(AND(J219>=1936,J219<1942),VLOOKUP(K219,Feuil2!$F$10:$P$28,10),IF(AND(J219>=1942,J219<1947),VLOOKUP(K219,Feuil2!$F$10:$P$28,9),IF(AND(J219>=1947,J219<1952),VLOOKUP(K219,Feuil2!$F$10:$P$28,8),IF(AND(J219>=1952,J219<1957),VLOOKUP(K219,Feuil2!$F$10:$P$28,7),IF(AND(J219>=1957,J219<1962),VLOOKUP(K219,Feuil2!$F$10:$P$28,6),IF(AND(J219>=1962,J219<1967),VLOOKUP(K219,Feuil2!$F$10:$P$28,5),IF(AND(J219>=1967,J219<1972),VLOOKUP(K219,Feuil2!$F$10:$P$28,4),IF(AND(J219>=1972,J219<1977),VLOOKUP(K219,Feuil2!$F$10:$P$28,3),IF(AND(J219>=1977,J219<1982),VLOOKUP(K219,Feuil2!$F$10:$P$28,2),VLOOKUP(K219,Feuil2!$F$10:$P$28,2))))))))))))","v":{"$error":"#N/A"}},null,{"$f":"T219-HLOOKUP(Y219,Feuil2!$C$1:$CD$9,2,FALSE)","v":{"$error":"#VALUE!"}},{"$f":"T219-HLOOKUP(Y219,Feuil2!$C$1:$CD$9,3,FALSE)","v":{"$error":"#VALUE!"}},{"$f":"T219-HLOOKUP(Y219,Feuil2!$C$1:$CD$9,4,FALSE)","v":{"$error":"#VALUE!"}},{"$f":"T219-HLOOKUP(Y219,Feuil2!$C$1:$CD$9,5,FALSE)","v":{"$error":"#VALUE!"}},{"$f":"T219-HLOOKUP(Y219,Feuil2!$C$1:$CD$9,6,FALSE)","v":{"$error":"#VALUE!"}},{"$f":"T219-HLOOKUP(Y219,Feuil2!$C$1:$CD$9,7,FALSE)","v":{"$error":"#VALUE!"}},{"$f":"T219-HLOOKUP(Y219,Feuil2!$C$1:$CD$9,8,FALSE)","v":{"$error":"#VALUE!"}},{"$f":"T219-HLOOKUP(Y219,Feuil2!$C$1:$CD$9,9,FALSE)","v":{"$error":"#VALUE!"}},null,null,null,null,null,null,null,{"$error":"#VALUE!"},2016,null,{"$f":"IF(AQ219,VLOOKUP(AQ219,HOM!$AS$561:$AT$616,2))","v":3.5710000000000002}]
["H",null,null,null,null,null,null,null,null,null,null,null,null,null,"",null,null,null,"","","","","",{"$error":"#N/A"},{"$f":"IF(AND(J220<1920),VLOOKUP(K220,Feuil2!$F$10:$P$28,11),IF(AND(J220>=1920,J220<1937),VLOOKUP(K220,Feuil2!$F$10:$P$28,11),IF(AND(J220>=1936,J220<1942),VLOOKUP(K220,Feuil2!$F$10:$P$28,10),IF(AND(J220>=1942,J220<1947),VLOOKUP(K220,Feuil2!$F$10:$P$28,9),IF(AND(J220>=1947,J220<1952),VLOOKUP(K220,Feuil2!$F$10:$P$28,8),IF(AND(J220>=1952,J220<1957),VLOOKUP(K220,Feuil2!$F$10:$P$28,7),IF(AND(J220>=1957,J220<1962),VLOOKUP(K220,Feuil2!$F$10:$P$28,6),IF(AND(J220>=1962,J220<1967),VLOOKUP(K220,Feuil2!$F$10:$P$28,5),IF(AND(J220>=1967,J220<1972),VLOOKUP(K220,Feuil2!$F$10:$P$28,4),IF(AND(J220>=1972,J220<1977),VLOOKUP(K220,Feuil2!$F$10:$P$28,3),IF(AND(J220>=1977,J220<1982),VLOOKUP(K220,Feuil2!$F$10:$P$28,2),VLOOKUP(K220,Feuil2!$F$10:$P$28,2))))))))))))","v":{"$error":"#N/A"}},null,{"$f":"T220-HLOOKUP(Y220,Feuil2!$C$1:$CD$9,2,FALSE)","v":{"$error":"#VALUE!"}},{"$f":"T220-HLOOKUP(Y220,Feuil2!$C$1:$CD$9,3,FALSE)","v":{"$error":"#VALUE!"}},{"$f":"T220-HLOOKUP(Y220,Feuil2!$C$1:$CD$9,4,FALSE)","v":{"$error":"#VALUE!"}},{"$f":"T220-HLOOKUP(Y220,Feuil2!$C$1:$CD$9,5,FALSE)","v":{"$error":"#VALUE!"}},{"$f":"T220-HLOOKUP(Y220,Feuil2!$C$1:$CD$9,6,FALSE)","v":{"$error":"#VALUE!"}},{"$f":"T220-HLOOKUP(Y220,Feuil2!$C$1:$CD$9,7,FALSE)","v":{"$error":"#VALUE!"}},{"$f":"T220-HLOOKUP(Y220,Feuil2!$C$1:$CD$9,8,FALSE)","v":{"$error":"#VALUE!"}},{"$f":"T220-HLOOKUP(Y220,Feuil2!$C$1:$CD$9,9,FALSE)","v":{"$error":"#VALUE!"}},null,null,null,null,null,null,null,{"$error":"#VALUE!"},2016,null,{"$f":"IF(AQ220,VLOOKUP(AQ220,HOM!$AS$561:$AT$616,2))","v":3.5710000000000002}]
["H",null,null,null,null,null,null,null,null,null,null,null,null,null,"",null,null,null,"","","","","",{"$error":"#N/A"},{"$f":"IF(AND(J221<1920),VLOOKUP(K221,Feuil2!$F$10:$P$28,11),IF(AND(J221>=1920,J221<1937),VLOOKUP(K221,Feuil2!$F$10:$P$28,11),IF(AND(J221>=1936,J221<1942),VLOOKUP(K221,Feuil2!$F$10:$P$28,10),IF(AND(J221>=1942,J221<1947),VLOOKUP(K221,Feuil2!$F$10:$P$28,9),IF(AND(J221>=1947,J221<1952),VLOOKUP(K221,Feuil2!$F$10:$P$28,8),IF(AND(J221>=1952,J221<1957),VLOOKUP(K221,Feuil2!$F$10:$P$28,7),IF(AND(J221>=1957,J221<1962),VLOOKUP(K221,Feuil2!$F$10:$P$28,6),IF(AND(J221>=1962,J221<1967),VLOOKUP(K221,Feuil2!$F$10:$P$28,5),IF(AND(J221>=1967,J221<1972),VLOOKUP(K221,Feuil2!$F$10:$P$28,4),IF(AND(J221>=1972,J221<1977),VLOOKUP(K221,Feuil2!$F$10:$P$28,3),IF(AND(J221>=1977,J221<1982),VLOOKUP(K221,Feuil2!$F$10:$P$28,2),VLOOKUP(K221,Feuil2!$F$10:$P$28,2))))))))))))","v":{"$error":"#N/A"}},null,{"$f":"T221-HLOOKUP(Y221,Feuil2!$C$1:$CD$9,2,FALSE)","v":{"$error":"#VALUE!"}},{"$f":"T221-HLOOKUP(Y221,Feuil2!$C$1:$CD$9,3,FALSE)","v":{"$error":"#VALUE!"}},{"$f":"T221-HLOOKUP(Y221,Feuil2!$C$1:$CD$9,4,FALSE)","v":{"$error":"#VALUE!"}},{"$f":"T221-HLOOKUP(Y221,Feuil2!$C$1:$CD$9,5,FALSE)","v":{"$error":"#VALUE!"}},{"$f":"T221-HLOOKUP(Y221,Feuil2!$C$1:$CD$9,6,FALSE)","v":{"$error":"#VALUE!"}},{"$f":"T221-HLOOKUP(Y221,Feuil2!$C$1:$CD$9,7,FALSE)","v":{"$error":"#VALUE!"}},{"$f":"T221-HLOOKUP(Y221,Feuil2!$C$1:$CD$9,8,FALSE)","v":{"$error":"#VALUE!"}},{"$f":"T221-HLOOKUP(Y221,Feuil2!$C$1:$CD$9,9,FALSE)","v":{"$error":"#VALUE!"}},null,null,null,null,null,null,null,{"$error":"#VALUE!"},2016,null,{"$f":"IF(AQ221,VLOOKUP(AQ221,HOM!$AS$561:$AT$616,2))","v":3.5710000000000002}]
["H",null,null,null,null,null,null,null,null,null,null,null,null,null,"",null,null,null,"","","","","",{"$error":"#N/A"},{"$f":"IF(AND(J222<1920),VLOOKUP(K222,Feuil2!$F$10:$P$28,11),IF(AND(J222>=1920,J222<1937),VLOOKUP(K222,Feuil2!$F$10:$P$28,11),IF(AND(J222>=1936,J222<1942),VLOOKUP(K222,Feuil2!$F$10:$P$28,10),IF(AND(J222>=1942,J222<1947),VLOOKUP(K222,Feuil2!$F$10:$P$28,9),IF(AND(J222>=1947,J222<1952),VLOOKUP(K222,Feuil2!$F$10:$P$28,8),IF(AND(J222>=1952,J222<1957),VLOOKUP(K222,Feuil2!$F$10:$P$28,7),IF(AND(J222>=1957,J222<1962),VLOOKUP(K222,Feuil2!$F$10:$P$28,6),IF(AND(J222>=1962,J222<1967),VLOOKUP(K222,Feuil2!$F$10:$P$28,5),IF(AND(J222>=1967,J222<1972),VLOOKUP(K222,Feuil2!$F$10:$P$28,4),IF(AND(J222>=1972,J222<1977),VLOOKUP(K222,Feuil2!$F$10:$P$28,3),IF(AND(J222>=1977,J222<1982),VLOOKUP(K222,Feuil2!$F$10:$P$28,2),VLOOKUP(K222,Feuil2!$F$10:$P$28,2))))))))))))","v":{"$error":"#N/A"}},null,{"$f":"T222-HLOOKUP(Y222,Feuil2!$C$1:$CD$9,2,FALSE)","v":{"$error":"#VALUE!"}},{"$f":"T222-HLOOKUP(Y222,Feuil2!$C$1:$CD$9,3,FALSE)","v":{"$error":"#VALUE!"}},{"$f":"T222-HLOOKUP(Y222,Feuil2!$C$1:$CD$9,4,FALSE)","v":{"$error":"#VALUE!"}},{"$f":"T222-HLOOKUP(Y222,Feuil2!$C$1:$CD$9,5,FALSE)","v":{"$error":"#VALUE!"}},{"$f":"T222-HLOOKUP(Y222,Feuil2!$C$1:$CD$9,6,FALSE)","v":{"$error":"#VALUE!"}},{"$f":"T222-HLOOKUP(Y222,Feuil2!$C$1:$CD$9,7,FALSE)","v":{"$error":"#VALUE!"}},{"$f":"T222-HLOOKUP(Y222,Feuil2!$C$1:$CD$9,8,FALSE)","v":{"$error":"#VALUE!"}},{"$f":"T222-HLOOKUP(Y222,Feuil2!$C$1:$CD$9,9,FALSE)","v":{"$error":"#VALUE!"}},null,null,null,null,null,null,null,{"$error":"#VALUE!"},2016,null,{"$f":"IF(AQ222,VLOOKUP(AQ222,HOM!$AS$561:$AT$616,2))","v":3.5710000000000002}]
["H",null,null,null,null,null,null,null,null,null,null,null,null,null,"",null,null,null,"","","","","",{"$error":"#N/A"},{"$f":"IF(AND(J223<1920),VLOOKUP(K223,Feuil2!$F$10:$P$28,11),IF(AND(J223>=1920,J223<1937),VLOOKUP(K223,Feuil2!$F$10:$P$28,11),IF(AND(J223>=1936,J223<1942),VLOOKUP(K223,Feuil2!$F$10:$P$28,10),IF(AND(J223>=1942,J223<1947),VLOOKUP(K223,Feuil2!$F$10:$P$28,9),IF(AND(J223>=1947,J223<1952),VLOOKUP(K223,Feuil2!$F$10:$P$28,8),IF(AND(J223>=1952,J223<1957),VLOOKUP(K223,Feuil2!$F$10:$P$28,7),IF(AND(J223>=1957,J223<1962),VLOOKUP(K223,Feuil2!$F$10:$P$28,6),IF(AND(J223>=1962,J223<1967),VLOOKUP(K223,Feuil2!$F$10:$P$28,5),IF(AND(J223>=1967,J223<1972),VLOOKUP(K223,Feuil2!$F$10:$P$28,4),IF(AND(J223>=1972,J223<1977),VLOOKUP(K223,Feuil2!$F$10:$P$28,3),IF(AND(J223>=1977,J223<1982),VLOOKUP(K223,Feuil2!$F$10:$P$28,2),VLOOKUP(K223,Feuil2!$F$10:$P$28,2))))))))))))","v":{"$error":"#N/A"}},null,{"$f":"T223-HLOOKUP(Y223,Feuil2!$C$1:$CD$9,2,FALSE)","v":{"$error":"#VALUE!"}},{"$f":"T223-HLOOKUP(Y223,Feuil2!$C$1:$CD$9,3,FALSE)","v":{"$error":"#VALUE!"}},{"$f":"T223-HLOOKUP(Y223,Feuil2!$C$1:$CD$9,4,FALSE)","v":{"$error":"#VALUE!"}},{"$f":"T223-HLOOKUP(Y223,Feuil2!$C$1:$CD$9,5,FALSE)","v":{"$error":"#VALUE!"}},{"$f":"T223-HLOOKUP(Y223,Feuil2!$C$1:$CD$9,6,FALSE)","v":{"$error":"#VALUE!"}},{"$f":"T223-HLOOKUP(Y223,Feuil2!$C$1:$CD$9,7,FALSE)","v":{"$error":"#VALUE!"}},{"$f":"T223-HLOOKUP(Y223,Feuil2!$C$1:$CD$9,8,FALSE)","v":{"$error":"#VALUE!"}},{"$f":"T223-HLOOKUP(Y223,Feuil2!$C$1:$CD$9,9,FALSE)","v":{"$error":"#VALUE!"}},null,null,null,null,null,null,null,{"$error":"#VALUE!"},2016,null,{"$f":"IF(AQ223,VLOOKUP(AQ223,HOM!$AS$561:$AT$616,2))","v":3.5710000000000002}]
["H",null,null,null,null,null,null,null,null,null,null,null,null,null,"",null,null,null,"","","","","",{"$error":"#N/A"},{"$f":"IF(AND(J224<1920),VLOOKUP(K224,Feuil2!$F$10:$P$28,11),IF(AND(J224>=1920,J224<1937),VLOOKUP(K224,Feuil2!$F$10:$P$28,11),IF(AND(J224>=1936,J224<1942),VLOOKUP(K224,Feuil2!$F$10:$P$28,10),IF(AND(J224>=1942,J224<1947),VLOOKUP(K224,Feuil2!$F$10:$P$28,9),IF(AND(J224>=1947,J224<1952),VLOOKUP(K224,Feuil2!$F$10:$P$28,8),IF(AND(J224>=1952,J224<1957),VLOOKUP(K224,Feuil2!$F$10:$P$28,7),IF(AND(J224>=1957,J224<1962),VLOOKUP(K224,Feuil2!$F$10:$P$28,6),IF(AND(J224>=1962,J224<1967),VLOOKUP(K224,Feuil2!$F$10:$P$28,5),IF(AND(J224>=1967,J224<1972),VLOOKUP(K224,Feuil2!$F$10:$P$28,4),IF(AND(J224>=1972,J224<1977),VLOOKUP(K224,Feuil2!$F$10:$P$28,3),IF(AND(J224>=1977,J224<1982),VLOOKUP(K224,Feuil2!$F$10:$P$28,2),VLOOKUP(K224,Feuil2!$F$10:$P$28,2))))))))))))","v":{"$error":"#N/A"}},null,{"$f":"T224-HLOOKUP(Y224,Feuil2!$C$1:$CD$9,2,FALSE)","v":{"$error":"#VALUE!"}},{"$f":"T224-HLOOKUP(Y224,Feuil2!$C$1:$CD$9,3,FALSE)","v":{"$error":"#VALUE!"}},{"$f":"T224-HLOOKUP(Y224,Feuil2!$C$1:$CD$9,4,FALSE)","v":{"$error":"#VALUE!"}},{"$f":"T224-HLOOKUP(Y224,Feuil2!$C$1:$CD$9,5,FALSE)","v":{"$error":"#VALUE!"}},{"$f":"T224-HLOOKUP(Y224,Feuil2!$C$1:$CD$9,6,FALSE)","v":{"$error":"#VALUE!"}},{"$f":"T224-HLOOKUP(Y224,Feuil2!$C$1:$CD$9,7,FALSE)","v":{"$error":"#VALUE!"}},{"$f":"T224-HLOOKUP(Y224,Feuil2!$C$1:$CD$9,8,FALSE)","v":{"$error":"#VALUE!"}},{"$f":"T224-HLOOKUP(Y224,Feuil2!$C$1:$CD$9,9,FALSE)","v":{"$error":"#VALUE!"}},null,null,null,null,null,null,null,{"$error":"#VALUE!"},2016,null,{"$f":"IF(AQ224,VLOOKUP(AQ224,HOM!$AS$561:$AT$616,2))","v":3.5710000000000002}]
["H",null,null,null,null,null,null,null,null,null,null,null,null,null,"",null,null,null,{"$f":"IF(K225=\"\",\"\",IF(MAXA(P225:R225)<=0,0,MAXA(P225:R225)))","v":""},{"$f":"IF(K225=\"\",\"\",IF(OR(O225=0,S225=0),0,O225+S225))","v":""},"","","",{"$error":"#N/A"},{"$f":"IF(AND(J225<1920),VLOOKUP(K225,Feuil2!$F$10:$P$28,11),IF(AND(J225>=1920,J225<1937),VLOOKUP(K225,Feuil2!$F$10:$P$28,11),IF(AND(J225>=1936,J225<1942),VLOOKUP(K225,Feuil2!$F$10:$P$28,10),IF(AND(J225>=1942,J225<1947),VLOOKUP(K225,Feuil2!$F$10:$P$28,9),IF(AND(J225>=1947,J225<1952),VLOOKUP(K225,Feuil2!$F$10:$P$28,8),IF(AND(J225>=1952,J225<1957),VLOOKUP(K225,Feuil2!$F$10:$P$28,7),IF(AND(J225>=1957,J225<1962),VLOOKUP(K225,Feuil2!$F$10:$P$28,6),IF(AND(J225>=1962,J225<1967),VLOOKUP(K225,Feuil2!$F$10:$P$28,5),IF(AND(J225>=1967,J225<1972),VLOOKUP(K225,Feuil2!$F$10:$P$28,4),IF(AND(J225>=1972,J225<1977),VLOOKUP(K225,Feuil2!$F$10:$P$28,3),IF(AND(J225>=1977,J225<1982),VLOOKUP(K225,Feuil2!$F$10:$P$28,2),VLOOKUP(K225,Feuil2!$F$10:$P$28,2))))))))))))","v":{"$error":"#N/A"}},null,{"$f":"T225-HLOOKUP(Y225,Feuil2!$C$1:$CD$9,2,FALSE)","v":{"$error":"#VALUE!"}},{"$f":"T225-HLOOKUP(Y225,Feuil2!$C$1:$CD$9,3,FALSE)","v":{"$error":"#VALUE!"}},{"$f":"T225-HLOOKUP(Y225,Feuil2!$C$1:$CD$9,4,FALSE)","v":{"$error":"#VALUE!"}},{"$f":"T225-HLOOKUP(Y225,Feuil2!$C$1:$CD$9,5,FALSE)","v":{"$error":"#VALUE!"}},{"$f":"T225-HLOOKUP(Y225,Feuil2!$C$1:$CD$9,6,FALSE)","v":{"$error":"#VALUE!"}},{"$f":"T225-HLOOKUP(Y225,Feuil2!$C$1:$CD$9,7,FALSE)","v":{"$error":"#VALUE!"}},{"$f":"T225-HLOOKUP(Y225,Feuil2!$C$1:$CD$9,8,FALSE)","v":{"$error":"#VALUE!"}},{"$f":"T225-HLOOKUP(Y225,Feuil2!$C$1:$CD$9,9,FALSE)","v":{"$error":"#VALUE!"}},null,null,null,null,null,null,null,{"$error":"#VALUE!"},2016,null,{"$f":"IF(AQ225,VLOOKUP(AQ225,HOM!$AS$561:$AT$616,2))","v":3.5710000000000002}]
["H",null,null,null,null,null,null,null,null,null,null,null,null,null,{"$f":"IF(K226=\"\",\"\",IF(MAXA(L226:N226)<=0,0,MAXA(L226:N226)))","v":""},null,null,null,{"$f":"IF(K226=\"\",\"\",IF(MAXA(P226:R226)<=0,0,MAXA(P226:R226)))","v":""},{"$f":"IF(K226=\"\",\"\",IF(OR(O226=0,S226=0),0,O226+S226))","v":""},"","","",{"$f":"IF(BI226<95,IF(BI226<=90,VLOOKUP(BI226,$AQ$560:$AR$615,2)))","v":{"$error":"#N/A"}},{"$f":"IF(AND(J226<1920),VLOOKUP(K226,Feuil2!$F$10:$P$28,11),IF(AND(J226>=1920,J226<1937),VLOOKUP(K226,Feuil2!$F$10:$P$28,11),IF(AND(J226>=1936,J226<1942),VLOOKUP(K226,Feuil2!$F$10:$P$28,10),IF(AND(J226>=1942,J226<1947),VLOOKUP(K226,Feuil2!$F$10:$P$28,9),IF(AND(J226>=1947,J226<1952),VLOOKUP(K226,Feuil2!$F$10:$P$28,8),IF(AND(J226>=1952,J226<1957),VLOOKUP(K226,Feuil2!$F$10:$P$28,7),IF(AND(J226>=1957,J226<1962),VLOOKUP(K226,Feuil2!$F$10:$P$28,6),IF(AND(J226>=1962,J226<1967),VLOOKUP(K226,Feuil2!$F$10:$P$28,5),IF(AND(J226>=1967,J226<1972),VLOOKUP(K226,Feuil2!$F$10:$P$28,4),IF(AND(J226>=1972,J226<1977),VLOOKUP(K226,Feuil2!$F$10:$P$28,3),IF(AND(J226>=1977,J226<1982),VLOOKUP(K226,Feuil2!$F$10:$P$28,2),VLOOKUP(K226,Feuil2!$F$10:$P$28,2))))))))))))","v":{"$error":"#N/A"}},null,{"$f":"T226-HLOOKUP(Y226,Feuil2!$C$1:$CD$9,2,FALSE)","v":{"$error":"#VALUE!"}},{"$f":"T226-HLOOKUP(Y226,Feuil2!$C$1:$CD$9,3,FALSE)","v":{"$error":"#VALUE!"}},{"$f":"T226-HLOOKUP(Y226,Feuil2!$C$1:$CD$9,4,FALSE)","v":{"$error":"#VALUE!"}},{"$f":"T226-HLOOKUP(Y226,Feuil2!$C$1:$CD$9,5,FALSE)","v":{"$error":"#VALUE!"}},{"$f":"T226-HLOOKUP(Y226,Feuil2!$C$1:$CD$9,6,FALSE)","v":{"$error":"#VALUE!"}},{"$f":"T226-HLOOKUP(Y226,Feuil2!$C$1:$CD$9,7,FALSE)","v":{"$error":"#VALUE!"}},{"$f":"T226-HLOOKUP(Y226,Feuil2!$C$1:$CD$9,8,FALSE)","v":{"$error":"#VALUE!"}},{"$f":"T226-HLOOKUP(Y226,Feuil2!$C$1:$CD$9,9,FALSE)","v":{"$error":"#VALUE!"}},null,null,null,null,null,null,null,{"$error":"#VALUE!"},2016,null,{"$f":"IF(AQ226,VLOOKUP(AQ226,HOM!$AS$561:$AT$616,2))","v":3.5710000000000002}]
["H",null,null,null,null,null,null,null,null,null,null,null,null,null,"",null,null,null,"","","","","",{"$error":"#N/A"},{"$f":"IF(AND(J227<1920),VLOOKUP(K227,Feuil2!$F$10:$P$28,11),IF(AND(J227>=1920,J227<1937),VLOOKUP(K227,Feuil2!$F$10:$P$28,11),IF(AND(J227>=1936,J227<1942),VLOOKUP(K227,Feuil2!$F$10:$P$28,10),IF(AND(J227>=1942,J227<1947),VLOOKUP(K227,Feuil2!$F$10:$P$28,9),IF(AND(J227>=1947,J227<1952),VLOOKUP(K227,Feuil2!$F$10:$P$28,8),IF(AND(J227>=1952,J227<1957),VLOOKUP(K227,Feuil2!$F$10:$P$28,7),IF(AND(J227>=1957,J227<1962),VLOOKUP(K227,Feuil2!$F$10:$P$28,6),IF(AND(J227>=1962,J227<1967),VLOOKUP(K227,Feuil2!$F$10:$P$28,5),IF(AND(J227>=1967,J227<1972),VLOOKUP(K227,Feuil2!$F$10:$P$28,4),IF(AND(J227>=1972,J227<1977),VLOOKUP(K227,Feuil2!$F$10:$P$28,3),IF(AND(J227>=1977,J227<1982),VLOOKUP(K227,Feuil2!$F$10:$P$28,2),VLOOKUP(K227,Feuil2!$F$10:$P$28,2))))))))))))","v":{"$error":"#N/A"}},null,{"$f":"T227-HLOOKUP(Y227,Feuil2!$C$1:$CD$9,2,FALSE)","v":{"$error":"#VALUE!"}},{"$f":"T227-HLOOKUP(Y227,Feuil2!$C$1:$CD$9,3,FALSE)","v":{"$error":"#VALUE!"}},{"$f":"T227-HLOOKUP(Y227,Feuil2!$C$1:$CD$9,4,FALSE)","v":{"$error":"#VALUE!"}},{"$f":"T227-HLOOKUP(Y227,Feuil2!$C$1:$CD$9,5,FALSE)","v":{"$error":"#VALUE!"}},{"$f":"T227-HLOOKUP(Y227,Feuil2!$C$1:$CD$9,6,FALSE)","v":{"$error":"#VALUE!"}},{"$f":"T227-HLOOKUP(Y227,Feuil2!$C$1:$CD$9,7,FALSE)","v":{"$error":"#VALUE!"}},{"$f":"T227-HLOOKUP(Y227,Feuil2!$C$1:$CD$9,8,FALSE)","v":{"$error":"#VALUE!"}},{"$f":"T227-HLOOKUP(Y227,Feuil2!$C$1:$CD$9,9,FALSE)","v":{"$error":"#VALUE!"}},null,null,null,null,null,null,null,{"$error":"#VALUE!"},2016,null,{"$f":"IF(AQ227,VLOOKUP(AQ227,HOM!$AS$561:$AT$616,2))","v":3.5710000000000002}]
["H",null,null,null,null,null,null,null,null,null,null,null,null,null,"",null,null,null,"","","","","",{"$error":"#N/A"},{"$f":"IF(AND(J228<1920),VLOOKUP(K228,Feuil2!$F$10:$P$28,11),IF(AND(J228>=1920,J228<1937),VLOOKUP(K228,Feuil2!$F$10:$P$28,11),IF(AND(J228>=1936,J228<1942),VLOOKUP(K228,Feuil2!$F$10:$P$28,10),IF(AND(J228>=1942,J228<1947),VLOOKUP(K228,Feuil2!$F$10:$P$28,9),IF(AND(J228>=1947,J228<1952),VLOOKUP(K228,Feuil2!$F$10:$P$28,8),IF(AND(J228>=1952,J228<1957),VLOOKUP(K228,Feuil2!$F$10:$P$28,7),IF(AND(J228>=1957,J228<1962),VLOOKUP(K228,Feuil2!$F$10:$P$28,6),IF(AND(J228>=1962,J228<1967),VLOOKUP(K228,Feuil2!$F$10:$P$28,5),IF(AND(J228>=1967,J228<1972),VLOOKUP(K228,Feuil2!$F$10:$P$28,4),IF(AND(J228>=1972,J228<1977),VLOOKUP(K228,Feuil2!$F$10:$P$28,3),IF(AND(J228>=1977,J228<1982),VLOOKUP(K228,Feuil2!$F$10:$P$28,2),VLOOKUP(K228,Feuil2!$F$10:$P$28,2))))))))))))","v":{"$error":"#N/A"}},null,{"$f":"T228-HLOOKUP(Y228,Feuil2!$C$1:$CD$9,2,FALSE)","v":{"$error":"#VALUE!"}},{"$f":"T228-HLOOKUP(Y228,Feuil2!$C$1:$CD$9,3,FALSE)","v":{"$error":"#VALUE!"}},{"$f":"T228-HLOOKUP(Y228,Feuil2!$C$1:$CD$9,4,FALSE)","v":{"$error":"#VALUE!"}},{"$f":"T228-HLOOKUP(Y228,Feuil2!$C$1:$CD$9,5,FALSE)","v":{"$error":"#VALUE!"}},{"$f":"T228-HLOOKUP(Y228,Feuil2!$C$1:$CD$9,6,FALSE)","v":{"$error":"#VALUE!"}},{"$f":"T228-HLOOKUP(Y228,Feuil2!$C$1:$CD$9,7,FALSE)","v":{"$error":"#VALUE!"}},{"$f":"T228-HLOOKUP(Y228,Feuil2!$C$1:$CD$9,8,FALSE)","v":{"$error":"#VALUE!"}},{"$f":"T228-HLOOKUP(Y228,Feuil2!$C$1:$CD$9,9,FALSE)","v":{"$error":"#VALUE!"}},null,null,null,null,null,null,null,{"$error":"#VALUE!"},2016,null,{"$f":"IF(AQ228,VLOOKUP(AQ228,HOM!$AS$561:$AT$616,2))","v":3.5710000000000002}]
["H",null,null,null,null,null,null,null,null,null,null,null,null,null,"",null,null,null,"","","","","",{"$error":"#N/A"},{"$f":"IF(AND(J229<1920),VLOOKUP(K229,Feuil2!$F$10:$P$28,11),IF(AND(J229>=1920,J229<1937),VLOOKUP(K229,Feuil2!$F$10:$P$28,11),IF(AND(J229>=1936,J229<1942),VLOOKUP(K229,Feuil2!$F$10:$P$28,10),IF(AND(J229>=1942,J229<1947),VLOOKUP(K229,Feuil2!$F$10:$P$28,9),IF(AND(J229>=1947,J229<1952),VLOOKUP(K229,Feuil2!$F$10:$P$28,8),IF(AND(J229>=1952,J229<1957),VLOOKUP(K229,Feuil2!$F$10:$P$28,7),IF(AND(J229>=1957,J229<1962),VLOOKUP(K229,Feuil2!$F$10:$P$28,6),IF(AND(J229>=1962,J229<1967),VLOOKUP(K229,Feuil2!$F$10:$P$28,5),IF(AND(J229>=1967,J229<1972),VLOOKUP(K229,Feuil2!$F$10:$P$28,4),IF(AND(J229>=1972,J229<1977),VLOOKUP(K229,Feuil2!$F$10:$P$28,3),IF(AND(J229>=1977,J229<1982),VLOOKUP(K229,Feuil2!$F$10:$P$28,2),VLOOKUP(K229,Feuil2!$F$10:$P$28,2))))))))))))","v":{"$error":"#N/A"}},null,{"$f":"T229-HLOOKUP(Y229,Feuil2!$C$1:$CD$9,2,FALSE)","v":{"$error":"#VALUE!"}},{"$f":"T229-HLOOKUP(Y229,Feuil2!$C$1:$CD$9,3,FALSE)","v":{"$error":"#VALUE!"}},{"$f":"T229-HLOOKUP(Y229,Feuil2!$C$1:$CD$9,4,FALSE)","v":{"$error":"#VALUE!"}},{"$f":"T229-HLOOKUP(Y229,Feuil2!$C$1:$CD$9,5,FALSE)","v":{"$error":"#VALUE!"}},{"$f":"T229-HLOOKUP(Y229,Feuil2!$C$1:$CD$9,6,FALSE)","v":{"$error":"#VALUE!"}},{"$f":"T229-HLOOKUP(Y229,Feuil2!$C$1:$CD$9,7,FALSE)","v":{"$error":"#VALUE!"}},{"$f":"T229-HLOOKUP(Y229,Feuil2!$C$1:$CD$9,8,FALSE)","v":{"$error":"#VALUE!"}},{"$f":"T229-HLOOKUP(Y229,Feuil2!$C$1:$CD$9,9,FALSE)","v":{"$error":"#VALUE!"}},null,null,null,null,null,null,null,{"$error":"#VALUE!"},2016,null,{"$f":"IF(AQ229,VLOOKUP(AQ229,HOM!$AS$561:$AT$616,2))","v":3.5710000000000002}]
["H",null,null,null,null,null,null,null,null,null,null,null,null,null,"",null,null,null,"","","","","",{"$error":"#N/A"},{"$f":"IF(AND(J230<1920),VLOOKUP(K230,Feuil2!$F$10:$P$28,11),IF(AND(J230>=1920,J230<1937),VLOOKUP(K230,Feuil2!$F$10:$P$28,11),IF(AND(J230>=1936,J230<1942),VLOOKUP(K230,Feuil2!$F$10:$P$28,10),IF(AND(J230>=1942,J230<1947),VLOOKUP(K230,Feuil2!$F$10:$P$28,9),IF(AND(J230>=1947,J230<1952),VLOOKUP(K230,Feuil2!$F$10:$P$28,8),IF(AND(J230>=1952,J230<1957),VLOOKUP(K230,Feuil2!$F$10:$P$28,7),IF(AND(J230>=1957,J230<1962),VLOOKUP(K230,Feuil2!$F$10:$P$28,6),IF(AND(J230>=1962,J230<1967),VLOOKUP(K230,Feuil2!$F$10:$P$28,5),IF(AND(J230>=1967,J230<1972),VLOOKUP(K230,Feuil2!$F$10:$P$28,4),IF(AND(J230>=1972,J230<1977),VLOOKUP(K230,Feuil2!$F$10:$P$28,3),IF(AND(J230>=1977,J230<1982),VLOOKUP(K230,Feuil2!$F$10:$P$28,2),VLOOKUP(K230,Feuil2!$F$10:$P$28,2))))))))))))","v":{"$error":"#N/A"}},null,{"$f":"T230-HLOOKUP(Y230,Feuil2!$C$1:$CD$9,2,FALSE)","v":{"$error":"#VALUE!"}},{"$f":"T230-HLOOKUP(Y230,Feuil2!$C$1:$CD$9,3,FALSE)","v":{"$error":"#VALUE!"}},{"$f":"T230-HLOOKUP(Y230,Feuil2!$C$1:$CD$9,4,FALSE)","v":{"$error":"#VALUE!"}},{"$f":"T230-HLOOKUP(Y230,Feuil2!$C$1:$CD$9,5,FALSE)","v":{"$error":"#VALUE!"}},{"$f":"T230-HLOOKUP(Y230,Feuil2!$C$1:$CD$9,6,FALSE)","v":{"$error":"#VALUE!"}},{"$f":"T230-HLOOKUP(Y230,Feuil2!$C$1:$CD$9,7,FALSE)","v":{"$error":"#VALUE!"}},{"$f":"T230-HLOOKUP(Y230,Feuil2!$C$1:$CD$9,8,FALSE)","v":{"$error":"#VALUE!"}},{"$f":"T230-HLOOKUP(Y230,Feuil2!$C$1:$CD$9,9,FALSE)","v":{"$error":"#VALUE!"}},null,null,null,null,null,null,null,{"$error":"#VALUE!"},2016,null,{"$f":"IF(AQ230,VLOOKUP(AQ230,HOM!$AS$561:$AT$616,2))","v":3.5710000000000002}]
["H",null,null,null,null,null,null,null,null,null,null,null,null,null,"",null,null,null,"","","","","",{"$error":"#N/A"},{"$f":"IF(AND(J231<1920),VLOOKUP(K231,Feuil2!$F$10:$P$28,11),IF(AND(J231>=1920,J231<1937),VLOOKUP(K231,Feuil2!$F$10:$P$28,11),IF(AND(J231>=1936,J231<1942),VLOOKUP(K231,Feuil2!$F$10:$P$28,10),IF(AND(J231>=1942,J231<1947),VLOOKUP(K231,Feuil2!$F$10:$P$28,9),IF(AND(J231>=1947,J231<1952),VLOOKUP(K231,Feuil2!$F$10:$P$28,8),IF(AND(J231>=1952,J231<1957),VLOOKUP(K231,Feuil2!$F$10:$P$28,7),IF(AND(J231>=1957,J231<1962),VLOOKUP(K231,Feuil2!$F$10:$P$28,6),IF(AND(J231>=1962,J231<1967),VLOOKUP(K231,Feuil2!$F$10:$P$28,5),IF(AND(J231>=1967,J231<1972),VLOOKUP(K231,Feuil2!$F$10:$P$28,4),IF(AND(J231>=1972,J231<1977),VLOOKUP(K231,Feuil2!$F$10:$P$28,3),IF(AND(J231>=1977,J231<1982),VLOOKUP(K231,Feuil2!$F$10:$P$28,2),VLOOKUP(K231,Feuil2!$F$10:$P$28,2))))))))))))","v":{"$error":"#N/A"}},null,{"$f":"T231-HLOOKUP(Y231,Feuil2!$C$1:$CD$9,2,FALSE)","v":{"$error":"#VALUE!"}},{"$f":"T231-HLOOKUP(Y231,Feuil2!$C$1:$CD$9,3,FALSE)","v":{"$error":"#VALUE!"}},{"$f":"T231-HLOOKUP(Y231,Feuil2!$C$1:$CD$9,4,FALSE)","v":{"$error":"#VALUE!"}},{"$f":"T231-HLOOKUP(Y231,Feuil2!$C$1:$CD$9,5,FALSE)","v":{"$error":"#VALUE!"}},{"$f":"T231-HLOOKUP(Y231,Feuil2!$C$1:$CD$9,6,FALSE)","v":{"$error":"#VALUE!"}},{"$f":"T231-HLOOKUP(Y231,Feuil2!$C$1:$CD$9,7,FALSE)","v":{"$error":"#VALUE!"}},{"$f":"T231-HLOOKUP(Y231,Feuil2!$C$1:$CD$9,8,FALSE)","v":{"$error":"#VALUE!"}},{"$f":"T231-HLOOKUP(Y231,Feuil2!$C$1:$CD$9,9,FALSE)","v":{"$error":"#VALUE!"}},null,null,null,null,null,null,null,{"$error":"#VALUE!"},2016,null,{"$f":"IF(AQ231,VLOOKUP(AQ231,HOM!$AS$561:$AT$616,2))","v":3.5710000000000002}]
["H",null,null,null,null,null,null,null,null,null,null,null,null,null,"",null,null,null,"","","","","",{"$error":"#N/A"},{"$f":"IF(AND(J232<1920),VLOOKUP(K232,Feuil2!$F$10:$P$28,11),IF(AND(J232>=1920,J232<1937),VLOOKUP(K232,Feuil2!$F$10:$P$28,11),IF(AND(J232>=1936,J232<1942),VLOOKUP(K232,Feuil2!$F$10:$P$28,10),IF(AND(J232>=1942,J232<1947),VLOOKUP(K232,Feuil2!$F$10:$P$28,9),IF(AND(J232>=1947,J232<1952),VLOOKUP(K232,Feuil2!$F$10:$P$28,8),IF(AND(J232>=1952,J232<1957),VLOOKUP(K232,Feuil2!$F$10:$P$28,7),IF(AND(J232>=1957,J232<1962),VLOOKUP(K232,Feuil2!$F$10:$P$28,6),IF(AND(J232>=1962,J232<1967),VLOOKUP(K232,Feuil2!$F$10:$P$28,5),IF(AND(J232>=1967,J232<1972),VLOOKUP(K232,Feuil2!$F$10:$P$28,4),IF(AND(J232>=1972,J232<1977),VLOOKUP(K232,Feuil2!$F$10:$P$28,3),IF(AND(J232>=1977,J232<1982),VLOOKUP(K232,Feuil2!$F$10:$P$28,2),VLOOKUP(K232,Feuil2!$F$10:$P$28,2))))))))))))","v":{"$error":"#N/A"}},null,{"$f":"T232-HLOOKUP(Y232,Feuil2!$C$1:$CD$9,2,FALSE)","v":{"$error":"#VALUE!"}},{"$f":"T232-HLOOKUP(Y232,Feuil2!$C$1:$CD$9,3,FALSE)","v":{"$error":"#VALUE!"}},{"$f":"T232-HLOOKUP(Y232,Feuil2!$C$1:$CD$9,4,FALSE)","v":{"$error":"#VALUE!"}},{"$f":"T232-HLOOKUP(Y232,Feuil2!$C$1:$CD$9,5,FALSE)","v":{"$error":"#VALUE!"}},{"$f":"T232-HLOOKUP(Y232,Feuil2!$C$1:$CD$9,6,FALSE)","v":{"$error":"#VALUE!"}},{"$f":"T232-HLOOKUP(Y232,Feuil2!$C$1:$CD$9,7,FALSE)","v":{"$error":"#VALUE!"}},{"$f":"T232-HLOOKUP(Y232,Feuil2!$C$1:$CD$9,8,FALSE)","v":{"$error":"#VALUE!"}},{"$f":"T232-HLOOKUP(Y232,Feuil2!$C$1:$CD$9,9,FALSE)","v":{"$error":"#VALUE!"}},null,null,null,null,null,null,null,{"$error":"#VALUE!"},2016,null,{"$f":"IF(AQ232,VLOOKUP(AQ232,HOM!$AS$561:$AT$616,2))","v":3.5710000000000002}]
["H",null,null,null,null,null,null,null,null,null,null,null,null,null,"",null,null,null,"","","","","",{"$error":"#N/A"},{"$f":"IF(AND(J233<1920),VLOOKUP(K233,Feuil2!$F$10:$P$28,11),IF(AND(J233>=1920,J233<1937),VLOOKUP(K233,Feuil2!$F$10:$P$28,11),IF(AND(J233>=1936,J233<1942),VLOOKUP(K233,Feuil2!$F$10:$P$28,10),IF(AND(J233>=1942,J233<1947),VLOOKUP(K233,Feuil2!$F$10:$P$28,9),IF(AND(J233>=1947,J233<1952),VLOOKUP(K233,Feuil2!$F$10:$P$28,8),IF(AND(J233>=1952,J233<1957),VLOOKUP(K233,Feuil2!$F$10:$P$28,7),IF(AND(J233>=1957,J233<1962),VLOOKUP(K233,Feuil2!$F$10:$P$28,6),IF(AND(J233>=1962,J233<1967),VLOOKUP(K233,Feuil2!$F$10:$P$28,5),IF(AND(J233>=1967,J233<1972),VLOOKUP(K233,Feuil2!$F$10:$P$28,4),IF(AND(J233>=1972,J233<1977),VLOOKUP(K233,Feuil2!$F$10:$P$28,3),IF(AND(J233>=1977,J233<1982),VLOOKUP(K233,Feuil2!$F$10:$P$28,2),VLOOKUP(K233,Feuil2!$F$10:$P$28,2))))))))))))","v":{"$error":"#N/A"}},null,{"$f":"T233-HLOOKUP(Y233,Feuil2!$C$1:$CD$9,2,FALSE)","v":{"$error":"#VALUE!"}},{"$f":"T233-HLOOKUP(Y233,Feuil2!$C$1:$CD$9,3,FALSE)","v":{"$error":"#VALUE!"}},{"$f":"T233-HLOOKUP(Y233,Feuil2!$C$1:$CD$9,4,FALSE)","v":{"$error":"#VALUE!"}},{"$f":"T233-HLOOKUP(Y233,Feuil2!$C$1:$CD$9,5,FALSE)","v":{"$error":"#VALUE!"}},{"$f":"T233-HLOOKUP(Y233,Feuil2!$C$1:$CD$9,6,FALSE)","v":{"$error":"#VALUE!"}},{"$f":"T233-HLOOKUP(Y233,Feuil2!$C$1:$CD$9,7,FALSE)","v":{"$error":"#VALUE!"}},{"$f":"T233-HLOOKUP(Y233,Feuil2!$C$1:$CD$9,8,FALSE)","v":{"$error":"#VALUE!"}},{"$f":"T233-HLOOKUP(Y233,Feuil2!$C$1:$CD$9,9,FALSE)","v":{"$error":"#VALUE!"}},null,null,null,null,null,null,null,{"$error":"#VALUE!"},2016,null,{"$f":"IF(AQ233,VLOOKUP(AQ233,HOM!$AS$561:$AT$616,2))","v":3.5710000000000002}]
["H",null,null,null,null,null,null,null,null,null,null,null,null,null,"",null,null,null,"","","","","",{"$error":"#N/A"},{"$f":"IF(AND(J234<1920),VLOOKUP(K234,Feuil2!$F$10:$P$28,11),IF(AND(J234>=1920,J234<1937),VLOOKUP(K234,Feuil2!$F$10:$P$28,11),IF(AND(J234>=1936,J234<1942),VLOOKUP(K234,Feuil2!$F$10:$P$28,10),IF(AND(J234>=1942,J234<1947),VLOOKUP(K234,Feuil2!$F$10:$P$28,9),IF(AND(J234>=1947,J234<1952),VLOOKUP(K234,Feuil2!$F$10:$P$28,8),IF(AND(J234>=1952,J234<1957),VLOOKUP(K234,Feuil2!$F$10:$P$28,7),IF(AND(J234>=1957,J234<1962),VLOOKUP(K234,Feuil2!$F$10:$P$28,6),IF(AND(J234>=1962,J234<1967),VLOOKUP(K234,Feuil2!$F$10:$P$28,5),IF(AND(J234>=1967,J234<1972),VLOOKUP(K234,Feuil2!$F$10:$P$28,4),IF(AND(J234>=1972,J234<1977),VLOOKUP(K234,Feuil2!$F$10:$P$28,3),IF(AND(J234>=1977,J234<1982),VLOOKUP(K234,Feuil2!$F$10:$P$28,2),VLOOKUP(K234,Feuil2!$F$10:$P$28,2))))))))))))","v":{"$error":"#N/A"}},null,{"$f":"T234-HLOOKUP(Y234,Feuil2!$C$1:$CD$9,2,FALSE)","v":{"$error":"#VALUE!"}},{"$f":"T234-HLOOKUP(Y234,Feuil2!$C$1:$CD$9,3,FALSE)","v":{"$error":"#VALUE!"}},{"$f":"T234-HLOOKUP(Y234,Feuil2!$C$1:$CD$9,4,FALSE)","v":{"$error":"#VALUE!"}},{"$f":"T234-HLOOKUP(Y234,Feuil2!$C$1:$CD$9,5,FALSE)","v":{"$error":"#VALUE!"}},{"$f":"T234-HLOOKUP(Y234,Feuil2!$C$1:$CD$9,6,FALSE)","v":{"$error":"#VALUE!"}},{"$f":"T234-HLOOKUP(Y234,Feuil2!$C$1:$CD$9,7,FALSE)","v":{"$error":"#VALUE!"}},{"$f":"T234-HLOOKUP(Y234,Feuil2!$C$1:$CD$9,8,FALSE)","v":{"$error":"#VALUE!"}},{"$f":"T234-HLOOKUP(Y234,Feuil2!$C$1:$CD$9,9,FALSE)","v":{"$error":"#VALUE!"}},null,null,null,null,null,null,null,{"$error":"#VALUE!"},2016,null,{"$f":"IF(AQ234,VLOOKUP(AQ234,HOM!$AS$561:$AT$616,2))","v":3.5710000000000002}]
["H",null,null,null,null,null,null,null,null,null,null,null,null,null,"",null,null,null,"","","","","",{"$error":"#N/A"},{"$f":"IF(AND(J235<1920),VLOOKUP(K235,Feuil2!$F$10:$P$28,11),IF(AND(J235>=1920,J235<1937),VLOOKUP(K235,Feuil2!$F$10:$P$28,11),IF(AND(J235>=1936,J235<1942),VLOOKUP(K235,Feuil2!$F$10:$P$28,10),IF(AND(J235>=1942,J235<1947),VLOOKUP(K235,Feuil2!$F$10:$P$28,9),IF(AND(J235>=1947,J235<1952),VLOOKUP(K235,Feuil2!$F$10:$P$28,8),IF(AND(J235>=1952,J235<1957),VLOOKUP(K235,Feuil2!$F$10:$P$28,7),IF(AND(J235>=1957,J235<1962),VLOOKUP(K235,Feuil2!$F$10:$P$28,6),IF(AND(J235>=1962,J235<1967),VLOOKUP(K235,Feuil2!$F$10:$P$28,5),IF(AND(J235>=1967,J235<1972),VLOOKUP(K235,Feuil2!$F$10:$P$28,4),IF(AND(J235>=1972,J235<1977),VLOOKUP(K235,Feuil2!$F$10:$P$28,3),IF(AND(J235>=1977,J235<1982),VLOOKUP(K235,Feuil2!$F$10:$P$28,2),VLOOKUP(K235,Feuil2!$F$10:$P$28,2))))))))))))","v":{"$error":"#N/A"}},null,{"$f":"T235-HLOOKUP(Y235,Feuil2!$C$1:$CD$9,2,FALSE)","v":{"$error":"#VALUE!"}},{"$f":"T235-HLOOKUP(Y235,Feuil2!$C$1:$CD$9,3,FALSE)","v":{"$error":"#VALUE!"}},{"$f":"T235-HLOOKUP(Y235,Feuil2!$C$1:$CD$9,4,FALSE)","v":{"$error":"#VALUE!"}},{"$f":"T235-HLOOKUP(Y235,Feuil2!$C$1:$CD$9,5,FALSE)","v":{"$error":"#VALUE!"}},{"$f":"T235-HLOOKUP(Y235,Feuil2!$C$1:$CD$9,6,FALSE)","v":{"$error":"#VALUE!"}},{"$f":"T235-HLOOKUP(Y235,Feuil2!$C$1:$CD$9,7,FALSE)","v":{"$error":"#VALUE!"}},{"$f":"T235-HLOOKUP(Y235,Feuil2!$C$1:$CD$9,8,FALSE)","v":{"$error":"#VALUE!"}},{"$f":"T235-HLOOKUP(Y235,Feuil2!$C$1:$CD$9,9,FALSE)","v":{"$error":"#VALUE!"}},null,null,null,null,null,null,null,{"$error":"#VALUE!"},2016,null,{"$f":"IF(AQ235,VLOOKUP(AQ235,HOM!$AS$561:$AT$616,2))","v":3.5710000000000002}]
["H",null,null,null,null,null,null,null,null,null,null,null,null,null,"",null,null,null,"","","","","",{"$error":"#N/A"},{"$f":"IF(AND(J236<1920),VLOOKUP(K236,Feuil2!$F$10:$P$28,11),IF(AND(J236>=1920,J236<1937),VLOOKUP(K236,Feuil2!$F$10:$P$28,11),IF(AND(J236>=1936,J236<1942),VLOOKUP(K236,Feuil2!$F$10:$P$28,10),IF(AND(J236>=1942,J236<1947),VLOOKUP(K236,Feuil2!$F$10:$P$28,9),IF(AND(J236>=1947,J236<1952),VLOOKUP(K236,Feuil2!$F$10:$P$28,8),IF(AND(J236>=1952,J236<1957),VLOOKUP(K236,Feuil2!$F$10:$P$28,7),IF(AND(J236>=1957,J236<1962),VLOOKUP(K236,Feuil2!$F$10:$P$28,6),IF(AND(J236>=1962,J236<1967),VLOOKUP(K236,Feuil2!$F$10:$P$28,5),IF(AND(J236>=1967,J236<1972),VLOOKUP(K236,Feuil2!$F$10:$P$28,4),IF(AND(J236>=1972,J236<1977),VLOOKUP(K236,Feuil2!$F$10:$P$28,3),IF(AND(J236>=1977,J236<1982),VLOOKUP(K236,Feuil2!$F$10:$P$28,2),VLOOKUP(K236,Feuil2!$F$10:$P$28,2))))))))))))","v":{"$error":"#N/A"}},null,{"$f":"T236-HLOOKUP(Y236,Feuil2!$C$1:$CD$9,2,FALSE)","v":{"$error":"#VALUE!"}},{"$f":"T236-HLOOKUP(Y236,Feuil2!$C$1:$CD$9,3,FALSE)","v":{"$error":"#VALUE!"}},{"$f":"T236-HLOOKUP(Y236,Feuil2!$C$1:$CD$9,4,FALSE)","v":{"$error":"#VALUE!"}},{"$f":"T236-HLOOKUP(Y236,Feuil2!$C$1:$CD$9,5,FALSE)","v":{"$error":"#VALUE!"}},{"$f":"T236-HLOOKUP(Y236,Feuil2!$C$1:$CD$9,6,FALSE)","v":{"$error":"#VALUE!"}},{"$f":"T236-HLOOKUP(Y236,Feuil2!$C$1:$CD$9,7,FALSE)","v":{"$error":"#VALUE!"}},{"$f":"T236-HLOOKUP(Y236,Feuil2!$C$1:$CD$9,8,FALSE)","v":{"$error":"#VALUE!"}},{"$f":"T236-HLOOKUP(Y236,Feuil2!$C$1:$CD$9,9,FALSE)","v":{"$error":"#VALUE!"}},null,null,null,null,null,null,null,{"$error":"#VALUE!"},2016,null,{"$f":"IF(AQ236,VLOOKUP(AQ236,HOM!$AS$561:$AT$616,2))","v":3.5710000000000002}]
["H",null,null,null,null,null,null,null,null,null,null,null,null,null,{"$f":"IF(K237=\"\",\"\",IF(MAXA(L237:N237)<=0,0,MAXA(L237:N237)))","v":""},null,null,null,{"$f":"IF(K237=\"\",\"\",IF(MAXA(P237:R237)<=0,0,MAXA(P237:R237)))","v":""},{"$f":"IF(K237=\"\",\"\",IF(OR(O237=0,S237=0),0,O237+S237))","v":""},"","","",{"$error":"#N/A"},{"$f":"IF(AND(J237<1920),VLOOKUP(K237,Feuil2!$F$10:$P$28,11),IF(AND(J237>=1920,J237<1937),VLOOKUP(K237,Feuil2!$F$10:$P$28,11),IF(AND(J237>=1936,J237<1942),VLOOKUP(K237,Feuil2!$F$10:$P$28,10),IF(AND(J237>=1942,J237<1947),VLOOKUP(K237,Feuil2!$F$10:$P$28,9),IF(AND(J237>=1947,J237<1952),VLOOKUP(K237,Feuil2!$F$10:$P$28,8),IF(AND(J237>=1952,J237<1957),VLOOKUP(K237,Feuil2!$F$10:$P$28,7),IF(AND(J237>=1957,J237<1962),VLOOKUP(K237,Feuil2!$F$10:$P$28,6),IF(AND(J237>=1962,J237<1967),VLOOKUP(K237,Feuil2!$F$10:$P$28,5),IF(AND(J237>=1967,J237<1972),VLOOKUP(K237,Feuil2!$F$10:$P$28,4),IF(AND(J237>=1972,J237<1977),VLOOKUP(K237,Feuil2!$F$10:$P$28,3),IF(AND(J237>=1977,J237<1982),VLOOKUP(K237,Feuil2!$F$10:$P$28,2),VLOOKUP(K237,Feuil2!$F$10:$P$28,2))))))))))))","v":{"$error":"#N/A"}},null,{"$f":"T237-HLOOKUP(Y237,Feuil2!$C$1:$CD$9,2,FALSE)","v":{"$error":"#VALUE!"}},{"$f":"T237-HLOOKUP(Y237,Feuil2!$C$1:$CD$9,3,FALSE)","v":{"$error":"#VALUE!"}},{"$f":"T237-HLOOKUP(Y237,Feuil2!$C$1:$CD$9,4,FALSE)","v":{"$error":"#VALUE!"}},{"$f":"T237-HLOOKUP(Y237,Feuil2!$C$1:$CD$9,5,FALSE)","v":{"$error":"#VALUE!"}},{"$f":"T237-HLOOKUP(Y237,Feuil2!$C$1:$CD$9,6,FALSE)","v":{"$error":"#VALUE!"}},{"$f":"T237-HLOOKUP(Y237,Feuil2!$C$1:$CD$9,7,FALSE)","v":{"$error":"#VALUE!"}},{"$f":"T237-HLOOKUP(Y237,Feuil2!$C$1:$CD$9,8,FALSE)","v":{"$error":"#VALUE!"}},{"$f":"T237-HLOOKUP(Y237,Feuil2!$C$1:$CD$9,9,FALSE)","v":{"$error":"#VALUE!"}},null,null,null,null,null,null,null,{"$error":"#VALUE!"},2016,null,{"$f":"IF(AQ237,VLOOKUP(AQ237,HOM!$AS$561:$AT$616,2))","v":3.5710000000000002}]
["H",null,null,null,null,null,null,null,null,null,null,null,null,null,"",null,null,null,"","","","","",{"$error":"#N/A"},{"$f":"IF(AND(J238<1920),VLOOKUP(K238,Feuil2!$F$10:$P$28,11),IF(AND(J238>=1920,J238<1937),VLOOKUP(K238,Feuil2!$F$10:$P$28,11),IF(AND(J238>=1936,J238<1942),VLOOKUP(K238,Feuil2!$F$10:$P$28,10),IF(AND(J238>=1942,J238<1947),VLOOKUP(K238,Feuil2!$F$10:$P$28,9),IF(AND(J238>=1947,J238<1952),VLOOKUP(K238,Feuil2!$F$10:$P$28,8),IF(AND(J238>=1952,J238<1957),VLOOKUP(K238,Feuil2!$F$10:$P$28,7),IF(AND(J238>=1957,J238<1962),VLOOKUP(K238,Feuil2!$F$10:$P$28,6),IF(AND(J238>=1962,J238<1967),VLOOKUP(K238,Feuil2!$F$10:$P$28,5),IF(AND(J238>=1967,J238<1972),VLOOKUP(K238,Feuil2!$F$10:$P$28,4),IF(AND(J238>=1972,J238<1977),VLOOKUP(K238,Feuil2!$F$10:$P$28,3),IF(AND(J238>=1977,J238<1982),VLOOKUP(K238,Feuil2!$F$10:$P$28,2),VLOOKUP(K238,Feuil2!$F$10:$P$28,2))))))))))))","v":{"$error":"#N/A"}},null,{"$f":"T238-HLOOKUP(Y238,Feuil2!$C$1:$CD$9,2,FALSE)","v":{"$error":"#VALUE!"}},{"$f":"T238-HLOOKUP(Y238,Feuil2!$C$1:$CD$9,3,FALSE)","v":{"$error":"#VALUE!"}},{"$f":"T238-HLOOKUP(Y238,Feuil2!$C$1:$CD$9,4,FALSE)","v":{"$error":"#VALUE!"}},{"$f":"T238-HLOOKUP(Y238,Feuil2!$C$1:$CD$9,5,FALSE)","v":{"$error":"#VALUE!"}},{"$f":"T238-HLOOKUP(Y238,Feuil2!$C$1:$CD$9,6,FALSE)","v":{"$error":"#VALUE!"}},{"$f":"T238-HLOOKUP(Y238,Feuil2!$C$1:$CD$9,7,FALSE)","v":{"$error":"#VALUE!"}},{"$f":"T238-HLOOKUP(Y238,Feuil2!$C$1:$CD$9,8,FALSE)","v":{"$error":"#VALUE!"}},{"$f":"T238-HLOOKUP(Y238,Feuil2!$C$1:$CD$9,9,FALSE)","v":{"$error":"#VALUE!"}},null,null,null,null,null,null,null,{"$error":"#VALUE!"},2016,null,{"$f":"IF(AQ238,VLOOKUP(AQ238,HOM!$AS$561:$AT$616,2))","v":3.5710000000000002}]
["H",null,null,null,null,null,null,null,null,null,null,null,null,null,"",null,null,null,"","","","","",{"$error":"#N/A"},{"$f":"IF(AND(J239<1920),VLOOKUP(K239,Feuil2!$F$10:$P$28,11),IF(AND(J239>=1920,J239<1937),VLOOKUP(K239,Feuil2!$F$10:$P$28,11),IF(AND(J239>=1936,J239<1942),VLOOKUP(K239,Feuil2!$F$10:$P$28,10),IF(AND(J239>=1942,J239<1947),VLOOKUP(K239,Feuil2!$F$10:$P$28,9),IF(AND(J239>=1947,J239<1952),VLOOKUP(K239,Feuil2!$F$10:$P$28,8),IF(AND(J239>=1952,J239<1957),VLOOKUP(K239,Feuil2!$F$10:$P$28,7),IF(AND(J239>=1957,J239<1962),VLOOKUP(K239,Feuil2!$F$10:$P$28,6),IF(AND(J239>=1962,J239<1967),VLOOKUP(K239,Feuil2!$F$10:$P$28,5),IF(AND(J239>=1967,J239<1972),VLOOKUP(K239,Feuil2!$F$10:$P$28,4),IF(AND(J239>=1972,J239<1977),VLOOKUP(K239,Feuil2!$F$10:$P$28,3),IF(AND(J239>=1977,J239<1982),VLOOKUP(K239,Feuil2!$F$10:$P$28,2),VLOOKUP(K239,Feuil2!$F$10:$P$28,2))))))))))))","v":{"$error":"#N/A"}},null,{"$f":"T239-HLOOKUP(Y239,Feuil2!$C$1:$CD$9,2,FALSE)","v":{"$error":"#VALUE!"}},{"$f":"T239-HLOOKUP(Y239,Feuil2!$C$1:$CD$9,3,FALSE)","v":{"$error":"#VALUE!"}},{"$f":"T239-HLOOKUP(Y239,Feuil2!$C$1:$CD$9,4,FALSE)","v":{"$error":"#VALUE!"}},{"$f":"T239-HLOOKUP(Y239,Feuil2!$C$1:$CD$9,5,FALSE)","v":{"$error":"#VALUE!"}},{"$f":"T239-HLOOKUP(Y239,Feuil2!$C$1:$CD$9,6,FALSE)","v":{"$error":"#VALUE!"}},{"$f":"T239-HLOOKUP(Y239,Feuil2!$C$1:$CD$9,7,FALSE)","v":{"$error":"#VALUE!"}},{"$f":"T239-HLOOKUP(Y239,Feuil2!$C$1:$CD$9,8,FALSE)","v":{"$error":"#VALUE!"}},{"$f":"T239-HLOOKUP(Y239,Feuil2!$C$1:$CD$9,9,FALSE)","v":{"$error":"#VALUE!"}},null,null,null,null,null,null,null,{"$error":"#VALUE!"},2016,null,{"$f":"IF(AQ239,VLOOKUP(AQ239,HOM!$AS$561:$AT$616,2))","v":3.5710000000000002}]
["H",null,null,null,null,null,null,null,null,null,null,null,null,null,"",null,null,null,"","","","","",{"$error":"#N/A"},{"$f":"IF(AND(J240<1920),VLOOKUP(K240,Feuil2!$F$10:$P$28,11),IF(AND(J240>=1920,J240<1937),VLOOKUP(K240,Feuil2!$F$10:$P$28,11),IF(AND(J240>=1936,J240<1942),VLOOKUP(K240,Feuil2!$F$10:$P$28,10),IF(AND(J240>=1942,J240<1947),VLOOKUP(K240,Feuil2!$F$10:$P$28,9),IF(AND(J240>=1947,J240<1952),VLOOKUP(K240,Feuil2!$F$10:$P$28,8),IF(AND(J240>=1952,J240<1957),VLOOKUP(K240,Feuil2!$F$10:$P$28,7),IF(AND(J240>=1957,J240<1962),VLOOKUP(K240,Feuil2!$F$10:$P$28,6),IF(AND(J240>=1962,J240<1967),VLOOKUP(K240,Feuil2!$F$10:$P$28,5),IF(AND(J240>=1967,J240<1972),VLOOKUP(K240,Feuil2!$F$10:$P$28,4),IF(AND(J240>=1972,J240<1977),VLOOKUP(K240,Feuil2!$F$10:$P$28,3),IF(AND(J240>=1977,J240<1982),VLOOKUP(K240,Feuil2!$F$10:$P$28,2),VLOOKUP(K240,Feuil2!$F$10:$P$28,2))))))))))))","v":{"$error":"#N/A"}},null,{"$f":"T240-HLOOKUP(Y240,Feuil2!$C$1:$CD$9,2,FALSE)","v":{"$error":"#VALUE!"}},{"$f":"T240-HLOOKUP(Y240,Feuil2!$C$1:$CD$9,3,FALSE)","v":{"$error":"#VALUE!"}},{"$f":"T240-HLOOKUP(Y240,Feuil2!$C$1:$CD$9,4,FALSE)","v":{"$error":"#VALUE!"}},{"$f":"T240-HLOOKUP(Y240,Feuil2!$C$1:$CD$9,5,FALSE)","v":{"$error":"#VALUE!"}},{"$f":"T240-HLOOKUP(Y240,Feuil2!$C$1:$CD$9,6,FALSE)","v":{"$error":"#VALUE!"}},{"$f":"T240-HLOOKUP(Y240,Feuil2!$C$1:$CD$9,7,FALSE)","v":{"$error":"#VALUE!"}},{"$f":"T240-HLOOKUP(Y240,Feuil2!$C$1:$CD$9,8,FALSE)","v":{"$error":"#VALUE!"}},{"$f":"T240-HLOOKUP(Y240,Feuil2!$C$1:$CD$9,9,FALSE)","v":{"$error":"#VALUE!"}},null,null,null,null,null,null,null,{"$error":"#VALUE!"},2016,null,{"$f":"IF(AQ240,VLOOKUP(AQ240,HOM!$AS$561:$AT$616,2))","v":3.5710000000000002}]
["H",null,null,null,null,null,null,null,null,null,null,null,null,null,"",null,null,null,"","","","","",{"$error":"#N/A"},{"$f":"IF(AND(J241<1920),VLOOKUP(K241,Feuil2!$F$10:$P$28,11),IF(AND(J241>=1920,J241<1937),VLOOKUP(K241,Feuil2!$F$10:$P$28,11),IF(AND(J241>=1936,J241<1942),VLOOKUP(K241,Feuil2!$F$10:$P$28,10),IF(AND(J241>=1942,J241<1947),VLOOKUP(K241,Feuil2!$F$10:$P$28,9),IF(AND(J241>=1947,J241<1952),VLOOKUP(K241,Feuil2!$F$10:$P$28,8),IF(AND(J241>=1952,J241<1957),VLOOKUP(K241,Feuil2!$F$10:$P$28,7),IF(AND(J241>=1957,J241<1962),VLOOKUP(K241,Feuil2!$F$10:$P$28,6),IF(AND(J241>=1962,J241<1967),VLOOKUP(K241,Feuil2!$F$10:$P$28,5),IF(AND(J241>=1967,J241<1972),VLOOKUP(K241,Feuil2!$F$10:$P$28,4),IF(AND(J241>=1972,J241<1977),VLOOKUP(K241,Feuil2!$F$10:$P$28,3),IF(AND(J241>=1977,J241<1982),VLOOKUP(K241,Feuil2!$F$10:$P$28,2),VLOOKUP(K241,Feuil2!$F$10:$P$28,2))))))))))))","v":{"$error":"#N/A"}},null,{"$f":"T241-HLOOKUP(Y241,Feuil2!$C$1:$CD$9,2,FALSE)","v":{"$error":"#VALUE!"}},{"$f":"T241-HLOOKUP(Y241,Feuil2!$C$1:$CD$9,3,FALSE)","v":{"$error":"#VALUE!"}},{"$f":"T241-HLOOKUP(Y241,Feuil2!$C$1:$CD$9,4,FALSE)","v":{"$error":"#VALUE!"}},{"$f":"T241-HLOOKUP(Y241,Feuil2!$C$1:$CD$9,5,FALSE)","v":{"$error":"#VALUE!"}},{"$f":"T241-HLOOKUP(Y241,Feuil2!$C$1:$CD$9,6,FALSE)","v":{"$error":"#VALUE!"}},{"$f":"T241-HLOOKUP(Y241,Feuil2!$C$1:$CD$9,7,FALSE)","v":{"$error":"#VALUE!"}},{"$f":"T241-HLOOKUP(Y241,Feuil2!$C$1:$CD$9,8,FALSE)","v":{"$error":"#VALUE!"}},{"$f":"T241-HLOOKUP(Y241,Feuil2!$C$1:$CD$9,9,FALSE)","v":{"$error":"#VALUE!"}},null,null,null,null,null,null,null,{"$error":"#VALUE!"},2016,null,{"$f":"IF(AQ241,VLOOKUP(AQ241,HOM!$AS$561:$AT$616,2))","v":3.5710000000000002}]
["H",null,null,null,null,null,null,null,null,null,null,null,null,null,"",null,null,null,"","","","","",{"$error":"#N/A"},{"$f":"IF(AND(J242<1920),VLOOKUP(K242,Feuil2!$F$10:$P$28,11),IF(AND(J242>=1920,J242<1937),VLOOKUP(K242,Feuil2!$F$10:$P$28,11),IF(AND(J242>=1936,J242<1942),VLOOKUP(K242,Feuil2!$F$10:$P$28,10),IF(AND(J242>=1942,J242<1947),VLOOKUP(K242,Feuil2!$F$10:$P$28,9),IF(AND(J242>=1947,J242<1952),VLOOKUP(K242,Feuil2!$F$10:$P$28,8),IF(AND(J242>=1952,J242<1957),VLOOKUP(K242,Feuil2!$F$10:$P$28,7),IF(AND(J242>=1957,J242<1962),VLOOKUP(K242,Feuil2!$F$10:$P$28,6),IF(AND(J242>=1962,J242<1967),VLOOKUP(K242,Feuil2!$F$10:$P$28,5),IF(AND(J242>=1967,J242<1972),VLOOKUP(K242,Feuil2!$F$10:$P$28,4),IF(AND(J242>=1972,J242<1977),VLOOKUP(K242,Feuil2!$F$10:$P$28,3),IF(AND(J242>=1977,J242<1982),VLOOKUP(K242,Feuil2!$F$10:$P$28,2),VLOOKUP(K242,Feuil2!$F$10:$P$28,2))))))))))))","v":{"$error":"#N/A"}},null,{"$f":"T242-HLOOKUP(Y242,Feuil2!$C$1:$CD$9,2,FALSE)","v":{"$error":"#VALUE!"}},{"$f":"T242-HLOOKUP(Y242,Feuil2!$C$1:$CD$9,3,FALSE)","v":{"$error":"#VALUE!"}},{"$f":"T242-HLOOKUP(Y242,Feuil2!$C$1:$CD$9,4,FALSE)","v":{"$error":"#VALUE!"}},{"$f":"T242-HLOOKUP(Y242,Feuil2!$C$1:$CD$9,5,FALSE)","v":{"$error":"#VALUE!"}},{"$f":"T242-HLOOKUP(Y242,Feuil2!$C$1:$CD$9,6,FALSE)","v":{"$error":"#VALUE!"}},{"$f":"T242-HLOOKUP(Y242,Feuil2!$C$1:$CD$9,7,FALSE)","v":{"$error":"#VALUE!"}},{"$f":"T242-HLOOKUP(Y242,Feuil2!$C$1:$CD$9,8,FALSE)","v":{"$error":"#VALUE!"}},{"$f":"T242-HLOOKUP(Y242,Feuil2!$C$1:$CD$9,9,FALSE)","v":{"$error":"#VALUE!"}},null,null,null,null,null,null,null,{"$error":"#VALUE!"},2016,null,{"$f":"IF(AQ242,VLOOKUP(AQ242,HOM!$AS$561:$AT$616,2))","v":3.5710000000000002}]
["H",null,null,null,null,null,null,null,null,null,null,null,null,null,"",null,null,null,"","","","","",{"$error":"#N/A"},{"$f":"IF(AND(J243<1920),VLOOKUP(K243,Feuil2!$F$10:$P$28,11),IF(AND(J243>=1920,J243<1937),VLOOKUP(K243,Feuil2!$F$10:$P$28,11),IF(AND(J243>=1936,J243<1942),VLOOKUP(K243,Feuil2!$F$10:$P$28,10),IF(AND(J243>=1942,J243<1947),VLOOKUP(K243,Feuil2!$F$10:$P$28,9),IF(AND(J243>=1947,J243<1952),VLOOKUP(K243,Feuil2!$F$10:$P$28,8),IF(AND(J243>=1952,J243<1957),VLOOKUP(K243,Feuil2!$F$10:$P$28,7),IF(AND(J243>=1957,J243<1962),VLOOKUP(K243,Feuil2!$F$10:$P$28,6),IF(AND(J243>=1962,J243<1967),VLOOKUP(K243,Feuil2!$F$10:$P$28,5),IF(AND(J243>=1967,J243<1972),VLOOKUP(K243,Feuil2!$F$10:$P$28,4),IF(AND(J243>=1972,J243<1977),VLOOKUP(K243,Feuil2!$F$10:$P$28,3),IF(AND(J243>=1977,J243<1982),VLOOKUP(K243,Feuil2!$F$10:$P$28,2),VLOOKUP(K243,Feuil2!$F$10:$P$28,2))))))))))))","v":{"$error":"#N/A"}},null,{"$f":"T243-HLOOKUP(Y243,Feuil2!$C$1:$CD$9,2,FALSE)","v":{"$error":"#VALUE!"}},{"$f":"T243-HLOOKUP(Y243,Feuil2!$C$1:$CD$9,3,FALSE)","v":{"$error":"#VALUE!"}},{"$f":"T243-HLOOKUP(Y243,Feuil2!$C$1:$CD$9,4,FALSE)","v":{"$error":"#VALUE!"}},{"$f":"T243-HLOOKUP(Y243,Feuil2!$C$1:$CD$9,5,FALSE)","v":{"$error":"#VALUE!"}},{"$f":"T243-HLOOKUP(Y243,Feuil2!$C$1:$CD$9,6,FALSE)","v":{"$error":"#VALUE!"}},{"$f":"T243-HLOOKUP(Y243,Feuil2!$C$1:$CD$9,7,FALSE)","v":{"$error":"#VALUE!"}},{"$f":"T243-HLOOKUP(Y243,Feuil2!$C$1:$CD$9,8,FALSE)","v":{"$error":"#VALUE!"}},{"$f":"T243-HLOOKUP(Y243,Feuil2!$C$1:$CD$9,9,FALSE)","v":{"$error":"#VALUE!"}},null,null,null,null,null,null,null,{"$error":"#VALUE!"},2016,null,{"$f":"IF(AQ243,VLOOKUP(AQ243,HOM!$AS$561:$AT$616,2))","v":3.5710000000000002}]
["H",null,null,null,null,null,null,null,null,null,null,null,null,null,"",null,null,null,"","","","","",{"$error":"#N/A"},{"$f":"IF(AND(J244<1920),VLOOKUP(K244,Feuil2!$F$10:$P$28,11),IF(AND(J244>=1920,J244<1937),VLOOKUP(K244,Feuil2!$F$10:$P$28,11),IF(AND(J244>=1936,J244<1942),VLOOKUP(K244,Feuil2!$F$10:$P$28,10),IF(AND(J244>=1942,J244<1947),VLOOKUP(K244,Feuil2!$F$10:$P$28,9),IF(AND(J244>=1947,J244<1952),VLOOKUP(K244,Feuil2!$F$10:$P$28,8),IF(AND(J244>=1952,J244<1957),VLOOKUP(K244,Feuil2!$F$10:$P$28,7),IF(AND(J244>=1957,J244<1962),VLOOKUP(K244,Feuil2!$F$10:$P$28,6),IF(AND(J244>=1962,J244<1967),VLOOKUP(K244,Feuil2!$F$10:$P$28,5),IF(AND(J244>=1967,J244<1972),VLOOKUP(K244,Feuil2!$F$10:$P$28,4),IF(AND(J244>=1972,J244<1977),VLOOKUP(K244,Feuil2!$F$10:$P$28,3),IF(AND(J244>=1977,J244<1982),VLOOKUP(K244,Feuil2!$F$10:$P$28,2),VLOOKUP(K244,Feuil2!$F$10:$P$28,2))))))))))))","v":{"$error":"#N/A"}},null,{"$f":"T244-HLOOKUP(Y244,Feuil2!$C$1:$CD$9,2,FALSE)","v":{"$error":"#VALUE!"}},{"$f":"T244-HLOOKUP(Y244,Feuil2!$C$1:$CD$9,3,FALSE)","v":{"$error":"#VALUE!"}},{"$f":"T244-HLOOKUP(Y244,Feuil2!$C$1:$CD$9,4,FALSE)","v":{"$error":"#VALUE!"}},{"$f":"T244-HLOOKUP(Y244,Feuil2!$C$1:$CD$9,5,FALSE)","v":{"$error":"#VALUE!"}},{"$f":"T244-HLOOKUP(Y244,Feuil2!$C$1:$CD$9,6,FALSE)","v":{"$error":"#VALUE!"}},{"$f":"T244-HLOOKUP(Y244,Feuil2!$C$1:$CD$9,7,FALSE)","v":{"$error":"#VALUE!"}},{"$f":"T244-HLOOKUP(Y244,Feuil2!$C$1:$CD$9,8,FALSE)","v":{"$error":"#VALUE!"}},{"$f":"T244-HLOOKUP(Y244,Feuil2!$C$1:$CD$9,9,FALSE)","v":{"$error":"#VALUE!"}},null,null,null,null,null,null,null,{"$error":"#VALUE!"},2016,null,{"$f":"IF(AQ244,VLOOKUP(AQ244,HOM!$AS$561:$AT$616,2))","v":3.5710000000000002}]
["H",null,null,null,null,null,null,null,null,null,null,null,null,null,"",null,null,null,"","","","","",{"$error":"#N/A"},{"$f":"IF(AND(J245<1920),VLOOKUP(K245,Feuil2!$F$10:$P$28,11),IF(AND(J245>=1920,J245<1937),VLOOKUP(K245,Feuil2!$F$10:$P$28,11),IF(AND(J245>=1936,J245<1942),VLOOKUP(K245,Feuil2!$F$10:$P$28,10),IF(AND(J245>=1942,J245<1947),VLOOKUP(K245,Feuil2!$F$10:$P$28,9),IF(AND(J245>=1947,J245<1952),VLOOKUP(K245,Feuil2!$F$10:$P$28,8),IF(AND(J245>=1952,J245<1957),VLOOKUP(K245,Feuil2!$F$10:$P$28,7),IF(AND(J245>=1957,J245<1962),VLOOKUP(K245,Feuil2!$F$10:$P$28,6),IF(AND(J245>=1962,J245<1967),VLOOKUP(K245,Feuil2!$F$10:$P$28,5),IF(AND(J245>=1967,J245<1972),VLOOKUP(K245,Feuil2!$F$10:$P$28,4),IF(AND(J245>=1972,J245<1977),VLOOKUP(K245,Feuil2!$F$10:$P$28,3),IF(AND(J245>=1977,J245<1982),VLOOKUP(K245,Feuil2!$F$10:$P$28,2),VLOOKUP(K245,Feuil2!$F$10:$P$28,2))))))))))))","v":{"$error":"#N/A"}},null,{"$f":"T245-HLOOKUP(Y245,Feuil2!$C$1:$CD$9,2,FALSE)","v":{"$error":"#VALUE!"}},{"$f":"T245-HLOOKUP(Y245,Feuil2!$C$1:$CD$9,3,FALSE)","v":{"$error":"#VALUE!"}},{"$f":"T245-HLOOKUP(Y245,Feuil2!$C$1:$CD$9,4,FALSE)","v":{"$error":"#VALUE!"}},{"$f":"T245-HLOOKUP(Y245,Feuil2!$C$1:$CD$9,5,FALSE)","v":{"$error":"#VALUE!"}},{"$f":"T245-HLOOKUP(Y245,Feuil2!$C$1:$CD$9,6,FALSE)","v":{"$error":"#VALUE!"}},{"$f":"T245-HLOOKUP(Y245,Feuil2!$C$1:$CD$9,7,FALSE)","v":{"$error":"#VALUE!"}},{"$f":"T245-HLOOKUP(Y245,Feuil2!$C$1:$CD$9,8,FALSE)","v":{"$error":"#VALUE!"}},{"$f":"T245-HLOOKUP(Y245,Feuil2!$C$1:$CD$9,9,FALSE)","v":{"$error":"#VALUE!"}},null,null,null,null,null,null,null,{"$error":"#VALUE!"},2016,null,{"$f":"IF(AQ245,VLOOKUP(AQ245,HOM!$AS$561:$AT$616,2))","v":3.5710000000000002}]
["H",null,null,null,null,null,null,null,null,null,null,null,null,null,"",null,null,null,"","","","","",{"$error":"#N/A"},{"$f":"IF(AND(J246<1920),VLOOKUP(K246,Feuil2!$F$10:$P$28,11),IF(AND(J246>=1920,J246<1937),VLOOKUP(K246,Feuil2!$F$10:$P$28,11),IF(AND(J246>=1936,J246<1942),VLOOKUP(K246,Feuil2!$F$10:$P$28,10),IF(AND(J246>=1942,J246<1947),VLOOKUP(K246,Feuil2!$F$10:$P$28,9),IF(AND(J246>=1947,J246<1952),VLOOKUP(K246,Feuil2!$F$10:$P$28,8),IF(AND(J246>=1952,J246<1957),VLOOKUP(K246,Feuil2!$F$10:$P$28,7),IF(AND(J246>=1957,J246<1962),VLOOKUP(K246,Feuil2!$F$10:$P$28,6),IF(AND(J246>=1962,J246<1967),VLOOKUP(K246,Feuil2!$F$10:$P$28,5),IF(AND(J246>=1967,J246<1972),VLOOKUP(K246,Feuil2!$F$10:$P$28,4),IF(AND(J246>=1972,J246<1977),VLOOKUP(K246,Feuil2!$F$10:$P$28,3),IF(AND(J246>=1977,J246<1982),VLOOKUP(K246,Feuil2!$F$10:$P$28,2),VLOOKUP(K246,Feuil2!$F$10:$P$28,2))))))))))))","v":{"$error":"#N/A"}},null,{"$f":"T246-HLOOKUP(Y246,Feuil2!$C$1:$CD$9,2,FALSE)","v":{"$error":"#VALUE!"}},{"$f":"T246-HLOOKUP(Y246,Feuil2!$C$1:$CD$9,3,FALSE)","v":{"$error":"#VALUE!"}},{"$f":"T246-HLOOKUP(Y246,Feuil2!$C$1:$CD$9,4,FALSE)","v":{"$error":"#VALUE!"}},{"$f":"T246-HLOOKUP(Y246,Feuil2!$C$1:$CD$9,5,FALSE)","v":{"$error":"#VALUE!"}},{"$f":"T246-HLOOKUP(Y246,Feuil2!$C$1:$CD$9,6,FALSE)","v":{"$error":"#VALUE!"}},{"$f":"T246-HLOOKUP(Y246,Feuil2!$C$1:$CD$9,7,FALSE)","v":{"$error":"#VALUE!"}},{"$f":"T246-HLOOKUP(Y246,Feuil2!$C$1:$CD$9,8,FALSE)","v":{"$error":"#VALUE!"}},{"$f":"T246-HLOOKUP(Y246,Feuil2!$C$1:$CD$9,9,FALSE)","v":{"$error":"#VALUE!"}},null,null,null,null,null,null,null,{"$error":"#VALUE!"},2016,null,{"$f":"IF(AQ246,VLOOKUP(AQ246,HOM!$AS$561:$AT$616,2))","v":3.5710000000000002}]
["H",null,null,null,null,null,null,null,null,null,null,null,null,null,"",null,null,null,"","","","","",{"$error":"#N/A"},{"$f":"IF(AND(J247<1920),VLOOKUP(K247,Feuil2!$F$10:$P$28,11),IF(AND(J247>=1920,J247<1937),VLOOKUP(K247,Feuil2!$F$10:$P$28,11),IF(AND(J247>=1936,J247<1942),VLOOKUP(K247,Feuil2!$F$10:$P$28,10),IF(AND(J247>=1942,J247<1947),VLOOKUP(K247,Feuil2!$F$10:$P$28,9),IF(AND(J247>=1947,J247<1952),VLOOKUP(K247,Feuil2!$F$10:$P$28,8),IF(AND(J247>=1952,J247<1957),VLOOKUP(K247,Feuil2!$F$10:$P$28,7),IF(AND(J247>=1957,J247<1962),VLOOKUP(K247,Feuil2!$F$10:$P$28,6),IF(AND(J247>=1962,J247<1967),VLOOKUP(K247,Feuil2!$F$10:$P$28,5),IF(AND(J247>=1967,J247<1972),VLOOKUP(K247,Feuil2!$F$10:$P$28,4),IF(AND(J247>=1972,J247<1977),VLOOKUP(K247,Feuil2!$F$10:$P$28,3),IF(AND(J247>=1977,J247<1982),VLOOKUP(K247,Feuil2!$F$10:$P$28,2),VLOOKUP(K247,Feuil2!$F$10:$P$28,2))))))))))))","v":{"$error":"#N/A"}},null,{"$f":"T247-HLOOKUP(Y247,Feuil2!$C$1:$CD$9,2,FALSE)","v":{"$error":"#VALUE!"}},{"$f":"T247-HLOOKUP(Y247,Feuil2!$C$1:$CD$9,3,FALSE)","v":{"$error":"#VALUE!"}},{"$f":"T247-HLOOKUP(Y247,Feuil2!$C$1:$CD$9,4,FALSE)","v":{"$error":"#VALUE!"}},{"$f":"T247-HLOOKUP(Y247,Feuil2!$C$1:$CD$9,5,FALSE)","v":{"$error":"#VALUE!"}},{"$f":"T247-HLOOKUP(Y247,Feuil2!$C$1:$CD$9,6,FALSE)","v":{"$error":"#VALUE!"}},{"$f":"T247-HLOOKUP(Y247,Feuil2!$C$1:$CD$9,7,FALSE)","v":{"$error":"#VALUE!"}},{"$f":"T247-HLOOKUP(Y247,Feuil2!$C$1:$CD$9,8,FALSE)","v":{"$error":"#VALUE!"}},{"$f":"T247-HLOOKUP(Y247,Feuil2!$C$1:$CD$9,9,FALSE)","v":{"$error":"#VALUE!"}},null,null,null,null,null,null,null,{"$error":"#VALUE!"},2016,null,{"$f":"IF(AQ247,VLOOKUP(AQ247,HOM!$AS$561:$AT$616,2))","v":3.5710000000000002}]
["H",null,null,null,null,null,null,null,null,null,null,null,null,null,"",null,null,null,"","","","","",{"$error":"#N/A"},{"$f":"IF(AND(J248<1920),VLOOKUP(K248,Feuil2!$F$10:$P$28,11),IF(AND(J248>=1920,J248<1937),VLOOKUP(K248,Feuil2!$F$10:$P$28,11),IF(AND(J248>=1936,J248<1942),VLOOKUP(K248,Feuil2!$F$10:$P$28,10),IF(AND(J248>=1942,J248<1947),VLOOKUP(K248,Feuil2!$F$10:$P$28,9),IF(AND(J248>=1947,J248<1952),VLOOKUP(K248,Feuil2!$F$10:$P$28,8),IF(AND(J248>=1952,J248<1957),VLOOKUP(K248,Feuil2!$F$10:$P$28,7),IF(AND(J248>=1957,J248<1962),VLOOKUP(K248,Feuil2!$F$10:$P$28,6),IF(AND(J248>=1962,J248<1967),VLOOKUP(K248,Feuil2!$F$10:$P$28,5),IF(AND(J248>=1967,J248<1972),VLOOKUP(K248,Feuil2!$F$10:$P$28,4),IF(AND(J248>=1972,J248<1977),VLOOKUP(K248,Feuil2!$F$10:$P$28,3),IF(AND(J248>=1977,J248<1982),VLOOKUP(K248,Feuil2!$F$10:$P$28,2),VLOOKUP(K248,Feuil2!$F$10:$P$28,2))))))))))))","v":{"$error":"#N/A"}},null,{"$f":"T248-HLOOKUP(Y248,Feuil2!$C$1:$CD$9,2,FALSE)","v":{"$error":"#VALUE!"}},{"$f":"T248-HLOOKUP(Y248,Feuil2!$C$1:$CD$9,3,FALSE)","v":{"$error":"#VALUE!"}},{"$f":"T248-HLOOKUP(Y248,Feuil2!$C$1:$CD$9,4,FALSE)","v":{"$error":"#VALUE!"}},{"$f":"T248-HLOOKUP(Y248,Feuil2!$C$1:$CD$9,5,FALSE)","v":{"$error":"#VALUE!"}},{"$f":"T248-HLOOKUP(Y248,Feuil2!$C$1:$CD$9,6,FALSE)","v":{"$error":"#VALUE!"}},{"$f":"T248-HLOOKUP(Y248,Feuil2!$C$1:$CD$9,7,FALSE)","v":{"$error":"#VALUE!"}},{"$f":"T248-HLOOKUP(Y248,Feuil2!$C$1:$CD$9,8,FALSE)","v":{"$error":"#VALUE!"}},{"$f":"T248-HLOOKUP(Y248,Feuil2!$C$1:$CD$9,9,FALSE)","v":{"$error":"#VALUE!"}},null,null,null,null,null,null,null,{"$error":"#VALUE!"},2016,null,{"$f":"IF(AQ248,VLOOKUP(AQ248,HOM!$AS$561:$AT$616,2))","v":3.5710000000000002}]
["H",null,null,null,null,null,null,null,null,null,null,null,null,null,"",null,null,null,"","","",{"$f":"IF(K249=\"\",\"\",AP249)","v":""},{"$f":"IF(K249=\"\",\"\",IF(AH249>=0,AH249,IF(AG249>=0,AG249,IF(AF249>=0,AF249,IF(AE249>=0,AE249,IF(AD249>=0,AD249,IF(AC249>=0,AC249,IF(AB249>=0,AB249,AA249))))))))","v":""},{"$error":"#N/A"},{"$f":"IF(AND(J249<1920),VLOOKUP(K249,Feuil2!$F$10:$P$28,11),IF(AND(J249>=1920,J249<1937),VLOOKUP(K249,Feuil2!$F$10:$P$28,11),IF(AND(J249>=1936,J249<1942),VLOOKUP(K249,Feuil2!$F$10:$P$28,10),IF(AND(J249>=1942,J249<1947),VLOOKUP(K249,Feuil2!$F$10:$P$28,9),IF(AND(J249>=1947,J249<1952),VLOOKUP(K249,Feuil2!$F$10:$P$28,8),IF(AND(J249>=1952,J249<1957),VLOOKUP(K249,Feuil2!$F$10:$P$28,7),IF(AND(J249>=1957,J249<1962),VLOOKUP(K249,Feuil2!$F$10:$P$28,6),IF(AND(J249>=1962,J249<1967),VLOOKUP(K249,Feuil2!$F$10:$P$28,5),IF(AND(J249>=1967,J249<1972),VLOOKUP(K249,Feuil2!$F$10:$P$28,4),IF(AND(J249>=1972,J249<1977),VLOOKUP(K249,Feuil2!$F$10:$P$28,3),IF(AND(J249>=1977,J249<1982),VLOOKUP(K249,Feuil2!$F$10:$P$28,2),VLOOKUP(K249,Feuil2!$F$10:$P$28,2))))))))))))","v":{"$error":"#N/A"}},null,{"$f":"T249-HLOOKUP(Y249,Feuil2!$C$1:$CD$9,2,FALSE)","v":{"$error":"#VALUE!"}},{"$f":"T249-HLOOKUP(Y249,Feuil2!$C$1:$CD$9,3,FALSE)","v":{"$error":"#VALUE!"}},{"$f":"T249-HLOOKUP(Y249,Feuil2!$C$1:$CD$9,4,FALSE)","v":{"$error":"#VALUE!"}},{"$f":"T249-HLOOKUP(Y249,Feuil2!$C$1:$CD$9,5,FALSE)","v":{"$error":"#VALUE!"}},{"$f":"T249-HLOOKUP(Y249,Feuil2!$C$1:$CD$9,6,FALSE)","v":{"$error":"#VALUE!"}},{"$f":"T249-HLOOKUP(Y249,Feuil2!$C$1:$CD$9,7,FALSE)","v":{"$error":"#VALUE!"}},{"$f":"T249-HLOOKUP(Y249,Feuil2!$C$1:$CD$9,8,FALSE)","v":{"$error":"#VALUE!"}},{"$f":"T249-HLOOKUP(Y249,Feuil2!$C$1:$CD$9,9,FALSE)","v":{"$error":"#VALUE!"}},null,null,null,null,null,null,null,{"$f":"IF(AH249>=0,$AH$4,IF(AG249>=0,$AG$4,IF(AF249>=0,$AF$4,IF(AE249>=0,$AE$4,IF(AD249>=0,$AD$4,IF(AC249>=0,$AC$4,IF(AB249>=0,$AB$4,IF(AA249>=0,$AA$4,$AI$4))))))))","v":{"$error":"#VALUE!"}},2016,null,{"$f":"IF(AQ249,VLOOKUP(AQ249,HOM!$AS$561:$AT$616,2))","v":3.5710000000000002}]
["H",null,null,null,null,null,null,null,null,null,null,null,null,null,{"$f":"IF(K250=\"\",\"\",IF(MAXA(L250:N250)<=0,0,MAXA(L250:N250)))","v":""},null,null,null,{"$f":"IF(K250=\"\",\"\",IF(MAXA(P250:R250)<=0,0,MAXA(P250:R250)))","v":""},{"$f":"IF(K250=\"\",\"\",IF(OR(O250=0,S250=0),0,O250+S250))","v":""},"","","",{"$error":"#N/A"},{"$f":"IF(AND(J250<1920),VLOOKUP(K250,Feuil2!$F$10:$P$28,11),IF(AND(J250>=1920,J250<1937),VLOOKUP(K250,Feuil2!$F$10:$P$28,11),IF(AND(J250>=1936,J250<1942),VLOOKUP(K250,Feuil2!$F$10:$P$28,10),IF(AND(J250>=1942,J250<1947),VLOOKUP(K250,Feuil2!$F$10:$P$28,9),IF(AND(J250>=1947,J250<1952),VLOOKUP(K250,Feuil2!$F$10:$P$28,8),IF(AND(J250>=1952,J250<1957),VLOOKUP(K250,Feuil2!$F$10:$P$28,7),IF(AND(J250>=1957,J250<1962),VLOOKUP(K250,Feuil2!$F$10:$P$28,6),IF(AND(J250>=1962,J250<1967),VLOOKUP(K250,Feuil2!$F$10:$P$28,5),IF(AND(J250>=1967,J250<1972),VLOOKUP(K250,Feuil2!$F$10:$P$28,4),IF(AND(J250>=1972,J250<1977),VLOOKUP(K250,Feuil2!$F$10:$P$28,3),IF(AND(J250>=1977,J250<1982),VLOOKUP(K250,Feuil2!$F$10:$P$28,2),VLOOKUP(K250,Feuil2!$F$10:$P$28,2))))))))))))","v":{"$error":"#N/A"}},null,{"$f":"T250-HLOOKUP(Y250,Feuil2!$C$1:$CD$9,2,FALSE)","v":{"$error":"#VALUE!"}},{"$f":"T250-HLOOKUP(Y250,Feuil2!$C$1:$CD$9,3,FALSE)","v":{"$error":"#VALUE!"}},{"$f":"T250-HLOOKUP(Y250,Feuil2!$C$1:$CD$9,4,FALSE)","v":{"$error":"#VALUE!"}},{"$f":"T250-HLOOKUP(Y250,Feuil2!$C$1:$CD$9,5,FALSE)","v":{"$error":"#VALUE!"}},{"$f":"T250-HLOOKUP(Y250,Feuil2!$C$1:$CD$9,6,FALSE)","v":{"$error":"#VALUE!"}},{"$f":"T250-HLOOKUP(Y250,Feuil2!$C$1:$CD$9,7,FALSE)","v":{"$error":"#VALUE!"}},{"$f":"T250-HLOOKUP(Y250,Feuil2!$C$1:$CD$9,8,FALSE)","v":{"$error":"#VALUE!"}},{"$f":"T250-HLOOKUP(Y250,Feuil2!$C$1:$CD$9,9,FALSE)","v":{"$error":"#VALUE!"}},null,null,null,null,null,null,null,{"$error":"#VALUE!"},2016,null,{"$f":"IF(AQ250,VLOOKUP(AQ250,HOM!$AS$561:$AT$616,2))","v":3.5710000000000002}]
["H",null,null,null,null,null,null,null,null,null,null,null,null,null,"",null,null,null,"","","","","",{"$error":"#N/A"},{"$f":"IF(AND(J251<1920),VLOOKUP(K251,Feuil2!$F$10:$P$28,11),IF(AND(J251>=1920,J251<1937),VLOOKUP(K251,Feuil2!$F$10:$P$28,11),IF(AND(J251>=1936,J251<1942),VLOOKUP(K251,Feuil2!$F$10:$P$28,10),IF(AND(J251>=1942,J251<1947),VLOOKUP(K251,Feuil2!$F$10:$P$28,9),IF(AND(J251>=1947,J251<1952),VLOOKUP(K251,Feuil2!$F$10:$P$28,8),IF(AND(J251>=1952,J251<1957),VLOOKUP(K251,Feuil2!$F$10:$P$28,7),IF(AND(J251>=1957,J251<1962),VLOOKUP(K251,Feuil2!$F$10:$P$28,6),IF(AND(J251>=1962,J251<1967),VLOOKUP(K251,Feuil2!$F$10:$P$28,5),IF(AND(J251>=1967,J251<1972),VLOOKUP(K251,Feuil2!$F$10:$P$28,4),IF(AND(J251>=1972,J251<1977),VLOOKUP(K251,Feuil2!$F$10:$P$28,3),IF(AND(J251>=1977,J251<1982),VLOOKUP(K251,Feuil2!$F$10:$P$28,2),VLOOKUP(K251,Feuil2!$F$10:$P$28,2))))))))))))","v":{"$error":"#N/A"}},null,{"$f":"T251-HLOOKUP(Y251,Feuil2!$C$1:$CD$9,2,FALSE)","v":{"$error":"#VALUE!"}},{"$f":"T251-HLOOKUP(Y251,Feuil2!$C$1:$CD$9,3,FALSE)","v":{"$error":"#VALUE!"}},{"$f":"T251-HLOOKUP(Y251,Feuil2!$C$1:$CD$9,4,FALSE)","v":{"$error":"#VALUE!"}},{"$f":"T251-HLOOKUP(Y251,Feuil2!$C$1:$CD$9,5,FALSE)","v":{"$error":"#VALUE!"}},{"$f":"T251-HLOOKUP(Y251,Feuil2!$C$1:$CD$9,6,FALSE)","v":{"$error":"#VALUE!"}},{"$f":"T251-HLOOKUP(Y251,Feuil2!$C$1:$CD$9,7,FALSE)","v":{"$error":"#VALUE!"}},{"$f":"T251-HLOOKUP(Y251,Feuil2!$C$1:$CD$9,8,FALSE)","v":{"$error":"#VALUE!"}},{"$f":"T251-HLOOKUP(Y251,Feuil2!$C$1:$CD$9,9,FALSE)","v":{"$error":"#VALUE!"}},null,null,null,null,null,null,null,{"$error":"#VALUE!"},2016,null,{"$f":"IF(AQ251,VLOOKUP(AQ251,HOM!$AS$561:$AT$616,2))","v":3.5710000000000002}]
["H",null,null,null,null,null,null,null,null,null,null,null,null,null,"",null,null,null,"","","","","",{"$error":"#N/A"},{"$f":"IF(AND(J252<1920),VLOOKUP(K252,Feuil2!$F$10:$P$28,11),IF(AND(J252>=1920,J252<1937),VLOOKUP(K252,Feuil2!$F$10:$P$28,11),IF(AND(J252>=1936,J252<1942),VLOOKUP(K252,Feuil2!$F$10:$P$28,10),IF(AND(J252>=1942,J252<1947),VLOOKUP(K252,Feuil2!$F$10:$P$28,9),IF(AND(J252>=1947,J252<1952),VLOOKUP(K252,Feuil2!$F$10:$P$28,8),IF(AND(J252>=1952,J252<1957),VLOOKUP(K252,Feuil2!$F$10:$P$28,7),IF(AND(J252>=1957,J252<1962),VLOOKUP(K252,Feuil2!$F$10:$P$28,6),IF(AND(J252>=1962,J252<1967),VLOOKUP(K252,Feuil2!$F$10:$P$28,5),IF(AND(J252>=1967,J252<1972),VLOOKUP(K252,Feuil2!$F$10:$P$28,4),IF(AND(J252>=1972,J252<1977),VLOOKUP(K252,Feuil2!$F$10:$P$28,3),IF(AND(J252>=1977,J252<1982),VLOOKUP(K252,Feuil2!$F$10:$P$28,2),VLOOKUP(K252,Feuil2!$F$10:$P$28,2))))))))))))","v":{"$error":"#N/A"}},null,{"$f":"T252-HLOOKUP(Y252,Feuil2!$C$1:$CD$9,2,FALSE)","v":{"$error":"#VALUE!"}},{"$f":"T252-HLOOKUP(Y252,Feuil2!$C$1:$CD$9,3,FALSE)","v":{"$error":"#VALUE!"}},{"$f":"T252-HLOOKUP(Y252,Feuil2!$C$1:$CD$9,4,FALSE)","v":{"$error":"#VALUE!"}},{"$f":"T252-HLOOKUP(Y252,Feuil2!$C$1:$CD$9,5,FALSE)","v":{"$error":"#VALUE!"}},{"$f":"T252-HLOOKUP(Y252,Feuil2!$C$1:$CD$9,6,FALSE)","v":{"$error":"#VALUE!"}},{"$f":"T252-HLOOKUP(Y252,Feuil2!$C$1:$CD$9,7,FALSE)","v":{"$error":"#VALUE!"}},{"$f":"T252-HLOOKUP(Y252,Feuil2!$C$1:$CD$9,8,FALSE)","v":{"$error":"#VALUE!"}},{"$f":"T252-HLOOKUP(Y252,Feuil2!$C$1:$CD$9,9,FALSE)","v":{"$error":"#VALUE!"}},null,null,null,null,null,null,null,{"$error":"#VALUE!"},2016,null,{"$f":"IF(AQ252,VLOOKUP(AQ252,HOM!$AS$561:$AT$616,2))","v":3.5710000000000002}]
["H",null,null,null,null,null,null,null,null,null,null,null,null,null,"",null,null,null,"","","","","",{"$error":"#N/A"},{"$f":"IF(AND(J253<1920),VLOOKUP(K253,Feuil2!$F$10:$P$28,11),IF(AND(J253>=1920,J253<1937),VLOOKUP(K253,Feuil2!$F$10:$P$28,11),IF(AND(J253>=1936,J253<1942),VLOOKUP(K253,Feuil2!$F$10:$P$28,10),IF(AND(J253>=1942,J253<1947),VLOOKUP(K253,Feuil2!$F$10:$P$28,9),IF(AND(J253>=1947,J253<1952),VLOOKUP(K253,Feuil2!$F$10:$P$28,8),IF(AND(J253>=1952,J253<1957),VLOOKUP(K253,Feuil2!$F$10:$P$28,7),IF(AND(J253>=1957,J253<1962),VLOOKUP(K253,Feuil2!$F$10:$P$28,6),IF(AND(J253>=1962,J253<1967),VLOOKUP(K253,Feuil2!$F$10:$P$28,5),IF(AND(J253>=1967,J253<1972),VLOOKUP(K253,Feuil2!$F$10:$P$28,4),IF(AND(J253>=1972,J253<1977),VLOOKUP(K253,Feuil2!$F$10:$P$28,3),IF(AND(J253>=1977,J253<1982),VLOOKUP(K253,Feuil2!$F$10:$P$28,2),VLOOKUP(K253,Feuil2!$F$10:$P$28,2))))))))))))","v":{"$error":"#N/A"}},null,{"$f":"T253-HLOOKUP(Y253,Feuil2!$C$1:$CD$9,2,FALSE)","v":{"$error":"#VALUE!"}},{"$f":"T253-HLOOKUP(Y253,Feuil2!$C$1:$CD$9,3,FALSE)","v":{"$error":"#VALUE!"}},{"$f":"T253-HLOOKUP(Y253,Feuil2!$C$1:$CD$9,4,FALSE)","v":{"$error":"#VALUE!"}},{"$f":"T253-HLOOKUP(Y253,Feuil2!$C$1:$CD$9,5,FALSE)","v":{"$error":"#VALUE!"}},{"$f":"T253-HLOOKUP(Y253,Feuil2!$C$1:$CD$9,6,FALSE)","v":{"$error":"#VALUE!"}},{"$f":"T253-HLOOKUP(Y253,Feuil2!$C$1:$CD$9,7,FALSE)","v":{"$error":"#VALUE!"}},{"$f":"T253-HLOOKUP(Y253,Feuil2!$C$1:$CD$9,8,FALSE)","v":{"$error":"#VALUE!"}},{"$f":"T253-HLOOKUP(Y253,Feuil2!$C$1:$CD$9,9,FALSE)","v":{"$error":"#VALUE!"}},null,null,null,null,null,null,null,{"$error":"#VALUE!"},2016,null,{"$f":"IF(AQ253,VLOOKUP(AQ253,HOM!$AS$561:$AT$616,2))","v":3.5710000000000002}]
["H",null,null,null,null,null,null,null,null,null,null,null,null,null,"",null,null,null,"","","","","",{"$error":"#N/A"},{"$f":"IF(AND(J254<1920),VLOOKUP(K254,Feuil2!$F$10:$P$28,11),IF(AND(J254>=1920,J254<1937),VLOOKUP(K254,Feuil2!$F$10:$P$28,11),IF(AND(J254>=1936,J254<1942),VLOOKUP(K254,Feuil2!$F$10:$P$28,10),IF(AND(J254>=1942,J254<1947),VLOOKUP(K254,Feuil2!$F$10:$P$28,9),IF(AND(J254>=1947,J254<1952),VLOOKUP(K254,Feuil2!$F$10:$P$28,8),IF(AND(J254>=1952,J254<1957),VLOOKUP(K254,Feuil2!$F$10:$P$28,7),IF(AND(J254>=1957,J254<1962),VLOOKUP(K254,Feuil2!$F$10:$P$28,6),IF(AND(J254>=1962,J254<1967),VLOOKUP(K254,Feuil2!$F$10:$P$28,5),IF(AND(J254>=1967,J254<1972),VLOOKUP(K254,Feuil2!$F$10:$P$28,4),IF(AND(J254>=1972,J254<1977),VLOOKUP(K254,Feuil2!$F$10:$P$28,3),IF(AND(J254>=1977,J254<1982),VLOOKUP(K254,Feuil2!$F$10:$P$28,2),VLOOKUP(K254,Feuil2!$F$10:$P$28,2))))))))))))","v":{"$error":"#N/A"}},null,{"$f":"T254-HLOOKUP(Y254,Feuil2!$C$1:$CD$9,2,FALSE)","v":{"$error":"#VALUE!"}},{"$f":"T254-HLOOKUP(Y254,Feuil2!$C$1:$CD$9,3,FALSE)","v":{"$error":"#VALUE!"}},{"$f":"T254-HLOOKUP(Y254,Feuil2!$C$1:$CD$9,4,FALSE)","v":{"$error":"#VALUE!"}},{"$f":"T254-HLOOKUP(Y254,Feuil2!$C$1:$CD$9,5,FALSE)","v":{"$error":"#VALUE!"}},{"$f":"T254-HLOOKUP(Y254,Feuil2!$C$1:$CD$9,6,FALSE)","v":{"$error":"#VALUE!"}},{"$f":"T254-HLOOKUP(Y254,Feuil2!$C$1:$CD$9,7,FALSE)","v":{"$error":"#VALUE!"}},{"$f":"T254-HLOOKUP(Y254,Feuil2!$C$1:$CD$9,8,FALSE)","v":{"$error":"#VALUE!"}},{"$f":"T254-HLOOKUP(Y254,Feuil2!$C$1:$CD$9,9,FALSE)","v":{"$error":"#VALUE!"}},null,null,null,null,null,null,null,{"$error":"#VALUE!"},2016,null,{"$f":"IF(AQ254,VLOOKUP(AQ254,HOM!$AS$561:$AT$616,2))","v":3.5710000000000002}]
["H",null,null,null,null,null,null,null,null,null,null,null,null,null,"",null,null,null,"","","","","",{"$error":"#N/A"},{"$f":"IF(AND(J255<1920),VLOOKUP(K255,Feuil2!$F$10:$P$28,11),IF(AND(J255>=1920,J255<1937),VLOOKUP(K255,Feuil2!$F$10:$P$28,11),IF(AND(J255>=1936,J255<1942),VLOOKUP(K255,Feuil2!$F$10:$P$28,10),IF(AND(J255>=1942,J255<1947),VLOOKUP(K255,Feuil2!$F$10:$P$28,9),IF(AND(J255>=1947,J255<1952),VLOOKUP(K255,Feuil2!$F$10:$P$28,8),IF(AND(J255>=1952,J255<1957),VLOOKUP(K255,Feuil2!$F$10:$P$28,7),IF(AND(J255>=1957,J255<1962),VLOOKUP(K255,Feuil2!$F$10:$P$28,6),IF(AND(J255>=1962,J255<1967),VLOOKUP(K255,Feuil2!$F$10:$P$28,5),IF(AND(J255>=1967,J255<1972),VLOOKUP(K255,Feuil2!$F$10:$P$28,4),IF(AND(J255>=1972,J255<1977),VLOOKUP(K255,Feuil2!$F$10:$P$28,3),IF(AND(J255>=1977,J255<1982),VLOOKUP(K255,Feuil2!$F$10:$P$28,2),VLOOKUP(K255,Feuil2!$F$10:$P$28,2))))))))))))","v":{"$error":"#N/A"}},null,{"$f":"T255-HLOOKUP(Y255,Feuil2!$C$1:$CD$9,2,FALSE)","v":{"$error":"#VALUE!"}},{"$f":"T255-HLOOKUP(Y255,Feuil2!$C$1:$CD$9,3,FALSE)","v":{"$error":"#VALUE!"}},{"$f":"T255-HLOOKUP(Y255,Feuil2!$C$1:$CD$9,4,FALSE)","v":{"$error":"#VALUE!"}},{"$f":"T255-HLOOKUP(Y255,Feuil2!$C$1:$CD$9,5,FALSE)","v":{"$error":"#VALUE!"}},{"$f":"T255-HLOOKUP(Y255,Feuil2!$C$1:$CD$9,6,FALSE)","v":{"$error":"#VALUE!"}},{"$f":"T255-HLOOKUP(Y255,Feuil2!$C$1:$CD$9,7,FALSE)","v":{"$error":"#VALUE!"}},{"$f":"T255-HLOOKUP(Y255,Feuil2!$C$1:$CD$9,8,FALSE)","v":{"$error":"#VALUE!"}},{"$f":"T255-HLOOKUP(Y255,Feuil2!$C$1:$CD$9,9,FALSE)","v":{"$error":"#VALUE!"}},null,null,null,null,null,null,null,{"$error":"#VALUE!"},2016,null,{"$f":"IF(AQ255,VLOOKUP(AQ255,HOM!$AS$561:$AT$616,2))","v":3.5710000000000002}]
["H",null,null,null,null,null,null,null,null,null,null,null,null,null,"",null,null,null,"","","","","",{"$error":"#N/A"},{"$f":"IF(AND(J256<1920),VLOOKUP(K256,Feuil2!$F$10:$P$28,11),IF(AND(J256>=1920,J256<1937),VLOOKUP(K256,Feuil2!$F$10:$P$28,11),IF(AND(J256>=1936,J256<1942),VLOOKUP(K256,Feuil2!$F$10:$P$28,10),IF(AND(J256>=1942,J256<1947),VLOOKUP(K256,Feuil2!$F$10:$P$28,9),IF(AND(J256>=1947,J256<1952),VLOOKUP(K256,Feuil2!$F$10:$P$28,8),IF(AND(J256>=1952,J256<1957),VLOOKUP(K256,Feuil2!$F$10:$P$28,7),IF(AND(J256>=1957,J256<1962),VLOOKUP(K256,Feuil2!$F$10:$P$28,6),IF(AND(J256>=1962,J256<1967),VLOOKUP(K256,Feuil2!$F$10:$P$28,5),IF(AND(J256>=1967,J256<1972),VLOOKUP(K256,Feuil2!$F$10:$P$28,4),IF(AND(J256>=1972,J256<1977),VLOOKUP(K256,Feuil2!$F$10:$P$28,3),IF(AND(J256>=1977,J256<1982),VLOOKUP(K256,Feuil2!$F$10:$P$28,2),VLOOKUP(K256,Feuil2!$F$10:$P$28,2))))))))))))","v":{"$error":"#N/A"}},null,{"$f":"T256-HLOOKUP(Y256,Feuil2!$C$1:$CD$9,2,FALSE)","v":{"$error":"#VALUE!"}},{"$f":"T256-HLOOKUP(Y256,Feuil2!$C$1:$CD$9,3,FALSE)","v":{"$error":"#VALUE!"}},{"$f":"T256-HLOOKUP(Y256,Feuil2!$C$1:$CD$9,4,FALSE)","v":{"$error":"#VALUE!"}},{"$f":"T256-HLOOKUP(Y256,Feuil2!$C$1:$CD$9,5,FALSE)","v":{"$error":"#VALUE!"}},{"$f":"T256-HLOOKUP(Y256,Feuil2!$C$1:$CD$9,6,FALSE)","v":{"$error":"#VALUE!"}},{"$f":"T256-HLOOKUP(Y256,Feuil2!$C$1:$CD$9,7,FALSE)","v":{"$error":"#VALUE!"}},{"$f":"T256-HLOOKUP(Y256,Feuil2!$C$1:$CD$9,8,FALSE)","v":{"$error":"#VALUE!"}},{"$f":"T256-HLOOKUP(Y256,Feuil2!$C$1:$CD$9,9,FALSE)","v":{"$error":"#VALUE!"}},null,null,null,null,null,null,null,{"$error":"#VALUE!"},2016,null,{"$f":"IF(AQ256,VLOOKUP(AQ256,HOM!$AS$561:$AT$616,2))","v":3.5710000000000002}]
["H",null,null,null,null,null,null,null,null,null,null,null,null,null,"",null,null,null,"","","","","",{"$error":"#N/A"},{"$f":"IF(AND(J257<1920),VLOOKUP(K257,Feuil2!$F$10:$P$28,11),IF(AND(J257>=1920,J257<1937),VLOOKUP(K257,Feuil2!$F$10:$P$28,11),IF(AND(J257>=1936,J257<1942),VLOOKUP(K257,Feuil2!$F$10:$P$28,10),IF(AND(J257>=1942,J257<1947),VLOOKUP(K257,Feuil2!$F$10:$P$28,9),IF(AND(J257>=1947,J257<1952),VLOOKUP(K257,Feuil2!$F$10:$P$28,8),IF(AND(J257>=1952,J257<1957),VLOOKUP(K257,Feuil2!$F$10:$P$28,7),IF(AND(J257>=1957,J257<1962),VLOOKUP(K257,Feuil2!$F$10:$P$28,6),IF(AND(J257>=1962,J257<1967),VLOOKUP(K257,Feuil2!$F$10:$P$28,5),IF(AND(J257>=1967,J257<1972),VLOOKUP(K257,Feuil2!$F$10:$P$28,4),IF(AND(J257>=1972,J257<1977),VLOOKUP(K257,Feuil2!$F$10:$P$28,3),IF(AND(J257>=1977,J257<1982),VLOOKUP(K257,Feuil2!$F$10:$P$28,2),VLOOKUP(K257,Feuil2!$F$10:$P$28,2))))))))))))","v":{"$error":"#N/A"}},null,{"$f":"T257-HLOOKUP(Y257,Feuil2!$C$1:$CD$9,2,FALSE)","v":{"$error":"#VALUE!"}},{"$f":"T257-HLOOKUP(Y257,Feuil2!$C$1:$CD$9,3,FALSE)","v":{"$error":"#VALUE!"}},{"$f":"T257-HLOOKUP(Y257,Feuil2!$C$1:$CD$9,4,FALSE)","v":{"$error":"#VALUE!"}},{"$f":"T257-HLOOKUP(Y257,Feuil2!$C$1:$CD$9,5,FALSE)","v":{"$error":"#VALUE!"}},{"$f":"T257-HLOOKUP(Y257,Feuil2!$C$1:$CD$9,6,FALSE)","v":{"$error":"#VALUE!"}},{"$f":"T257-HLOOKUP(Y257,Feuil2!$C$1:$CD$9,7,FALSE)","v":{"$error":"#VALUE!"}},{"$f":"T257-HLOOKUP(Y257,Feuil2!$C$1:$CD$9,8,FALSE)","v":{"$error":"#VALUE!"}},{"$f":"T257-HLOOKUP(Y257,Feuil2!$C$1:$CD$9,9,FALSE)","v":{"$error":"#VALUE!"}},null,null,null,null,null,null,null,{"$error":"#VALUE!"},2016,null,{"$f":"IF(AQ257,VLOOKUP(AQ257,HOM!$AS$561:$AT$616,2))","v":3.5710000000000002}]
["H",null,null,null,null,null,null,null,null,null,null,null,null,null,"",null,null,null,"","","","","",{"$error":"#N/A"},{"$f":"IF(AND(J258<1920),VLOOKUP(K258,Feuil2!$F$10:$P$28,11),IF(AND(J258>=1920,J258<1937),VLOOKUP(K258,Feuil2!$F$10:$P$28,11),IF(AND(J258>=1936,J258<1942),VLOOKUP(K258,Feuil2!$F$10:$P$28,10),IF(AND(J258>=1942,J258<1947),VLOOKUP(K258,Feuil2!$F$10:$P$28,9),IF(AND(J258>=1947,J258<1952),VLOOKUP(K258,Feuil2!$F$10:$P$28,8),IF(AND(J258>=1952,J258<1957),VLOOKUP(K258,Feuil2!$F$10:$P$28,7),IF(AND(J258>=1957,J258<1962),VLOOKUP(K258,Feuil2!$F$10:$P$28,6),IF(AND(J258>=1962,J258<1967),VLOOKUP(K258,Feuil2!$F$10:$P$28,5),IF(AND(J258>=1967,J258<1972),VLOOKUP(K258,Feuil2!$F$10:$P$28,4),IF(AND(J258>=1972,J258<1977),VLOOKUP(K258,Feuil2!$F$10:$P$28,3),IF(AND(J258>=1977,J258<1982),VLOOKUP(K258,Feuil2!$F$10:$P$28,2),VLOOKUP(K258,Feuil2!$F$10:$P$28,2))))))))))))","v":{"$error":"#N/A"}},null,{"$f":"T258-HLOOKUP(Y258,Feuil2!$C$1:$CD$9,2,FALSE)","v":{"$error":"#VALUE!"}},{"$f":"T258-HLOOKUP(Y258,Feuil2!$C$1:$CD$9,3,FALSE)","v":{"$error":"#VALUE!"}},{"$f":"T258-HLOOKUP(Y258,Feuil2!$C$1:$CD$9,4,FALSE)","v":{"$error":"#VALUE!"}},{"$f":"T258-HLOOKUP(Y258,Feuil2!$C$1:$CD$9,5,FALSE)","v":{"$error":"#VALUE!"}},{"$f":"T258-HLOOKUP(Y258,Feuil2!$C$1:$CD$9,6,FALSE)","v":{"$error":"#VALUE!"}},{"$f":"T258-HLOOKUP(Y258,Feuil2!$C$1:$CD$9,7,FALSE)","v":{"$error":"#VALUE!"}},{"$f":"T258-HLOOKUP(Y258,Feuil2!$C$1:$CD$9,8,FALSE)","v":{"$error":"#VALUE!"}},{"$f":"T258-HLOOKUP(Y258,Feuil2!$C$1:$CD$9,9,FALSE)","v":{"$error":"#VALUE!"}},null,null,null,null,null,null,null,{"$error":"#VALUE!"},2016,null,{"$f":"IF(AQ258,VLOOKUP(AQ258,HOM!$AS$561:$AT$616,2))","v":3.5710000000000002}]
["H",null,null,null,null,null,null,null,null,null,null,null,null,null,"",null,null,null,"","","","","",{"$error":"#N/A"},{"$f":"IF(AND(J259<1920),VLOOKUP(K259,Feuil2!$F$10:$P$28,11),IF(AND(J259>=1920,J259<1937),VLOOKUP(K259,Feuil2!$F$10:$P$28,11),IF(AND(J259>=1936,J259<1942),VLOOKUP(K259,Feuil2!$F$10:$P$28,10),IF(AND(J259>=1942,J259<1947),VLOOKUP(K259,Feuil2!$F$10:$P$28,9),IF(AND(J259>=1947,J259<1952),VLOOKUP(K259,Feuil2!$F$10:$P$28,8),IF(AND(J259>=1952,J259<1957),VLOOKUP(K259,Feuil2!$F$10:$P$28,7),IF(AND(J259>=1957,J259<1962),VLOOKUP(K259,Feuil2!$F$10:$P$28,6),IF(AND(J259>=1962,J259<1967),VLOOKUP(K259,Feuil2!$F$10:$P$28,5),IF(AND(J259>=1967,J259<1972),VLOOKUP(K259,Feuil2!$F$10:$P$28,4),IF(AND(J259>=1972,J259<1977),VLOOKUP(K259,Feuil2!$F$10:$P$28,3),IF(AND(J259>=1977,J259<1982),VLOOKUP(K259,Feuil2!$F$10:$P$28,2),VLOOKUP(K259,Feuil2!$F$10:$P$28,2))))))))))))","v":{"$error":"#N/A"}},null,{"$f":"T259-HLOOKUP(Y259,Feuil2!$C$1:$CD$9,2,FALSE)","v":{"$error":"#VALUE!"}},{"$f":"T259-HLOOKUP(Y259,Feuil2!$C$1:$CD$9,3,FALSE)","v":{"$error":"#VALUE!"}},{"$f":"T259-HLOOKUP(Y259,Feuil2!$C$1:$CD$9,4,FALSE)","v":{"$error":"#VALUE!"}},{"$f":"T259-HLOOKUP(Y259,Feuil2!$C$1:$CD$9,5,FALSE)","v":{"$error":"#VALUE!"}},{"$f":"T259-HLOOKUP(Y259,Feuil2!$C$1:$CD$9,6,FALSE)","v":{"$error":"#VALUE!"}},{"$f":"T259-HLOOKUP(Y259,Feuil2!$C$1:$CD$9,7,FALSE)","v":{"$error":"#VALUE!"}},{"$f":"T259-HLOOKUP(Y259,Feuil2!$C$1:$CD$9,8,FALSE)","v":{"$error":"#VALUE!"}},{"$f":"T259-HLOOKUP(Y259,Feuil2!$C$1:$CD$9,9,FALSE)","v":{"$error":"#VALUE!"}},null,null,null,null,null,null,null,{"$error":"#VALUE!"},2016,null,{"$f":"IF(AQ259,VLOOKUP(AQ259,HOM!$AS$561:$AT$616,2))","v":3.5710000000000002}]
["H",null,null,null,null,null,null,null,null,null,null,null,null,null,"",null,null,null,"","","","","",{"$error":"#N/A"},{"$f":"IF(AND(J260<1920),VLOOKUP(K260,Feuil2!$F$10:$P$28,11),IF(AND(J260>=1920,J260<1937),VLOOKUP(K260,Feuil2!$F$10:$P$28,11),IF(AND(J260>=1936,J260<1942),VLOOKUP(K260,Feuil2!$F$10:$P$28,10),IF(AND(J260>=1942,J260<1947),VLOOKUP(K260,Feuil2!$F$10:$P$28,9),IF(AND(J260>=1947,J260<1952),VLOOKUP(K260,Feuil2!$F$10:$P$28,8),IF(AND(J260>=1952,J260<1957),VLOOKUP(K260,Feuil2!$F$10:$P$28,7),IF(AND(J260>=1957,J260<1962),VLOOKUP(K260,Feuil2!$F$10:$P$28,6),IF(AND(J260>=1962,J260<1967),VLOOKUP(K260,Feuil2!$F$10:$P$28,5),IF(AND(J260>=1967,J260<1972),VLOOKUP(K260,Feuil2!$F$10:$P$28,4),IF(AND(J260>=1972,J260<1977),VLOOKUP(K260,Feuil2!$F$10:$P$28,3),IF(AND(J260>=1977,J260<1982),VLOOKUP(K260,Feuil2!$F$10:$P$28,2),VLOOKUP(K260,Feuil2!$F$10:$P$28,2))))))))))))","v":{"$error":"#N/A"}},null,{"$f":"T260-HLOOKUP(Y260,Feuil2!$C$1:$CD$9,2,FALSE)","v":{"$error":"#VALUE!"}},{"$f":"T260-HLOOKUP(Y260,Feuil2!$C$1:$CD$9,3,FALSE)","v":{"$error":"#VALUE!"}},{"$f":"T260-HLOOKUP(Y260,Feuil2!$C$1:$CD$9,4,FALSE)","v":{"$error":"#VALUE!"}},{"$f":"T260-HLOOKUP(Y260,Feuil2!$C$1:$CD$9,5,FALSE)","v":{"$error":"#VALUE!"}},{"$f":"T260-HLOOKUP(Y260,Feuil2!$C$1:$CD$9,6,FALSE)","v":{"$error":"#VALUE!"}},{"$f":"T260-HLOOKUP(Y260,Feuil2!$C$1:$CD$9,7,FALSE)","v":{"$error":"#VALUE!"}},{"$f":"T260-HLOOKUP(Y260,Feuil2!$C$1:$CD$9,8,FALSE)","v":{"$error":"#VALUE!"}},{"$f":"T260-HLOOKUP(Y260,Feuil2!$C$1:$CD$9,9,FALSE)","v":{"$error":"#VALUE!"}},null,null,null,null,null,null,null,{"$error":"#VALUE!"},2016,null,{"$f":"IF(AQ260,VLOOKUP(AQ260,HOM!$AS$561:$AT$616,2))","v":3.5710000000000002}]
["H",null,null,null,null,null,null,null,null,null,null,null,null,null,"",null,null,null,"","","","","",{"$error":"#N/A"},{"$f":"IF(AND(J261<1920),VLOOKUP(K261,Feuil2!$F$10:$P$28,11),IF(AND(J261>=1920,J261<1937),VLOOKUP(K261,Feuil2!$F$10:$P$28,11),IF(AND(J261>=1936,J261<1942),VLOOKUP(K261,Feuil2!$F$10:$P$28,10),IF(AND(J261>=1942,J261<1947),VLOOKUP(K261,Feuil2!$F$10:$P$28,9),IF(AND(J261>=1947,J261<1952),VLOOKUP(K261,Feuil2!$F$10:$P$28,8),IF(AND(J261>=1952,J261<1957),VLOOKUP(K261,Feuil2!$F$10:$P$28,7),IF(AND(J261>=1957,J261<1962),VLOOKUP(K261,Feuil2!$F$10:$P$28,6),IF(AND(J261>=1962,J261<1967),VLOOKUP(K261,Feuil2!$F$10:$P$28,5),IF(AND(J261>=1967,J261<1972),VLOOKUP(K261,Feuil2!$F$10:$P$28,4),IF(AND(J261>=1972,J261<1977),VLOOKUP(K261,Feuil2!$F$10:$P$28,3),IF(AND(J261>=1977,J261<1982),VLOOKUP(K261,Feuil2!$F$10:$P$28,2),VLOOKUP(K261,Feuil2!$F$10:$P$28,2))))))))))))","v":{"$error":"#N/A"}},null,{"$f":"T261-HLOOKUP(Y261,Feuil2!$C$1:$CD$9,2,FALSE)","v":{"$error":"#VALUE!"}},{"$f":"T261-HLOOKUP(Y261,Feuil2!$C$1:$CD$9,3,FALSE)","v":{"$error":"#VALUE!"}},{"$f":"T261-HLOOKUP(Y261,Feuil2!$C$1:$CD$9,4,FALSE)","v":{"$error":"#VALUE!"}},{"$f":"T261-HLOOKUP(Y261,Feuil2!$C$1:$CD$9,5,FALSE)","v":{"$error":"#VALUE!"}},{"$f":"T261-HLOOKUP(Y261,Feuil2!$C$1:$CD$9,6,FALSE)","v":{"$error":"#VALUE!"}},{"$f":"T261-HLOOKUP(Y261,Feuil2!$C$1:$CD$9,7,FALSE)","v":{"$error":"#VALUE!"}},{"$f":"T261-HLOOKUP(Y261,Feuil2!$C$1:$CD$9,8,FALSE)","v":{"$error":"#VALUE!"}},{"$f":"T261-HLOOKUP(Y261,Feuil2!$C$1:$CD$9,9,FALSE)","v":{"$error":"#VALUE!"}},null,null,null,null,null,null,null,{"$error":"#VALUE!"},2016,null,{"$f":"IF(AQ261,VLOOKUP(AQ261,HOM!$AS$561:$AT$616,2))","v":3.5710000000000002}]
["H",null,null,null,null,null,null,null,null,null,null,null,null,null,"",null,null,null,"","","","","",{"$error":"#N/A"},{"$f":"IF(AND(J262<1920),VLOOKUP(K262,Feuil2!$F$10:$P$28,11),IF(AND(J262>=1920,J262<1937),VLOOKUP(K262,Feuil2!$F$10:$P$28,11),IF(AND(J262>=1936,J262<1942),VLOOKUP(K262,Feuil2!$F$10:$P$28,10),IF(AND(J262>=1942,J262<1947),VLOOKUP(K262,Feuil2!$F$10:$P$28,9),IF(AND(J262>=1947,J262<1952),VLOOKUP(K262,Feuil2!$F$10:$P$28,8),IF(AND(J262>=1952,J262<1957),VLOOKUP(K262,Feuil2!$F$10:$P$28,7),IF(AND(J262>=1957,J262<1962),VLOOKUP(K262,Feuil2!$F$10:$P$28,6),IF(AND(J262>=1962,J262<1967),VLOOKUP(K262,Feuil2!$F$10:$P$28,5),IF(AND(J262>=1967,J262<1972),VLOOKUP(K262,Feuil2!$F$10:$P$28,4),IF(AND(J262>=1972,J262<1977),VLOOKUP(K262,Feuil2!$F$10:$P$28,3),IF(AND(J262>=1977,J262<1982),VLOOKUP(K262,Feuil2!$F$10:$P$28,2),VLOOKUP(K262,Feuil2!$F$10:$P$28,2))))))))))))","v":{"$error":"#N/A"}},null,{"$f":"T262-HLOOKUP(Y262,Feuil2!$C$1:$CD$9,2,FALSE)","v":{"$error":"#VALUE!"}},{"$f":"T262-HLOOKUP(Y262,Feuil2!$C$1:$CD$9,3,FALSE)","v":{"$error":"#VALUE!"}},{"$f":"T262-HLOOKUP(Y262,Feuil2!$C$1:$CD$9,4,FALSE)","v":{"$error":"#VALUE!"}},{"$f":"T262-HLOOKUP(Y262,Feuil2!$C$1:$CD$9,5,FALSE)","v":{"$error":"#VALUE!"}},{"$f":"T262-HLOOKUP(Y262,Feuil2!$C$1:$CD$9,6,FALSE)","v":{"$error":"#VALUE!"}},{"$f":"T262-HLOOKUP(Y262,Feuil2!$C$1:$CD$9,7,FALSE)","v":{"$error":"#VALUE!"}},{"$f":"T262-HLOOKUP(Y262,Feuil2!$C$1:$CD$9,8,FALSE)","v":{"$error":"#VALUE!"}},{"$f":"T262-HLOOKUP(Y262,Feuil2!$C$1:$CD$9,9,FALSE)","v":{"$error":"#VALUE!"}},null,null,null,null,null,null,null,{"$error":"#VALUE!"},2016,null,{"$f":"IF(AQ262,VLOOKUP(AQ262,HOM!$AS$561:$AT$616,2))","v":3.5710000000000002}]
["H",null,null,null,null,null,null,null,null,null,null,null,null,null,"",null,null,null,"","","","","",{"$error":"#N/A"},{"$f":"IF(AND(J263<1920),VLOOKUP(K263,Feuil2!$F$10:$P$28,11),IF(AND(J263>=1920,J263<1937),VLOOKUP(K263,Feuil2!$F$10:$P$28,11),IF(AND(J263>=1936,J263<1942),VLOOKUP(K263,Feuil2!$F$10:$P$28,10),IF(AND(J263>=1942,J263<1947),VLOOKUP(K263,Feuil2!$F$10:$P$28,9),IF(AND(J263>=1947,J263<1952),VLOOKUP(K263,Feuil2!$F$10:$P$28,8),IF(AND(J263>=1952,J263<1957),VLOOKUP(K263,Feuil2!$F$10:$P$28,7),IF(AND(J263>=1957,J263<1962),VLOOKUP(K263,Feuil2!$F$10:$P$28,6),IF(AND(J263>=1962,J263<1967),VLOOKUP(K263,Feuil2!$F$10:$P$28,5),IF(AND(J263>=1967,J263<1972),VLOOKUP(K263,Feuil2!$F$10:$P$28,4),IF(AND(J263>=1972,J263<1977),VLOOKUP(K263,Feuil2!$F$10:$P$28,3),IF(AND(J263>=1977,J263<1982),VLOOKUP(K263,Feuil2!$F$10:$P$28,2),VLOOKUP(K263,Feuil2!$F$10:$P$28,2))))))))))))","v":{"$error":"#N/A"}},null,{"$f":"T263-HLOOKUP(Y263,Feuil2!$C$1:$CD$9,2,FALSE)","v":{"$error":"#VALUE!"}},{"$f":"T263-HLOOKUP(Y263,Feuil2!$C$1:$CD$9,3,FALSE)","v":{"$error":"#VALUE!"}},{"$f":"T263-HLOOKUP(Y263,Feuil2!$C$1:$CD$9,4,FALSE)","v":{"$error":"#VALUE!"}},{"$f":"T263-HLOOKUP(Y263,Feuil2!$C$1:$CD$9,5,FALSE)","v":{"$error":"#VALUE!"}},{"$f":"T263-HLOOKUP(Y263,Feuil2!$C$1:$CD$9,6,FALSE)","v":{"$error":"#VALUE!"}},{"$f":"T263-HLOOKUP(Y263,Feuil2!$C$1:$CD$9,7,FALSE)","v":{"$error":"#VALUE!"}},{"$f":"T263-HLOOKUP(Y263,Feuil2!$C$1:$CD$9,8,FALSE)","v":{"$error":"#VALUE!"}},{"$f":"T263-HLOOKUP(Y263,Feuil2!$C$1:$CD$9,9,FALSE)","v":{"$error":"#VALUE!"}},null,null,null,null,null,null,null,{"$error":"#VALUE!"},2016,null,{"$f":"IF(AQ263,VLOOKUP(AQ263,HOM!$AS$561:$AT$616,2))","v":3.5710000000000002}]
["H",null,null,null,null,null,null,null,null,null,null,null,null,null,"",null,null,null,"","","","","",{"$error":"#N/A"},{"$f":"IF(AND(J264<1920),VLOOKUP(K264,Feuil2!$F$10:$P$28,11),IF(AND(J264>=1920,J264<1937),VLOOKUP(K264,Feuil2!$F$10:$P$28,11),IF(AND(J264>=1936,J264<1942),VLOOKUP(K264,Feuil2!$F$10:$P$28,10),IF(AND(J264>=1942,J264<1947),VLOOKUP(K264,Feuil2!$F$10:$P$28,9),IF(AND(J264>=1947,J264<1952),VLOOKUP(K264,Feuil2!$F$10:$P$28,8),IF(AND(J264>=1952,J264<1957),VLOOKUP(K264,Feuil2!$F$10:$P$28,7),IF(AND(J264>=1957,J264<1962),VLOOKUP(K264,Feuil2!$F$10:$P$28,6),IF(AND(J264>=1962,J264<1967),VLOOKUP(K264,Feuil2!$F$10:$P$28,5),IF(AND(J264>=1967,J264<1972),VLOOKUP(K264,Feuil2!$F$10:$P$28,4),IF(AND(J264>=1972,J264<1977),VLOOKUP(K264,Feuil2!$F$10:$P$28,3),IF(AND(J264>=1977,J264<1982),VLOOKUP(K264,Feuil2!$F$10:$P$28,2),VLOOKUP(K264,Feuil2!$F$10:$P$28,2))))))))))))","v":{"$error":"#N/A"}},null,{"$f":"T264-HLOOKUP(Y264,Feuil2!$C$1:$CD$9,2,FALSE)","v":{"$error":"#VALUE!"}},{"$f":"T264-HLOOKUP(Y264,Feuil2!$C$1:$CD$9,3,FALSE)","v":{"$error":"#VALUE!"}},{"$f":"T264-HLOOKUP(Y264,Feuil2!$C$1:$CD$9,4,FALSE)","v":{"$error":"#VALUE!"}},{"$f":"T264-HLOOKUP(Y264,Feuil2!$C$1:$CD$9,5,FALSE)","v":{"$error":"#VALUE!"}},{"$f":"T264-HLOOKUP(Y264,Feuil2!$C$1:$CD$9,6,FALSE)","v":{"$error":"#VALUE!"}},{"$f":"T264-HLOOKUP(Y264,Feuil2!$C$1:$CD$9,7,FALSE)","v":{"$error":"#VALUE!"}},{"$f":"T264-HLOOKUP(Y264,Feuil2!$C$1:$CD$9,8,FALSE)","v":{"$error":"#VALUE!"}},{"$f":"T264-HLOOKUP(Y264,Feuil2!$C$1:$CD$9,9,FALSE)","v":{"$error":"#VALUE!"}},null,null,null,null,null,null,null,{"$error":"#VALUE!"},2016,null,{"$f":"IF(AQ264,VLOOKUP(AQ264,HOM!$AS$561:$AT$616,2))","v":3.5710000000000002}]
["H",null,null,null,null,null,null,null,null,null,null,null,null,null,"",null,null,null,"","","","","",{"$error":"#N/A"},{"$f":"IF(AND(J265<1920),VLOOKUP(K265,Feuil2!$F$10:$P$28,11),IF(AND(J265>=1920,J265<1937),VLOOKUP(K265,Feuil2!$F$10:$P$28,11),IF(AND(J265>=1936,J265<1942),VLOOKUP(K265,Feuil2!$F$10:$P$28,10),IF(AND(J265>=1942,J265<1947),VLOOKUP(K265,Feuil2!$F$10:$P$28,9),IF(AND(J265>=1947,J265<1952),VLOOKUP(K265,Feuil2!$F$10:$P$28,8),IF(AND(J265>=1952,J265<1957),VLOOKUP(K265,Feuil2!$F$10:$P$28,7),IF(AND(J265>=1957,J265<1962),VLOOKUP(K265,Feuil2!$F$10:$P$28,6),IF(AND(J265>=1962,J265<1967),VLOOKUP(K265,Feuil2!$F$10:$P$28,5),IF(AND(J265>=1967,J265<1972),VLOOKUP(K265,Feuil2!$F$10:$P$28,4),IF(AND(J265>=1972,J265<1977),VLOOKUP(K265,Feuil2!$F$10:$P$28,3),IF(AND(J265>=1977,J265<1982),VLOOKUP(K265,Feuil2!$F$10:$P$28,2),VLOOKUP(K265,Feuil2!$F$10:$P$28,2))))))))))))","v":{"$error":"#N/A"}},null,{"$f":"T265-HLOOKUP(Y265,Feuil2!$C$1:$CD$9,2,FALSE)","v":{"$error":"#VALUE!"}},{"$f":"T265-HLOOKUP(Y265,Feuil2!$C$1:$CD$9,3,FALSE)","v":{"$error":"#VALUE!"}},{"$f":"T265-HLOOKUP(Y265,Feuil2!$C$1:$CD$9,4,FALSE)","v":{"$error":"#VALUE!"}},{"$f":"T265-HLOOKUP(Y265,Feuil2!$C$1:$CD$9,5,FALSE)","v":{"$error":"#VALUE!"}},{"$f":"T265-HLOOKUP(Y265,Feuil2!$C$1:$CD$9,6,FALSE)","v":{"$error":"#VALUE!"}},{"$f":"T265-HLOOKUP(Y265,Feuil2!$C$1:$CD$9,7,FALSE)","v":{"$error":"#VALUE!"}},{"$f":"T265-HLOOKUP(Y265,Feuil2!$C$1:$CD$9,8,FALSE)","v":{"$error":"#VALUE!"}},{"$f":"T265-HLOOKUP(Y265,Feuil2!$C$1:$CD$9,9,FALSE)","v":{"$error":"#VALUE!"}},null,null,null,null,null,null,null,{"$error":"#VALUE!"},2016,null,{"$f":"IF(AQ265,VLOOKUP(AQ265,HOM!$AS$561:$AT$616,2))","v":3.5710000000000002}]
["H",null,null,null,null,null,null,null,null,null,null,null,null,null,"",null,null,null,"","","","","",{"$error":"#N/A"},{"$f":"IF(AND(J266<1920),VLOOKUP(K266,Feuil2!$F$10:$P$28,11),IF(AND(J266>=1920,J266<1937),VLOOKUP(K266,Feuil2!$F$10:$P$28,11),IF(AND(J266>=1936,J266<1942),VLOOKUP(K266,Feuil2!$F$10:$P$28,10),IF(AND(J266>=1942,J266<1947),VLOOKUP(K266,Feuil2!$F$10:$P$28,9),IF(AND(J266>=1947,J266<1952),VLOOKUP(K266,Feuil2!$F$10:$P$28,8),IF(AND(J266>=1952,J266<1957),VLOOKUP(K266,Feuil2!$F$10:$P$28,7),IF(AND(J266>=1957,J266<1962),VLOOKUP(K266,Feuil2!$F$10:$P$28,6),IF(AND(J266>=1962,J266<1967),VLOOKUP(K266,Feuil2!$F$10:$P$28,5),IF(AND(J266>=1967,J266<1972),VLOOKUP(K266,Feuil2!$F$10:$P$28,4),IF(AND(J266>=1972,J266<1977),VLOOKUP(K266,Feuil2!$F$10:$P$28,3),IF(AND(J266>=1977,J266<1982),VLOOKUP(K266,Feuil2!$F$10:$P$28,2),VLOOKUP(K266,Feuil2!$F$10:$P$28,2))))))))))))","v":{"$error":"#N/A"}},null,{"$f":"T266-HLOOKUP(Y266,Feuil2!$C$1:$CD$9,2,FALSE)","v":{"$error":"#VALUE!"}},{"$f":"T266-HLOOKUP(Y266,Feuil2!$C$1:$CD$9,3,FALSE)","v":{"$error":"#VALUE!"}},{"$f":"T266-HLOOKUP(Y266,Feuil2!$C$1:$CD$9,4,FALSE)","v":{"$error":"#VALUE!"}},{"$f":"T266-HLOOKUP(Y266,Feuil2!$C$1:$CD$9,5,FALSE)","v":{"$error":"#VALUE!"}},{"$f":"T266-HLOOKUP(Y266,Feuil2!$C$1:$CD$9,6,FALSE)","v":{"$error":"#VALUE!"}},{"$f":"T266-HLOOKUP(Y266,Feuil2!$C$1:$CD$9,7,FALSE)","v":{"$error":"#VALUE!"}},{"$f":"T266-HLOOKUP(Y266,Feuil2!$C$1:$CD$9,8,FALSE)","v":{"$error":"#VALUE!"}},{"$f":"T266-HLOOKUP(Y266,Feuil2!$C$1:$CD$9,9,FALSE)","v":{"$error":"#VALUE!"}},null,null,null,null,null,null,null,{"$error":"#VALUE!"},2016,null,{"$f":"IF(AQ266,VLOOKUP(AQ266,HOM!$AS$561:$AT$616,2))","v":3.5710000000000002}]
["H",null,null,null,null,null,null,null,null,null,null,null,null,null,"",null,null,null,"","","","","",{"$error":"#N/A"},{"$f":"IF(AND(J267<1920),VLOOKUP(K267,Feuil2!$F$10:$P$28,11),IF(AND(J267>=1920,J267<1937),VLOOKUP(K267,Feuil2!$F$10:$P$28,11),IF(AND(J267>=1936,J267<1942),VLOOKUP(K267,Feuil2!$F$10:$P$28,10),IF(AND(J267>=1942,J267<1947),VLOOKUP(K267,Feuil2!$F$10:$P$28,9),IF(AND(J267>=1947,J267<1952),VLOOKUP(K267,Feuil2!$F$10:$P$28,8),IF(AND(J267>=1952,J267<1957),VLOOKUP(K267,Feuil2!$F$10:$P$28,7),IF(AND(J267>=1957,J267<1962),VLOOKUP(K267,Feuil2!$F$10:$P$28,6),IF(AND(J267>=1962,J267<1967),VLOOKUP(K267,Feuil2!$F$10:$P$28,5),IF(AND(J267>=1967,J267<1972),VLOOKUP(K267,Feuil2!$F$10:$P$28,4),IF(AND(J267>=1972,J267<1977),VLOOKUP(K267,Feuil2!$F$10:$P$28,3),IF(AND(J267>=1977,J267<1982),VLOOKUP(K267,Feuil2!$F$10:$P$28,2),VLOOKUP(K267,Feuil2!$F$10:$P$28,2))))))))))))","v":{"$error":"#N/A"}},null,{"$f":"T267-HLOOKUP(Y267,Feuil2!$C$1:$CD$9,2,FALSE)","v":{"$error":"#VALUE!"}},{"$f":"T267-HLOOKUP(Y267,Feuil2!$C$1:$CD$9,3,FALSE)","v":{"$error":"#VALUE!"}},{"$f":"T267-HLOOKUP(Y267,Feuil2!$C$1:$CD$9,4,FALSE)","v":{"$error":"#VALUE!"}},{"$f":"T267-HLOOKUP(Y267,Feuil2!$C$1:$CD$9,5,FALSE)","v":{"$error":"#VALUE!"}},{"$f":"T267-HLOOKUP(Y267,Feuil2!$C$1:$CD$9,6,FALSE)","v":{"$error":"#VALUE!"}},{"$f":"T267-HLOOKUP(Y267,Feuil2!$C$1:$CD$9,7,FALSE)","v":{"$error":"#VALUE!"}},{"$f":"T267-HLOOKUP(Y267,Feuil2!$C$1:$CD$9,8,FALSE)","v":{"$error":"#VALUE!"}},{"$f":"T267-HLOOKUP(Y267,Feuil2!$C$1:$CD$9,9,FALSE)","v":{"$error":"#VALUE!"}},null,null,null,null,null,null,null,{"$error":"#VALUE!"},2016,null,{"$f":"IF(AQ267,VLOOKUP(AQ267,HOM!$AS$561:$AT$616,2))","v":3.5710000000000002}]
["H",null,null,null,null,null,null,null,null,null,null,null,null,null,null,null,null,null,"","","","","",{"$error":"#N/A"},{"$f":"IF(AND(J268<1920),VLOOKUP(K268,Feuil2!$F$10:$P$28,11),IF(AND(J268>=1920,J268<1937),VLOOKUP(K268,Feuil2!$F$10:$P$28,11),IF(AND(J268>=1936,J268<1942),VLOOKUP(K268,Feuil2!$F$10:$P$28,10),IF(AND(J268>=1942,J268<1947),VLOOKUP(K268,Feuil2!$F$10:$P$28,9),IF(AND(J268>=1947,J268<1952),VLOOKUP(K268,Feuil2!$F$10:$P$28,8),IF(AND(J268>=1952,J268<1957),VLOOKUP(K268,Feuil2!$F$10:$P$28,7),IF(AND(J268>=1957,J268<1962),VLOOKUP(K268,Feuil2!$F$10:$P$28,6),IF(AND(J268>=1962,J268<1967),VLOOKUP(K268,Feuil2!$F$10:$P$28,5),IF(AND(J268>=1967,J268<1972),VLOOKUP(K268,Feuil2!$F$10:$P$28,4),IF(AND(J268>=1972,J268<1977),VLOOKUP(K268,Feuil2!$F$10:$P$28,3),IF(AND(J268>=1977,J268<1982),VLOOKUP(K268,Feuil2!$F$10:$P$28,2),VLOOKUP(K268,Feuil2!$F$10:$P$28,2))))))))))))","v":{"$error":"#N/A"}},null,{"$f":"T268-HLOOKUP(Y268,Feuil2!$C$1:$CD$9,2,FALSE)","v":{"$error":"#VALUE!"}},{"$f":"T268-HLOOKUP(Y268,Feuil2!$C$1:$CD$9,3,FALSE)","v":{"$error":"#VALUE!"}},{"$f":"T268-HLOOKUP(Y268,Feuil2!$C$1:$CD$9,4,FALSE)","v":{"$error":"#VALUE!"}},{"$f":"T268-HLOOKUP(Y268,Feuil2!$C$1:$CD$9,5,FALSE)","v":{"$error":"#VALUE!"}},{"$f":"T268-HLOOKUP(Y268,Feuil2!$C$1:$CD$9,6,FALSE)","v":{"$error":"#VALUE!"}},{"$f":"T268-HLOOKUP(Y268,Feuil2!$C$1:$CD$9,7,FALSE)","v":{"$error":"#VALUE!"}},{"$f":"T268-HLOOKUP(Y268,Feuil2!$C$1:$CD$9,8,FALSE)","v":{"$error":"#VALUE!"}},{"$f":"T268-HLOOKUP(Y268,Feuil2!$C$1:$CD$9,9,FALSE)","v":{"$error":"#VALUE!"}},null,null,null,null,null,null,null,{"$error":"#VALUE!"},2016,null,{"$f":"IF(AQ268,VLOOKUP(AQ268,HOM!$AS$561:$AT$616,2))","v":3.5710000000000002}]
["H",null,null,null,null,null,null,null,null,null,null,null,null,null,{"$f":"IF(K269=\"\",\"\",IF(MAXA(L269:N269)<=0,0,MAXA(L269:N269)))","v":""},null,null,null,"","","","","",{"$error":"#N/A"},{"$f":"IF(AND(J269<1920),VLOOKUP(K269,Feuil2!$F$10:$P$28,11),IF(AND(J269>=1920,J269<1937),VLOOKUP(K269,Feuil2!$F$10:$P$28,11),IF(AND(J269>=1936,J269<1942),VLOOKUP(K269,Feuil2!$F$10:$P$28,10),IF(AND(J269>=1942,J269<1947),VLOOKUP(K269,Feuil2!$F$10:$P$28,9),IF(AND(J269>=1947,J269<1952),VLOOKUP(K269,Feuil2!$F$10:$P$28,8),IF(AND(J269>=1952,J269<1957),VLOOKUP(K269,Feuil2!$F$10:$P$28,7),IF(AND(J269>=1957,J269<1962),VLOOKUP(K269,Feuil2!$F$10:$P$28,6),IF(AND(J269>=1962,J269<1967),VLOOKUP(K269,Feuil2!$F$10:$P$28,5),IF(AND(J269>=1967,J269<1972),VLOOKUP(K269,Feuil2!$F$10:$P$28,4),IF(AND(J269>=1972,J269<1977),VLOOKUP(K269,Feuil2!$F$10:$P$28,3),IF(AND(J269>=1977,J269<1982),VLOOKUP(K269,Feuil2!$F$10:$P$28,2),VLOOKUP(K269,Feuil2!$F$10:$P$28,2))))))))))))","v":{"$error":"#N/A"}},null,{"$f":"T269-HLOOKUP(Y269,Feuil2!$C$1:$CD$9,2,FALSE)","v":{"$error":"#VALUE!"}},{"$f":"T269-HLOOKUP(Y269,Feuil2!$C$1:$CD$9,3,FALSE)","v":{"$error":"#VALUE!"}},{"$f":"T269-HLOOKUP(Y269,Feuil2!$C$1:$CD$9,4,FALSE)","v":{"$error":"#VALUE!"}},{"$f":"T269-HLOOKUP(Y269,Feuil2!$C$1:$CD$9,5,FALSE)","v":{"$error":"#VALUE!"}},{"$f":"T269-HLOOKUP(Y269,Feuil2!$C$1:$CD$9,6,FALSE)","v":{"$error":"#VALUE!"}},{"$f":"T269-HLOOKUP(Y269,Feuil2!$C$1:$CD$9,7,FALSE)","v":{"$error":"#VALUE!"}},{"$f":"T269-HLOOKUP(Y269,Feuil2!$C$1:$CD$9,8,FALSE)","v":{"$error":"#VALUE!"}},{"$f":"T269-HLOOKUP(Y269,Feuil2!$C$1:$CD$9,9,FALSE)","v":{"$error":"#VALUE!"}},null,null,null,null,null,null,null,{"$error":"#VALUE!"},2016,null,{"$f":"IF(AQ269,VLOOKUP(AQ269,HOM!$AS$561:$AT$616,2))","v":3.5710000000000002}]
["H",null,null,null,null,null,null,null,null,null,null,null,null,null,"",null,null,null,"","","","","",{"$error":"#N/A"},{"$f":"IF(AND(J270<1920),VLOOKUP(K270,Feuil2!$F$10:$P$28,11),IF(AND(J270>=1920,J270<1937),VLOOKUP(K270,Feuil2!$F$10:$P$28,11),IF(AND(J270>=1936,J270<1942),VLOOKUP(K270,Feuil2!$F$10:$P$28,10),IF(AND(J270>=1942,J270<1947),VLOOKUP(K270,Feuil2!$F$10:$P$28,9),IF(AND(J270>=1947,J270<1952),VLOOKUP(K270,Feuil2!$F$10:$P$28,8),IF(AND(J270>=1952,J270<1957),VLOOKUP(K270,Feuil2!$F$10:$P$28,7),IF(AND(J270>=1957,J270<1962),VLOOKUP(K270,Feuil2!$F$10:$P$28,6),IF(AND(J270>=1962,J270<1967),VLOOKUP(K270,Feuil2!$F$10:$P$28,5),IF(AND(J270>=1967,J270<1972),VLOOKUP(K270,Feuil2!$F$10:$P$28,4),IF(AND(J270>=1972,J270<1977),VLOOKUP(K270,Feuil2!$F$10:$P$28,3),IF(AND(J270>=1977,J270<1982),VLOOKUP(K270,Feuil2!$F$10:$P$28,2),VLOOKUP(K270,Feuil2!$F$10:$P$28,2))))))))))))","v":{"$error":"#N/A"}},null,{"$f":"T270-HLOOKUP(Y270,Feuil2!$C$1:$CD$9,2,FALSE)","v":{"$error":"#VALUE!"}},{"$f":"T270-HLOOKUP(Y270,Feuil2!$C$1:$CD$9,3,FALSE)","v":{"$error":"#VALUE!"}},{"$f":"T270-HLOOKUP(Y270,Feuil2!$C$1:$CD$9,4,FALSE)","v":{"$error":"#VALUE!"}},{"$f":"T270-HLOOKUP(Y270,Feuil2!$C$1:$CD$9,5,FALSE)","v":{"$error":"#VALUE!"}},{"$f":"T270-HLOOKUP(Y270,Feuil2!$C$1:$CD$9,6,FALSE)","v":{"$error":"#VALUE!"}},{"$f":"T270-HLOOKUP(Y270,Feuil2!$C$1:$CD$9,7,FALSE)","v":{"$error":"#VALUE!"}},{"$f":"T270-HLOOKUP(Y270,Feuil2!$C$1:$CD$9,8,FALSE)","v":{"$error":"#VALUE!"}},{"$f":"T270-HLOOKUP(Y270,Feuil2!$C$1:$CD$9,9,FALSE)","v":{"$error":"#VALUE!"}},null,null,null,null,null,null,null,{"$error":"#VALUE!"},2016,null,{"$f":"IF(AQ270,VLOOKUP(AQ270,HOM!$AS$561:$AT$616,2))","v":3.5710000000000002}]
["H",null,null,null,null,null,null,null,null,null,null,null,null,null,"",null,null,null,"","",{"$f":"IF(K271=\"\",\"\",IF(A271=\"H\",10^(0.794358141*LOG(K271/174.393)^2)*T271*AS271,IF(A271=\"F\",10^(0.89726074 * LOG(K271/148.026)^2)*T271*AS271,\"\")))","v":""},"","",{"$error":"#N/A"},{"$f":"IF(AND(J271<1920),VLOOKUP(K271,Feuil2!$F$10:$P$28,11),IF(AND(J271>=1920,J271<1937),VLOOKUP(K271,Feuil2!$F$10:$P$28,11),IF(AND(J271>=1936,J271<1942),VLOOKUP(K271,Feuil2!$F$10:$P$28,10),IF(AND(J271>=1942,J271<1947),VLOOKUP(K271,Feuil2!$F$10:$P$28,9),IF(AND(J271>=1947,J271<1952),VLOOKUP(K271,Feuil2!$F$10:$P$28,8),IF(AND(J271>=1952,J271<1957),VLOOKUP(K271,Feuil2!$F$10:$P$28,7),IF(AND(J271>=1957,J271<1962),VLOOKUP(K271,Feuil2!$F$10:$P$28,6),IF(AND(J271>=1962,J271<1967),VLOOKUP(K271,Feuil2!$F$10:$P$28,5),IF(AND(J271>=1967,J271<1972),VLOOKUP(K271,Feuil2!$F$10:$P$28,4),IF(AND(J271>=1972,J271<1977),VLOOKUP(K271,Feuil2!$F$10:$P$28,3),IF(AND(J271>=1977,J271<1982),VLOOKUP(K271,Feuil2!$F$10:$P$28,2),VLOOKUP(K271,Feuil2!$F$10:$P$28,2))))))))))))","v":{"$error":"#N/A"}},null,{"$f":"T271-HLOOKUP(Y271,Feuil2!$C$1:$CD$9,2,FALSE)","v":{"$error":"#VALUE!"}},{"$f":"T271-HLOOKUP(Y271,Feuil2!$C$1:$CD$9,3,FALSE)","v":{"$error":"#VALUE!"}},{"$f":"T271-HLOOKUP(Y271,Feuil2!$C$1:$CD$9,4,FALSE)","v":{"$error":"#VALUE!"}},{"$f":"T271-HLOOKUP(Y271,Feuil2!$C$1:$CD$9,5,FALSE)","v":{"$error":"#VALUE!"}},{"$f":"T271-HLOOKUP(Y271,Feuil2!$C$1:$CD$9,6,FALSE)","v":{"$error":"#VALUE!"}},{"$f":"T271-HLOOKUP(Y271,Feuil2!$C$1:$CD$9,7,FALSE)","v":{"$error":"#VALUE!"}},{"$f":"T271-HLOOKUP(Y271,Feuil2!$C$1:$CD$9,8,FALSE)","v":{"$error":"#VALUE!"}},{"$f":"T271-HLOOKUP(Y271,Feuil2!$C$1:$CD$9,9,FALSE)","v":{"$error":"#VALUE!"}},null,null,null,null,null,null,null,{"$error":"#VALUE!"},2016,null,{"$f":"IF(AQ271,VLOOKUP(AQ271,HOM!$AS$561:$AT$616,2))","v":3.5710000000000002}]
["H",null,null,null,null,null,null,null,null,null,null,null,null,null,"",null,null,null,"","","","","",{"$error":"#N/A"},{"$f":"IF(AND(J272<1920),VLOOKUP(K272,Feuil2!$F$10:$P$28,11),IF(AND(J272>=1920,J272<1937),VLOOKUP(K272,Feuil2!$F$10:$P$28,11),IF(AND(J272>=1936,J272<1942),VLOOKUP(K272,Feuil2!$F$10:$P$28,10),IF(AND(J272>=1942,J272<1947),VLOOKUP(K272,Feuil2!$F$10:$P$28,9),IF(AND(J272>=1947,J272<1952),VLOOKUP(K272,Feuil2!$F$10:$P$28,8),IF(AND(J272>=1952,J272<1957),VLOOKUP(K272,Feuil2!$F$10:$P$28,7),IF(AND(J272>=1957,J272<1962),VLOOKUP(K272,Feuil2!$F$10:$P$28,6),IF(AND(J272>=1962,J272<1967),VLOOKUP(K272,Feuil2!$F$10:$P$28,5),IF(AND(J272>=1967,J272<1972),VLOOKUP(K272,Feuil2!$F$10:$P$28,4),IF(AND(J272>=1972,J272<1977),VLOOKUP(K272,Feuil2!$F$10:$P$28,3),IF(AND(J272>=1977,J272<1982),VLOOKUP(K272,Feuil2!$F$10:$P$28,2),VLOOKUP(K272,Feuil2!$F$10:$P$28,2))))))))))))","v":{"$error":"#N/A"}},null,{"$f":"T272-HLOOKUP(Y272,Feuil2!$C$1:$CD$9,2,FALSE)","v":{"$error":"#VALUE!"}},{"$f":"T272-HLOOKUP(Y272,Feuil2!$C$1:$CD$9,3,FALSE)","v":{"$error":"#VALUE!"}},{"$f":"T272-HLOOKUP(Y272,Feuil2!$C$1:$CD$9,4,FALSE)","v":{"$error":"#VALUE!"}},{"$f":"T272-HLOOKUP(Y272,Feuil2!$C$1:$CD$9,5,FALSE)","v":{"$error":"#VALUE!"}},{"$f":"T272-HLOOKUP(Y272,Feuil2!$C$1:$CD$9,6,FALSE)","v":{"$error":"#VALUE!"}},{"$f":"T272-HLOOKUP(Y272,Feuil2!$C$1:$CD$9,7,FALSE)","v":{"$error":"#VALUE!"}},{"$f":"T272-HLOOKUP(Y272,Feuil2!$C$1:$CD$9,8,FALSE)","v":{"$error":"#VALUE!"}},{"$f":"T272-HLOOKUP(Y272,Feuil2!$C$1:$CD$9,9,FALSE)","v":{"$error":"#VALUE!"}},null,null,null,null,null,null,null,{"$error":"#VALUE!"},2016,null,{"$f":"IF(AQ272,VLOOKUP(AQ272,HOM!$AS$561:$AT$616,2))","v":3.5710000000000002}]
["H",null,null,null,null,null,null,null,null,null,null,null,null,null,"",null,null,null,"","","","","",{"$error":"#N/A"},{"$f":"IF(AND(J273<1920),VLOOKUP(K273,Feuil2!$F$10:$P$28,11),IF(AND(J273>=1920,J273<1937),VLOOKUP(K273,Feuil2!$F$10:$P$28,11),IF(AND(J273>=1936,J273<1942),VLOOKUP(K273,Feuil2!$F$10:$P$28,10),IF(AND(J273>=1942,J273<1947),VLOOKUP(K273,Feuil2!$F$10:$P$28,9),IF(AND(J273>=1947,J273<1952),VLOOKUP(K273,Feuil2!$F$10:$P$28,8),IF(AND(J273>=1952,J273<1957),VLOOKUP(K273,Feuil2!$F$10:$P$28,7),IF(AND(J273>=1957,J273<1962),VLOOKUP(K273,Feuil2!$F$10:$P$28,6),IF(AND(J273>=1962,J273<1967),VLOOKUP(K273,Feuil2!$F$10:$P$28,5),IF(AND(J273>=1967,J273<1972),VLOOKUP(K273,Feuil2!$F$10:$P$28,4),IF(AND(J273>=1972,J273<1977),VLOOKUP(K273,Feuil2!$F$10:$P$28,3),IF(AND(J273>=1977,J273<1982),VLOOKUP(K273,Feuil2!$F$10:$P$28,2),VLOOKUP(K273,Feuil2!$F$10:$P$28,2))))))))))))","v":{"$error":"#N/A"}},null,{"$f":"T273-HLOOKUP(Y273,Feuil2!$C$1:$CD$9,2,FALSE)","v":{"$error":"#VALUE!"}},{"$f":"T273-HLOOKUP(Y273,Feuil2!$C$1:$CD$9,3,FALSE)","v":{"$error":"#VALUE!"}},{"$f":"T273-HLOOKUP(Y273,Feuil2!$C$1:$CD$9,4,FALSE)","v":{"$error":"#VALUE!"}},{"$f":"T273-HLOOKUP(Y273,Feuil2!$C$1:$CD$9,5,FALSE)","v":{"$error":"#VALUE!"}},{"$f":"T273-HLOOKUP(Y273,Feuil2!$C$1:$CD$9,6,FALSE)","v":{"$error":"#VALUE!"}},{"$f":"T273-HLOOKUP(Y273,Feuil2!$C$1:$CD$9,7,FALSE)","v":{"$error":"#VALUE!"}},{"$f":"T273-HLOOKUP(Y273,Feuil2!$C$1:$CD$9,8,FALSE)","v":{"$error":"#VALUE!"}},{"$f":"T273-HLOOKUP(Y273,Feuil2!$C$1:$CD$9,9,FALSE)","v":{"$error":"#VALUE!"}},null,null,null,null,null,null,null,{"$error":"#VALUE!"},{"$f":"2016-J273","v":2016},null,{"$f":"IF(AQ273,VLOOKUP(AQ273,HOM!$AS$561:$AT$616,2))","v":3.5710000000000002}]
["H",null,null,null,null,null,null,null,null,null,null,null,null,null,"",null,null,null,"","","","","",{"$f":"IF(BI274<95,IF(BI274<=90,VLOOKUP(BI274,$AQ$564:$AR$619,2)))","v":{"$error":"#N/A"}},{"$f":"IF(AND(J274<1920),VLOOKUP(K274,Feuil2!$F$10:$P$28,11),IF(AND(J274>=1920,J274<1937),VLOOKUP(K274,Feuil2!$F$10:$P$28,11),IF(AND(J274>=1936,J274<1942),VLOOKUP(K274,Feuil2!$F$10:$P$28,10),IF(AND(J274>=1942,J274<1947),VLOOKUP(K274,Feuil2!$F$10:$P$28,9),IF(AND(J274>=1947,J274<1952),VLOOKUP(K274,Feuil2!$F$10:$P$28,8),IF(AND(J274>=1952,J274<1957),VLOOKUP(K274,Feuil2!$F$10:$P$28,7),IF(AND(J274>=1957,J274<1962),VLOOKUP(K274,Feuil2!$F$10:$P$28,6),IF(AND(J274>=1962,J274<1967),VLOOKUP(K274,Feuil2!$F$10:$P$28,5),IF(AND(J274>=1967,J274<1972),VLOOKUP(K274,Feuil2!$F$10:$P$28,4),IF(AND(J274>=1972,J274<1977),VLOOKUP(K274,Feuil2!$F$10:$P$28,3),IF(AND(J274>=1977,J274<1982),VLOOKUP(K274,Feuil2!$F$10:$P$28,2),VLOOKUP(K274,Feuil2!$F$10:$P$28,2))))))))))))","v":{"$error":"#N/A"}},null,{"$f":"T274-HLOOKUP(Y274,Feuil2!$C$1:$CD$9,2,FALSE)","v":{"$error":"#VALUE!"}},{"$f":"T274-HLOOKUP(Y274,Feuil2!$C$1:$CD$9,3,FALSE)","v":{"$error":"#VALUE!"}},{"$f":"T274-HLOOKUP(Y274,Feuil2!$C$1:$CD$9,4,FALSE)","v":{"$error":"#VALUE!"}},{"$f":"T274-HLOOKUP(Y274,Feuil2!$C$1:$CD$9,5,FALSE)","v":{"$error":"#VALUE!"}},{"$f":"T274-HLOOKUP(Y274,Feuil2!$C$1:$CD$9,6,FALSE)","v":{"$error":"#VALUE!"}},{"$f":"T274-HLOOKUP(Y274,Feuil2!$C$1:$CD$9,7,FALSE)","v":{"$error":"#VALUE!"}},{"$f":"T274-HLOOKUP(Y274,Feuil2!$C$1:$CD$9,8,FALSE)","v":{"$error":"#VALUE!"}},{"$f":"T274-HLOOKUP(Y274,Feuil2!$C$1:$CD$9,9,FALSE)","v":{"$error":"#VALUE!"}},null,null,null,null,null,null,null,{"$error":"#VALUE!"},2016,null,{"$f":"IF(AQ274,VLOOKUP(AQ274,HOM!$AS$561:$AT$616,2))","v":3.5710000000000002}]
["H",null,null,null,null,null,null,null,null,null,null,null,null,null,"",null,null,null,"","","","","",{"$error":"#N/A"},{"$f":"IF(AND(J275<1920),VLOOKUP(K275,Feuil2!$F$10:$P$28,11),IF(AND(J275>=1920,J275<1937),VLOOKUP(K275,Feuil2!$F$10:$P$28,11),IF(AND(J275>=1936,J275<1942),VLOOKUP(K275,Feuil2!$F$10:$P$28,10),IF(AND(J275>=1942,J275<1947),VLOOKUP(K275,Feuil2!$F$10:$P$28,9),IF(AND(J275>=1947,J275<1952),VLOOKUP(K275,Feuil2!$F$10:$P$28,8),IF(AND(J275>=1952,J275<1957),VLOOKUP(K275,Feuil2!$F$10:$P$28,7),IF(AND(J275>=1957,J275<1962),VLOOKUP(K275,Feuil2!$F$10:$P$28,6),IF(AND(J275>=1962,J275<1967),VLOOKUP(K275,Feuil2!$F$10:$P$28,5),IF(AND(J275>=1967,J275<1972),VLOOKUP(K275,Feuil2!$F$10:$P$28,4),IF(AND(J275>=1972,J275<1977),VLOOKUP(K275,Feuil2!$F$10:$P$28,3),IF(AND(J275>=1977,J275<1982),VLOOKUP(K275,Feuil2!$F$10:$P$28,2),VLOOKUP(K275,Feuil2!$F$10:$P$28,2))))))))))))","v":{"$error":"#N/A"}},null,{"$f":"T275-HLOOKUP(Y275,Feuil2!$C$1:$CD$9,2,FALSE)","v":{"$error":"#VALUE!"}},{"$f":"T275-HLOOKUP(Y275,Feuil2!$C$1:$CD$9,3,FALSE)","v":{"$error":"#VALUE!"}},{"$f":"T275-HLOOKUP(Y275,Feuil2!$C$1:$CD$9,4,FALSE)","v":{"$error":"#VALUE!"}},{"$f":"T275-HLOOKUP(Y275,Feuil2!$C$1:$CD$9,5,FALSE)","v":{"$error":"#VALUE!"}},{"$f":"T275-HLOOKUP(Y275,Feuil2!$C$1:$CD$9,6,FALSE)","v":{"$error":"#VALUE!"}},{"$f":"T275-HLOOKUP(Y275,Feuil2!$C$1:$CD$9,7,FALSE)","v":{"$error":"#VALUE!"}},{"$f":"T275-HLOOKUP(Y275,Feuil2!$C$1:$CD$9,8,FALSE)","v":{"$error":"#VALUE!"}},{"$f":"T275-HLOOKUP(Y275,Feuil2!$C$1:$CD$9,9,FALSE)","v":{"$error":"#VALUE!"}},null,null,null,null,null,null,null,{"$error":"#VALUE!"},2016,null,{"$f":"IF(AQ275,VLOOKUP(AQ275,HOM!$AS$561:$AT$616,2))","v":3.5710000000000002}]
["H",null,null,null,null,null,null,null,null,null,null,null,null,null,"",null,null,null,"","","","","",{"$error":"#N/A"},{"$f":"IF(AND(J276<1920),VLOOKUP(K276,Feuil2!$F$10:$P$28,11),IF(AND(J276>=1920,J276<1937),VLOOKUP(K276,Feuil2!$F$10:$P$28,11),IF(AND(J276>=1936,J276<1942),VLOOKUP(K276,Feuil2!$F$10:$P$28,10),IF(AND(J276>=1942,J276<1947),VLOOKUP(K276,Feuil2!$F$10:$P$28,9),IF(AND(J276>=1947,J276<1952),VLOOKUP(K276,Feuil2!$F$10:$P$28,8),IF(AND(J276>=1952,J276<1957),VLOOKUP(K276,Feuil2!$F$10:$P$28,7),IF(AND(J276>=1957,J276<1962),VLOOKUP(K276,Feuil2!$F$10:$P$28,6),IF(AND(J276>=1962,J276<1967),VLOOKUP(K276,Feuil2!$F$10:$P$28,5),IF(AND(J276>=1967,J276<1972),VLOOKUP(K276,Feuil2!$F$10:$P$28,4),IF(AND(J276>=1972,J276<1977),VLOOKUP(K276,Feuil2!$F$10:$P$28,3),IF(AND(J276>=1977,J276<1982),VLOOKUP(K276,Feuil2!$F$10:$P$28,2),VLOOKUP(K276,Feuil2!$F$10:$P$28,2))))))))))))","v":{"$error":"#N/A"}},null,{"$f":"T276-HLOOKUP(Y276,Feuil2!$C$1:$CD$9,2,FALSE)","v":{"$error":"#VALUE!"}},{"$f":"T276-HLOOKUP(Y276,Feuil2!$C$1:$CD$9,3,FALSE)","v":{"$error":"#VALUE!"}},{"$f":"T276-HLOOKUP(Y276,Feuil2!$C$1:$CD$9,4,FALSE)","v":{"$error":"#VALUE!"}},{"$f":"T276-HLOOKUP(Y276,Feuil2!$C$1:$CD$9,5,FALSE)","v":{"$error":"#VALUE!"}},{"$f":"T276-HLOOKUP(Y276,Feuil2!$C$1:$CD$9,6,FALSE)","v":{"$error":"#VALUE!"}},{"$f":"T276-HLOOKUP(Y276,Feuil2!$C$1:$CD$9,7,FALSE)","v":{"$error":"#VALUE!"}},{"$f":"T276-HLOOKUP(Y276,Feuil2!$C$1:$CD$9,8,FALSE)","v":{"$error":"#VALUE!"}},{"$f":"T276-HLOOKUP(Y276,Feuil2!$C$1:$CD$9,9,FALSE)","v":{"$error":"#VALUE!"}},null,null,null,null,null,null,null,{"$error":"#VALUE!"},2016,null,{"$f":"IF(AQ276,VLOOKUP(AQ276,HOM!$AS$561:$AT$616,2))","v":3.5710000000000002}]
["H",null,null,null,null,null,null,null,null,null,null,null,null,null,"",null,null,null,"","","","","",{"$error":"#N/A"},{"$f":"IF(AND(J277<1920),VLOOKUP(K277,Feuil2!$F$10:$P$28,11),IF(AND(J277>=1920,J277<1937),VLOOKUP(K277,Feuil2!$F$10:$P$28,11),IF(AND(J277>=1936,J277<1942),VLOOKUP(K277,Feuil2!$F$10:$P$28,10),IF(AND(J277>=1942,J277<1947),VLOOKUP(K277,Feuil2!$F$10:$P$28,9),IF(AND(J277>=1947,J277<1952),VLOOKUP(K277,Feuil2!$F$10:$P$28,8),IF(AND(J277>=1952,J277<1957),VLOOKUP(K277,Feuil2!$F$10:$P$28,7),IF(AND(J277>=1957,J277<1962),VLOOKUP(K277,Feuil2!$F$10:$P$28,6),IF(AND(J277>=1962,J277<1967),VLOOKUP(K277,Feuil2!$F$10:$P$28,5),IF(AND(J277>=1967,J277<1972),VLOOKUP(K277,Feuil2!$F$10:$P$28,4),IF(AND(J277>=1972,J277<1977),VLOOKUP(K277,Feuil2!$F$10:$P$28,3),IF(AND(J277>=1977,J277<1982),VLOOKUP(K277,Feuil2!$F$10:$P$28,2),VLOOKUP(K277,Feuil2!$F$10:$P$28,2))))))))))))","v":{"$error":"#N/A"}},null,{"$f":"T277-HLOOKUP(Y277,Feuil2!$C$1:$CD$9,2,FALSE)","v":{"$error":"#VALUE!"}},{"$f":"T277-HLOOKUP(Y277,Feuil2!$C$1:$CD$9,3,FALSE)","v":{"$error":"#VALUE!"}},{"$f":"T277-HLOOKUP(Y277,Feuil2!$C$1:$CD$9,4,FALSE)","v":{"$error":"#VALUE!"}},{"$f":"T277-HLOOKUP(Y277,Feuil2!$C$1:$CD$9,5,FALSE)","v":{"$error":"#VALUE!"}},{"$f":"T277-HLOOKUP(Y277,Feuil2!$C$1:$CD$9,6,FALSE)","v":{"$error":"#VALUE!"}},{"$f":"T277-HLOOKUP(Y277,Feuil2!$C$1:$CD$9,7,FALSE)","v":{"$error":"#VALUE!"}},{"$f":"T277-HLOOKUP(Y277,Feuil2!$C$1:$CD$9,8,FALSE)","v":{"$error":"#VALUE!"}},{"$f":"T277-HLOOKUP(Y277,Feuil2!$C$1:$CD$9,9,FALSE)","v":{"$error":"#VALUE!"}},null,null,null,null,null,null,null,{"$error":"#VALUE!"},2016,null,{"$f":"IF(AQ277,VLOOKUP(AQ277,HOM!$AS$561:$AT$616,2))","v":3.5710000000000002}]
["H",null,null,null,null,null,null,null,null,null,null,null,null,null,"",null,null,null,"","","","","",{"$error":"#N/A"},{"$f":"IF(AND(J278<1920),VLOOKUP(K278,Feuil2!$F$10:$P$28,11),IF(AND(J278>=1920,J278<1937),VLOOKUP(K278,Feuil2!$F$10:$P$28,11),IF(AND(J278>=1936,J278<1942),VLOOKUP(K278,Feuil2!$F$10:$P$28,10),IF(AND(J278>=1942,J278<1947),VLOOKUP(K278,Feuil2!$F$10:$P$28,9),IF(AND(J278>=1947,J278<1952),VLOOKUP(K278,Feuil2!$F$10:$P$28,8),IF(AND(J278>=1952,J278<1957),VLOOKUP(K278,Feuil2!$F$10:$P$28,7),IF(AND(J278>=1957,J278<1962),VLOOKUP(K278,Feuil2!$F$10:$P$28,6),IF(AND(J278>=1962,J278<1967),VLOOKUP(K278,Feuil2!$F$10:$P$28,5),IF(AND(J278>=1967,J278<1972),VLOOKUP(K278,Feuil2!$F$10:$P$28,4),IF(AND(J278>=1972,J278<1977),VLOOKUP(K278,Feuil2!$F$10:$P$28,3),IF(AND(J278>=1977,J278<1982),VLOOKUP(K278,Feuil2!$F$10:$P$28,2),VLOOKUP(K278,Feuil2!$F$10:$P$28,2))))))))))))","v":{"$error":"#N/A"}},null,{"$f":"T278-HLOOKUP(Y278,Feuil2!$C$1:$CD$9,2,FALSE)","v":{"$error":"#VALUE!"}},{"$f":"T278-HLOOKUP(Y278,Feuil2!$C$1:$CD$9,3,FALSE)","v":{"$error":"#VALUE!"}},{"$f":"T278-HLOOKUP(Y278,Feuil2!$C$1:$CD$9,4,FALSE)","v":{"$error":"#VALUE!"}},{"$f":"T278-HLOOKUP(Y278,Feuil2!$C$1:$CD$9,5,FALSE)","v":{"$error":"#VALUE!"}},{"$f":"T278-HLOOKUP(Y278,Feuil2!$C$1:$CD$9,6,FALSE)","v":{"$error":"#VALUE!"}},{"$f":"T278-HLOOKUP(Y278,Feuil2!$C$1:$CD$9,7,FALSE)","v":{"$error":"#VALUE!"}},{"$f":"T278-HLOOKUP(Y278,Feuil2!$C$1:$CD$9,8,FALSE)","v":{"$error":"#VALUE!"}},{"$f":"T278-HLOOKUP(Y278,Feuil2!$C$1:$CD$9,9,FALSE)","v":{"$error":"#VALUE!"}},null,null,null,null,null,null,null,{"$error":"#VALUE!"},2016,null,{"$f":"IF(AQ278,VLOOKUP(AQ278,HOM!$AS$561:$AT$616,2))","v":3.5710000000000002}]
["H",null,null,null,null,null,null,null,null,null,null,null,null,null,"",null,null,null,"","","","","",{"$error":"#N/A"},{"$f":"IF(AND(J279<1920),VLOOKUP(K279,Feuil2!$F$10:$P$28,11),IF(AND(J279>=1920,J279<1937),VLOOKUP(K279,Feuil2!$F$10:$P$28,11),IF(AND(J279>=1936,J279<1942),VLOOKUP(K279,Feuil2!$F$10:$P$28,10),IF(AND(J279>=1942,J279<1947),VLOOKUP(K279,Feuil2!$F$10:$P$28,9),IF(AND(J279>=1947,J279<1952),VLOOKUP(K279,Feuil2!$F$10:$P$28,8),IF(AND(J279>=1952,J279<1957),VLOOKUP(K279,Feuil2!$F$10:$P$28,7),IF(AND(J279>=1957,J279<1962),VLOOKUP(K279,Feuil2!$F$10:$P$28,6),IF(AND(J279>=1962,J279<1967),VLOOKUP(K279,Feuil2!$F$10:$P$28,5),IF(AND(J279>=1967,J279<1972),VLOOKUP(K279,Feuil2!$F$10:$P$28,4),IF(AND(J279>=1972,J279<1977),VLOOKUP(K279,Feuil2!$F$10:$P$28,3),IF(AND(J279>=1977,J279<1982),VLOOKUP(K279,Feuil2!$F$10:$P$28,2),VLOOKUP(K279,Feuil2!$F$10:$P$28,2))))))))))))","v":{"$error":"#N/A"}},null,{"$f":"T279-HLOOKUP(Y279,Feuil2!$C$1:$CD$9,2,FALSE)","v":{"$error":"#VALUE!"}},{"$f":"T279-HLOOKUP(Y279,Feuil2!$C$1:$CD$9,3,FALSE)","v":{"$error":"#VALUE!"}},{"$f":"T279-HLOOKUP(Y279,Feuil2!$C$1:$CD$9,4,FALSE)","v":{"$error":"#VALUE!"}},{"$f":"T279-HLOOKUP(Y279,Feuil2!$C$1:$CD$9,5,FALSE)","v":{"$error":"#VALUE!"}},{"$f":"T279-HLOOKUP(Y279,Feuil2!$C$1:$CD$9,6,FALSE)","v":{"$error":"#VALUE!"}},{"$f":"T279-HLOOKUP(Y279,Feuil2!$C$1:$CD$9,7,FALSE)","v":{"$error":"#VALUE!"}},{"$f":"T279-HLOOKUP(Y279,Feuil2!$C$1:$CD$9,8,FALSE)","v":{"$error":"#VALUE!"}},{"$f":"T279-HLOOKUP(Y279,Feuil2!$C$1:$CD$9,9,FALSE)","v":{"$error":"#VALUE!"}},null,null,null,null,null,null,null,{"$error":"#VALUE!"},2016,null,{"$f":"IF(AQ279,VLOOKUP(AQ279,HOM!$AS$561:$AT$616,2))","v":3.5710000000000002}]
["H",null,null,null,null,null,null,null,null,null,null,null,null,null,"",null,null,null,{"$f":"IF(K280=\"\",\"\",IF(MAXA(P280:R280)<=0,0,MAXA(P280:R280)))","v":""},{"$f":"IF(K280=\"\",\"\",IF(OR(O280=0,S280=0),0,O280+S280))","v":""},"","","",{"$f":"IF(BI280<95,IF(BI280<=90,VLOOKUP(BI280,$AQ$560:$AR$615,2)))","v":{"$error":"#N/A"}},{"$f":"IF(AND(J280<1920),VLOOKUP(K280,Feuil2!$F$10:$P$28,11),IF(AND(J280>=1920,J280<1937),VLOOKUP(K280,Feuil2!$F$10:$P$28,11),IF(AND(J280>=1936,J280<1942),VLOOKUP(K280,Feuil2!$F$10:$P$28,10),IF(AND(J280>=1942,J280<1947),VLOOKUP(K280,Feuil2!$F$10:$P$28,9),IF(AND(J280>=1947,J280<1952),VLOOKUP(K280,Feuil2!$F$10:$P$28,8),IF(AND(J280>=1952,J280<1957),VLOOKUP(K280,Feuil2!$F$10:$P$28,7),IF(AND(J280>=1957,J280<1962),VLOOKUP(K280,Feuil2!$F$10:$P$28,6),IF(AND(J280>=1962,J280<1967),VLOOKUP(K280,Feuil2!$F$10:$P$28,5),IF(AND(J280>=1967,J280<1972),VLOOKUP(K280,Feuil2!$F$10:$P$28,4),IF(AND(J280>=1972,J280<1977),VLOOKUP(K280,Feuil2!$F$10:$P$28,3),IF(AND(J280>=1977,J280<1982),VLOOKUP(K280,Feuil2!$F$10:$P$28,2),VLOOKUP(K280,Feuil2!$F$10:$P$28,2))))))))))))","v":{"$error":"#N/A"}},null,{"$f":"T280-HLOOKUP(Y280,Feuil2!$C$1:$CD$9,2,FALSE)","v":{"$error":"#VALUE!"}},{"$f":"T280-HLOOKUP(Y280,Feuil2!$C$1:$CD$9,3,FALSE)","v":{"$error":"#VALUE!"}},{"$f":"T280-HLOOKUP(Y280,Feuil2!$C$1:$CD$9,4,FALSE)","v":{"$error":"#VALUE!"}},{"$f":"T280-HLOOKUP(Y280,Feuil2!$C$1:$CD$9,5,FALSE)","v":{"$error":"#VALUE!"}},{"$f":"T280-HLOOKUP(Y280,Feuil2!$C$1:$CD$9,6,FALSE)","v":{"$error":"#VALUE!"}},{"$f":"T280-HLOOKUP(Y280,Feuil2!$C$1:$CD$9,7,FALSE)","v":{"$error":"#VALUE!"}},{"$f":"T280-HLOOKUP(Y280,Feuil2!$C$1:$CD$9,8,FALSE)","v":{"$error":"#VALUE!"}},{"$f":"T280-HLOOKUP(Y280,Feuil2!$C$1:$CD$9,9,FALSE)","v":{"$error":"#VALUE!"}},null,null,null,null,null,null,null,{"$error":"#VALUE!"},2016,null,{"$f":"IF(AQ280,VLOOKUP(AQ280,HOM!$AS$561:$AT$616,2))","v":3.5710000000000002}]
["H",null,null,null,null,null,null,null,null,null,null,null,null,null,"",null,null,null,"","","","","",{"$f":"IF(BI281<95,IF(BI281<=90,VLOOKUP(BI281,$AQ$564:$AR$619,2)))","v":{"$error":"#N/A"}},{"$f":"IF(AND(J281<1920),VLOOKUP(K281,Feuil2!$F$10:$P$28,11),IF(AND(J281>=1920,J281<1937),VLOOKUP(K281,Feuil2!$F$10:$P$28,11),IF(AND(J281>=1936,J281<1942),VLOOKUP(K281,Feuil2!$F$10:$P$28,10),IF(AND(J281>=1942,J281<1947),VLOOKUP(K281,Feuil2!$F$10:$P$28,9),IF(AND(J281>=1947,J281<1952),VLOOKUP(K281,Feuil2!$F$10:$P$28,8),IF(AND(J281>=1952,J281<1957),VLOOKUP(K281,Feuil2!$F$10:$P$28,7),IF(AND(J281>=1957,J281<1962),VLOOKUP(K281,Feuil2!$F$10:$P$28,6),IF(AND(J281>=1962,J281<1967),VLOOKUP(K281,Feuil2!$F$10:$P$28,5),IF(AND(J281>=1967,J281<1972),VLOOKUP(K281,Feuil2!$F$10:$P$28,4),IF(AND(J281>=1972,J281<1977),VLOOKUP(K281,Feuil2!$F$10:$P$28,3),IF(AND(J281>=1977,J281<1982),VLOOKUP(K281,Feuil2!$F$10:$P$28,2),VLOOKUP(K281,Feuil2!$F$10:$P$28,2))))))))))))","v":{"$error":"#N/A"}},null,{"$f":"T281-HLOOKUP(Y281,Feuil2!$C$1:$CD$9,2,FALSE)","v":{"$error":"#VALUE!"}},{"$f":"T281-HLOOKUP(Y281,Feuil2!$C$1:$CD$9,3,FALSE)","v":{"$error":"#VALUE!"}},{"$f":"T281-HLOOKUP(Y281,Feuil2!$C$1:$CD$9,4,FALSE)","v":{"$error":"#VALUE!"}},{"$f":"T281-HLOOKUP(Y281,Feuil2!$C$1:$CD$9,5,FALSE)","v":{"$error":"#VALUE!"}},{"$f":"T281-HLOOKUP(Y281,Feuil2!$C$1:$CD$9,6,FALSE)","v":{"$error":"#VALUE!"}},{"$f":"T281-HLOOKUP(Y281,Feuil2!$C$1:$CD$9,7,FALSE)","v":{"$error":"#VALUE!"}},{"$f":"T281-HLOOKUP(Y281,Feuil2!$C$1:$CD$9,8,FALSE)","v":{"$error":"#VALUE!"}},{"$f":"T281-HLOOKUP(Y281,Feuil2!$C$1:$CD$9,9,FALSE)","v":{"$error":"#VALUE!"}},null,null,null,null,null,null,null,{"$error":"#VALUE!"},2016,null,{"$f":"IF(AQ281,VLOOKUP(AQ281,HOM!$AS$561:$AT$616,2))","v":3.5710000000000002}]
["H",null,null,null,null,null,null,null,null,null,null,null,null,null,"",null,null,null,"","","","","",{"$f":"IF(BI282<95,IF(BI282<=90,VLOOKUP(BI282,$AQ$564:$AR$619,2)))","v":{"$error":"#N/A"}},{"$f":"IF(AND(J282<1920),VLOOKUP(K282,Feuil2!$F$10:$P$28,11),IF(AND(J282>=1920,J282<1937),VLOOKUP(K282,Feuil2!$F$10:$P$28,11),IF(AND(J282>=1936,J282<1942),VLOOKUP(K282,Feuil2!$F$10:$P$28,10),IF(AND(J282>=1942,J282<1947),VLOOKUP(K282,Feuil2!$F$10:$P$28,9),IF(AND(J282>=1947,J282<1952),VLOOKUP(K282,Feuil2!$F$10:$P$28,8),IF(AND(J282>=1952,J282<1957),VLOOKUP(K282,Feuil2!$F$10:$P$28,7),IF(AND(J282>=1957,J282<1962),VLOOKUP(K282,Feuil2!$F$10:$P$28,6),IF(AND(J282>=1962,J282<1967),VLOOKUP(K282,Feuil2!$F$10:$P$28,5),IF(AND(J282>=1967,J282<1972),VLOOKUP(K282,Feuil2!$F$10:$P$28,4),IF(AND(J282>=1972,J282<1977),VLOOKUP(K282,Feuil2!$F$10:$P$28,3),IF(AND(J282>=1977,J282<1982),VLOOKUP(K282,Feuil2!$F$10:$P$28,2),VLOOKUP(K282,Feuil2!$F$10:$P$28,2))))))))))))","v":{"$error":"#N/A"}},null,{"$f":"T282-HLOOKUP(Y282,Feuil2!$C$1:$CD$9,2,FALSE)","v":{"$error":"#VALUE!"}},{"$f":"T282-HLOOKUP(Y282,Feuil2!$C$1:$CD$9,3,FALSE)","v":{"$error":"#VALUE!"}},{"$f":"T282-HLOOKUP(Y282,Feuil2!$C$1:$CD$9,4,FALSE)","v":{"$error":"#VALUE!"}},{"$f":"T282-HLOOKUP(Y282,Feuil2!$C$1:$CD$9,5,FALSE)","v":{"$error":"#VALUE!"}},{"$f":"T282-HLOOKUP(Y282,Feuil2!$C$1:$CD$9,6,FALSE)","v":{"$error":"#VALUE!"}},{"$f":"T282-HLOOKUP(Y282,Feuil2!$C$1:$CD$9,7,FALSE)","v":{"$error":"#VALUE!"}},{"$f":"T282-HLOOKUP(Y282,Feuil2!$C$1:$CD$9,8,FALSE)","v":{"$error":"#VALUE!"}},{"$f":"T282-HLOOKUP(Y282,Feuil2!$C$1:$CD$9,9,FALSE)","v":{"$error":"#VALUE!"}},null,null,null,null,null,null,null,{"$error":"#VALUE!"},2016,null,{"$f":"IF(AQ282,VLOOKUP(AQ282,HOM!$AS$561:$AT$616,2))","v":3.5710000000000002}]
["H",null,null,null,null,null,null,null,null,null,null,null,null,null,"",null,null,null,"","","","","",{"$f":"IF(BI283<95,IF(BI283<=90,VLOOKUP(BI283,$AQ$564:$AR$619,2)))","v":{"$error":"#N/A"}},{"$f":"IF(AND(J283<1920),VLOOKUP(K283,Feuil2!$F$10:$P$28,11),IF(AND(J283>=1920,J283<1937),VLOOKUP(K283,Feuil2!$F$10:$P$28,11),IF(AND(J283>=1936,J283<1942),VLOOKUP(K283,Feuil2!$F$10:$P$28,10),IF(AND(J283>=1942,J283<1947),VLOOKUP(K283,Feuil2!$F$10:$P$28,9),IF(AND(J283>=1947,J283<1952),VLOOKUP(K283,Feuil2!$F$10:$P$28,8),IF(AND(J283>=1952,J283<1957),VLOOKUP(K283,Feuil2!$F$10:$P$28,7),IF(AND(J283>=1957,J283<1962),VLOOKUP(K283,Feuil2!$F$10:$P$28,6),IF(AND(J283>=1962,J283<1967),VLOOKUP(K283,Feuil2!$F$10:$P$28,5),IF(AND(J283>=1967,J283<1972),VLOOKUP(K283,Feuil2!$F$10:$P$28,4),IF(AND(J283>=1972,J283<1977),VLOOKUP(K283,Feuil2!$F$10:$P$28,3),IF(AND(J283>=1977,J283<1982),VLOOKUP(K283,Feuil2!$F$10:$P$28,2),VLOOKUP(K283,Feuil2!$F$10:$P$28,2))))))))))))","v":{"$error":"#N/A"}},null,{"$f":"T283-HLOOKUP(Y283,Feuil2!$C$1:$CD$9,2,FALSE)","v":{"$error":"#VALUE!"}},{"$f":"T283-HLOOKUP(Y283,Feuil2!$C$1:$CD$9,3,FALSE)","v":{"$error":"#VALUE!"}},{"$f":"T283-HLOOKUP(Y283,Feuil2!$C$1:$CD$9,4,FALSE)","v":{"$error":"#VALUE!"}},{"$f":"T283-HLOOKUP(Y283,Feuil2!$C$1:$CD$9,5,FALSE)","v":{"$error":"#VALUE!"}},{"$f":"T283-HLOOKUP(Y283,Feuil2!$C$1:$CD$9,6,FALSE)","v":{"$error":"#VALUE!"}},{"$f":"T283-HLOOKUP(Y283,Feuil2!$C$1:$CD$9,7,FALSE)","v":{"$error":"#VALUE!"}},{"$f":"T283-HLOOKUP(Y283,Feuil2!$C$1:$CD$9,8,FALSE)","v":{"$error":"#VALUE!"}},{"$f":"T283-HLOOKUP(Y283,Feuil2!$C$1:$CD$9,9,FALSE)","v":{"$error":"#VALUE!"}},null,null,null,null,null,null,null,{"$error":"#VALUE!"},2016,null,{"$f":"IF(AQ283,VLOOKUP(AQ283,HOM!$AS$561:$AT$616,2))","v":3.5710000000000002}]
["H",null,null,null,null,null,null,null,null,null,null,null,null,null,"",null,null,null,"","","","","",{"$f":"IF(BI284<95,IF(BI284<=90,VLOOKUP(BI284,$AQ$560:$AR$615,2)))","v":{"$error":"#N/A"}},{"$f":"IF(AND(J284<1920),VLOOKUP(K284,Feuil2!$F$10:$P$28,11),IF(AND(J284>=1920,J284<1937),VLOOKUP(K284,Feuil2!$F$10:$P$28,11),IF(AND(J284>=1936,J284<1942),VLOOKUP(K284,Feuil2!$F$10:$P$28,10),IF(AND(J284>=1942,J284<1947),VLOOKUP(K284,Feuil2!$F$10:$P$28,9),IF(AND(J284>=1947,J284<1952),VLOOKUP(K284,Feuil2!$F$10:$P$28,8),IF(AND(J284>=1952,J284<1957),VLOOKUP(K284,Feuil2!$F$10:$P$28,7),IF(AND(J284>=1957,J284<1962),VLOOKUP(K284,Feuil2!$F$10:$P$28,6),IF(AND(J284>=1962,J284<1967),VLOOKUP(K284,Feuil2!$F$10:$P$28,5),IF(AND(J284>=1967,J284<1972),VLOOKUP(K284,Feuil2!$F$10:$P$28,4),IF(AND(J284>=1972,J284<1977),VLOOKUP(K284,Feuil2!$F$10:$P$28,3),IF(AND(J284>=1977,J284<1982),VLOOKUP(K284,Feuil2!$F$10:$P$28,2),VLOOKUP(K284,Feuil2!$F$10:$P$28,2))))))))))))","v":{"$error":"#N/A"}},null,{"$f":"T284-HLOOKUP(Y284,Feuil2!$C$1:$CD$9,2,FALSE)","v":{"$error":"#VALUE!"}},{"$f":"T284-HLOOKUP(Y284,Feuil2!$C$1:$CD$9,3,FALSE)","v":{"$error":"#VALUE!"}},{"$f":"T284-HLOOKUP(Y284,Feuil2!$C$1:$CD$9,4,FALSE)","v":{"$error":"#VALUE!"}},{"$f":"T284-HLOOKUP(Y284,Feuil2!$C$1:$CD$9,5,FALSE)","v":{"$error":"#VALUE!"}},{"$f":"T284-HLOOKUP(Y284,Feuil2!$C$1:$CD$9,6,FALSE)","v":{"$error":"#VALUE!"}},{"$f":"T284-HLOOKUP(Y284,Feuil2!$C$1:$CD$9,7,FALSE)","v":{"$error":"#VALUE!"}},{"$f":"T284-HLOOKUP(Y284,Feuil2!$C$1:$CD$9,8,FALSE)","v":{"$error":"#VALUE!"}},{"$f":"T284-HLOOKUP(Y284,Feuil2!$C$1:$CD$9,9,FALSE)","v":{"$error":"#VALUE!"}},null,null,null,null,null,null,null,{"$error":"#VALUE!"},2016,null,{"$f":"IF(AQ284,VLOOKUP(AQ284,HOM!$AS$561:$AT$616,2))","v":3.5710000000000002}]
["H",null,null,null,null,null,null,null,null,null,null,null,null,null,"",null,null,null,"","","","","",{"$f":"IF(BI285<95,IF(BI285<=90,VLOOKUP(BI285,$AQ$564:$AR$619,2)))","v":{"$error":"#N/A"}},{"$f":"IF(AND(J285<1920),VLOOKUP(K285,Feuil2!$F$10:$P$28,11),IF(AND(J285>=1920,J285<1937),VLOOKUP(K285,Feuil2!$F$10:$P$28,11),IF(AND(J285>=1936,J285<1942),VLOOKUP(K285,Feuil2!$F$10:$P$28,10),IF(AND(J285>=1942,J285<1947),VLOOKUP(K285,Feuil2!$F$10:$P$28,9),IF(AND(J285>=1947,J285<1952),VLOOKUP(K285,Feuil2!$F$10:$P$28,8),IF(AND(J285>=1952,J285<1957),VLOOKUP(K285,Feuil2!$F$10:$P$28,7),IF(AND(J285>=1957,J285<1962),VLOOKUP(K285,Feuil2!$F$10:$P$28,6),IF(AND(J285>=1962,J285<1967),VLOOKUP(K285,Feuil2!$F$10:$P$28,5),IF(AND(J285>=1967,J285<1972),VLOOKUP(K285,Feuil2!$F$10:$P$28,4),IF(AND(J285>=1972,J285<1977),VLOOKUP(K285,Feuil2!$F$10:$P$28,3),IF(AND(J285>=1977,J285<1982),VLOOKUP(K285,Feuil2!$F$10:$P$28,2),VLOOKUP(K285,Feuil2!$F$10:$P$28,2))))))))))))","v":{"$error":"#N/A"}},null,{"$f":"T285-HLOOKUP(Y285,Feuil2!$C$1:$CD$9,2,FALSE)","v":{"$error":"#VALUE!"}},{"$f":"T285-HLOOKUP(Y285,Feuil2!$C$1:$CD$9,3,FALSE)","v":{"$error":"#VALUE!"}},{"$f":"T285-HLOOKUP(Y285,Feuil2!$C$1:$CD$9,4,FALSE)","v":{"$error":"#VALUE!"}},{"$f":"T285-HLOOKUP(Y285,Feuil2!$C$1:$CD$9,5,FALSE)","v":{"$error":"#VALUE!"}},{"$f":"T285-HLOOKUP(Y285,Feuil2!$C$1:$CD$9,6,FALSE)","v":{"$error":"#VALUE!"}},{"$f":"T285-HLOOKUP(Y285,Feuil2!$C$1:$CD$9,7,FALSE)","v":{"$error":"#VALUE!"}},{"$f":"T285-HLOOKUP(Y285,Feuil2!$C$1:$CD$9,8,FALSE)","v":{"$error":"#VALUE!"}},{"$f":"T285-HLOOKUP(Y285,Feuil2!$C$1:$CD$9,9,FALSE)","v":{"$error":"#VALUE!"}},null,null,null,null,null,null,null,{"$error":"#VALUE!"},2016,null,{"$f":"IF(AQ285,VLOOKUP(AQ285,HOM!$AS$561:$AT$616,2))","v":3.5710000000000002}]
["H",null,null,null,null,null,null,null,null,null,null,null,null,null,"",null,null,null,"","","","","",{"$f":"IF(BI286<95,IF(BI286<=90,VLOOKUP(BI286,$AQ$564:$AR$619,2)))","v":{"$error":"#N/A"}},{"$f":"IF(AND(J286<1920),VLOOKUP(K286,Feuil2!$F$10:$P$28,11),IF(AND(J286>=1920,J286<1937),VLOOKUP(K286,Feuil2!$F$10:$P$28,11),IF(AND(J286>=1936,J286<1942),VLOOKUP(K286,Feuil2!$F$10:$P$28,10),IF(AND(J286>=1942,J286<1947),VLOOKUP(K286,Feuil2!$F$10:$P$28,9),IF(AND(J286>=1947,J286<1952),VLOOKUP(K286,Feuil2!$F$10:$P$28,8),IF(AND(J286>=1952,J286<1957),VLOOKUP(K286,Feuil2!$F$10:$P$28,7),IF(AND(J286>=1957,J286<1962),VLOOKUP(K286,Feuil2!$F$10:$P$28,6),IF(AND(J286>=1962,J286<1967),VLOOKUP(K286,Feuil2!$F$10:$P$28,5),IF(AND(J286>=1967,J286<1972),VLOOKUP(K286,Feuil2!$F$10:$P$28,4),IF(AND(J286>=1972,J286<1977),VLOOKUP(K286,Feuil2!$F$10:$P$28,3),IF(AND(J286>=1977,J286<1982),VLOOKUP(K286,Feuil2!$F$10:$P$28,2),VLOOKUP(K286,Feuil2!$F$10:$P$28,2))))))))))))","v":{"$error":"#N/A"}},null,{"$f":"T286-HLOOKUP(Y286,Feuil2!$C$1:$CD$9,2,FALSE)","v":{"$error":"#VALUE!"}},{"$f":"T286-HLOOKUP(Y286,Feuil2!$C$1:$CD$9,3,FALSE)","v":{"$error":"#VALUE!"}},{"$f":"T286-HLOOKUP(Y286,Feuil2!$C$1:$CD$9,4,FALSE)","v":{"$error":"#VALUE!"}},{"$f":"T286-HLOOKUP(Y286,Feuil2!$C$1:$CD$9,5,FALSE)","v":{"$error":"#VALUE!"}},{"$f":"T286-HLOOKUP(Y286,Feuil2!$C$1:$CD$9,6,FALSE)","v":{"$error":"#VALUE!"}},{"$f":"T286-HLOOKUP(Y286,Feuil2!$C$1:$CD$9,7,FALSE)","v":{"$error":"#VALUE!"}},{"$f":"T286-HLOOKUP(Y286,Feuil2!$C$1:$CD$9,8,FALSE)","v":{"$error":"#VALUE!"}},{"$f":"T286-HLOOKUP(Y286,Feuil2!$C$1:$CD$9,9,FALSE)","v":{"$error":"#VALUE!"}},null,null,null,null,null,null,null,{"$error":"#VALUE!"},2016,null,{"$f":"IF(AQ286,VLOOKUP(AQ286,HOM!$AS$561:$AT$616,2))","v":3.5710000000000002}]
["H",null,null,null,null,null,null,null,null,null,null,null,null,null,"",null,null,null,"","","","","",{"$f":"IF(BI287<95,IF(BI287<=90,VLOOKUP(BI287,$AQ$564:$AR$619,2)))","v":{"$error":"#N/A"}},{"$f":"IF(AND(J287<1920),VLOOKUP(K287,Feuil2!$F$10:$P$28,11),IF(AND(J287>=1920,J287<1937),VLOOKUP(K287,Feuil2!$F$10:$P$28,11),IF(AND(J287>=1936,J287<1942),VLOOKUP(K287,Feuil2!$F$10:$P$28,10),IF(AND(J287>=1942,J287<1947),VLOOKUP(K287,Feuil2!$F$10:$P$28,9),IF(AND(J287>=1947,J287<1952),VLOOKUP(K287,Feuil2!$F$10:$P$28,8),IF(AND(J287>=1952,J287<1957),VLOOKUP(K287,Feuil2!$F$10:$P$28,7),IF(AND(J287>=1957,J287<1962),VLOOKUP(K287,Feuil2!$F$10:$P$28,6),IF(AND(J287>=1962,J287<1967),VLOOKUP(K287,Feuil2!$F$10:$P$28,5),IF(AND(J287>=1967,J287<1972),VLOOKUP(K287,Feuil2!$F$10:$P$28,4),IF(AND(J287>=1972,J287<1977),VLOOKUP(K287,Feuil2!$F$10:$P$28,3),IF(AND(J287>=1977,J287<1982),VLOOKUP(K287,Feuil2!$F$10:$P$28,2),VLOOKUP(K287,Feuil2!$F$10:$P$28,2))))))))))))","v":{"$error":"#N/A"}},null,{"$f":"T287-HLOOKUP(Y287,Feuil2!$C$1:$CD$9,2,FALSE)","v":{"$error":"#VALUE!"}},{"$f":"T287-HLOOKUP(Y287,Feuil2!$C$1:$CD$9,3,FALSE)","v":{"$error":"#VALUE!"}},{"$f":"T287-HLOOKUP(Y287,Feuil2!$C$1:$CD$9,4,FALSE)","v":{"$error":"#VALUE!"}},{"$f":"T287-HLOOKUP(Y287,Feuil2!$C$1:$CD$9,5,FALSE)","v":{"$error":"#VALUE!"}},{"$f":"T287-HLOOKUP(Y287,Feuil2!$C$1:$CD$9,6,FALSE)","v":{"$error":"#VALUE!"}},{"$f":"T287-HLOOKUP(Y287,Feuil2!$C$1:$CD$9,7,FALSE)","v":{"$error":"#VALUE!"}},{"$f":"T287-HLOOKUP(Y287,Feuil2!$C$1:$CD$9,8,FALSE)","v":{"$error":"#VALUE!"}},{"$f":"T287-HLOOKUP(Y287,Feuil2!$C$1:$CD$9,9,FALSE)","v":{"$error":"#VALUE!"}},null,null,null,null,null,null,null,{"$error":"#VALUE!"},2016,null,{"$f":"IF(AQ287,VLOOKUP(AQ287,HOM!$AS$561:$AT$616,2))","v":3.5710000000000002}]
["H",null,null,null,null,null,null,null,null,null,null,null,null,null,"",null,null,null,"","","","","",{"$f":"IF(BI288<95,IF(BI288<=90,VLOOKUP(BI288,$AQ$564:$AR$619,2)))","v":{"$error":"#N/A"}},{"$f":"IF(AND(J288<1920),VLOOKUP(K288,Feuil2!$F$10:$P$28,11),IF(AND(J288>=1920,J288<1937),VLOOKUP(K288,Feuil2!$F$10:$P$28,11),IF(AND(J288>=1936,J288<1942),VLOOKUP(K288,Feuil2!$F$10:$P$28,10),IF(AND(J288>=1942,J288<1947),VLOOKUP(K288,Feuil2!$F$10:$P$28,9),IF(AND(J288>=1947,J288<1952),VLOOKUP(K288,Feuil2!$F$10:$P$28,8),IF(AND(J288>=1952,J288<1957),VLOOKUP(K288,Feuil2!$F$10:$P$28,7),IF(AND(J288>=1957,J288<1962),VLOOKUP(K288,Feuil2!$F$10:$P$28,6),IF(AND(J288>=1962,J288<1967),VLOOKUP(K288,Feuil2!$F$10:$P$28,5),IF(AND(J288>=1967,J288<1972),VLOOKUP(K288,Feuil2!$F$10:$P$28,4),IF(AND(J288>=1972,J288<1977),VLOOKUP(K288,Feuil2!$F$10:$P$28,3),IF(AND(J288>=1977,J288<1982),VLOOKUP(K288,Feuil2!$F$10:$P$28,2),VLOOKUP(K288,Feuil2!$F$10:$P$28,2))))))))))))","v":{"$error":"#N/A"}},null,{"$f":"T288-HLOOKUP(Y288,Feuil2!$C$1:$CD$9,2,FALSE)","v":{"$error":"#VALUE!"}},{"$f":"T288-HLOOKUP(Y288,Feuil2!$C$1:$CD$9,3,FALSE)","v":{"$error":"#VALUE!"}},{"$f":"T288-HLOOKUP(Y288,Feuil2!$C$1:$CD$9,4,FALSE)","v":{"$error":"#VALUE!"}},{"$f":"T288-HLOOKUP(Y288,Feuil2!$C$1:$CD$9,5,FALSE)","v":{"$error":"#VALUE!"}},{"$f":"T288-HLOOKUP(Y288,Feuil2!$C$1:$CD$9,6,FALSE)","v":{"$error":"#VALUE!"}},{"$f":"T288-HLOOKUP(Y288,Feuil2!$C$1:$CD$9,7,FALSE)","v":{"$error":"#VALUE!"}},{"$f":"T288-HLOOKUP(Y288,Feuil2!$C$1:$CD$9,8,FALSE)","v":{"$error":"#VALUE!"}},{"$f":"T288-HLOOKUP(Y288,Feuil2!$C$1:$CD$9,9,FALSE)","v":{"$error":"#VALUE!"}},null,null,null,null,null,null,null,{"$error":"#VALUE!"},2016,null,{"$f":"IF(AQ288,VLOOKUP(AQ288,HOM!$AS$561:$AT$616,2))","v":3.5710000000000002}]
["H",null,null,null,null,null,null,null,null,null,null,null,null,null,"",null,null,null,"","","","","",{"$f":"IF(BI289<95,IF(BI289<=90,VLOOKUP(BI289,$AQ$564:$AR$619,2)))","v":{"$error":"#N/A"}},{"$f":"IF(AND(J289<1920),VLOOKUP(K289,Feuil2!$F$10:$P$28,11),IF(AND(J289>=1920,J289<1937),VLOOKUP(K289,Feuil2!$F$10:$P$28,11),IF(AND(J289>=1936,J289<1942),VLOOKUP(K289,Feuil2!$F$10:$P$28,10),IF(AND(J289>=1942,J289<1947),VLOOKUP(K289,Feuil2!$F$10:$P$28,9),IF(AND(J289>=1947,J289<1952),VLOOKUP(K289,Feuil2!$F$10:$P$28,8),IF(AND(J289>=1952,J289<1957),VLOOKUP(K289,Feuil2!$F$10:$P$28,7),IF(AND(J289>=1957,J289<1962),VLOOKUP(K289,Feuil2!$F$10:$P$28,6),IF(AND(J289>=1962,J289<1967),VLOOKUP(K289,Feuil2!$F$10:$P$28,5),IF(AND(J289>=1967,J289<1972),VLOOKUP(K289,Feuil2!$F$10:$P$28,4),IF(AND(J289>=1972,J289<1977),VLOOKUP(K289,Feuil2!$F$10:$P$28,3),IF(AND(J289>=1977,J289<1982),VLOOKUP(K289,Feuil2!$F$10:$P$28,2),VLOOKUP(K289,Feuil2!$F$10:$P$28,2))))))))))))","v":{"$error":"#N/A"}},null,{"$f":"T289-HLOOKUP(Y289,Feuil2!$C$1:$CD$9,2,FALSE)","v":{"$error":"#VALUE!"}},{"$f":"T289-HLOOKUP(Y289,Feuil2!$C$1:$CD$9,3,FALSE)","v":{"$error":"#VALUE!"}},{"$f":"T289-HLOOKUP(Y289,Feuil2!$C$1:$CD$9,4,FALSE)","v":{"$error":"#VALUE!"}},{"$f":"T289-HLOOKUP(Y289,Feuil2!$C$1:$CD$9,5,FALSE)","v":{"$error":"#VALUE!"}},{"$f":"T289-HLOOKUP(Y289,Feuil2!$C$1:$CD$9,6,FALSE)","v":{"$error":"#VALUE!"}},{"$f":"T289-HLOOKUP(Y289,Feuil2!$C$1:$CD$9,7,FALSE)","v":{"$error":"#VALUE!"}},{"$f":"T289-HLOOKUP(Y289,Feuil2!$C$1:$CD$9,8,FALSE)","v":{"$error":"#VALUE!"}},{"$f":"T289-HLOOKUP(Y289,Feuil2!$C$1:$CD$9,9,FALSE)","v":{"$error":"#VALUE!"}},null,null,null,null,null,null,null,{"$error":"#VALUE!"},2016,null,{"$f":"IF(AQ289,VLOOKUP(AQ289,HOM!$AS$561:$AT$616,2))","v":3.5710000000000002}]
["H",null,null,null,null,null,null,null,null,null,null,null,null,null,"",null,null,null,"","","","","",{"$f":"IF(BI290<95,IF(BI290<=90,VLOOKUP(BI290,$AQ$560:$AR$615,2)))","v":{"$error":"#N/A"}},{"$f":"IF(AND(J290<1920),VLOOKUP(K290,Feuil2!$F$10:$P$28,11),IF(AND(J290>=1920,J290<1937),VLOOKUP(K290,Feuil2!$F$10:$P$28,11),IF(AND(J290>=1936,J290<1942),VLOOKUP(K290,Feuil2!$F$10:$P$28,10),IF(AND(J290>=1942,J290<1947),VLOOKUP(K290,Feuil2!$F$10:$P$28,9),IF(AND(J290>=1947,J290<1952),VLOOKUP(K290,Feuil2!$F$10:$P$28,8),IF(AND(J290>=1952,J290<1957),VLOOKUP(K290,Feuil2!$F$10:$P$28,7),IF(AND(J290>=1957,J290<1962),VLOOKUP(K290,Feuil2!$F$10:$P$28,6),IF(AND(J290>=1962,J290<1967),VLOOKUP(K290,Feuil2!$F$10:$P$28,5),IF(AND(J290>=1967,J290<1972),VLOOKUP(K290,Feuil2!$F$10:$P$28,4),IF(AND(J290>=1972,J290<1977),VLOOKUP(K290,Feuil2!$F$10:$P$28,3),IF(AND(J290>=1977,J290<1982),VLOOKUP(K290,Feuil2!$F$10:$P$28,2),VLOOKUP(K290,Feuil2!$F$10:$P$28,2))))))))))))","v":{"$error":"#N/A"}},null,{"$f":"T290-HLOOKUP(Y290,Feuil2!$C$1:$CD$9,2,FALSE)","v":{"$error":"#VALUE!"}},{"$f":"T290-HLOOKUP(Y290,Feuil2!$C$1:$CD$9,3,FALSE)","v":{"$error":"#VALUE!"}},{"$f":"T290-HLOOKUP(Y290,Feuil2!$C$1:$CD$9,4,FALSE)","v":{"$error":"#VALUE!"}},{"$f":"T290-HLOOKUP(Y290,Feuil2!$C$1:$CD$9,5,FALSE)","v":{"$error":"#VALUE!"}},{"$f":"T290-HLOOKUP(Y290,Feuil2!$C$1:$CD$9,6,FALSE)","v":{"$error":"#VALUE!"}},{"$f":"T290-HLOOKUP(Y290,Feuil2!$C$1:$CD$9,7,FALSE)","v":{"$error":"#VALUE!"}},{"$f":"T290-HLOOKUP(Y290,Feuil2!$C$1:$CD$9,8,FALSE)","v":{"$error":"#VALUE!"}},{"$f":"T290-HLOOKUP(Y290,Feuil2!$C$1:$CD$9,9,FALSE)","v":{"$error":"#VALUE!"}},null,null,null,null,null,null,null,{"$error":"#VALUE!"},2016,null,{"$f":"IF(AQ290,VLOOKUP(AQ290,HOM!$AS$561:$AT$616,2))","v":3.5710000000000002}]
["H",null,null,null,null,null,null,null,null,null,null,null,null,null,"",null,null,null,"","","","","",{"$f":"IF(BI291<95,IF(BI291<=90,VLOOKUP(BI291,$AQ$560:$AR$615,2)))","v":{"$error":"#N/A"}},{"$f":"IF(AND(J291<1920),VLOOKUP(K291,Feuil2!$F$10:$P$28,11),IF(AND(J291>=1920,J291<1937),VLOOKUP(K291,Feuil2!$F$10:$P$28,11),IF(AND(J291>=1936,J291<1942),VLOOKUP(K291,Feuil2!$F$10:$P$28,10),IF(AND(J291>=1942,J291<1947),VLOOKUP(K291,Feuil2!$F$10:$P$28,9),IF(AND(J291>=1947,J291<1952),VLOOKUP(K291,Feuil2!$F$10:$P$28,8),IF(AND(J291>=1952,J291<1957),VLOOKUP(K291,Feuil2!$F$10:$P$28,7),IF(AND(J291>=1957,J291<1962),VLOOKUP(K291,Feuil2!$F$10:$P$28,6),IF(AND(J291>=1962,J291<1967),VLOOKUP(K291,Feuil2!$F$10:$P$28,5),IF(AND(J291>=1967,J291<1972),VLOOKUP(K291,Feuil2!$F$10:$P$28,4),IF(AND(J291>=1972,J291<1977),VLOOKUP(K291,Feuil2!$F$10:$P$28,3),IF(AND(J291>=1977,J291<1982),VLOOKUP(K291,Feuil2!$F$10:$P$28,2),VLOOKUP(K291,Feuil2!$F$10:$P$28,2))))))))))))","v":{"$error":"#N/A"}},null,{"$f":"T291-HLOOKUP(Y291,Feuil2!$C$1:$CD$9,2,FALSE)","v":{"$error":"#VALUE!"}},{"$f":"T291-HLOOKUP(Y291,Feuil2!$C$1:$CD$9,3,FALSE)","v":{"$error":"#VALUE!"}},{"$f":"T291-HLOOKUP(Y291,Feuil2!$C$1:$CD$9,4,FALSE)","v":{"$error":"#VALUE!"}},{"$f":"T291-HLOOKUP(Y291,Feuil2!$C$1:$CD$9,5,FALSE)","v":{"$error":"#VALUE!"}},{"$f":"T291-HLOOKUP(Y291,Feuil2!$C$1:$CD$9,6,FALSE)","v":{"$error":"#VALUE!"}},{"$f":"T291-HLOOKUP(Y291,Feuil2!$C$1:$CD$9,7,FALSE)","v":{"$error":"#VALUE!"}},{"$f":"T291-HLOOKUP(Y291,Feuil2!$C$1:$CD$9,8,FALSE)","v":{"$error":"#VALUE!"}},{"$f":"T291-HLOOKUP(Y291,Feuil2!$C$1:$CD$9,9,FALSE)","v":{"$error":"#VALUE!"}},null,null,null,null,null,null,null,{"$error":"#VALUE!"},2016,null,{"$f":"IF(AQ291,VLOOKUP(AQ291,HOM!$AS$561:$AT$616,2))","v":3.5710000000000002}]
["H",null,null,null,null,null,null,null,null,null,null,null,null,null,"",null,null,null,"","","","","",{"$f":"IF(BI292<95,IF(BI292<=90,VLOOKUP(BI292,$AQ$564:$AR$619,2)))","v":{"$error":"#N/A"}},{"$f":"IF(AND(J292<1920),VLOOKUP(K292,Feuil2!$F$10:$P$28,11),IF(AND(J292>=1920,J292<1937),VLOOKUP(K292,Feuil2!$F$10:$P$28,11),IF(AND(J292>=1936,J292<1942),VLOOKUP(K292,Feuil2!$F$10:$P$28,10),IF(AND(J292>=1942,J292<1947),VLOOKUP(K292,Feuil2!$F$10:$P$28,9),IF(AND(J292>=1947,J292<1952),VLOOKUP(K292,Feuil2!$F$10:$P$28,8),IF(AND(J292>=1952,J292<1957),VLOOKUP(K292,Feuil2!$F$10:$P$28,7),IF(AND(J292>=1957,J292<1962),VLOOKUP(K292,Feuil2!$F$10:$P$28,6),IF(AND(J292>=1962,J292<1967),VLOOKUP(K292,Feuil2!$F$10:$P$28,5),IF(AND(J292>=1967,J292<1972),VLOOKUP(K292,Feuil2!$F$10:$P$28,4),IF(AND(J292>=1972,J292<1977),VLOOKUP(K292,Feuil2!$F$10:$P$28,3),IF(AND(J292>=1977,J292<1982),VLOOKUP(K292,Feuil2!$F$10:$P$28,2),VLOOKUP(K292,Feuil2!$F$10:$P$28,2))))))))))))","v":{"$error":"#N/A"}},null,{"$f":"T292-HLOOKUP(Y292,Feuil2!$C$1:$CD$9,2,FALSE)","v":{"$error":"#VALUE!"}},{"$f":"T292-HLOOKUP(Y292,Feuil2!$C$1:$CD$9,3,FALSE)","v":{"$error":"#VALUE!"}},{"$f":"T292-HLOOKUP(Y292,Feuil2!$C$1:$CD$9,4,FALSE)","v":{"$error":"#VALUE!"}},{"$f":"T292-HLOOKUP(Y292,Feuil2!$C$1:$CD$9,5,FALSE)","v":{"$error":"#VALUE!"}},{"$f":"T292-HLOOKUP(Y292,Feuil2!$C$1:$CD$9,6,FALSE)","v":{"$error":"#VALUE!"}},{"$f":"T292-HLOOKUP(Y292,Feuil2!$C$1:$CD$9,7,FALSE)","v":{"$error":"#VALUE!"}},{"$f":"T292-HLOOKUP(Y292,Feuil2!$C$1:$CD$9,8,FALSE)","v":{"$error":"#VALUE!"}},{"$f":"T292-HLOOKUP(Y292,Feuil2!$C$1:$CD$9,9,FALSE)","v":{"$error":"#VALUE!"}},null,null,null,null,null,null,null,{"$error":"#VALUE!"},2016,null,{"$f":"IF(AQ292,VLOOKUP(AQ292,HOM!$AS$561:$AT$616,2))","v":3.5710000000000002}]
["H",null,null,null,null,null,null,null,null,null,null,null,null,null,"",null,null,null,"","","","","",{"$f":"IF(BI293<95,IF(BI293<=90,VLOOKUP(BI293,$AQ$564:$AR$619,2)))","v":{"$error":"#N/A"}},{"$f":"IF(AND(J293<1920),VLOOKUP(K293,Feuil2!$F$10:$P$28,11),IF(AND(J293>=1920,J293<1937),VLOOKUP(K293,Feuil2!$F$10:$P$28,11),IF(AND(J293>=1936,J293<1942),VLOOKUP(K293,Feuil2!$F$10:$P$28,10),IF(AND(J293>=1942,J293<1947),VLOOKUP(K293,Feuil2!$F$10:$P$28,9),IF(AND(J293>=1947,J293<1952),VLOOKUP(K293,Feuil2!$F$10:$P$28,8),IF(AND(J293>=1952,J293<1957),VLOOKUP(K293,Feuil2!$F$10:$P$28,7),IF(AND(J293>=1957,J293<1962),VLOOKUP(K293,Feuil2!$F$10:$P$28,6),IF(AND(J293>=1962,J293<1967),VLOOKUP(K293,Feuil2!$F$10:$P$28,5),IF(AND(J293>=1967,J293<1972),VLOOKUP(K293,Feuil2!$F$10:$P$28,4),IF(AND(J293>=1972,J293<1977),VLOOKUP(K293,Feuil2!$F$10:$P$28,3),IF(AND(J293>=1977,J293<1982),VLOOKUP(K293,Feuil2!$F$10:$P$28,2),VLOOKUP(K293,Feuil2!$F$10:$P$28,2))))))))))))","v":{"$error":"#N/A"}},null,{"$f":"T293-HLOOKUP(Y293,Feuil2!$C$1:$CD$9,2,FALSE)","v":{"$error":"#VALUE!"}},{"$f":"T293-HLOOKUP(Y293,Feuil2!$C$1:$CD$9,3,FALSE)","v":{"$error":"#VALUE!"}},{"$f":"T293-HLOOKUP(Y293,Feuil2!$C$1:$CD$9,4,FALSE)","v":{"$error":"#VALUE!"}},{"$f":"T293-HLOOKUP(Y293,Feuil2!$C$1:$CD$9,5,FALSE)","v":{"$error":"#VALUE!"}},{"$f":"T293-HLOOKUP(Y293,Feuil2!$C$1:$CD$9,6,FALSE)","v":{"$error":"#VALUE!"}},{"$f":"T293-HLOOKUP(Y293,Feuil2!$C$1:$CD$9,7,FALSE)","v":{"$error":"#VALUE!"}},{"$f":"T293-HLOOKUP(Y293,Feuil2!$C$1:$CD$9,8,FALSE)","v":{"$error":"#VALUE!"}},{"$f":"T293-HLOOKUP(Y293,Feuil2!$C$1:$CD$9,9,FALSE)","v":{"$error":"#VALUE!"}},null,null,null,null,null,null,null,{"$error":"#VALUE!"},2016,null,{"$f":"IF(AQ293,VLOOKUP(AQ293,HOM!$AS$561:$AT$616,2))","v":3.5710000000000002}]
["H",null,null,null,null,null,null,null,null,null,null,null,null,null,"",null,null,null,"","","","","",{"$f":"IF(BI294<95,IF(BI294<=90,VLOOKUP(BI294,$AQ$560:$AR$615,2)))","v":{"$error":"#N/A"}},{"$f":"IF(AND(J294<1920),VLOOKUP(K294,Feuil2!$F$10:$P$28,11),IF(AND(J294>=1920,J294<1937),VLOOKUP(K294,Feuil2!$F$10:$P$28,11),IF(AND(J294>=1936,J294<1942),VLOOKUP(K294,Feuil2!$F$10:$P$28,10),IF(AND(J294>=1942,J294<1947),VLOOKUP(K294,Feuil2!$F$10:$P$28,9),IF(AND(J294>=1947,J294<1952),VLOOKUP(K294,Feuil2!$F$10:$P$28,8),IF(AND(J294>=1952,J294<1957),VLOOKUP(K294,Feuil2!$F$10:$P$28,7),IF(AND(J294>=1957,J294<1962),VLOOKUP(K294,Feuil2!$F$10:$P$28,6),IF(AND(J294>=1962,J294<1967),VLOOKUP(K294,Feuil2!$F$10:$P$28,5),IF(AND(J294>=1967,J294<1972),VLOOKUP(K294,Feuil2!$F$10:$P$28,4),IF(AND(J294>=1972,J294<1977),VLOOKUP(K294,Feuil2!$F$10:$P$28,3),IF(AND(J294>=1977,J294<1982),VLOOKUP(K294,Feuil2!$F$10:$P$28,2),VLOOKUP(K294,Feuil2!$F$10:$P$28,2))))))))))))","v":{"$error":"#N/A"}},null,{"$f":"T294-HLOOKUP(Y294,Feuil2!$C$1:$CD$9,2,FALSE)","v":{"$error":"#VALUE!"}},{"$f":"T294-HLOOKUP(Y294,Feuil2!$C$1:$CD$9,3,FALSE)","v":{"$error":"#VALUE!"}},{"$f":"T294-HLOOKUP(Y294,Feuil2!$C$1:$CD$9,4,FALSE)","v":{"$error":"#VALUE!"}},{"$f":"T294-HLOOKUP(Y294,Feuil2!$C$1:$CD$9,5,FALSE)","v":{"$error":"#VALUE!"}},{"$f":"T294-HLOOKUP(Y294,Feuil2!$C$1:$CD$9,6,FALSE)","v":{"$error":"#VALUE!"}},{"$f":"T294-HLOOKUP(Y294,Feuil2!$C$1:$CD$9,7,FALSE)","v":{"$error":"#VALUE!"}},{"$f":"T294-HLOOKUP(Y294,Feuil2!$C$1:$CD$9,8,FALSE)","v":{"$error":"#VALUE!"}},{"$f":"T294-HLOOKUP(Y294,Feuil2!$C$1:$CD$9,9,FALSE)","v":{"$error":"#VALUE!"}},null,null,null,null,null,null,null,{"$error":"#VALUE!"},2016,null,{"$f":"IF(AQ294,VLOOKUP(AQ294,HOM!$AS$561:$AT$616,2))","v":3.5710000000000002}]
["H",null,null,null,null,null,null,null,null,null,null,null,null,null,"",null,null,null,"","","","","",{"$f":"IF(BI295<95,IF(BI295<=90,VLOOKUP(BI295,$AQ$564:$AR$619,2)))","v":{"$error":"#N/A"}},{"$f":"IF(AND(J295<1920),VLOOKUP(K295,Feuil2!$F$10:$P$28,11),IF(AND(J295>=1920,J295<1937),VLOOKUP(K295,Feuil2!$F$10:$P$28,11),IF(AND(J295>=1936,J295<1942),VLOOKUP(K295,Feuil2!$F$10:$P$28,10),IF(AND(J295>=1942,J295<1947),VLOOKUP(K295,Feuil2!$F$10:$P$28,9),IF(AND(J295>=1947,J295<1952),VLOOKUP(K295,Feuil2!$F$10:$P$28,8),IF(AND(J295>=1952,J295<1957),VLOOKUP(K295,Feuil2!$F$10:$P$28,7),IF(AND(J295>=1957,J295<1962),VLOOKUP(K295,Feuil2!$F$10:$P$28,6),IF(AND(J295>=1962,J295<1967),VLOOKUP(K295,Feuil2!$F$10:$P$28,5),IF(AND(J295>=1967,J295<1972),VLOOKUP(K295,Feuil2!$F$10:$P$28,4),IF(AND(J295>=1972,J295<1977),VLOOKUP(K295,Feuil2!$F$10:$P$28,3),IF(AND(J295>=1977,J295<1982),VLOOKUP(K295,Feuil2!$F$10:$P$28,2),VLOOKUP(K295,Feuil2!$F$10:$P$28,2))))))))))))","v":{"$error":"#N/A"}},null,{"$f":"T295-HLOOKUP(Y295,Feuil2!$C$1:$CD$9,2,FALSE)","v":{"$error":"#VALUE!"}},{"$f":"T295-HLOOKUP(Y295,Feuil2!$C$1:$CD$9,3,FALSE)","v":{"$error":"#VALUE!"}},{"$f":"T295-HLOOKUP(Y295,Feuil2!$C$1:$CD$9,4,FALSE)","v":{"$error":"#VALUE!"}},{"$f":"T295-HLOOKUP(Y295,Feuil2!$C$1:$CD$9,5,FALSE)","v":{"$error":"#VALUE!"}},{"$f":"T295-HLOOKUP(Y295,Feuil2!$C$1:$CD$9,6,FALSE)","v":{"$error":"#VALUE!"}},{"$f":"T295-HLOOKUP(Y295,Feuil2!$C$1:$CD$9,7,FALSE)","v":{"$error":"#VALUE!"}},{"$f":"T295-HLOOKUP(Y295,Feuil2!$C$1:$CD$9,8,FALSE)","v":{"$error":"#VALUE!"}},{"$f":"T295-HLOOKUP(Y295,Feuil2!$C$1:$CD$9,9,FALSE)","v":{"$error":"#VALUE!"}},null,null,null,null,null,null,null,{"$error":"#VALUE!"},2016,null,{"$f":"IF(AQ295,VLOOKUP(AQ295,HOM!$AS$561:$AT$616,2))","v":3.5710000000000002}]
["H",null,null,null,null,null,null,null,null,null,null,null,null,null,{"$f":"IF(K296=\"\",\"\",IF(MAXA(L296:N296)<=0,0,MAXA(L296:N296)))","v":""},null,null,null,"","","","","",{"$error":"#N/A"},{"$f":"IF(AND(J296<1920),VLOOKUP(K296,Feuil2!$F$10:$P$28,11),IF(AND(J296>=1920,J296<1937),VLOOKUP(K296,Feuil2!$F$10:$P$28,11),IF(AND(J296>=1936,J296<1942),VLOOKUP(K296,Feuil2!$F$10:$P$28,10),IF(AND(J296>=1942,J296<1947),VLOOKUP(K296,Feuil2!$F$10:$P$28,9),IF(AND(J296>=1947,J296<1952),VLOOKUP(K296,Feuil2!$F$10:$P$28,8),IF(AND(J296>=1952,J296<1957),VLOOKUP(K296,Feuil2!$F$10:$P$28,7),IF(AND(J296>=1957,J296<1962),VLOOKUP(K296,Feuil2!$F$10:$P$28,6),IF(AND(J296>=1962,J296<1967),VLOOKUP(K296,Feuil2!$F$10:$P$28,5),IF(AND(J296>=1967,J296<1972),VLOOKUP(K296,Feuil2!$F$10:$P$28,4),IF(AND(J296>=1972,J296<1977),VLOOKUP(K296,Feuil2!$F$10:$P$28,3),IF(AND(J296>=1977,J296<1982),VLOOKUP(K296,Feuil2!$F$10:$P$28,2),VLOOKUP(K296,Feuil2!$F$10:$P$28,2))))))))))))","v":{"$error":"#N/A"}},null,{"$f":"T296-HLOOKUP(Y296,Feuil2!$C$1:$CD$9,2,FALSE)","v":{"$error":"#VALUE!"}},{"$f":"T296-HLOOKUP(Y296,Feuil2!$C$1:$CD$9,3,FALSE)","v":{"$error":"#VALUE!"}},{"$f":"T296-HLOOKUP(Y296,Feuil2!$C$1:$CD$9,4,FALSE)","v":{"$error":"#VALUE!"}},{"$f":"T296-HLOOKUP(Y296,Feuil2!$C$1:$CD$9,5,FALSE)","v":{"$error":"#VALUE!"}},{"$f":"T296-HLOOKUP(Y296,Feuil2!$C$1:$CD$9,6,FALSE)","v":{"$error":"#VALUE!"}},{"$f":"T296-HLOOKUP(Y296,Feuil2!$C$1:$CD$9,7,FALSE)","v":{"$error":"#VALUE!"}},{"$f":"T296-HLOOKUP(Y296,Feuil2!$C$1:$CD$9,8,FALSE)","v":{"$error":"#VALUE!"}},{"$f":"T296-HLOOKUP(Y296,Feuil2!$C$1:$CD$9,9,FALSE)","v":{"$error":"#VALUE!"}},null,null,null,null,null,null,null,{"$error":"#VALUE!"},2016,null,{"$f":"IF(AQ296,VLOOKUP(AQ296,HOM!$AS$561:$AT$616,2))","v":3.5710000000000002}]
["H",null,null,null,null,null,null,null,null,null,null,null,null,null,null,null,null,null,"","","","","",{"$error":"#N/A"},{"$f":"IF(AND(J297<1920),VLOOKUP(K297,Feuil2!$F$10:$P$28,11),IF(AND(J297>=1920,J297<1937),VLOOKUP(K297,Feuil2!$F$10:$P$28,11),IF(AND(J297>=1936,J297<1942),VLOOKUP(K297,Feuil2!$F$10:$P$28,10),IF(AND(J297>=1942,J297<1947),VLOOKUP(K297,Feuil2!$F$10:$P$28,9),IF(AND(J297>=1947,J297<1952),VLOOKUP(K297,Feuil2!$F$10:$P$28,8),IF(AND(J297>=1952,J297<1957),VLOOKUP(K297,Feuil2!$F$10:$P$28,7),IF(AND(J297>=1957,J297<1962),VLOOKUP(K297,Feuil2!$F$10:$P$28,6),IF(AND(J297>=1962,J297<1967),VLOOKUP(K297,Feuil2!$F$10:$P$28,5),IF(AND(J297>=1967,J297<1972),VLOOKUP(K297,Feuil2!$F$10:$P$28,4),IF(AND(J297>=1972,J297<1977),VLOOKUP(K297,Feuil2!$F$10:$P$28,3),IF(AND(J297>=1977,J297<1982),VLOOKUP(K297,Feuil2!$F$10:$P$28,2),VLOOKUP(K297,Feuil2!$F$10:$P$28,2))))))))))))","v":{"$error":"#N/A"}},null,{"$f":"T297-HLOOKUP(Y297,Feuil2!$C$1:$CD$9,2,FALSE)","v":{"$error":"#VALUE!"}},{"$f":"T297-HLOOKUP(Y297,Feuil2!$C$1:$CD$9,3,FALSE)","v":{"$error":"#VALUE!"}},{"$f":"T297-HLOOKUP(Y297,Feuil2!$C$1:$CD$9,4,FALSE)","v":{"$error":"#VALUE!"}},{"$f":"T297-HLOOKUP(Y297,Feuil2!$C$1:$CD$9,5,FALSE)","v":{"$error":"#VALUE!"}},{"$f":"T297-HLOOKUP(Y297,Feuil2!$C$1:$CD$9,6,FALSE)","v":{"$error":"#VALUE!"}},{"$f":"T297-HLOOKUP(Y297,Feuil2!$C$1:$CD$9,7,FALSE)","v":{"$error":"#VALUE!"}},{"$f":"T297-HLOOKUP(Y297,Feuil2!$C$1:$CD$9,8,FALSE)","v":{"$error":"#VALUE!"}},{"$f":"T297-HLOOKUP(Y297,Feuil2!$C$1:$CD$9,9,FALSE)","v":{"$error":"#VALUE!"}},null,null,null,null,null,null,null,{"$error":"#VALUE!"},2016,null,{"$f":"IF(AQ297,VLOOKUP(AQ297,HOM!$AS$561:$AT$616,2))","v":3.5710000000000002}]
["H",null,null,null,null,null,null,null,null,null,null,null,null,null,null,null,null,null,"","","","","",{"$error":"#N/A"},{"$f":"IF(AND(J298<1920),VLOOKUP(K298,Feuil2!$F$10:$P$28,11),IF(AND(J298>=1920,J298<1937),VLOOKUP(K298,Feuil2!$F$10:$P$28,11),IF(AND(J298>=1936,J298<1942),VLOOKUP(K298,Feuil2!$F$10:$P$28,10),IF(AND(J298>=1942,J298<1947),VLOOKUP(K298,Feuil2!$F$10:$P$28,9),IF(AND(J298>=1947,J298<1952),VLOOKUP(K298,Feuil2!$F$10:$P$28,8),IF(AND(J298>=1952,J298<1957),VLOOKUP(K298,Feuil2!$F$10:$P$28,7),IF(AND(J298>=1957,J298<1962),VLOOKUP(K298,Feuil2!$F$10:$P$28,6),IF(AND(J298>=1962,J298<1967),VLOOKUP(K298,Feuil2!$F$10:$P$28,5),IF(AND(J298>=1967,J298<1972),VLOOKUP(K298,Feuil2!$F$10:$P$28,4),IF(AND(J298>=1972,J298<1977),VLOOKUP(K298,Feuil2!$F$10:$P$28,3),IF(AND(J298>=1977,J298<1982),VLOOKUP(K298,Feuil2!$F$10:$P$28,2),VLOOKUP(K298,Feuil2!$F$10:$P$28,2))))))))))))","v":{"$error":"#N/A"}},null,{"$f":"T298-HLOOKUP(Y298,Feuil2!$C$1:$CD$9,2,FALSE)","v":{"$error":"#VALUE!"}},{"$f":"T298-HLOOKUP(Y298,Feuil2!$C$1:$CD$9,3,FALSE)","v":{"$error":"#VALUE!"}},{"$f":"T298-HLOOKUP(Y298,Feuil2!$C$1:$CD$9,4,FALSE)","v":{"$error":"#VALUE!"}},{"$f":"T298-HLOOKUP(Y298,Feuil2!$C$1:$CD$9,5,FALSE)","v":{"$error":"#VALUE!"}},{"$f":"T298-HLOOKUP(Y298,Feuil2!$C$1:$CD$9,6,FALSE)","v":{"$error":"#VALUE!"}},{"$f":"T298-HLOOKUP(Y298,Feuil2!$C$1:$CD$9,7,FALSE)","v":{"$error":"#VALUE!"}},{"$f":"T298-HLOOKUP(Y298,Feuil2!$C$1:$CD$9,8,FALSE)","v":{"$error":"#VALUE!"}},{"$f":"T298-HLOOKUP(Y298,Feuil2!$C$1:$CD$9,9,FALSE)","v":{"$error":"#VALUE!"}},null,null,null,null,null,null,null,{"$error":"#VALUE!"},2016,null,{"$f":"IF(AQ298,VLOOKUP(AQ298,HOM!$AS$561:$AT$616,2))","v":3.5710000000000002}]
["H",null,null,null,null,null,null,null,null,null,null,null,null,null,null,null,null,null,"","","","","",{"$error":"#N/A"},{"$f":"IF(AND(J299<1920),VLOOKUP(K299,Feuil2!$F$10:$P$28,11),IF(AND(J299>=1920,J299<1937),VLOOKUP(K299,Feuil2!$F$10:$P$28,11),IF(AND(J299>=1936,J299<1942),VLOOKUP(K299,Feuil2!$F$10:$P$28,10),IF(AND(J299>=1942,J299<1947),VLOOKUP(K299,Feuil2!$F$10:$P$28,9),IF(AND(J299>=1947,J299<1952),VLOOKUP(K299,Feuil2!$F$10:$P$28,8),IF(AND(J299>=1952,J299<1957),VLOOKUP(K299,Feuil2!$F$10:$P$28,7),IF(AND(J299>=1957,J299<1962),VLOOKUP(K299,Feuil2!$F$10:$P$28,6),IF(AND(J299>=1962,J299<1967),VLOOKUP(K299,Feuil2!$F$10:$P$28,5),IF(AND(J299>=1967,J299<1972),VLOOKUP(K299,Feuil2!$F$10:$P$28,4),IF(AND(J299>=1972,J299<1977),VLOOKUP(K299,Feuil2!$F$10:$P$28,3),IF(AND(J299>=1977,J299<1982),VLOOKUP(K299,Feuil2!$F$10:$P$28,2),VLOOKUP(K299,Feuil2!$F$10:$P$28,2))))))))))))","v":{"$error":"#N/A"}},null,{"$f":"T299-HLOOKUP(Y299,Feuil2!$C$1:$CD$9,2,FALSE)","v":{"$error":"#VALUE!"}},{"$f":"T299-HLOOKUP(Y299,Feuil2!$C$1:$CD$9,3,FALSE)","v":{"$error":"#VALUE!"}},{"$f":"T299-HLOOKUP(Y299,Feuil2!$C$1:$CD$9,4,FALSE)","v":{"$error":"#VALUE!"}},{"$f":"T299-HLOOKUP(Y299,Feuil2!$C$1:$CD$9,5,FALSE)","v":{"$error":"#VALUE!"}},{"$f":"T299-HLOOKUP(Y299,Feuil2!$C$1:$CD$9,6,FALSE)","v":{"$error":"#VALUE!"}},{"$f":"T299-HLOOKUP(Y299,Feuil2!$C$1:$CD$9,7,FALSE)","v":{"$error":"#VALUE!"}},{"$f":"T299-HLOOKUP(Y299,Feuil2!$C$1:$CD$9,8,FALSE)","v":{"$error":"#VALUE!"}},{"$f":"T299-HLOOKUP(Y299,Feuil2!$C$1:$CD$9,9,FALSE)","v":{"$error":"#VALUE!"}},null,null,null,null,null,null,null,{"$error":"#VALUE!"},2016,null,{"$f":"IF(AQ299,VLOOKUP(AQ299,HOM!$AS$561:$AT$616,2))","v":3.5710000000000002}]
["H",null,null,null,null,null,null,null,null,null,null,null,null,null,null,null,null,null,"","","","","",{"$error":"#N/A"},{"$f":"IF(AND(J300<1920),VLOOKUP(K300,Feuil2!$F$10:$P$28,11),IF(AND(J300>=1920,J300<1937),VLOOKUP(K300,Feuil2!$F$10:$P$28,11),IF(AND(J300>=1936,J300<1942),VLOOKUP(K300,Feuil2!$F$10:$P$28,10),IF(AND(J300>=1942,J300<1947),VLOOKUP(K300,Feuil2!$F$10:$P$28,9),IF(AND(J300>=1947,J300<1952),VLOOKUP(K300,Feuil2!$F$10:$P$28,8),IF(AND(J300>=1952,J300<1957),VLOOKUP(K300,Feuil2!$F$10:$P$28,7),IF(AND(J300>=1957,J300<1962),VLOOKUP(K300,Feuil2!$F$10:$P$28,6),IF(AND(J300>=1962,J300<1967),VLOOKUP(K300,Feuil2!$F$10:$P$28,5),IF(AND(J300>=1967,J300<1972),VLOOKUP(K300,Feuil2!$F$10:$P$28,4),IF(AND(J300>=1972,J300<1977),VLOOKUP(K300,Feuil2!$F$10:$P$28,3),IF(AND(J300>=1977,J300<1982),VLOOKUP(K300,Feuil2!$F$10:$P$28,2),VLOOKUP(K300,Feuil2!$F$10:$P$28,2))))))))))))","v":{"$error":"#N/A"}},null,{"$f":"T300-HLOOKUP(Y300,Feuil2!$C$1:$CD$9,2,FALSE)","v":{"$error":"#VALUE!"}},{"$f":"T300-HLOOKUP(Y300,Feuil2!$C$1:$CD$9,3,FALSE)","v":{"$error":"#VALUE!"}},{"$f":"T300-HLOOKUP(Y300,Feuil2!$C$1:$CD$9,4,FALSE)","v":{"$error":"#VALUE!"}},{"$f":"T300-HLOOKUP(Y300,Feuil2!$C$1:$CD$9,5,FALSE)","v":{"$error":"#VALUE!"}},{"$f":"T300-HLOOKUP(Y300,Feuil2!$C$1:$CD$9,6,FALSE)","v":{"$error":"#VALUE!"}},{"$f":"T300-HLOOKUP(Y300,Feuil2!$C$1:$CD$9,7,FALSE)","v":{"$error":"#VALUE!"}},{"$f":"T300-HLOOKUP(Y300,Feuil2!$C$1:$CD$9,8,FALSE)","v":{"$error":"#VALUE!"}},{"$f":"T300-HLOOKUP(Y300,Feuil2!$C$1:$CD$9,9,FALSE)","v":{"$error":"#VALUE!"}},null,null,null,null,null,null,null,{"$error":"#VALUE!"},2016,null,{"$f":"IF(AQ300,VLOOKUP(AQ300,HOM!$AS$561:$AT$616,2))","v":3.5710000000000002}]
["H",null,null,null,null,null,null,null,null,null,null,null,null,null,null,null,null,null,"","","","","",{"$error":"#N/A"},{"$f":"IF(AND(J301<1920),VLOOKUP(K301,Feuil2!$F$10:$P$28,11),IF(AND(J301>=1920,J301<1937),VLOOKUP(K301,Feuil2!$F$10:$P$28,11),IF(AND(J301>=1936,J301<1942),VLOOKUP(K301,Feuil2!$F$10:$P$28,10),IF(AND(J301>=1942,J301<1947),VLOOKUP(K301,Feuil2!$F$10:$P$28,9),IF(AND(J301>=1947,J301<1952),VLOOKUP(K301,Feuil2!$F$10:$P$28,8),IF(AND(J301>=1952,J301<1957),VLOOKUP(K301,Feuil2!$F$10:$P$28,7),IF(AND(J301>=1957,J301<1962),VLOOKUP(K301,Feuil2!$F$10:$P$28,6),IF(AND(J301>=1962,J301<1967),VLOOKUP(K301,Feuil2!$F$10:$P$28,5),IF(AND(J301>=1967,J301<1972),VLOOKUP(K301,Feuil2!$F$10:$P$28,4),IF(AND(J301>=1972,J301<1977),VLOOKUP(K301,Feuil2!$F$10:$P$28,3),IF(AND(J301>=1977,J301<1982),VLOOKUP(K301,Feuil2!$F$10:$P$28,2),VLOOKUP(K301,Feuil2!$F$10:$P$28,2))))))))))))","v":{"$error":"#N/A"}},null,{"$f":"T301-HLOOKUP(Y301,Feuil2!$C$1:$CD$9,2,FALSE)","v":{"$error":"#VALUE!"}},{"$f":"T301-HLOOKUP(Y301,Feuil2!$C$1:$CD$9,3,FALSE)","v":{"$error":"#VALUE!"}},{"$f":"T301-HLOOKUP(Y301,Feuil2!$C$1:$CD$9,4,FALSE)","v":{"$error":"#VALUE!"}},{"$f":"T301-HLOOKUP(Y301,Feuil2!$C$1:$CD$9,5,FALSE)","v":{"$error":"#VALUE!"}},{"$f":"T301-HLOOKUP(Y301,Feuil2!$C$1:$CD$9,6,FALSE)","v":{"$error":"#VALUE!"}},{"$f":"T301-HLOOKUP(Y301,Feuil2!$C$1:$CD$9,7,FALSE)","v":{"$error":"#VALUE!"}},{"$f":"T301-HLOOKUP(Y301,Feuil2!$C$1:$CD$9,8,FALSE)","v":{"$error":"#VALUE!"}},{"$f":"T301-HLOOKUP(Y301,Feuil2!$C$1:$CD$9,9,FALSE)","v":{"$error":"#VALUE!"}},null,null,null,null,null,null,null,{"$error":"#VALUE!"},2016,null,{"$f":"IF(AQ301,VLOOKUP(AQ301,HOM!$AS$561:$AT$616,2))","v":3.5710000000000002}]
["H",null,null,null,null,null,null,null,null,null,null,null,null,null,null,null,null,null,"","","","","",{"$error":"#N/A"},{"$f":"IF(AND(J302<1920),VLOOKUP(K302,Feuil2!$F$10:$P$28,11),IF(AND(J302>=1920,J302<1937),VLOOKUP(K302,Feuil2!$F$10:$P$28,11),IF(AND(J302>=1936,J302<1942),VLOOKUP(K302,Feuil2!$F$10:$P$28,10),IF(AND(J302>=1942,J302<1947),VLOOKUP(K302,Feuil2!$F$10:$P$28,9),IF(AND(J302>=1947,J302<1952),VLOOKUP(K302,Feuil2!$F$10:$P$28,8),IF(AND(J302>=1952,J302<1957),VLOOKUP(K302,Feuil2!$F$10:$P$28,7),IF(AND(J302>=1957,J302<1962),VLOOKUP(K302,Feuil2!$F$10:$P$28,6),IF(AND(J302>=1962,J302<1967),VLOOKUP(K302,Feuil2!$F$10:$P$28,5),IF(AND(J302>=1967,J302<1972),VLOOKUP(K302,Feuil2!$F$10:$P$28,4),IF(AND(J302>=1972,J302<1977),VLOOKUP(K302,Feuil2!$F$10:$P$28,3),IF(AND(J302>=1977,J302<1982),VLOOKUP(K302,Feuil2!$F$10:$P$28,2),VLOOKUP(K302,Feuil2!$F$10:$P$28,2))))))))))))","v":{"$error":"#N/A"}},null,{"$f":"T302-HLOOKUP(Y302,Feuil2!$C$1:$CD$9,2,FALSE)","v":{"$error":"#VALUE!"}},{"$f":"T302-HLOOKUP(Y302,Feuil2!$C$1:$CD$9,3,FALSE)","v":{"$error":"#VALUE!"}},{"$f":"T302-HLOOKUP(Y302,Feuil2!$C$1:$CD$9,4,FALSE)","v":{"$error":"#VALUE!"}},{"$f":"T302-HLOOKUP(Y302,Feuil2!$C$1:$CD$9,5,FALSE)","v":{"$error":"#VALUE!"}},{"$f":"T302-HLOOKUP(Y302,Feuil2!$C$1:$CD$9,6,FALSE)","v":{"$error":"#VALUE!"}},{"$f":"T302-HLOOKUP(Y302,Feuil2!$C$1:$CD$9,7,FALSE)","v":{"$error":"#VALUE!"}},{"$f":"T302-HLOOKUP(Y302,Feuil2!$C$1:$CD$9,8,FALSE)","v":{"$error":"#VALUE!"}},{"$f":"T302-HLOOKUP(Y302,Feuil2!$C$1:$CD$9,9,FALSE)","v":{"$error":"#VALUE!"}},null,null,null,null,null,null,null,{"$error":"#VALUE!"},2016,null,{"$f":"IF(AQ302,VLOOKUP(AQ302,HOM!$AS$561:$AT$616,2))","v":3.5710000000000002}]
["H",null,null,null,null,null,null,null,null,null,null,null,null,null,{"$f":"IF(K303=\"\",\"\",IF(MAXA(L303:N303)<=0,0,MAXA(L303:N303)))","v":""},null,null,null,"","","","","",{"$f":"IF(BI303<95,IF(BI303<=90,VLOOKUP(BI303,$AQ$560:$AR$615,2)))","v":{"$error":"#N/A"}},{"$f":"IF(AND(J303<1920),VLOOKUP(K303,Feuil2!$F$10:$P$28,11),IF(AND(J303>=1920,J303<1937),VLOOKUP(K303,Feuil2!$F$10:$P$28,11),IF(AND(J303>=1936,J303<1942),VLOOKUP(K303,Feuil2!$F$10:$P$28,10),IF(AND(J303>=1942,J303<1947),VLOOKUP(K303,Feuil2!$F$10:$P$28,9),IF(AND(J303>=1947,J303<1952),VLOOKUP(K303,Feuil2!$F$10:$P$28,8),IF(AND(J303>=1952,J303<1957),VLOOKUP(K303,Feuil2!$F$10:$P$28,7),IF(AND(J303>=1957,J303<1962),VLOOKUP(K303,Feuil2!$F$10:$P$28,6),IF(AND(J303>=1962,J303<1967),VLOOKUP(K303,Feuil2!$F$10:$P$28,5),IF(AND(J303>=1967,J303<1972),VLOOKUP(K303,Feuil2!$F$10:$P$28,4),IF(AND(J303>=1972,J303<1977),VLOOKUP(K303,Feuil2!$F$10:$P$28,3),IF(AND(J303>=1977,J303<1982),VLOOKUP(K303,Feuil2!$F$10:$P$28,2),VLOOKUP(K303,Feuil2!$F$10:$P$28,2))))))))))))","v":{"$error":"#N/A"}},null,{"$f":"T303-HLOOKUP(Y303,Feuil2!$C$1:$CD$9,2,FALSE)","v":{"$error":"#VALUE!"}},{"$f":"T303-HLOOKUP(Y303,Feuil2!$C$1:$CD$9,3,FALSE)","v":{"$error":"#VALUE!"}},{"$f":"T303-HLOOKUP(Y303,Feuil2!$C$1:$CD$9,4,FALSE)","v":{"$error":"#VALUE!"}},{"$f":"T303-HLOOKUP(Y303,Feuil2!$C$1:$CD$9,5,FALSE)","v":{"$error":"#VALUE!"}},{"$f":"T303-HLOOKUP(Y303,Feuil2!$C$1:$CD$9,6,FALSE)","v":{"$error":"#VALUE!"}},{"$f":"T303-HLOOKUP(Y303,Feuil2!$C$1:$CD$9,7,FALSE)","v":{"$error":"#VALUE!"}},{"$f":"T303-HLOOKUP(Y303,Feuil2!$C$1:$CD$9,8,FALSE)","v":{"$error":"#VALUE!"}},{"$f":"T303-HLOOKUP(Y303,Feuil2!$C$1:$CD$9,9,FALSE)","v":{"$error":"#VALUE!"}},null,null,null,null,null,null,null,{"$error":"#VALUE!"},2016,null,{"$f":"IF(AQ303,VLOOKUP(AQ303,HOM!$AS$561:$AT$616,2))","v":3.5710000000000002}]
["H",null,null,null,null,null,null,null,null,null,null,null,null,null,"",null,null,null,"","","","","",{"$f":"IF(BI304<95,IF(BI304<=90,VLOOKUP(BI304,$AQ$560:$AR$615,2)))","v":{"$error":"#N/A"}},{"$f":"IF(AND(J304<1920),VLOOKUP(K304,Feuil2!$F$10:$P$28,11),IF(AND(J304>=1920,J304<1937),VLOOKUP(K304,Feuil2!$F$10:$P$28,11),IF(AND(J304>=1936,J304<1942),VLOOKUP(K304,Feuil2!$F$10:$P$28,10),IF(AND(J304>=1942,J304<1947),VLOOKUP(K304,Feuil2!$F$10:$P$28,9),IF(AND(J304>=1947,J304<1952),VLOOKUP(K304,Feuil2!$F$10:$P$28,8),IF(AND(J304>=1952,J304<1957),VLOOKUP(K304,Feuil2!$F$10:$P$28,7),IF(AND(J304>=1957,J304<1962),VLOOKUP(K304,Feuil2!$F$10:$P$28,6),IF(AND(J304>=1962,J304<1967),VLOOKUP(K304,Feuil2!$F$10:$P$28,5),IF(AND(J304>=1967,J304<1972),VLOOKUP(K304,Feuil2!$F$10:$P$28,4),IF(AND(J304>=1972,J304<1977),VLOOKUP(K304,Feuil2!$F$10:$P$28,3),IF(AND(J304>=1977,J304<1982),VLOOKUP(K304,Feuil2!$F$10:$P$28,2),VLOOKUP(K304,Feuil2!$F$10:$P$28,2))))))))))))","v":{"$error":"#N/A"}},null,{"$f":"T304-HLOOKUP(Y304,Feuil2!$C$1:$CD$9,2,FALSE)","v":{"$error":"#VALUE!"}},{"$f":"T304-HLOOKUP(Y304,Feuil2!$C$1:$CD$9,3,FALSE)","v":{"$error":"#VALUE!"}},{"$f":"T304-HLOOKUP(Y304,Feuil2!$C$1:$CD$9,4,FALSE)","v":{"$error":"#VALUE!"}},{"$f":"T304-HLOOKUP(Y304,Feuil2!$C$1:$CD$9,5,FALSE)","v":{"$error":"#VALUE!"}},{"$f":"T304-HLOOKUP(Y304,Feuil2!$C$1:$CD$9,6,FALSE)","v":{"$error":"#VALUE!"}},{"$f":"T304-HLOOKUP(Y304,Feuil2!$C$1:$CD$9,7,FALSE)","v":{"$error":"#VALUE!"}},{"$f":"T304-HLOOKUP(Y304,Feuil2!$C$1:$CD$9,8,FALSE)","v":{"$error":"#VALUE!"}},{"$f":"T304-HLOOKUP(Y304,Feuil2!$C$1:$CD$9,9,FALSE)","v":{"$error":"#VALUE!"}},null,null,null,null,null,null,null,{"$error":"#VALUE!"},2016,null,{"$f":"IF(AQ304,VLOOKUP(AQ304,HOM!$AS$561:$AT$616,2))","v":3.5710000000000002}]
["H",null,null,null,null,null,null,null,null,null,null,null,null,null,"",null,null,null,"","","","","",{"$f":"IF(BI305<95,IF(BI305<=90,VLOOKUP(BI305,$AQ$564:$AR$619,2)))","v":{"$error":"#N/A"}},{"$f":"IF(AND(J305<1920),VLOOKUP(K305,Feuil2!$F$10:$P$28,11),IF(AND(J305>=1920,J305<1937),VLOOKUP(K305,Feuil2!$F$10:$P$28,11),IF(AND(J305>=1936,J305<1942),VLOOKUP(K305,Feuil2!$F$10:$P$28,10),IF(AND(J305>=1942,J305<1947),VLOOKUP(K305,Feuil2!$F$10:$P$28,9),IF(AND(J305>=1947,J305<1952),VLOOKUP(K305,Feuil2!$F$10:$P$28,8),IF(AND(J305>=1952,J305<1957),VLOOKUP(K305,Feuil2!$F$10:$P$28,7),IF(AND(J305>=1957,J305<1962),VLOOKUP(K305,Feuil2!$F$10:$P$28,6),IF(AND(J305>=1962,J305<1967),VLOOKUP(K305,Feuil2!$F$10:$P$28,5),IF(AND(J305>=1967,J305<1972),VLOOKUP(K305,Feuil2!$F$10:$P$28,4),IF(AND(J305>=1972,J305<1977),VLOOKUP(K305,Feuil2!$F$10:$P$28,3),IF(AND(J305>=1977,J305<1982),VLOOKUP(K305,Feuil2!$F$10:$P$28,2),VLOOKUP(K305,Feuil2!$F$10:$P$28,2))))))))))))","v":{"$error":"#N/A"}},null,{"$f":"T305-HLOOKUP(Y305,Feuil2!$C$1:$CD$9,2,FALSE)","v":{"$error":"#VALUE!"}},{"$f":"T305-HLOOKUP(Y305,Feuil2!$C$1:$CD$9,3,FALSE)","v":{"$error":"#VALUE!"}},{"$f":"T305-HLOOKUP(Y305,Feuil2!$C$1:$CD$9,4,FALSE)","v":{"$error":"#VALUE!"}},{"$f":"T305-HLOOKUP(Y305,Feuil2!$C$1:$CD$9,5,FALSE)","v":{"$error":"#VALUE!"}},{"$f":"T305-HLOOKUP(Y305,Feuil2!$C$1:$CD$9,6,FALSE)","v":{"$error":"#VALUE!"}},{"$f":"T305-HLOOKUP(Y305,Feuil2!$C$1:$CD$9,7,FALSE)","v":{"$error":"#VALUE!"}},{"$f":"T305-HLOOKUP(Y305,Feuil2!$C$1:$CD$9,8,FALSE)","v":{"$error":"#VALUE!"}},{"$f":"T305-HLOOKUP(Y305,Feuil2!$C$1:$CD$9,9,FALSE)","v":{"$error":"#VALUE!"}},null,null,null,null,null,null,null,{"$error":"#VALUE!"},2016,null,{"$f":"IF(AQ305,VLOOKUP(AQ305,HOM!$AS$561:$AT$616,2))","v":3.5710000000000002}]
["H",null,null,null,null,null,null,null,null,null,null,null,null,null,"",null,null,null,"","","","","",{"$f":"IF(BI306<95,IF(BI306<=90,VLOOKUP(BI306,$AQ$560:$AR$615,2)))","v":{"$error":"#N/A"}},{"$f":"IF(AND(J306<1920),VLOOKUP(K306,Feuil2!$F$10:$P$28,11),IF(AND(J306>=1920,J306<1937),VLOOKUP(K306,Feuil2!$F$10:$P$28,11),IF(AND(J306>=1936,J306<1942),VLOOKUP(K306,Feuil2!$F$10:$P$28,10),IF(AND(J306>=1942,J306<1947),VLOOKUP(K306,Feuil2!$F$10:$P$28,9),IF(AND(J306>=1947,J306<1952),VLOOKUP(K306,Feuil2!$F$10:$P$28,8),IF(AND(J306>=1952,J306<1957),VLOOKUP(K306,Feuil2!$F$10:$P$28,7),IF(AND(J306>=1957,J306<1962),VLOOKUP(K306,Feuil2!$F$10:$P$28,6),IF(AND(J306>=1962,J306<1967),VLOOKUP(K306,Feuil2!$F$10:$P$28,5),IF(AND(J306>=1967,J306<1972),VLOOKUP(K306,Feuil2!$F$10:$P$28,4),IF(AND(J306>=1972,J306<1977),VLOOKUP(K306,Feuil2!$F$10:$P$28,3),IF(AND(J306>=1977,J306<1982),VLOOKUP(K306,Feuil2!$F$10:$P$28,2),VLOOKUP(K306,Feuil2!$F$10:$P$28,2))))))))))))","v":{"$error":"#N/A"}},null,{"$f":"T306-HLOOKUP(Y306,Feuil2!$C$1:$CD$9,2,FALSE)","v":{"$error":"#VALUE!"}},{"$f":"T306-HLOOKUP(Y306,Feuil2!$C$1:$CD$9,3,FALSE)","v":{"$error":"#VALUE!"}},{"$f":"T306-HLOOKUP(Y306,Feuil2!$C$1:$CD$9,4,FALSE)","v":{"$error":"#VALUE!"}},{"$f":"T306-HLOOKUP(Y306,Feuil2!$C$1:$CD$9,5,FALSE)","v":{"$error":"#VALUE!"}},{"$f":"T306-HLOOKUP(Y306,Feuil2!$C$1:$CD$9,6,FALSE)","v":{"$error":"#VALUE!"}},{"$f":"T306-HLOOKUP(Y306,Feuil2!$C$1:$CD$9,7,FALSE)","v":{"$error":"#VALUE!"}},{"$f":"T306-HLOOKUP(Y306,Feuil2!$C$1:$CD$9,8,FALSE)","v":{"$error":"#VALUE!"}},{"$f":"T306-HLOOKUP(Y306,Feuil2!$C$1:$CD$9,9,FALSE)","v":{"$error":"#VALUE!"}},null,null,null,null,null,null,null,{"$error":"#VALUE!"},2016,null,{"$f":"IF(AQ306,VLOOKUP(AQ306,HOM!$AS$561:$AT$616,2))","v":3.5710000000000002}]
["H",null,null,null,null,null,null,null,null,null,null,null,null,null,"",null,null,null,"","","","","",{"$f":"IF(BI307<95,IF(BI307<=90,VLOOKUP(BI307,$AQ$564:$AR$619,2)))","v":{"$error":"#N/A"}},{"$f":"IF(AND(J307<1920),VLOOKUP(K307,Feuil2!$F$10:$P$28,11),IF(AND(J307>=1920,J307<1937),VLOOKUP(K307,Feuil2!$F$10:$P$28,11),IF(AND(J307>=1936,J307<1942),VLOOKUP(K307,Feuil2!$F$10:$P$28,10),IF(AND(J307>=1942,J307<1947),VLOOKUP(K307,Feuil2!$F$10:$P$28,9),IF(AND(J307>=1947,J307<1952),VLOOKUP(K307,Feuil2!$F$10:$P$28,8),IF(AND(J307>=1952,J307<1957),VLOOKUP(K307,Feuil2!$F$10:$P$28,7),IF(AND(J307>=1957,J307<1962),VLOOKUP(K307,Feuil2!$F$10:$P$28,6),IF(AND(J307>=1962,J307<1967),VLOOKUP(K307,Feuil2!$F$10:$P$28,5),IF(AND(J307>=1967,J307<1972),VLOOKUP(K307,Feuil2!$F$10:$P$28,4),IF(AND(J307>=1972,J307<1977),VLOOKUP(K307,Feuil2!$F$10:$P$28,3),IF(AND(J307>=1977,J307<1982),VLOOKUP(K307,Feuil2!$F$10:$P$28,2),VLOOKUP(K307,Feuil2!$F$10:$P$28,2))))))))))))","v":{"$error":"#N/A"}},null,{"$f":"T307-HLOOKUP(Y307,Feuil2!$C$1:$CD$9,2,FALSE)","v":{"$error":"#VALUE!"}},{"$f":"T307-HLOOKUP(Y307,Feuil2!$C$1:$CD$9,3,FALSE)","v":{"$error":"#VALUE!"}},{"$f":"T307-HLOOKUP(Y307,Feuil2!$C$1:$CD$9,4,FALSE)","v":{"$error":"#VALUE!"}},{"$f":"T307-HLOOKUP(Y307,Feuil2!$C$1:$CD$9,5,FALSE)","v":{"$error":"#VALUE!"}},{"$f":"T307-HLOOKUP(Y307,Feuil2!$C$1:$CD$9,6,FALSE)","v":{"$error":"#VALUE!"}},{"$f":"T307-HLOOKUP(Y307,Feuil2!$C$1:$CD$9,7,FALSE)","v":{"$error":"#VALUE!"}},{"$f":"T307-HLOOKUP(Y307,Feuil2!$C$1:$CD$9,8,FALSE)","v":{"$error":"#VALUE!"}},{"$f":"T307-HLOOKUP(Y307,Feuil2!$C$1:$CD$9,9,FALSE)","v":{"$error":"#VALUE!"}},null,null,null,null,null,null,null,{"$error":"#VALUE!"},2016,null,{"$f":"IF(AQ307,VLOOKUP(AQ307,HOM!$AS$561:$AT$616,2))","v":3.5710000000000002}]
["H",null,null,null,null,null,null,null,null,null,null,null,null,null,"",null,null,null,"","","","","",{"$f":"IF(BI308<95,IF(BI308<=90,VLOOKUP(BI308,$AQ$560:$AR$615,2)))","v":{"$error":"#N/A"}},{"$f":"IF(AND(J308<1920),VLOOKUP(K308,Feuil2!$F$10:$P$28,11),IF(AND(J308>=1920,J308<1937),VLOOKUP(K308,Feuil2!$F$10:$P$28,11),IF(AND(J308>=1936,J308<1942),VLOOKUP(K308,Feuil2!$F$10:$P$28,10),IF(AND(J308>=1942,J308<1947),VLOOKUP(K308,Feuil2!$F$10:$P$28,9),IF(AND(J308>=1947,J308<1952),VLOOKUP(K308,Feuil2!$F$10:$P$28,8),IF(AND(J308>=1952,J308<1957),VLOOKUP(K308,Feuil2!$F$10:$P$28,7),IF(AND(J308>=1957,J308<1962),VLOOKUP(K308,Feuil2!$F$10:$P$28,6),IF(AND(J308>=1962,J308<1967),VLOOKUP(K308,Feuil2!$F$10:$P$28,5),IF(AND(J308>=1967,J308<1972),VLOOKUP(K308,Feuil2!$F$10:$P$28,4),IF(AND(J308>=1972,J308<1977),VLOOKUP(K308,Feuil2!$F$10:$P$28,3),IF(AND(J308>=1977,J308<1982),VLOOKUP(K308,Feuil2!$F$10:$P$28,2),VLOOKUP(K308,Feuil2!$F$10:$P$28,2))))))))))))","v":{"$error":"#N/A"}},null,{"$f":"T308-HLOOKUP(Y308,Feuil2!$C$1:$CD$9,2,FALSE)","v":{"$error":"#VALUE!"}},{"$f":"T308-HLOOKUP(Y308,Feuil2!$C$1:$CD$9,3,FALSE)","v":{"$error":"#VALUE!"}},{"$f":"T308-HLOOKUP(Y308,Feuil2!$C$1:$CD$9,4,FALSE)","v":{"$error":"#VALUE!"}},{"$f":"T308-HLOOKUP(Y308,Feuil2!$C$1:$CD$9,5,FALSE)","v":{"$error":"#VALUE!"}},{"$f":"T308-HLOOKUP(Y308,Feuil2!$C$1:$CD$9,6,FALSE)","v":{"$error":"#VALUE!"}},{"$f":"T308-HLOOKUP(Y308,Feuil2!$C$1:$CD$9,7,FALSE)","v":{"$error":"#VALUE!"}},{"$f":"T308-HLOOKUP(Y308,Feuil2!$C$1:$CD$9,8,FALSE)","v":{"$error":"#VALUE!"}},{"$f":"T308-HLOOKUP(Y308,Feuil2!$C$1:$CD$9,9,FALSE)","v":{"$error":"#VALUE!"}},null,null,null,null,null,null,null,{"$error":"#VALUE!"},2016,null,{"$f":"IF(AQ308,VLOOKUP(AQ308,HOM!$AS$561:$AT$616,2))","v":3.5710000000000002}]
["H",null,null,null,null,null,null,null,null,null,null,null,null,null,"",null,null,null,"","","","","",{"$f":"IF(BI309<95,IF(BI309<=90,VLOOKUP(BI309,$AQ$564:$AR$619,2)))","v":{"$error":"#N/A"}},{"$f":"IF(AND(J309<1920),VLOOKUP(K309,Feuil2!$F$10:$P$28,11),IF(AND(J309>=1920,J309<1937),VLOOKUP(K309,Feuil2!$F$10:$P$28,11),IF(AND(J309>=1936,J309<1942),VLOOKUP(K309,Feuil2!$F$10:$P$28,10),IF(AND(J309>=1942,J309<1947),VLOOKUP(K309,Feuil2!$F$10:$P$28,9),IF(AND(J309>=1947,J309<1952),VLOOKUP(K309,Feuil2!$F$10:$P$28,8),IF(AND(J309>=1952,J309<1957),VLOOKUP(K309,Feuil2!$F$10:$P$28,7),IF(AND(J309>=1957,J309<1962),VLOOKUP(K309,Feuil2!$F$10:$P$28,6),IF(AND(J309>=1962,J309<1967),VLOOKUP(K309,Feuil2!$F$10:$P$28,5),IF(AND(J309>=1967,J309<1972),VLOOKUP(K309,Feuil2!$F$10:$P$28,4),IF(AND(J309>=1972,J309<1977),VLOOKUP(K309,Feuil2!$F$10:$P$28,3),IF(AND(J309>=1977,J309<1982),VLOOKUP(K309,Feuil2!$F$10:$P$28,2),VLOOKUP(K309,Feuil2!$F$10:$P$28,2))))))))))))","v":{"$error":"#N/A"}},null,{"$f":"T309-HLOOKUP(Y309,Feuil2!$C$1:$CD$9,2,FALSE)","v":{"$error":"#VALUE!"}},{"$f":"T309-HLOOKUP(Y309,Feuil2!$C$1:$CD$9,3,FALSE)","v":{"$error":"#VALUE!"}},{"$f":"T309-HLOOKUP(Y309,Feuil2!$C$1:$CD$9,4,FALSE)","v":{"$error":"#VALUE!"}},{"$f":"T309-HLOOKUP(Y309,Feuil2!$C$1:$CD$9,5,FALSE)","v":{"$error":"#VALUE!"}},{"$f":"T309-HLOOKUP(Y309,Feuil2!$C$1:$CD$9,6,FALSE)","v":{"$error":"#VALUE!"}},{"$f":"T309-HLOOKUP(Y309,Feuil2!$C$1:$CD$9,7,FALSE)","v":{"$error":"#VALUE!"}},{"$f":"T309-HLOOKUP(Y309,Feuil2!$C$1:$CD$9,8,FALSE)","v":{"$error":"#VALUE!"}},{"$f":"T309-HLOOKUP(Y309,Feuil2!$C$1:$CD$9,9,FALSE)","v":{"$error":"#VALUE!"}},null,null,null,null,null,null,null,{"$error":"#VALUE!"},2016,null,{"$f":"IF(AQ309,VLOOKUP(AQ309,HOM!$AS$561:$AT$616,2))","v":3.5710000000000002}]
["H",null,null,null,null,null,null,null,null,null,null,null,null,null,"",null,null,null,"","","","","",{"$f":"IF(BI310<95,IF(BI310<=90,VLOOKUP(BI310,$AQ$560:$AR$615,2)))","v":{"$error":"#N/A"}},{"$f":"IF(AND(J310<1920),VLOOKUP(K310,Feuil2!$F$10:$P$28,11),IF(AND(J310>=1920,J310<1937),VLOOKUP(K310,Feuil2!$F$10:$P$28,11),IF(AND(J310>=1936,J310<1942),VLOOKUP(K310,Feuil2!$F$10:$P$28,10),IF(AND(J310>=1942,J310<1947),VLOOKUP(K310,Feuil2!$F$10:$P$28,9),IF(AND(J310>=1947,J310<1952),VLOOKUP(K310,Feuil2!$F$10:$P$28,8),IF(AND(J310>=1952,J310<1957),VLOOKUP(K310,Feuil2!$F$10:$P$28,7),IF(AND(J310>=1957,J310<1962),VLOOKUP(K310,Feuil2!$F$10:$P$28,6),IF(AND(J310>=1962,J310<1967),VLOOKUP(K310,Feuil2!$F$10:$P$28,5),IF(AND(J310>=1967,J310<1972),VLOOKUP(K310,Feuil2!$F$10:$P$28,4),IF(AND(J310>=1972,J310<1977),VLOOKUP(K310,Feuil2!$F$10:$P$28,3),IF(AND(J310>=1977,J310<1982),VLOOKUP(K310,Feuil2!$F$10:$P$28,2),VLOOKUP(K310,Feuil2!$F$10:$P$28,2))))))))))))","v":{"$error":"#N/A"}},null,{"$f":"T310-HLOOKUP(Y310,Feuil2!$C$1:$CD$9,2,FALSE)","v":{"$error":"#VALUE!"}},{"$f":"T310-HLOOKUP(Y310,Feuil2!$C$1:$CD$9,3,FALSE)","v":{"$error":"#VALUE!"}},{"$f":"T310-HLOOKUP(Y310,Feuil2!$C$1:$CD$9,4,FALSE)","v":{"$error":"#VALUE!"}},{"$f":"T310-HLOOKUP(Y310,Feuil2!$C$1:$CD$9,5,FALSE)","v":{"$error":"#VALUE!"}},{"$f":"T310-HLOOKUP(Y310,Feuil2!$C$1:$CD$9,6,FALSE)","v":{"$error":"#VALUE!"}},{"$f":"T310-HLOOKUP(Y310,Feuil2!$C$1:$CD$9,7,FALSE)","v":{"$error":"#VALUE!"}},{"$f":"T310-HLOOKUP(Y310,Feuil2!$C$1:$CD$9,8,FALSE)","v":{"$error":"#VALUE!"}},{"$f":"T310-HLOOKUP(Y310,Feuil2!$C$1:$CD$9,9,FALSE)","v":{"$error":"#VALUE!"}},null,null,null,null,null,null,null,{"$error":"#VALUE!"},2016,null,{"$f":"IF(AQ310,VLOOKUP(AQ310,HOM!$AS$561:$AT$616,2))","v":3.5710000000000002}]
["H",null,null,null,null,null,null,null,null,null,null,null,null,null,"",null,null,null,"","","",{"$f":"IF(K311=\"\",\"\",AP311)","v":""},{"$f":"IF(K311=\"\",\"\",IF(AH311>=0,AH311,IF(AG311>=0,AG311,IF(AF311>=0,AF311,IF(AE311>=0,AE311,IF(AD311>=0,AD311,IF(AC311>=0,AC311,IF(AB311>=0,AB311,AA311))))))))","v":""},{"$f":"IF(BI311<95,IF(BI311<=90,VLOOKUP(BI311,$AQ$560:$AR$615,2)))","v":{"$error":"#N/A"}},{"$f":"IF(AND(J311<1920),VLOOKUP(K311,Feuil2!$F$10:$P$28,11),IF(AND(J311>=1920,J311<1937),VLOOKUP(K311,Feuil2!$F$10:$P$28,11),IF(AND(J311>=1936,J311<1942),VLOOKUP(K311,Feuil2!$F$10:$P$28,10),IF(AND(J311>=1942,J311<1947),VLOOKUP(K311,Feuil2!$F$10:$P$28,9),IF(AND(J311>=1947,J311<1952),VLOOKUP(K311,Feuil2!$F$10:$P$28,8),IF(AND(J311>=1952,J311<1957),VLOOKUP(K311,Feuil2!$F$10:$P$28,7),IF(AND(J311>=1957,J311<1962),VLOOKUP(K311,Feuil2!$F$10:$P$28,6),IF(AND(J311>=1962,J311<1967),VLOOKUP(K311,Feuil2!$F$10:$P$28,5),IF(AND(J311>=1967,J311<1972),VLOOKUP(K311,Feuil2!$F$10:$P$28,4),IF(AND(J311>=1972,J311<1977),VLOOKUP(K311,Feuil2!$F$10:$P$28,3),IF(AND(J311>=1977,J311<1982),VLOOKUP(K311,Feuil2!$F$10:$P$28,2),VLOOKUP(K311,Feuil2!$F$10:$P$28,2))))))))))))","v":{"$error":"#N/A"}},null,{"$f":"T311-HLOOKUP(Y311,Feuil2!$C$1:$CD$9,2,FALSE)","v":{"$error":"#VALUE!"}},{"$f":"T311-HLOOKUP(Y311,Feuil2!$C$1:$CD$9,3,FALSE)","v":{"$error":"#VALUE!"}},{"$f":"T311-HLOOKUP(Y311,Feuil2!$C$1:$CD$9,4,FALSE)","v":{"$error":"#VALUE!"}},{"$f":"T311-HLOOKUP(Y311,Feuil2!$C$1:$CD$9,5,FALSE)","v":{"$error":"#VALUE!"}},{"$f":"T311-HLOOKUP(Y311,Feuil2!$C$1:$CD$9,6,FALSE)","v":{"$error":"#VALUE!"}},{"$f":"T311-HLOOKUP(Y311,Feuil2!$C$1:$CD$9,7,FALSE)","v":{"$error":"#VALUE!"}},{"$f":"T311-HLOOKUP(Y311,Feuil2!$C$1:$CD$9,8,FALSE)","v":{"$error":"#VALUE!"}},{"$f":"T311-HLOOKUP(Y311,Feuil2!$C$1:$CD$9,9,FALSE)","v":{"$error":"#VALUE!"}},null,null,null,null,null,null,null,{"$f":"IF(AH311>=0,$AH$4,IF(AG311>=0,$AG$4,IF(AF311>=0,$AF$4,IF(AE311>=0,$AE$4,IF(AD311>=0,$AD$4,IF(AC311>=0,$AC$4,IF(AB311>=0,$AB$4,IF(AA311>=0,$AA$4,$AI$4))))))))","v":{"$error":"#VALUE!"}},2016,null,{"$f":"IF(AQ311,VLOOKUP(AQ311,HOM!$AS$561:$AT$616,2))","v":3.5710000000000002}]
["H",null,null,null,null,null,null,null,null,null,null,null,null,null,"",null,null,null,"","","","","",{"$f":"IF(BI312<95,IF(BI312<=90,VLOOKUP(BI312,$AQ$564:$AR$619,2)))","v":{"$error":"#N/A"}},{"$f":"IF(AND(J312<1920),VLOOKUP(K312,Feuil2!$F$10:$P$28,11),IF(AND(J312>=1920,J312<1937),VLOOKUP(K312,Feuil2!$F$10:$P$28,11),IF(AND(J312>=1936,J312<1942),VLOOKUP(K312,Feuil2!$F$10:$P$28,10),IF(AND(J312>=1942,J312<1947),VLOOKUP(K312,Feuil2!$F$10:$P$28,9),IF(AND(J312>=1947,J312<1952),VLOOKUP(K312,Feuil2!$F$10:$P$28,8),IF(AND(J312>=1952,J312<1957),VLOOKUP(K312,Feuil2!$F$10:$P$28,7),IF(AND(J312>=1957,J312<1962),VLOOKUP(K312,Feuil2!$F$10:$P$28,6),IF(AND(J312>=1962,J312<1967),VLOOKUP(K312,Feuil2!$F$10:$P$28,5),IF(AND(J312>=1967,J312<1972),VLOOKUP(K312,Feuil2!$F$10:$P$28,4),IF(AND(J312>=1972,J312<1977),VLOOKUP(K312,Feuil2!$F$10:$P$28,3),IF(AND(J312>=1977,J312<1982),VLOOKUP(K312,Feuil2!$F$10:$P$28,2),VLOOKUP(K312,Feuil2!$F$10:$P$28,2))))))))))))","v":{"$error":"#N/A"}},null,{"$f":"T312-HLOOKUP(Y312,Feuil2!$C$1:$CD$9,2,FALSE)","v":{"$error":"#VALUE!"}},{"$f":"T312-HLOOKUP(Y312,Feuil2!$C$1:$CD$9,3,FALSE)","v":{"$error":"#VALUE!"}},{"$f":"T312-HLOOKUP(Y312,Feuil2!$C$1:$CD$9,4,FALSE)","v":{"$error":"#VALUE!"}},{"$f":"T312-HLOOKUP(Y312,Feuil2!$C$1:$CD$9,5,FALSE)","v":{"$error":"#VALUE!"}},{"$f":"T312-HLOOKUP(Y312,Feuil2!$C$1:$CD$9,6,FALSE)","v":{"$error":"#VALUE!"}},{"$f":"T312-HLOOKUP(Y312,Feuil2!$C$1:$CD$9,7,FALSE)","v":{"$error":"#VALUE!"}},{"$f":"T312-HLOOKUP(Y312,Feuil2!$C$1:$CD$9,8,FALSE)","v":{"$error":"#VALUE!"}},{"$f":"T312-HLOOKUP(Y312,Feuil2!$C$1:$CD$9,9,FALSE)","v":{"$error":"#VALUE!"}},null,null,null,null,null,null,null,{"$error":"#VALUE!"},2016,null,{"$f":"IF(AQ312,VLOOKUP(AQ312,HOM!$AS$561:$AT$616,2))","v":3.5710000000000002}]
["H",null,null,null,null,null,null,null,null,null,null,null,null,null,{"$f":"IF(K313=\"\",\"\",IF(MAXA(L313:N313)<=0,0,MAXA(L313:N313)))","v":""},null,null,null,{"$f":"IF(K313=\"\",\"\",IF(MAXA(P313:R313)<=0,0,MAXA(P313:R313)))","v":""},{"$f":"IF(K313=\"\",\"\",IF(OR(O313=0,S313=0),0,O313+S313))","v":""},"","","",{"$error":"#N/A"},{"$f":"IF(AND(J313<1920),VLOOKUP(K313,Feuil2!$F$10:$P$28,11),IF(AND(J313>=1920,J313<1937),VLOOKUP(K313,Feuil2!$F$10:$P$28,11),IF(AND(J313>=1936,J313<1942),VLOOKUP(K313,Feuil2!$F$10:$P$28,10),IF(AND(J313>=1942,J313<1947),VLOOKUP(K313,Feuil2!$F$10:$P$28,9),IF(AND(J313>=1947,J313<1952),VLOOKUP(K313,Feuil2!$F$10:$P$28,8),IF(AND(J313>=1952,J313<1957),VLOOKUP(K313,Feuil2!$F$10:$P$28,7),IF(AND(J313>=1957,J313<1962),VLOOKUP(K313,Feuil2!$F$10:$P$28,6),IF(AND(J313>=1962,J313<1967),VLOOKUP(K313,Feuil2!$F$10:$P$28,5),IF(AND(J313>=1967,J313<1972),VLOOKUP(K313,Feuil2!$F$10:$P$28,4),IF(AND(J313>=1972,J313<1977),VLOOKUP(K313,Feuil2!$F$10:$P$28,3),IF(AND(J313>=1977,J313<1982),VLOOKUP(K313,Feuil2!$F$10:$P$28,2),VLOOKUP(K313,Feuil2!$F$10:$P$28,2))))))))))))","v":{"$error":"#N/A"}},null,{"$f":"T313-HLOOKUP(Y313,Feuil2!$C$1:$CD$9,2,FALSE)","v":{"$error":"#VALUE!"}},{"$f":"T313-HLOOKUP(Y313,Feuil2!$C$1:$CD$9,3,FALSE)","v":{"$error":"#VALUE!"}},{"$f":"T313-HLOOKUP(Y313,Feuil2!$C$1:$CD$9,4,FALSE)","v":{"$error":"#VALUE!"}},{"$f":"T313-HLOOKUP(Y313,Feuil2!$C$1:$CD$9,5,FALSE)","v":{"$error":"#VALUE!"}},{"$f":"T313-HLOOKUP(Y313,Feuil2!$C$1:$CD$9,6,FALSE)","v":{"$error":"#VALUE!"}},{"$f":"T313-HLOOKUP(Y313,Feuil2!$C$1:$CD$9,7,FALSE)","v":{"$error":"#VALUE!"}},{"$f":"T313-HLOOKUP(Y313,Feuil2!$C$1:$CD$9,8,FALSE)","v":{"$error":"#VALUE!"}},{"$f":"T313-HLOOKUP(Y313,Feuil2!$C$1:$CD$9,9,FALSE)","v":{"$error":"#VALUE!"}},null,null,null,null,null,null,null,{"$error":"#VALUE!"},2016,null,{"$f":"IF(AQ313,VLOOKUP(AQ313,HOM!$AS$561:$AT$616,2))","v":3.5710000000000002}]
["H",null,null,null,null,null,null,null,null,null,null,null,null,null,"",null,null,null,"","","","","",{"$error":"#N/A"},{"$f":"IF(AND(J314<1920),VLOOKUP(K314,Feuil2!$F$10:$P$28,11),IF(AND(J314>=1920,J314<1937),VLOOKUP(K314,Feuil2!$F$10:$P$28,11),IF(AND(J314>=1936,J314<1942),VLOOKUP(K314,Feuil2!$F$10:$P$28,10),IF(AND(J314>=1942,J314<1947),VLOOKUP(K314,Feuil2!$F$10:$P$28,9),IF(AND(J314>=1947,J314<1952),VLOOKUP(K314,Feuil2!$F$10:$P$28,8),IF(AND(J314>=1952,J314<1957),VLOOKUP(K314,Feuil2!$F$10:$P$28,7),IF(AND(J314>=1957,J314<1962),VLOOKUP(K314,Feuil2!$F$10:$P$28,6),IF(AND(J314>=1962,J314<1967),VLOOKUP(K314,Feuil2!$F$10:$P$28,5),IF(AND(J314>=1967,J314<1972),VLOOKUP(K314,Feuil2!$F$10:$P$28,4),IF(AND(J314>=1972,J314<1977),VLOOKUP(K314,Feuil2!$F$10:$P$28,3),IF(AND(J314>=1977,J314<1982),VLOOKUP(K314,Feuil2!$F$10:$P$28,2),VLOOKUP(K314,Feuil2!$F$10:$P$28,2))))))))))))","v":{"$error":"#N/A"}},null,{"$f":"T314-HLOOKUP(Y314,Feuil2!$C$1:$CD$9,2,FALSE)","v":{"$error":"#VALUE!"}},{"$f":"T314-HLOOKUP(Y314,Feuil2!$C$1:$CD$9,3,FALSE)","v":{"$error":"#VALUE!"}},{"$f":"T314-HLOOKUP(Y314,Feuil2!$C$1:$CD$9,4,FALSE)","v":{"$error":"#VALUE!"}},{"$f":"T314-HLOOKUP(Y314,Feuil2!$C$1:$CD$9,5,FALSE)","v":{"$error":"#VALUE!"}},{"$f":"T314-HLOOKUP(Y314,Feuil2!$C$1:$CD$9,6,FALSE)","v":{"$error":"#VALUE!"}},{"$f":"T314-HLOOKUP(Y314,Feuil2!$C$1:$CD$9,7,FALSE)","v":{"$error":"#VALUE!"}},{"$f":"T314-HLOOKUP(Y314,Feuil2!$C$1:$CD$9,8,FALSE)","v":{"$error":"#VALUE!"}},{"$f":"T314-HLOOKUP(Y314,Feuil2!$C$1:$CD$9,9,FALSE)","v":{"$error":"#VALUE!"}},null,null,null,null,null,null,null,{"$error":"#VALUE!"},2016,null,{"$f":"IF(AQ314,VLOOKUP(AQ314,HOM!$AS$561:$AT$616,2))","v":3.5710000000000002}]
["H",null,null,null,null,null,null,null,null,null,null,null,null,null,"",null,null,null,"","","","","",{"$error":"#N/A"},{"$f":"IF(AND(J315<1920),VLOOKUP(K315,Feuil2!$F$10:$P$28,11),IF(AND(J315>=1920,J315<1937),VLOOKUP(K315,Feuil2!$F$10:$P$28,11),IF(AND(J315>=1936,J315<1942),VLOOKUP(K315,Feuil2!$F$10:$P$28,10),IF(AND(J315>=1942,J315<1947),VLOOKUP(K315,Feuil2!$F$10:$P$28,9),IF(AND(J315>=1947,J315<1952),VLOOKUP(K315,Feuil2!$F$10:$P$28,8),IF(AND(J315>=1952,J315<1957),VLOOKUP(K315,Feuil2!$F$10:$P$28,7),IF(AND(J315>=1957,J315<1962),VLOOKUP(K315,Feuil2!$F$10:$P$28,6),IF(AND(J315>=1962,J315<1967),VLOOKUP(K315,Feuil2!$F$10:$P$28,5),IF(AND(J315>=1967,J315<1972),VLOOKUP(K315,Feuil2!$F$10:$P$28,4),IF(AND(J315>=1972,J315<1977),VLOOKUP(K315,Feuil2!$F$10:$P$28,3),IF(AND(J315>=1977,J315<1982),VLOOKUP(K315,Feuil2!$F$10:$P$28,2),VLOOKUP(K315,Feuil2!$F$10:$P$28,2))))))))))))","v":{"$error":"#N/A"}},null,{"$f":"T315-HLOOKUP(Y315,Feuil2!$C$1:$CD$9,2,FALSE)","v":{"$error":"#VALUE!"}},{"$f":"T315-HLOOKUP(Y315,Feuil2!$C$1:$CD$9,3,FALSE)","v":{"$error":"#VALUE!"}},{"$f":"T315-HLOOKUP(Y315,Feuil2!$C$1:$CD$9,4,FALSE)","v":{"$error":"#VALUE!"}},{"$f":"T315-HLOOKUP(Y315,Feuil2!$C$1:$CD$9,5,FALSE)","v":{"$error":"#VALUE!"}},{"$f":"T315-HLOOKUP(Y315,Feuil2!$C$1:$CD$9,6,FALSE)","v":{"$error":"#VALUE!"}},{"$f":"T315-HLOOKUP(Y315,Feuil2!$C$1:$CD$9,7,FALSE)","v":{"$error":"#VALUE!"}},{"$f":"T315-HLOOKUP(Y315,Feuil2!$C$1:$CD$9,8,FALSE)","v":{"$error":"#VALUE!"}},{"$f":"T315-HLOOKUP(Y315,Feuil2!$C$1:$CD$9,9,FALSE)","v":{"$error":"#VALUE!"}},null,null,null,null,null,null,null,{"$error":"#VALUE!"},2016,null,{"$f":"IF(AQ315,VLOOKUP(AQ315,HOM!$AS$561:$AT$616,2))","v":3.5710000000000002}]
["H",null,null,null,null,null,null,null,null,null,null,null,null,null,"",null,null,null,"","","","","",{"$error":"#N/A"},{"$f":"IF(AND(J316<1920),VLOOKUP(K316,Feuil2!$F$10:$P$28,11),IF(AND(J316>=1920,J316<1937),VLOOKUP(K316,Feuil2!$F$10:$P$28,11),IF(AND(J316>=1936,J316<1942),VLOOKUP(K316,Feuil2!$F$10:$P$28,10),IF(AND(J316>=1942,J316<1947),VLOOKUP(K316,Feuil2!$F$10:$P$28,9),IF(AND(J316>=1947,J316<1952),VLOOKUP(K316,Feuil2!$F$10:$P$28,8),IF(AND(J316>=1952,J316<1957),VLOOKUP(K316,Feuil2!$F$10:$P$28,7),IF(AND(J316>=1957,J316<1962),VLOOKUP(K316,Feuil2!$F$10:$P$28,6),IF(AND(J316>=1962,J316<1967),VLOOKUP(K316,Feuil2!$F$10:$P$28,5),IF(AND(J316>=1967,J316<1972),VLOOKUP(K316,Feuil2!$F$10:$P$28,4),IF(AND(J316>=1972,J316<1977),VLOOKUP(K316,Feuil2!$F$10:$P$28,3),IF(AND(J316>=1977,J316<1982),VLOOKUP(K316,Feuil2!$F$10:$P$28,2),VLOOKUP(K316,Feuil2!$F$10:$P$28,2))))))))))))","v":{"$error":"#N/A"}},null,{"$f":"T316-HLOOKUP(Y316,Feuil2!$C$1:$CD$9,2,FALSE)","v":{"$error":"#VALUE!"}},{"$f":"T316-HLOOKUP(Y316,Feuil2!$C$1:$CD$9,3,FALSE)","v":{"$error":"#VALUE!"}},{"$f":"T316-HLOOKUP(Y316,Feuil2!$C$1:$CD$9,4,FALSE)","v":{"$error":"#VALUE!"}},{"$f":"T316-HLOOKUP(Y316,Feuil2!$C$1:$CD$9,5,FALSE)","v":{"$error":"#VALUE!"}},{"$f":"T316-HLOOKUP(Y316,Feuil2!$C$1:$CD$9,6,FALSE)","v":{"$error":"#VALUE!"}},{"$f":"T316-HLOOKUP(Y316,Feuil2!$C$1:$CD$9,7,FALSE)","v":{"$error":"#VALUE!"}},{"$f":"T316-HLOOKUP(Y316,Feuil2!$C$1:$CD$9,8,FALSE)","v":{"$error":"#VALUE!"}},{"$f":"T316-HLOOKUP(Y316,Feuil2!$C$1:$CD$9,9,FALSE)","v":{"$error":"#VALUE!"}},null,null,null,null,null,null,null,{"$error":"#VALUE!"},2016,null,{"$f":"IF(AQ316,VLOOKUP(AQ316,HOM!$AS$561:$AT$616,2))","v":3.5710000000000002}]
["H",null,null,null,null,null,null,null,null,null,null,null,null,null,"",null,null,null,"","","","","",{"$error":"#N/A"},{"$f":"IF(AND(J317<1920),VLOOKUP(K317,Feuil2!$F$10:$P$28,11),IF(AND(J317>=1920,J317<1937),VLOOKUP(K317,Feuil2!$F$10:$P$28,11),IF(AND(J317>=1936,J317<1942),VLOOKUP(K317,Feuil2!$F$10:$P$28,10),IF(AND(J317>=1942,J317<1947),VLOOKUP(K317,Feuil2!$F$10:$P$28,9),IF(AND(J317>=1947,J317<1952),VLOOKUP(K317,Feuil2!$F$10:$P$28,8),IF(AND(J317>=1952,J317<1957),VLOOKUP(K317,Feuil2!$F$10:$P$28,7),IF(AND(J317>=1957,J317<1962),VLOOKUP(K317,Feuil2!$F$10:$P$28,6),IF(AND(J317>=1962,J317<1967),VLOOKUP(K317,Feuil2!$F$10:$P$28,5),IF(AND(J317>=1967,J317<1972),VLOOKUP(K317,Feuil2!$F$10:$P$28,4),IF(AND(J317>=1972,J317<1977),VLOOKUP(K317,Feuil2!$F$10:$P$28,3),IF(AND(J317>=1977,J317<1982),VLOOKUP(K317,Feuil2!$F$10:$P$28,2),VLOOKUP(K317,Feuil2!$F$10:$P$28,2))))))))))))","v":{"$error":"#N/A"}},null,{"$f":"T317-HLOOKUP(Y317,Feuil2!$C$1:$CD$9,2,FALSE)","v":{"$error":"#VALUE!"}},{"$f":"T317-HLOOKUP(Y317,Feuil2!$C$1:$CD$9,3,FALSE)","v":{"$error":"#VALUE!"}},{"$f":"T317-HLOOKUP(Y317,Feuil2!$C$1:$CD$9,4,FALSE)","v":{"$error":"#VALUE!"}},{"$f":"T317-HLOOKUP(Y317,Feuil2!$C$1:$CD$9,5,FALSE)","v":{"$error":"#VALUE!"}},{"$f":"T317-HLOOKUP(Y317,Feuil2!$C$1:$CD$9,6,FALSE)","v":{"$error":"#VALUE!"}},{"$f":"T317-HLOOKUP(Y317,Feuil2!$C$1:$CD$9,7,FALSE)","v":{"$error":"#VALUE!"}},{"$f":"T317-HLOOKUP(Y317,Feuil2!$C$1:$CD$9,8,FALSE)","v":{"$error":"#VALUE!"}},{"$f":"T317-HLOOKUP(Y317,Feuil2!$C$1:$CD$9,9,FALSE)","v":{"$error":"#VALUE!"}},null,null,null,null,null,null,null,{"$error":"#VALUE!"},2016,null,{"$f":"IF(AQ317,VLOOKUP(AQ317,HOM!$AS$561:$AT$616,2))","v":3.5710000000000002}]
["H",null,null,null,null,null,null,null,null,null,null,null,null,null,"",null,null,null,"","","","","",{"$error":"#N/A"},{"$f":"IF(AND(J318<1920),VLOOKUP(K318,Feuil2!$F$10:$P$28,11),IF(AND(J318>=1920,J318<1937),VLOOKUP(K318,Feuil2!$F$10:$P$28,11),IF(AND(J318>=1936,J318<1942),VLOOKUP(K318,Feuil2!$F$10:$P$28,10),IF(AND(J318>=1942,J318<1947),VLOOKUP(K318,Feuil2!$F$10:$P$28,9),IF(AND(J318>=1947,J318<1952),VLOOKUP(K318,Feuil2!$F$10:$P$28,8),IF(AND(J318>=1952,J318<1957),VLOOKUP(K318,Feuil2!$F$10:$P$28,7),IF(AND(J318>=1957,J318<1962),VLOOKUP(K318,Feuil2!$F$10:$P$28,6),IF(AND(J318>=1962,J318<1967),VLOOKUP(K318,Feuil2!$F$10:$P$28,5),IF(AND(J318>=1967,J318<1972),VLOOKUP(K318,Feuil2!$F$10:$P$28,4),IF(AND(J318>=1972,J318<1977),VLOOKUP(K318,Feuil2!$F$10:$P$28,3),IF(AND(J318>=1977,J318<1982),VLOOKUP(K318,Feuil2!$F$10:$P$28,2),VLOOKUP(K318,Feuil2!$F$10:$P$28,2))))))))))))","v":{"$error":"#N/A"}},null,{"$f":"T318-HLOOKUP(Y318,Feuil2!$C$1:$CD$9,2,FALSE)","v":{"$error":"#VALUE!"}},{"$f":"T318-HLOOKUP(Y318,Feuil2!$C$1:$CD$9,3,FALSE)","v":{"$error":"#VALUE!"}},{"$f":"T318-HLOOKUP(Y318,Feuil2!$C$1:$CD$9,4,FALSE)","v":{"$error":"#VALUE!"}},{"$f":"T318-HLOOKUP(Y318,Feuil2!$C$1:$CD$9,5,FALSE)","v":{"$error":"#VALUE!"}},{"$f":"T318-HLOOKUP(Y318,Feuil2!$C$1:$CD$9,6,FALSE)","v":{"$error":"#VALUE!"}},{"$f":"T318-HLOOKUP(Y318,Feuil2!$C$1:$CD$9,7,FALSE)","v":{"$error":"#VALUE!"}},{"$f":"T318-HLOOKUP(Y318,Feuil2!$C$1:$CD$9,8,FALSE)","v":{"$error":"#VALUE!"}},{"$f":"T318-HLOOKUP(Y318,Feuil2!$C$1:$CD$9,9,FALSE)","v":{"$error":"#VALUE!"}},null,null,null,null,null,null,null,{"$error":"#VALUE!"},2016,null,{"$f":"IF(AQ318,VLOOKUP(AQ318,HOM!$AS$561:$AT$616,2))","v":3.5710000000000002}]
["H",null,null,null,null,null,null,null,null,null,null,null,null,null,"",null,null,null,"","","","","",{"$error":"#N/A"},{"$f":"IF(AND(J319<1920),VLOOKUP(K319,Feuil2!$F$10:$P$28,11),IF(AND(J319>=1920,J319<1937),VLOOKUP(K319,Feuil2!$F$10:$P$28,11),IF(AND(J319>=1936,J319<1942),VLOOKUP(K319,Feuil2!$F$10:$P$28,10),IF(AND(J319>=1942,J319<1947),VLOOKUP(K319,Feuil2!$F$10:$P$28,9),IF(AND(J319>=1947,J319<1952),VLOOKUP(K319,Feuil2!$F$10:$P$28,8),IF(AND(J319>=1952,J319<1957),VLOOKUP(K319,Feuil2!$F$10:$P$28,7),IF(AND(J319>=1957,J319<1962),VLOOKUP(K319,Feuil2!$F$10:$P$28,6),IF(AND(J319>=1962,J319<1967),VLOOKUP(K319,Feuil2!$F$10:$P$28,5),IF(AND(J319>=1967,J319<1972),VLOOKUP(K319,Feuil2!$F$10:$P$28,4),IF(AND(J319>=1972,J319<1977),VLOOKUP(K319,Feuil2!$F$10:$P$28,3),IF(AND(J319>=1977,J319<1982),VLOOKUP(K319,Feuil2!$F$10:$P$28,2),VLOOKUP(K319,Feuil2!$F$10:$P$28,2))))))))))))","v":{"$error":"#N/A"}},null,{"$f":"T319-HLOOKUP(Y319,Feuil2!$C$1:$CD$9,2,FALSE)","v":{"$error":"#VALUE!"}},{"$f":"T319-HLOOKUP(Y319,Feuil2!$C$1:$CD$9,3,FALSE)","v":{"$error":"#VALUE!"}},{"$f":"T319-HLOOKUP(Y319,Feuil2!$C$1:$CD$9,4,FALSE)","v":{"$error":"#VALUE!"}},{"$f":"T319-HLOOKUP(Y319,Feuil2!$C$1:$CD$9,5,FALSE)","v":{"$error":"#VALUE!"}},{"$f":"T319-HLOOKUP(Y319,Feuil2!$C$1:$CD$9,6,FALSE)","v":{"$error":"#VALUE!"}},{"$f":"T319-HLOOKUP(Y319,Feuil2!$C$1:$CD$9,7,FALSE)","v":{"$error":"#VALUE!"}},{"$f":"T319-HLOOKUP(Y319,Feuil2!$C$1:$CD$9,8,FALSE)","v":{"$error":"#VALUE!"}},{"$f":"T319-HLOOKUP(Y319,Feuil2!$C$1:$CD$9,9,FALSE)","v":{"$error":"#VALUE!"}},null,null,null,null,null,null,null,{"$error":"#VALUE!"},2016,null,{"$f":"IF(AQ319,VLOOKUP(AQ319,HOM!$AS$561:$AT$616,2))","v":3.5710000000000002}]
["H",null,null,null,null,null,null,null,null,null,null,null,null,null,{"$f":"IF(K320=\"\",\"\",IF(MAXA(L320:N320)<=0,0,MAXA(L320:N320)))","v":""},null,null,null,{"$f":"IF(K320=\"\",\"\",IF(MAXA(P320:R320)<=0,0,MAXA(P320:R320)))","v":""},{"$f":"IF(K320=\"\",\"\",IF(OR(O320=0,S320=0),0,O320+S320))","v":""},"","","",{"$error":"#N/A"},{"$f":"IF(AND(J320<1920),VLOOKUP(K320,Feuil2!$F$10:$P$28,11),IF(AND(J320>=1920,J320<1937),VLOOKUP(K320,Feuil2!$F$10:$P$28,11),IF(AND(J320>=1936,J320<1942),VLOOKUP(K320,Feuil2!$F$10:$P$28,10),IF(AND(J320>=1942,J320<1947),VLOOKUP(K320,Feuil2!$F$10:$P$28,9),IF(AND(J320>=1947,J320<1952),VLOOKUP(K320,Feuil2!$F$10:$P$28,8),IF(AND(J320>=1952,J320<1957),VLOOKUP(K320,Feuil2!$F$10:$P$28,7),IF(AND(J320>=1957,J320<1962),VLOOKUP(K320,Feuil2!$F$10:$P$28,6),IF(AND(J320>=1962,J320<1967),VLOOKUP(K320,Feuil2!$F$10:$P$28,5),IF(AND(J320>=1967,J320<1972),VLOOKUP(K320,Feuil2!$F$10:$P$28,4),IF(AND(J320>=1972,J320<1977),VLOOKUP(K320,Feuil2!$F$10:$P$28,3),IF(AND(J320>=1977,J320<1982),VLOOKUP(K320,Feuil2!$F$10:$P$28,2),VLOOKUP(K320,Feuil2!$F$10:$P$28,2))))))))))))","v":{"$error":"#N/A"}},null,{"$f":"T320-HLOOKUP(Y320,Feuil2!$C$1:$CD$9,2,FALSE)","v":{"$error":"#VALUE!"}},{"$f":"T320-HLOOKUP(Y320,Feuil2!$C$1:$CD$9,3,FALSE)","v":{"$error":"#VALUE!"}},{"$f":"T320-HLOOKUP(Y320,Feuil2!$C$1:$CD$9,4,FALSE)","v":{"$error":"#VALUE!"}},{"$f":"T320-HLOOKUP(Y320,Feuil2!$C$1:$CD$9,5,FALSE)","v":{"$error":"#VALUE!"}},{"$f":"T320-HLOOKUP(Y320,Feuil2!$C$1:$CD$9,6,FALSE)","v":{"$error":"#VALUE!"}},{"$f":"T320-HLOOKUP(Y320,Feuil2!$C$1:$CD$9,7,FALSE)","v":{"$error":"#VALUE!"}},{"$f":"T320-HLOOKUP(Y320,Feuil2!$C$1:$CD$9,8,FALSE)","v":{"$error":"#VALUE!"}},{"$f":"T320-HLOOKUP(Y320,Feuil2!$C$1:$CD$9,9,FALSE)","v":{"$error":"#VALUE!"}},null,null,null,null,null,null,null,{"$error":"#VALUE!"},2016,null,{"$f":"IF(AQ320,VLOOKUP(AQ320,HOM!$AS$561:$AT$616,2))","v":3.5710000000000002}]
["H",null,null,null,null,null,null,null,null,null,null,null,null,null,"",null,null,null,"","","","","",{"$error":"#N/A"},{"$f":"IF(AND(J321<1920),VLOOKUP(K321,Feuil2!$F$10:$P$28,11),IF(AND(J321>=1920,J321<1937),VLOOKUP(K321,Feuil2!$F$10:$P$28,11),IF(AND(J321>=1936,J321<1942),VLOOKUP(K321,Feuil2!$F$10:$P$28,10),IF(AND(J321>=1942,J321<1947),VLOOKUP(K321,Feuil2!$F$10:$P$28,9),IF(AND(J321>=1947,J321<1952),VLOOKUP(K321,Feuil2!$F$10:$P$28,8),IF(AND(J321>=1952,J321<1957),VLOOKUP(K321,Feuil2!$F$10:$P$28,7),IF(AND(J321>=1957,J321<1962),VLOOKUP(K321,Feuil2!$F$10:$P$28,6),IF(AND(J321>=1962,J321<1967),VLOOKUP(K321,Feuil2!$F$10:$P$28,5),IF(AND(J321>=1967,J321<1972),VLOOKUP(K321,Feuil2!$F$10:$P$28,4),IF(AND(J321>=1972,J321<1977),VLOOKUP(K321,Feuil2!$F$10:$P$28,3),IF(AND(J321>=1977,J321<1982),VLOOKUP(K321,Feuil2!$F$10:$P$28,2),VLOOKUP(K321,Feuil2!$F$10:$P$28,2))))))))))))","v":{"$error":"#N/A"}},null,{"$f":"T321-HLOOKUP(Y321,Feuil2!$C$1:$CD$9,2,FALSE)","v":{"$error":"#VALUE!"}},{"$f":"T321-HLOOKUP(Y321,Feuil2!$C$1:$CD$9,3,FALSE)","v":{"$error":"#VALUE!"}},{"$f":"T321-HLOOKUP(Y321,Feuil2!$C$1:$CD$9,4,FALSE)","v":{"$error":"#VALUE!"}},{"$f":"T321-HLOOKUP(Y321,Feuil2!$C$1:$CD$9,5,FALSE)","v":{"$error":"#VALUE!"}},{"$f":"T321-HLOOKUP(Y321,Feuil2!$C$1:$CD$9,6,FALSE)","v":{"$error":"#VALUE!"}},{"$f":"T321-HLOOKUP(Y321,Feuil2!$C$1:$CD$9,7,FALSE)","v":{"$error":"#VALUE!"}},{"$f":"T321-HLOOKUP(Y321,Feuil2!$C$1:$CD$9,8,FALSE)","v":{"$error":"#VALUE!"}},{"$f":"T321-HLOOKUP(Y321,Feuil2!$C$1:$CD$9,9,FALSE)","v":{"$error":"#VALUE!"}},null,null,null,null,null,null,null,{"$error":"#VALUE!"},2016,null,{"$f":"IF(AQ321,VLOOKUP(AQ321,HOM!$AS$561:$AT$616,2))","v":3.5710000000000002}]
["H",null,null,null,null,null,null,null,null,null,null,null,null,null,"",null,null,null,"","","","","",{"$error":"#N/A"},{"$f":"IF(AND(J322<1920),VLOOKUP(K322,Feuil2!$F$10:$P$28,11),IF(AND(J322>=1920,J322<1937),VLOOKUP(K322,Feuil2!$F$10:$P$28,11),IF(AND(J322>=1936,J322<1942),VLOOKUP(K322,Feuil2!$F$10:$P$28,10),IF(AND(J322>=1942,J322<1947),VLOOKUP(K322,Feuil2!$F$10:$P$28,9),IF(AND(J322>=1947,J322<1952),VLOOKUP(K322,Feuil2!$F$10:$P$28,8),IF(AND(J322>=1952,J322<1957),VLOOKUP(K322,Feuil2!$F$10:$P$28,7),IF(AND(J322>=1957,J322<1962),VLOOKUP(K322,Feuil2!$F$10:$P$28,6),IF(AND(J322>=1962,J322<1967),VLOOKUP(K322,Feuil2!$F$10:$P$28,5),IF(AND(J322>=1967,J322<1972),VLOOKUP(K322,Feuil2!$F$10:$P$28,4),IF(AND(J322>=1972,J322<1977),VLOOKUP(K322,Feuil2!$F$10:$P$28,3),IF(AND(J322>=1977,J322<1982),VLOOKUP(K322,Feuil2!$F$10:$P$28,2),VLOOKUP(K322,Feuil2!$F$10:$P$28,2))))))))))))","v":{"$error":"#N/A"}},null,{"$f":"T322-HLOOKUP(Y322,Feuil2!$C$1:$CD$9,2,FALSE)","v":{"$error":"#VALUE!"}},{"$f":"T322-HLOOKUP(Y322,Feuil2!$C$1:$CD$9,3,FALSE)","v":{"$error":"#VALUE!"}},{"$f":"T322-HLOOKUP(Y322,Feuil2!$C$1:$CD$9,4,FALSE)","v":{"$error":"#VALUE!"}},{"$f":"T322-HLOOKUP(Y322,Feuil2!$C$1:$CD$9,5,FALSE)","v":{"$error":"#VALUE!"}},{"$f":"T322-HLOOKUP(Y322,Feuil2!$C$1:$CD$9,6,FALSE)","v":{"$error":"#VALUE!"}},{"$f":"T322-HLOOKUP(Y322,Feuil2!$C$1:$CD$9,7,FALSE)","v":{"$error":"#VALUE!"}},{"$f":"T322-HLOOKUP(Y322,Feuil2!$C$1:$CD$9,8,FALSE)","v":{"$error":"#VALUE!"}},{"$f":"T322-HLOOKUP(Y322,Feuil2!$C$1:$CD$9,9,FALSE)","v":{"$error":"#VALUE!"}},null,null,null,null,null,null,null,{"$error":"#VALUE!"},2016,null,{"$f":"IF(AQ322,VLOOKUP(AQ322,HOM!$AS$561:$AT$616,2))","v":3.5710000000000002}]
["H",null,null,null,null,null,null,null,null,null,null,null,null,null,"",null,null,null,"","","","","",{"$error":"#N/A"},{"$f":"IF(AND(J323<1920),VLOOKUP(K323,Feuil2!$F$10:$P$28,11),IF(AND(J323>=1920,J323<1937),VLOOKUP(K323,Feuil2!$F$10:$P$28,11),IF(AND(J323>=1936,J323<1942),VLOOKUP(K323,Feuil2!$F$10:$P$28,10),IF(AND(J323>=1942,J323<1947),VLOOKUP(K323,Feuil2!$F$10:$P$28,9),IF(AND(J323>=1947,J323<1952),VLOOKUP(K323,Feuil2!$F$10:$P$28,8),IF(AND(J323>=1952,J323<1957),VLOOKUP(K323,Feuil2!$F$10:$P$28,7),IF(AND(J323>=1957,J323<1962),VLOOKUP(K323,Feuil2!$F$10:$P$28,6),IF(AND(J323>=1962,J323<1967),VLOOKUP(K323,Feuil2!$F$10:$P$28,5),IF(AND(J323>=1967,J323<1972),VLOOKUP(K323,Feuil2!$F$10:$P$28,4),IF(AND(J323>=1972,J323<1977),VLOOKUP(K323,Feuil2!$F$10:$P$28,3),IF(AND(J323>=1977,J323<1982),VLOOKUP(K323,Feuil2!$F$10:$P$28,2),VLOOKUP(K323,Feuil2!$F$10:$P$28,2))))))))))))","v":{"$error":"#N/A"}},null,{"$f":"T323-HLOOKUP(Y323,Feuil2!$C$1:$CD$9,2,FALSE)","v":{"$error":"#VALUE!"}},{"$f":"T323-HLOOKUP(Y323,Feuil2!$C$1:$CD$9,3,FALSE)","v":{"$error":"#VALUE!"}},{"$f":"T323-HLOOKUP(Y323,Feuil2!$C$1:$CD$9,4,FALSE)","v":{"$error":"#VALUE!"}},{"$f":"T323-HLOOKUP(Y323,Feuil2!$C$1:$CD$9,5,FALSE)","v":{"$error":"#VALUE!"}},{"$f":"T323-HLOOKUP(Y323,Feuil2!$C$1:$CD$9,6,FALSE)","v":{"$error":"#VALUE!"}},{"$f":"T323-HLOOKUP(Y323,Feuil2!$C$1:$CD$9,7,FALSE)","v":{"$error":"#VALUE!"}},{"$f":"T323-HLOOKUP(Y323,Feuil2!$C$1:$CD$9,8,FALSE)","v":{"$error":"#VALUE!"}},{"$f":"T323-HLOOKUP(Y323,Feuil2!$C$1:$CD$9,9,FALSE)","v":{"$error":"#VALUE!"}},null,null,null,null,null,null,null,{"$error":"#VALUE!"},2016,null,{"$f":"IF(AQ323,VLOOKUP(AQ323,HOM!$AS$561:$AT$616,2))","v":3.5710000000000002}]
["H",null,null,null,null,null,null,null,null,null,null,null,null,null,"",null,null,null,"","","","","",{"$error":"#N/A"},{"$f":"IF(AND(J324<1920),VLOOKUP(K324,Feuil2!$F$10:$P$28,11),IF(AND(J324>=1920,J324<1937),VLOOKUP(K324,Feuil2!$F$10:$P$28,11),IF(AND(J324>=1936,J324<1942),VLOOKUP(K324,Feuil2!$F$10:$P$28,10),IF(AND(J324>=1942,J324<1947),VLOOKUP(K324,Feuil2!$F$10:$P$28,9),IF(AND(J324>=1947,J324<1952),VLOOKUP(K324,Feuil2!$F$10:$P$28,8),IF(AND(J324>=1952,J324<1957),VLOOKUP(K324,Feuil2!$F$10:$P$28,7),IF(AND(J324>=1957,J324<1962),VLOOKUP(K324,Feuil2!$F$10:$P$28,6),IF(AND(J324>=1962,J324<1967),VLOOKUP(K324,Feuil2!$F$10:$P$28,5),IF(AND(J324>=1967,J324<1972),VLOOKUP(K324,Feuil2!$F$10:$P$28,4),IF(AND(J324>=1972,J324<1977),VLOOKUP(K324,Feuil2!$F$10:$P$28,3),IF(AND(J324>=1977,J324<1982),VLOOKUP(K324,Feuil2!$F$10:$P$28,2),VLOOKUP(K324,Feuil2!$F$10:$P$28,2))))))))))))","v":{"$error":"#N/A"}},null,{"$f":"T324-HLOOKUP(Y324,Feuil2!$C$1:$CD$9,2,FALSE)","v":{"$error":"#VALUE!"}},{"$f":"T324-HLOOKUP(Y324,Feuil2!$C$1:$CD$9,3,FALSE)","v":{"$error":"#VALUE!"}},{"$f":"T324-HLOOKUP(Y324,Feuil2!$C$1:$CD$9,4,FALSE)","v":{"$error":"#VALUE!"}},{"$f":"T324-HLOOKUP(Y324,Feuil2!$C$1:$CD$9,5,FALSE)","v":{"$error":"#VALUE!"}},{"$f":"T324-HLOOKUP(Y324,Feuil2!$C$1:$CD$9,6,FALSE)","v":{"$error":"#VALUE!"}},{"$f":"T324-HLOOKUP(Y324,Feuil2!$C$1:$CD$9,7,FALSE)","v":{"$error":"#VALUE!"}},{"$f":"T324-HLOOKUP(Y324,Feuil2!$C$1:$CD$9,8,FALSE)","v":{"$error":"#VALUE!"}},{"$f":"T324-HLOOKUP(Y324,Feuil2!$C$1:$CD$9,9,FALSE)","v":{"$error":"#VALUE!"}},null,null,null,null,null,null,null,{"$error":"#VALUE!"},2016,null,{"$f":"IF(AQ324,VLOOKUP(AQ324,HOM!$AS$561:$AT$616,2))","v":3.5710000000000002}]
["H",null,null,null,null,null,null,null,null,null,null,null,null,null,"",null,null,null,"","","","","",{"$error":"#N/A"},{"$f":"IF(AND(J325<1920),VLOOKUP(K325,Feuil2!$F$10:$P$28,11),IF(AND(J325>=1920,J325<1937),VLOOKUP(K325,Feuil2!$F$10:$P$28,11),IF(AND(J325>=1936,J325<1942),VLOOKUP(K325,Feuil2!$F$10:$P$28,10),IF(AND(J325>=1942,J325<1947),VLOOKUP(K325,Feuil2!$F$10:$P$28,9),IF(AND(J325>=1947,J325<1952),VLOOKUP(K325,Feuil2!$F$10:$P$28,8),IF(AND(J325>=1952,J325<1957),VLOOKUP(K325,Feuil2!$F$10:$P$28,7),IF(AND(J325>=1957,J325<1962),VLOOKUP(K325,Feuil2!$F$10:$P$28,6),IF(AND(J325>=1962,J325<1967),VLOOKUP(K325,Feuil2!$F$10:$P$28,5),IF(AND(J325>=1967,J325<1972),VLOOKUP(K325,Feuil2!$F$10:$P$28,4),IF(AND(J325>=1972,J325<1977),VLOOKUP(K325,Feuil2!$F$10:$P$28,3),IF(AND(J325>=1977,J325<1982),VLOOKUP(K325,Feuil2!$F$10:$P$28,2),VLOOKUP(K325,Feuil2!$F$10:$P$28,2))))))))))))","v":{"$error":"#N/A"}},null,{"$f":"T325-HLOOKUP(Y325,Feuil2!$C$1:$CD$9,2,FALSE)","v":{"$error":"#VALUE!"}},{"$f":"T325-HLOOKUP(Y325,Feuil2!$C$1:$CD$9,3,FALSE)","v":{"$error":"#VALUE!"}},{"$f":"T325-HLOOKUP(Y325,Feuil2!$C$1:$CD$9,4,FALSE)","v":{"$error":"#VALUE!"}},{"$f":"T325-HLOOKUP(Y325,Feuil2!$C$1:$CD$9,5,FALSE)","v":{"$error":"#VALUE!"}},{"$f":"T325-HLOOKUP(Y325,Feuil2!$C$1:$CD$9,6,FALSE)","v":{"$error":"#VALUE!"}},{"$f":"T325-HLOOKUP(Y325,Feuil2!$C$1:$CD$9,7,FALSE)","v":{"$error":"#VALUE!"}},{"$f":"T325-HLOOKUP(Y325,Feuil2!$C$1:$CD$9,8,FALSE)","v":{"$error":"#VALUE!"}},{"$f":"T325-HLOOKUP(Y325,Feuil2!$C$1:$CD$9,9,FALSE)","v":{"$error":"#VALUE!"}},null,null,null,null,null,null,null,{"$error":"#VALUE!"},2016,null,{"$f":"IF(AQ325,VLOOKUP(AQ325,HOM!$AS$561:$AT$616,2))","v":3.5710000000000002}]
["H",null,null,null,null,null,null,null,null,null,null,null,null,null,"",null,null,null,"","","","","",{"$error":"#N/A"},{"$f":"IF(AND(J326<1920),VLOOKUP(K326,Feuil2!$F$10:$P$28,11),IF(AND(J326>=1920,J326<1937),VLOOKUP(K326,Feuil2!$F$10:$P$28,11),IF(AND(J326>=1936,J326<1942),VLOOKUP(K326,Feuil2!$F$10:$P$28,10),IF(AND(J326>=1942,J326<1947),VLOOKUP(K326,Feuil2!$F$10:$P$28,9),IF(AND(J326>=1947,J326<1952),VLOOKUP(K326,Feuil2!$F$10:$P$28,8),IF(AND(J326>=1952,J326<1957),VLOOKUP(K326,Feuil2!$F$10:$P$28,7),IF(AND(J326>=1957,J326<1962),VLOOKUP(K326,Feuil2!$F$10:$P$28,6),IF(AND(J326>=1962,J326<1967),VLOOKUP(K326,Feuil2!$F$10:$P$28,5),IF(AND(J326>=1967,J326<1972),VLOOKUP(K326,Feuil2!$F$10:$P$28,4),IF(AND(J326>=1972,J326<1977),VLOOKUP(K326,Feuil2!$F$10:$P$28,3),IF(AND(J326>=1977,J326<1982),VLOOKUP(K326,Feuil2!$F$10:$P$28,2),VLOOKUP(K326,Feuil2!$F$10:$P$28,2))))))))))))","v":{"$error":"#N/A"}},null,{"$f":"T326-HLOOKUP(Y326,Feuil2!$C$1:$CD$9,2,FALSE)","v":{"$error":"#VALUE!"}},{"$f":"T326-HLOOKUP(Y326,Feuil2!$C$1:$CD$9,3,FALSE)","v":{"$error":"#VALUE!"}},{"$f":"T326-HLOOKUP(Y326,Feuil2!$C$1:$CD$9,4,FALSE)","v":{"$error":"#VALUE!"}},{"$f":"T326-HLOOKUP(Y326,Feuil2!$C$1:$CD$9,5,FALSE)","v":{"$error":"#VALUE!"}},{"$f":"T326-HLOOKUP(Y326,Feuil2!$C$1:$CD$9,6,FALSE)","v":{"$error":"#VALUE!"}},{"$f":"T326-HLOOKUP(Y326,Feuil2!$C$1:$CD$9,7,FALSE)","v":{"$error":"#VALUE!"}},{"$f":"T326-HLOOKUP(Y326,Feuil2!$C$1:$CD$9,8,FALSE)","v":{"$error":"#VALUE!"}},{"$f":"T326-HLOOKUP(Y326,Feuil2!$C$1:$CD$9,9,FALSE)","v":{"$error":"#VALUE!"}},null,null,null,null,null,null,null,{"$error":"#VALUE!"},2016,null,{"$f":"IF(AQ326,VLOOKUP(AQ326,HOM!$AS$561:$AT$616,2))","v":3.5710000000000002}]
["H",null,null,null,null,null,null,null,null,null,null,null,null,null,"",null,null,null,"","","","","",{"$f":"IF(BI327<95,IF(BI327<=90,VLOOKUP(BI327,$AQ$564:$AR$619,2)))","v":{"$error":"#N/A"}},{"$f":"IF(AND(J327<1920),VLOOKUP(K327,Feuil2!$F$10:$P$28,11),IF(AND(J327>=1920,J327<1937),VLOOKUP(K327,Feuil2!$F$10:$P$28,11),IF(AND(J327>=1936,J327<1942),VLOOKUP(K327,Feuil2!$F$10:$P$28,10),IF(AND(J327>=1942,J327<1947),VLOOKUP(K327,Feuil2!$F$10:$P$28,9),IF(AND(J327>=1947,J327<1952),VLOOKUP(K327,Feuil2!$F$10:$P$28,8),IF(AND(J327>=1952,J327<1957),VLOOKUP(K327,Feuil2!$F$10:$P$28,7),IF(AND(J327>=1957,J327<1962),VLOOKUP(K327,Feuil2!$F$10:$P$28,6),IF(AND(J327>=1962,J327<1967),VLOOKUP(K327,Feuil2!$F$10:$P$28,5),IF(AND(J327>=1967,J327<1972),VLOOKUP(K327,Feuil2!$F$10:$P$28,4),IF(AND(J327>=1972,J327<1977),VLOOKUP(K327,Feuil2!$F$10:$P$28,3),IF(AND(J327>=1977,J327<1982),VLOOKUP(K327,Feuil2!$F$10:$P$28,2),VLOOKUP(K327,Feuil2!$F$10:$P$28,2))))))))))))","v":{"$error":"#N/A"}},null,{"$f":"T327-HLOOKUP(Y327,Feuil2!$C$1:$CD$9,2,FALSE)","v":{"$error":"#VALUE!"}},{"$f":"T327-HLOOKUP(Y327,Feuil2!$C$1:$CD$9,3,FALSE)","v":{"$error":"#VALUE!"}},{"$f":"T327-HLOOKUP(Y327,Feuil2!$C$1:$CD$9,4,FALSE)","v":{"$error":"#VALUE!"}},{"$f":"T327-HLOOKUP(Y327,Feuil2!$C$1:$CD$9,5,FALSE)","v":{"$error":"#VALUE!"}},{"$f":"T327-HLOOKUP(Y327,Feuil2!$C$1:$CD$9,6,FALSE)","v":{"$error":"#VALUE!"}},{"$f":"T327-HLOOKUP(Y327,Feuil2!$C$1:$CD$9,7,FALSE)","v":{"$error":"#VALUE!"}},{"$f":"T327-HLOOKUP(Y327,Feuil2!$C$1:$CD$9,8,FALSE)","v":{"$error":"#VALUE!"}},{"$f":"T327-HLOOKUP(Y327,Feuil2!$C$1:$CD$9,9,FALSE)","v":{"$error":"#VALUE!"}},null,null,null,null,null,null,null,{"$error":"#VALUE!"},2016,null,{"$f":"IF(AQ327,VLOOKUP(AQ327,HOM!$AS$561:$AT$616,2))","v":3.5710000000000002}]
["H",null,null,null,null,null,null,null,null,null,null,null,null,null,"",null,null,null,"","","","","",{"$f":"IF(BI328<95,IF(BI328<=90,VLOOKUP(BI328,$AQ$564:$AR$619,2)))","v":{"$error":"#N/A"}},{"$f":"IF(AND(J328<1920),VLOOKUP(K328,Feuil2!$F$10:$P$28,11),IF(AND(J328>=1920,J328<1937),VLOOKUP(K328,Feuil2!$F$10:$P$28,11),IF(AND(J328>=1936,J328<1942),VLOOKUP(K328,Feuil2!$F$10:$P$28,10),IF(AND(J328>=1942,J328<1947),VLOOKUP(K328,Feuil2!$F$10:$P$28,9),IF(AND(J328>=1947,J328<1952),VLOOKUP(K328,Feuil2!$F$10:$P$28,8),IF(AND(J328>=1952,J328<1957),VLOOKUP(K328,Feuil2!$F$10:$P$28,7),IF(AND(J328>=1957,J328<1962),VLOOKUP(K328,Feuil2!$F$10:$P$28,6),IF(AND(J328>=1962,J328<1967),VLOOKUP(K328,Feuil2!$F$10:$P$28,5),IF(AND(J328>=1967,J328<1972),VLOOKUP(K328,Feuil2!$F$10:$P$28,4),IF(AND(J328>=1972,J328<1977),VLOOKUP(K328,Feuil2!$F$10:$P$28,3),IF(AND(J328>=1977,J328<1982),VLOOKUP(K328,Feuil2!$F$10:$P$28,2),VLOOKUP(K328,Feuil2!$F$10:$P$28,2))))))))))))","v":{"$error":"#N/A"}},null,{"$f":"T328-HLOOKUP(Y328,Feuil2!$C$1:$CD$9,2,FALSE)","v":{"$error":"#VALUE!"}},{"$f":"T328-HLOOKUP(Y328,Feuil2!$C$1:$CD$9,3,FALSE)","v":{"$error":"#VALUE!"}},{"$f":"T328-HLOOKUP(Y328,Feuil2!$C$1:$CD$9,4,FALSE)","v":{"$error":"#VALUE!"}},{"$f":"T328-HLOOKUP(Y328,Feuil2!$C$1:$CD$9,5,FALSE)","v":{"$error":"#VALUE!"}},{"$f":"T328-HLOOKUP(Y328,Feuil2!$C$1:$CD$9,6,FALSE)","v":{"$error":"#VALUE!"}},{"$f":"T328-HLOOKUP(Y328,Feuil2!$C$1:$CD$9,7,FALSE)","v":{"$error":"#VALUE!"}},{"$f":"T328-HLOOKUP(Y328,Feuil2!$C$1:$CD$9,8,FALSE)","v":{"$error":"#VALUE!"}},{"$f":"T328-HLOOKUP(Y328,Feuil2!$C$1:$CD$9,9,FALSE)","v":{"$error":"#VALUE!"}},null,null,null,null,null,null,null,{"$error":"#VALUE!"},2016,null,{"$f":"IF(AQ328,VLOOKUP(AQ328,HOM!$AS$561:$AT$616,2))","v":3.5710000000000002}]
["H",null,null,null,null,null,null,null,null,null,null,null,null,null,"",null,null,null,"","","","","",{"$f":"IF(BI329<95,IF(BI329<=90,VLOOKUP(BI329,$AQ$564:$AR$619,2)))","v":{"$error":"#N/A"}},{"$f":"IF(AND(J329<1920),VLOOKUP(K329,Feuil2!$F$10:$P$28,11),IF(AND(J329>=1920,J329<1937),VLOOKUP(K329,Feuil2!$F$10:$P$28,11),IF(AND(J329>=1936,J329<1942),VLOOKUP(K329,Feuil2!$F$10:$P$28,10),IF(AND(J329>=1942,J329<1947),VLOOKUP(K329,Feuil2!$F$10:$P$28,9),IF(AND(J329>=1947,J329<1952),VLOOKUP(K329,Feuil2!$F$10:$P$28,8),IF(AND(J329>=1952,J329<1957),VLOOKUP(K329,Feuil2!$F$10:$P$28,7),IF(AND(J329>=1957,J329<1962),VLOOKUP(K329,Feuil2!$F$10:$P$28,6),IF(AND(J329>=1962,J329<1967),VLOOKUP(K329,Feuil2!$F$10:$P$28,5),IF(AND(J329>=1967,J329<1972),VLOOKUP(K329,Feuil2!$F$10:$P$28,4),IF(AND(J329>=1972,J329<1977),VLOOKUP(K329,Feuil2!$F$10:$P$28,3),IF(AND(J329>=1977,J329<1982),VLOOKUP(K329,Feuil2!$F$10:$P$28,2),VLOOKUP(K329,Feuil2!$F$10:$P$28,2))))))))))))","v":{"$error":"#N/A"}},null,{"$f":"T329-HLOOKUP(Y329,Feuil2!$C$1:$CD$9,2,FALSE)","v":{"$error":"#VALUE!"}},{"$f":"T329-HLOOKUP(Y329,Feuil2!$C$1:$CD$9,3,FALSE)","v":{"$error":"#VALUE!"}},{"$f":"T329-HLOOKUP(Y329,Feuil2!$C$1:$CD$9,4,FALSE)","v":{"$error":"#VALUE!"}},{"$f":"T329-HLOOKUP(Y329,Feuil2!$C$1:$CD$9,5,FALSE)","v":{"$error":"#VALUE!"}},{"$f":"T329-HLOOKUP(Y329,Feuil2!$C$1:$CD$9,6,FALSE)","v":{"$error":"#VALUE!"}},{"$f":"T329-HLOOKUP(Y329,Feuil2!$C$1:$CD$9,7,FALSE)","v":{"$error":"#VALUE!"}},{"$f":"T329-HLOOKUP(Y329,Feuil2!$C$1:$CD$9,8,FALSE)","v":{"$error":"#VALUE!"}},{"$f":"T329-HLOOKUP(Y329,Feuil2!$C$1:$CD$9,9,FALSE)","v":{"$error":"#VALUE!"}},null,null,null,null,null,null,null,{"$error":"#VALUE!"},2016,null,{"$f":"IF(AQ329,VLOOKUP(AQ329,HOM!$AS$561:$AT$616,2))","v":3.5710000000000002}]
["H",null,null,null,null,null,null,null,null,null,null,null,null,null,"",null,null,null,"","","","","",{"$error":"#N/A"},{"$f":"IF(AND(J330<1920),VLOOKUP(K330,Feuil2!$F$10:$P$28,11),IF(AND(J330>=1920,J330<1937),VLOOKUP(K330,Feuil2!$F$10:$P$28,11),IF(AND(J330>=1936,J330<1942),VLOOKUP(K330,Feuil2!$F$10:$P$28,10),IF(AND(J330>=1942,J330<1947),VLOOKUP(K330,Feuil2!$F$10:$P$28,9),IF(AND(J330>=1947,J330<1952),VLOOKUP(K330,Feuil2!$F$10:$P$28,8),IF(AND(J330>=1952,J330<1957),VLOOKUP(K330,Feuil2!$F$10:$P$28,7),IF(AND(J330>=1957,J330<1962),VLOOKUP(K330,Feuil2!$F$10:$P$28,6),IF(AND(J330>=1962,J330<1967),VLOOKUP(K330,Feuil2!$F$10:$P$28,5),IF(AND(J330>=1967,J330<1972),VLOOKUP(K330,Feuil2!$F$10:$P$28,4),IF(AND(J330>=1972,J330<1977),VLOOKUP(K330,Feuil2!$F$10:$P$28,3),IF(AND(J330>=1977,J330<1982),VLOOKUP(K330,Feuil2!$F$10:$P$28,2),VLOOKUP(K330,Feuil2!$F$10:$P$28,2))))))))))))","v":{"$error":"#N/A"}},null,{"$f":"T330-HLOOKUP(Y330,Feuil2!$C$1:$CD$9,2,FALSE)","v":{"$error":"#VALUE!"}},{"$f":"T330-HLOOKUP(Y330,Feuil2!$C$1:$CD$9,3,FALSE)","v":{"$error":"#VALUE!"}},{"$f":"T330-HLOOKUP(Y330,Feuil2!$C$1:$CD$9,4,FALSE)","v":{"$error":"#VALUE!"}},{"$f":"T330-HLOOKUP(Y330,Feuil2!$C$1:$CD$9,5,FALSE)","v":{"$error":"#VALUE!"}},{"$f":"T330-HLOOKUP(Y330,Feuil2!$C$1:$CD$9,6,FALSE)","v":{"$error":"#VALUE!"}},{"$f":"T330-HLOOKUP(Y330,Feuil2!$C$1:$CD$9,7,FALSE)","v":{"$error":"#VALUE!"}},{"$f":"T330-HLOOKUP(Y330,Feuil2!$C$1:$CD$9,8,FALSE)","v":{"$error":"#VALUE!"}},{"$f":"T330-HLOOKUP(Y330,Feuil2!$C$1:$CD$9,9,FALSE)","v":{"$error":"#VALUE!"}},null,null,null,null,null,null,null,{"$error":"#VALUE!"},2016,null,{"$f":"IF(AQ330,VLOOKUP(AQ330,HOM!$AS$561:$AT$616,2))","v":3.5710000000000002}]
["H",null,null,null,null,null,null,null,null,null,null,null,null,null,"",null,null,null,"","","","","",{"$error":"#N/A"},{"$f":"IF(AND(J331<1920),VLOOKUP(K331,Feuil2!$F$10:$P$28,11),IF(AND(J331>=1920,J331<1937),VLOOKUP(K331,Feuil2!$F$10:$P$28,11),IF(AND(J331>=1936,J331<1942),VLOOKUP(K331,Feuil2!$F$10:$P$28,10),IF(AND(J331>=1942,J331<1947),VLOOKUP(K331,Feuil2!$F$10:$P$28,9),IF(AND(J331>=1947,J331<1952),VLOOKUP(K331,Feuil2!$F$10:$P$28,8),IF(AND(J331>=1952,J331<1957),VLOOKUP(K331,Feuil2!$F$10:$P$28,7),IF(AND(J331>=1957,J331<1962),VLOOKUP(K331,Feuil2!$F$10:$P$28,6),IF(AND(J331>=1962,J331<1967),VLOOKUP(K331,Feuil2!$F$10:$P$28,5),IF(AND(J331>=1967,J331<1972),VLOOKUP(K331,Feuil2!$F$10:$P$28,4),IF(AND(J331>=1972,J331<1977),VLOOKUP(K331,Feuil2!$F$10:$P$28,3),IF(AND(J331>=1977,J331<1982),VLOOKUP(K331,Feuil2!$F$10:$P$28,2),VLOOKUP(K331,Feuil2!$F$10:$P$28,2))))))))))))","v":{"$error":"#N/A"}},null,{"$f":"T331-HLOOKUP(Y331,Feuil2!$C$1:$CD$9,2,FALSE)","v":{"$error":"#VALUE!"}},{"$f":"T331-HLOOKUP(Y331,Feuil2!$C$1:$CD$9,3,FALSE)","v":{"$error":"#VALUE!"}},{"$f":"T331-HLOOKUP(Y331,Feuil2!$C$1:$CD$9,4,FALSE)","v":{"$error":"#VALUE!"}},{"$f":"T331-HLOOKUP(Y331,Feuil2!$C$1:$CD$9,5,FALSE)","v":{"$error":"#VALUE!"}},{"$f":"T331-HLOOKUP(Y331,Feuil2!$C$1:$CD$9,6,FALSE)","v":{"$error":"#VALUE!"}},{"$f":"T331-HLOOKUP(Y331,Feuil2!$C$1:$CD$9,7,FALSE)","v":{"$error":"#VALUE!"}},{"$f":"T331-HLOOKUP(Y331,Feuil2!$C$1:$CD$9,8,FALSE)","v":{"$error":"#VALUE!"}},{"$f":"T331-HLOOKUP(Y331,Feuil2!$C$1:$CD$9,9,FALSE)","v":{"$error":"#VALUE!"}},null,null,null,null,null,null,null,{"$error":"#VALUE!"},2016,null,{"$f":"IF(AQ331,VLOOKUP(AQ331,HOM!$AS$561:$AT$616,2))","v":3.5710000000000002}]
["H",null,null,null,null,null,null,null,null,null,null,null,null,null,"",null,null,null,"","","","","",{"$error":"#N/A"},{"$f":"IF(AND(J332<1920),VLOOKUP(K332,Feuil2!$F$10:$P$28,11),IF(AND(J332>=1920,J332<1937),VLOOKUP(K332,Feuil2!$F$10:$P$28,11),IF(AND(J332>=1936,J332<1942),VLOOKUP(K332,Feuil2!$F$10:$P$28,10),IF(AND(J332>=1942,J332<1947),VLOOKUP(K332,Feuil2!$F$10:$P$28,9),IF(AND(J332>=1947,J332<1952),VLOOKUP(K332,Feuil2!$F$10:$P$28,8),IF(AND(J332>=1952,J332<1957),VLOOKUP(K332,Feuil2!$F$10:$P$28,7),IF(AND(J332>=1957,J332<1962),VLOOKUP(K332,Feuil2!$F$10:$P$28,6),IF(AND(J332>=1962,J332<1967),VLOOKUP(K332,Feuil2!$F$10:$P$28,5),IF(AND(J332>=1967,J332<1972),VLOOKUP(K332,Feuil2!$F$10:$P$28,4),IF(AND(J332>=1972,J332<1977),VLOOKUP(K332,Feuil2!$F$10:$P$28,3),IF(AND(J332>=1977,J332<1982),VLOOKUP(K332,Feuil2!$F$10:$P$28,2),VLOOKUP(K332,Feuil2!$F$10:$P$28,2))))))))))))","v":{"$error":"#N/A"}},null,{"$f":"T332-HLOOKUP(Y332,Feuil2!$C$1:$CD$9,2,FALSE)","v":{"$error":"#VALUE!"}},{"$f":"T332-HLOOKUP(Y332,Feuil2!$C$1:$CD$9,3,FALSE)","v":{"$error":"#VALUE!"}},{"$f":"T332-HLOOKUP(Y332,Feuil2!$C$1:$CD$9,4,FALSE)","v":{"$error":"#VALUE!"}},{"$f":"T332-HLOOKUP(Y332,Feuil2!$C$1:$CD$9,5,FALSE)","v":{"$error":"#VALUE!"}},{"$f":"T332-HLOOKUP(Y332,Feuil2!$C$1:$CD$9,6,FALSE)","v":{"$error":"#VALUE!"}},{"$f":"T332-HLOOKUP(Y332,Feuil2!$C$1:$CD$9,7,FALSE)","v":{"$error":"#VALUE!"}},{"$f":"T332-HLOOKUP(Y332,Feuil2!$C$1:$CD$9,8,FALSE)","v":{"$error":"#VALUE!"}},{"$f":"T332-HLOOKUP(Y332,Feuil2!$C$1:$CD$9,9,FALSE)","v":{"$error":"#VALUE!"}},null,null,null,null,null,null,null,{"$error":"#VALUE!"},2016,null,{"$f":"IF(AQ332,VLOOKUP(AQ332,HOM!$AS$561:$AT$616,2))","v":3.5710000000000002}]
["H",null,null,null,null,null,null,null,null,null,null,null,null,null,"",null,null,null,"","","","","",{"$error":"#N/A"},{"$f":"IF(AND(J333<1920),VLOOKUP(K333,Feuil2!$F$10:$P$28,11),IF(AND(J333>=1920,J333<1937),VLOOKUP(K333,Feuil2!$F$10:$P$28,11),IF(AND(J333>=1936,J333<1942),VLOOKUP(K333,Feuil2!$F$10:$P$28,10),IF(AND(J333>=1942,J333<1947),VLOOKUP(K333,Feuil2!$F$10:$P$28,9),IF(AND(J333>=1947,J333<1952),VLOOKUP(K333,Feuil2!$F$10:$P$28,8),IF(AND(J333>=1952,J333<1957),VLOOKUP(K333,Feuil2!$F$10:$P$28,7),IF(AND(J333>=1957,J333<1962),VLOOKUP(K333,Feuil2!$F$10:$P$28,6),IF(AND(J333>=1962,J333<1967),VLOOKUP(K333,Feuil2!$F$10:$P$28,5),IF(AND(J333>=1967,J333<1972),VLOOKUP(K333,Feuil2!$F$10:$P$28,4),IF(AND(J333>=1972,J333<1977),VLOOKUP(K333,Feuil2!$F$10:$P$28,3),IF(AND(J333>=1977,J333<1982),VLOOKUP(K333,Feuil2!$F$10:$P$28,2),VLOOKUP(K333,Feuil2!$F$10:$P$28,2))))))))))))","v":{"$error":"#N/A"}},null,{"$f":"T333-HLOOKUP(Y333,Feuil2!$C$1:$CD$9,2,FALSE)","v":{"$error":"#VALUE!"}},{"$f":"T333-HLOOKUP(Y333,Feuil2!$C$1:$CD$9,3,FALSE)","v":{"$error":"#VALUE!"}},{"$f":"T333-HLOOKUP(Y333,Feuil2!$C$1:$CD$9,4,FALSE)","v":{"$error":"#VALUE!"}},{"$f":"T333-HLOOKUP(Y333,Feuil2!$C$1:$CD$9,5,FALSE)","v":{"$error":"#VALUE!"}},{"$f":"T333-HLOOKUP(Y333,Feuil2!$C$1:$CD$9,6,FALSE)","v":{"$error":"#VALUE!"}},{"$f":"T333-HLOOKUP(Y333,Feuil2!$C$1:$CD$9,7,FALSE)","v":{"$error":"#VALUE!"}},{"$f":"T333-HLOOKUP(Y333,Feuil2!$C$1:$CD$9,8,FALSE)","v":{"$error":"#VALUE!"}},{"$f":"T333-HLOOKUP(Y333,Feuil2!$C$1:$CD$9,9,FALSE)","v":{"$error":"#VALUE!"}},null,null,null,null,null,null,null,{"$error":"#VALUE!"},2016,null,{"$f":"IF(AQ333,VLOOKUP(AQ333,HOM!$AS$561:$AT$616,2))","v":3.5710000000000002}]
["H",null,null,null,null,null,null,null,null,null,null,null,null,null,{"$f":"IF(K334=\"\",\"\",IF(MAXA(L334:N334)<=0,0,MAXA(L334:N334)))","v":""},null,null,null,{"$f":"IF(K334=\"\",\"\",IF(MAXA(P334:R334)<=0,0,MAXA(P334:R334)))","v":""},{"$f":"IF(K334=\"\",\"\",IF(OR(O334=0,S334=0),0,O334+S334))","v":""},"","","",{"$f":"IF(BI334<95,IF(BI334<=90,VLOOKUP(BI334,$AQ$564:$AR$619,2)))","v":{"$error":"#N/A"}},{"$f":"IF(AND(J334<1920),VLOOKUP(K334,Feuil2!$F$10:$P$28,11),IF(AND(J334>=1920,J334<1937),VLOOKUP(K334,Feuil2!$F$10:$P$28,11),IF(AND(J334>=1936,J334<1942),VLOOKUP(K334,Feuil2!$F$10:$P$28,10),IF(AND(J334>=1942,J334<1947),VLOOKUP(K334,Feuil2!$F$10:$P$28,9),IF(AND(J334>=1947,J334<1952),VLOOKUP(K334,Feuil2!$F$10:$P$28,8),IF(AND(J334>=1952,J334<1957),VLOOKUP(K334,Feuil2!$F$10:$P$28,7),IF(AND(J334>=1957,J334<1962),VLOOKUP(K334,Feuil2!$F$10:$P$28,6),IF(AND(J334>=1962,J334<1967),VLOOKUP(K334,Feuil2!$F$10:$P$28,5),IF(AND(J334>=1967,J334<1972),VLOOKUP(K334,Feuil2!$F$10:$P$28,4),IF(AND(J334>=1972,J334<1977),VLOOKUP(K334,Feuil2!$F$10:$P$28,3),IF(AND(J334>=1977,J334<1982),VLOOKUP(K334,Feuil2!$F$10:$P$28,2),VLOOKUP(K334,Feuil2!$F$10:$P$28,2))))))))))))","v":{"$error":"#N/A"}},null,{"$f":"T334-HLOOKUP(Y334,Feuil2!$C$1:$CD$9,2,FALSE)","v":{"$error":"#VALUE!"}},{"$f":"T334-HLOOKUP(Y334,Feuil2!$C$1:$CD$9,3,FALSE)","v":{"$error":"#VALUE!"}},{"$f":"T334-HLOOKUP(Y334,Feuil2!$C$1:$CD$9,4,FALSE)","v":{"$error":"#VALUE!"}},{"$f":"T334-HLOOKUP(Y334,Feuil2!$C$1:$CD$9,5,FALSE)","v":{"$error":"#VALUE!"}},{"$f":"T334-HLOOKUP(Y334,Feuil2!$C$1:$CD$9,6,FALSE)","v":{"$error":"#VALUE!"}},{"$f":"T334-HLOOKUP(Y334,Feuil2!$C$1:$CD$9,7,FALSE)","v":{"$error":"#VALUE!"}},{"$f":"T334-HLOOKUP(Y334,Feuil2!$C$1:$CD$9,8,FALSE)","v":{"$error":"#VALUE!"}},{"$f":"T334-HLOOKUP(Y334,Feuil2!$C$1:$CD$9,9,FALSE)","v":{"$error":"#VALUE!"}},null,null,null,null,null,null,null,{"$error":"#VALUE!"},2016,null,{"$f":"IF(AQ334,VLOOKUP(AQ334,HOM!$AS$561:$AT$616,2))","v":3.5710000000000002}]
["H",null,null,null,null,null,null,null,null,null,null,null,null,null,{"$f":"IF(K335=\"\",\"\",IF(MAXA(L335:N335)<=0,0,MAXA(L335:N335)))","v":""},null,null,null,{"$f":"IF(K335=\"\",\"\",IF(MAXA(P335:R335)<=0,0,MAXA(P335:R335)))","v":""},{"$f":"IF(K335=\"\",\"\",IF(OR(O335=0,S335=0),0,O335+S335))","v":""},{"$f":"IF(K335=\"\",\"\",IF(A335=\"H\",10^(0.794358141*LOG(K335/174.393)^2)*T335*AS335,IF(A335=\"F\",10^(0.89726074 * LOG(K335/148.026)^2)*T335*AS335,\"\")))","v":""},"","",{"$f":"IF(BI335<95,IF(BI335<=90,VLOOKUP(BI335,$AQ$564:$AR$619,2)))","v":{"$error":"#N/A"}},{"$f":"IF(AND(J335<1920),VLOOKUP(K335,Feuil2!$F$10:$P$28,11),IF(AND(J335>=1920,J335<1937),VLOOKUP(K335,Feuil2!$F$10:$P$28,11),IF(AND(J335>=1936,J335<1942),VLOOKUP(K335,Feuil2!$F$10:$P$28,10),IF(AND(J335>=1942,J335<1947),VLOOKUP(K335,Feuil2!$F$10:$P$28,9),IF(AND(J335>=1947,J335<1952),VLOOKUP(K335,Feuil2!$F$10:$P$28,8),IF(AND(J335>=1952,J335<1957),VLOOKUP(K335,Feuil2!$F$10:$P$28,7),IF(AND(J335>=1957,J335<1962),VLOOKUP(K335,Feuil2!$F$10:$P$28,6),IF(AND(J335>=1962,J335<1967),VLOOKUP(K335,Feuil2!$F$10:$P$28,5),IF(AND(J335>=1967,J335<1972),VLOOKUP(K335,Feuil2!$F$10:$P$28,4),IF(AND(J335>=1972,J335<1977),VLOOKUP(K335,Feuil2!$F$10:$P$28,3),IF(AND(J335>=1977,J335<1982),VLOOKUP(K335,Feuil2!$F$10:$P$28,2),VLOOKUP(K335,Feuil2!$F$10:$P$28,2))))))))))))","v":{"$error":"#N/A"}},null,{"$f":"T335-HLOOKUP(Y335,Feuil2!$C$1:$CD$9,2,FALSE)","v":{"$error":"#VALUE!"}},{"$f":"T335-HLOOKUP(Y335,Feuil2!$C$1:$CD$9,3,FALSE)","v":{"$error":"#VALUE!"}},{"$f":"T335-HLOOKUP(Y335,Feuil2!$C$1:$CD$9,4,FALSE)","v":{"$error":"#VALUE!"}},{"$f":"T335-HLOOKUP(Y335,Feuil2!$C$1:$CD$9,5,FALSE)","v":{"$error":"#VALUE!"}},{"$f":"T335-HLOOKUP(Y335,Feuil2!$C$1:$CD$9,6,FALSE)","v":{"$error":"#VALUE!"}},{"$f":"T335-HLOOKUP(Y335,Feuil2!$C$1:$CD$9,7,FALSE)","v":{"$error":"#VALUE!"}},{"$f":"T335-HLOOKUP(Y335,Feuil2!$C$1:$CD$9,8,FALSE)","v":{"$error":"#VALUE!"}},{"$f":"T335-HLOOKUP(Y335,Feuil2!$C$1:$CD$9,9,FALSE)","v":{"$error":"#VALUE!"}},null,null,null,null,null,null,null,{"$error":"#VALUE!"},2016,null,{"$f":"IF(AQ335,VLOOKUP(AQ335,HOM!$AS$561:$AT$616,2))","v":3.5710000000000002}]
["H",null,null,null,null,null,null,null,null,null,null,null,null,null,{"$f":"IF(K336=\"\",\"\",IF(MAXA(L336:N336)<=0,0,MAXA(L336:N336)))","v":""},null,null,null,{"$f":"IF(K336=\"\",\"\",IF(MAXA(P336:R336)<=0,0,MAXA(P336:R336)))","v":""},{"$f":"IF(K336=\"\",\"\",IF(OR(O336=0,S336=0),0,O336+S336))","v":""},"","","",{"$f":"IF(BI336<95,IF(BI336<=90,VLOOKUP(BI336,$AQ$564:$AR$619,2)))","v":{"$error":"#N/A"}},{"$f":"IF(AND(J336<1920),VLOOKUP(K336,Feuil2!$F$10:$P$28,11),IF(AND(J336>=1920,J336<1937),VLOOKUP(K336,Feuil2!$F$10:$P$28,11),IF(AND(J336>=1936,J336<1942),VLOOKUP(K336,Feuil2!$F$10:$P$28,10),IF(AND(J336>=1942,J336<1947),VLOOKUP(K336,Feuil2!$F$10:$P$28,9),IF(AND(J336>=1947,J336<1952),VLOOKUP(K336,Feuil2!$F$10:$P$28,8),IF(AND(J336>=1952,J336<1957),VLOOKUP(K336,Feuil2!$F$10:$P$28,7),IF(AND(J336>=1957,J336<1962),VLOOKUP(K336,Feuil2!$F$10:$P$28,6),IF(AND(J336>=1962,J336<1967),VLOOKUP(K336,Feuil2!$F$10:$P$28,5),IF(AND(J336>=1967,J336<1972),VLOOKUP(K336,Feuil2!$F$10:$P$28,4),IF(AND(J336>=1972,J336<1977),VLOOKUP(K336,Feuil2!$F$10:$P$28,3),IF(AND(J336>=1977,J336<1982),VLOOKUP(K336,Feuil2!$F$10:$P$28,2),VLOOKUP(K336,Feuil2!$F$10:$P$28,2))))))))))))","v":{"$error":"#N/A"}},null,{"$f":"T336-HLOOKUP(Y336,Feuil2!$C$1:$CD$9,2,FALSE)","v":{"$error":"#VALUE!"}},{"$f":"T336-HLOOKUP(Y336,Feuil2!$C$1:$CD$9,3,FALSE)","v":{"$error":"#VALUE!"}},{"$f":"T336-HLOOKUP(Y336,Feuil2!$C$1:$CD$9,4,FALSE)","v":{"$error":"#VALUE!"}},{"$f":"T336-HLOOKUP(Y336,Feuil2!$C$1:$CD$9,5,FALSE)","v":{"$error":"#VALUE!"}},{"$f":"T336-HLOOKUP(Y336,Feuil2!$C$1:$CD$9,6,FALSE)","v":{"$error":"#VALUE!"}},{"$f":"T336-HLOOKUP(Y336,Feuil2!$C$1:$CD$9,7,FALSE)","v":{"$error":"#VALUE!"}},{"$f":"T336-HLOOKUP(Y336,Feuil2!$C$1:$CD$9,8,FALSE)","v":{"$error":"#VALUE!"}},{"$f":"T336-HLOOKUP(Y336,Feuil2!$C$1:$CD$9,9,FALSE)","v":{"$error":"#VALUE!"}},null,null,null,null,null,null,null,{"$error":"#VALUE!"},2016,null,{"$f":"IF(AQ336,VLOOKUP(AQ336,HOM!$AS$561:$AT$616,2))","v":3.5710000000000002}]
["H",null,null,null,null,null,null,null,null,null,null,null,null,null,{"$f":"IF(K337=\"\",\"\",IF(MAXA(L337:N337)<=0,0,MAXA(L337:N337)))","v":""},null,null,null,{"$f":"IF(K337=\"\",\"\",IF(MAXA(P337:R337)<=0,0,MAXA(P337:R337)))","v":""},{"$f":"IF(K337=\"\",\"\",IF(OR(O337=0,S337=0),0,O337+S337))","v":""},"","","",{"$f":"IF(BI337<95,IF(BI337<=90,VLOOKUP(BI337,$AQ$560:$AR$615,2)))","v":{"$error":"#N/A"}},{"$f":"IF(AND(J337<1920),VLOOKUP(K337,Feuil2!$F$10:$P$28,11),IF(AND(J337>=1920,J337<1937),VLOOKUP(K337,Feuil2!$F$10:$P$28,11),IF(AND(J337>=1936,J337<1942),VLOOKUP(K337,Feuil2!$F$10:$P$28,10),IF(AND(J337>=1942,J337<1947),VLOOKUP(K337,Feuil2!$F$10:$P$28,9),IF(AND(J337>=1947,J337<1952),VLOOKUP(K337,Feuil2!$F$10:$P$28,8),IF(AND(J337>=1952,J337<1957),VLOOKUP(K337,Feuil2!$F$10:$P$28,7),IF(AND(J337>=1957,J337<1962),VLOOKUP(K337,Feuil2!$F$10:$P$28,6),IF(AND(J337>=1962,J337<1967),VLOOKUP(K337,Feuil2!$F$10:$P$28,5),IF(AND(J337>=1967,J337<1972),VLOOKUP(K337,Feuil2!$F$10:$P$28,4),IF(AND(J337>=1972,J337<1977),VLOOKUP(K337,Feuil2!$F$10:$P$28,3),IF(AND(J337>=1977,J337<1982),VLOOKUP(K337,Feuil2!$F$10:$P$28,2),VLOOKUP(K337,Feuil2!$F$10:$P$28,2))))))))))))","v":{"$error":"#N/A"}},null,{"$f":"T337-HLOOKUP(Y337,Feuil2!$C$1:$CD$9,2,FALSE)","v":{"$error":"#VALUE!"}},{"$f":"T337-HLOOKUP(Y337,Feuil2!$C$1:$CD$9,3,FALSE)","v":{"$error":"#VALUE!"}},{"$f":"T337-HLOOKUP(Y337,Feuil2!$C$1:$CD$9,4,FALSE)","v":{"$error":"#VALUE!"}},{"$f":"T337-HLOOKUP(Y337,Feuil2!$C$1:$CD$9,5,FALSE)","v":{"$error":"#VALUE!"}},{"$f":"T337-HLOOKUP(Y337,Feuil2!$C$1:$CD$9,6,FALSE)","v":{"$error":"#VALUE!"}},{"$f":"T337-HLOOKUP(Y337,Feuil2!$C$1:$CD$9,7,FALSE)","v":{"$error":"#VALUE!"}},{"$f":"T337-HLOOKUP(Y337,Feuil2!$C$1:$CD$9,8,FALSE)","v":{"$error":"#VALUE!"}},{"$f":"T337-HLOOKUP(Y337,Feuil2!$C$1:$CD$9,9,FALSE)","v":{"$error":"#VALUE!"}},null,null,null,null,null,null,null,{"$error":"#VALUE!"},{"$f":"2016-J337","v":2016},null,{"$f":"IF(AQ337,VLOOKUP(AQ337,HOM!$AS$561:$AT$616,2))","v":3.5710000000000002}]
["H",null,null,null,null,null,null,null,null,null,null,null,null,null,"",null,null,null,"","","","","",{"$error":"#N/A"},{"$f":"IF(AND(J338<1920),VLOOKUP(K338,Feuil2!$F$10:$P$28,11),IF(AND(J338>=1920,J338<1937),VLOOKUP(K338,Feuil2!$F$10:$P$28,11),IF(AND(J338>=1936,J338<1942),VLOOKUP(K338,Feuil2!$F$10:$P$28,10),IF(AND(J338>=1942,J338<1947),VLOOKUP(K338,Feuil2!$F$10:$P$28,9),IF(AND(J338>=1947,J338<1952),VLOOKUP(K338,Feuil2!$F$10:$P$28,8),IF(AND(J338>=1952,J338<1957),VLOOKUP(K338,Feuil2!$F$10:$P$28,7),IF(AND(J338>=1957,J338<1962),VLOOKUP(K338,Feuil2!$F$10:$P$28,6),IF(AND(J338>=1962,J338<1967),VLOOKUP(K338,Feuil2!$F$10:$P$28,5),IF(AND(J338>=1967,J338<1972),VLOOKUP(K338,Feuil2!$F$10:$P$28,4),IF(AND(J338>=1972,J338<1977),VLOOKUP(K338,Feuil2!$F$10:$P$28,3),IF(AND(J338>=1977,J338<1982),VLOOKUP(K338,Feuil2!$F$10:$P$28,2),VLOOKUP(K338,Feuil2!$F$10:$P$28,2))))))))))))","v":{"$error":"#N/A"}},null,{"$f":"T338-HLOOKUP(Y338,Feuil2!$C$1:$CD$9,2,FALSE)","v":{"$error":"#VALUE!"}},{"$f":"T338-HLOOKUP(Y338,Feuil2!$C$1:$CD$9,3,FALSE)","v":{"$error":"#VALUE!"}},{"$f":"T338-HLOOKUP(Y338,Feuil2!$C$1:$CD$9,4,FALSE)","v":{"$error":"#VALUE!"}},{"$f":"T338-HLOOKUP(Y338,Feuil2!$C$1:$CD$9,5,FALSE)","v":{"$error":"#VALUE!"}},{"$f":"T338-HLOOKUP(Y338,Feuil2!$C$1:$CD$9,6,FALSE)","v":{"$error":"#VALUE!"}},{"$f":"T338-HLOOKUP(Y338,Feuil2!$C$1:$CD$9,7,FALSE)","v":{"$error":"#VALUE!"}},{"$f":"T338-HLOOKUP(Y338,Feuil2!$C$1:$CD$9,8,FALSE)","v":{"$error":"#VALUE!"}},{"$f":"T338-HLOOKUP(Y338,Feuil2!$C$1:$CD$9,9,FALSE)","v":{"$error":"#VALUE!"}},null,null,null,null,null,null,null,{"$error":"#VALUE!"},2016,null,{"$f":"IF(AQ338,VLOOKUP(AQ338,HOM!$AS$561:$AT$616,2))","v":3.5710000000000002}]
["H",null,null,null,null,null,null,null,null,null,null,null,null,null,"",null,null,null,"","","","","",{"$error":"#N/A"},{"$f":"IF(AND(J339<1920),VLOOKUP(K339,Feuil2!$F$10:$P$28,11),IF(AND(J339>=1920,J339<1937),VLOOKUP(K339,Feuil2!$F$10:$P$28,11),IF(AND(J339>=1936,J339<1942),VLOOKUP(K339,Feuil2!$F$10:$P$28,10),IF(AND(J339>=1942,J339<1947),VLOOKUP(K339,Feuil2!$F$10:$P$28,9),IF(AND(J339>=1947,J339<1952),VLOOKUP(K339,Feuil2!$F$10:$P$28,8),IF(AND(J339>=1952,J339<1957),VLOOKUP(K339,Feuil2!$F$10:$P$28,7),IF(AND(J339>=1957,J339<1962),VLOOKUP(K339,Feuil2!$F$10:$P$28,6),IF(AND(J339>=1962,J339<1967),VLOOKUP(K339,Feuil2!$F$10:$P$28,5),IF(AND(J339>=1967,J339<1972),VLOOKUP(K339,Feuil2!$F$10:$P$28,4),IF(AND(J339>=1972,J339<1977),VLOOKUP(K339,Feuil2!$F$10:$P$28,3),IF(AND(J339>=1977,J339<1982),VLOOKUP(K339,Feuil2!$F$10:$P$28,2),VLOOKUP(K339,Feuil2!$F$10:$P$28,2))))))))))))","v":{"$error":"#N/A"}},null,{"$f":"T339-HLOOKUP(Y339,Feuil2!$C$1:$CD$9,2,FALSE)","v":{"$error":"#VALUE!"}},{"$f":"T339-HLOOKUP(Y339,Feuil2!$C$1:$CD$9,3,FALSE)","v":{"$error":"#VALUE!"}},{"$f":"T339-HLOOKUP(Y339,Feuil2!$C$1:$CD$9,4,FALSE)","v":{"$error":"#VALUE!"}},{"$f":"T339-HLOOKUP(Y339,Feuil2!$C$1:$CD$9,5,FALSE)","v":{"$error":"#VALUE!"}},{"$f":"T339-HLOOKUP(Y339,Feuil2!$C$1:$CD$9,6,FALSE)","v":{"$error":"#VALUE!"}},{"$f":"T339-HLOOKUP(Y339,Feuil2!$C$1:$CD$9,7,FALSE)","v":{"$error":"#VALUE!"}},{"$f":"T339-HLOOKUP(Y339,Feuil2!$C$1:$CD$9,8,FALSE)","v":{"$error":"#VALUE!"}},{"$f":"T339-HLOOKUP(Y339,Feuil2!$C$1:$CD$9,9,FALSE)","v":{"$error":"#VALUE!"}},null,null,null,null,null,null,null,{"$error":"#VALUE!"},2016,null,{"$f":"IF(AQ339,VLOOKUP(AQ339,HOM!$AS$561:$AT$616,2))","v":3.5710000000000002}]
["H",null,null,null,null,null,null,null,null,null,null,null,null,null,"",null,null,null,"","","","","",{"$error":"#N/A"},{"$f":"IF(AND(J340<1920),VLOOKUP(K340,Feuil2!$F$10:$P$28,11),IF(AND(J340>=1920,J340<1937),VLOOKUP(K340,Feuil2!$F$10:$P$28,11),IF(AND(J340>=1936,J340<1942),VLOOKUP(K340,Feuil2!$F$10:$P$28,10),IF(AND(J340>=1942,J340<1947),VLOOKUP(K340,Feuil2!$F$10:$P$28,9),IF(AND(J340>=1947,J340<1952),VLOOKUP(K340,Feuil2!$F$10:$P$28,8),IF(AND(J340>=1952,J340<1957),VLOOKUP(K340,Feuil2!$F$10:$P$28,7),IF(AND(J340>=1957,J340<1962),VLOOKUP(K340,Feuil2!$F$10:$P$28,6),IF(AND(J340>=1962,J340<1967),VLOOKUP(K340,Feuil2!$F$10:$P$28,5),IF(AND(J340>=1967,J340<1972),VLOOKUP(K340,Feuil2!$F$10:$P$28,4),IF(AND(J340>=1972,J340<1977),VLOOKUP(K340,Feuil2!$F$10:$P$28,3),IF(AND(J340>=1977,J340<1982),VLOOKUP(K340,Feuil2!$F$10:$P$28,2),VLOOKUP(K340,Feuil2!$F$10:$P$28,2))))))))))))","v":{"$error":"#N/A"}},null,{"$f":"T340-HLOOKUP(Y340,Feuil2!$C$1:$CD$9,2,FALSE)","v":{"$error":"#VALUE!"}},{"$f":"T340-HLOOKUP(Y340,Feuil2!$C$1:$CD$9,3,FALSE)","v":{"$error":"#VALUE!"}},{"$f":"T340-HLOOKUP(Y340,Feuil2!$C$1:$CD$9,4,FALSE)","v":{"$error":"#VALUE!"}},{"$f":"T340-HLOOKUP(Y340,Feuil2!$C$1:$CD$9,5,FALSE)","v":{"$error":"#VALUE!"}},{"$f":"T340-HLOOKUP(Y340,Feuil2!$C$1:$CD$9,6,FALSE)","v":{"$error":"#VALUE!"}},{"$f":"T340-HLOOKUP(Y340,Feuil2!$C$1:$CD$9,7,FALSE)","v":{"$error":"#VALUE!"}},{"$f":"T340-HLOOKUP(Y340,Feuil2!$C$1:$CD$9,8,FALSE)","v":{"$error":"#VALUE!"}},{"$f":"T340-HLOOKUP(Y340,Feuil2!$C$1:$CD$9,9,FALSE)","v":{"$error":"#VALUE!"}},null,null,null,null,null,null,null,{"$error":"#VALUE!"},2016,null,{"$f":"IF(AQ340,VLOOKUP(AQ340,HOM!$AS$561:$AT$616,2))","v":3.5710000000000002}]
["H",null,null,null,null,null,null,null,null,null,null,null,null,null,"",null,null,null,"","","","","",{"$error":"#N/A"},{"$f":"IF(AND(J341<1920),VLOOKUP(K341,Feuil2!$F$10:$P$28,11),IF(AND(J341>=1920,J341<1937),VLOOKUP(K341,Feuil2!$F$10:$P$28,11),IF(AND(J341>=1936,J341<1942),VLOOKUP(K341,Feuil2!$F$10:$P$28,10),IF(AND(J341>=1942,J341<1947),VLOOKUP(K341,Feuil2!$F$10:$P$28,9),IF(AND(J341>=1947,J341<1952),VLOOKUP(K341,Feuil2!$F$10:$P$28,8),IF(AND(J341>=1952,J341<1957),VLOOKUP(K341,Feuil2!$F$10:$P$28,7),IF(AND(J341>=1957,J341<1962),VLOOKUP(K341,Feuil2!$F$10:$P$28,6),IF(AND(J341>=1962,J341<1967),VLOOKUP(K341,Feuil2!$F$10:$P$28,5),IF(AND(J341>=1967,J341<1972),VLOOKUP(K341,Feuil2!$F$10:$P$28,4),IF(AND(J341>=1972,J341<1977),VLOOKUP(K341,Feuil2!$F$10:$P$28,3),IF(AND(J341>=1977,J341<1982),VLOOKUP(K341,Feuil2!$F$10:$P$28,2),VLOOKUP(K341,Feuil2!$F$10:$P$28,2))))))))))))","v":{"$error":"#N/A"}},null,{"$f":"T341-HLOOKUP(Y341,Feuil2!$C$1:$CD$9,2,FALSE)","v":{"$error":"#VALUE!"}},{"$f":"T341-HLOOKUP(Y341,Feuil2!$C$1:$CD$9,3,FALSE)","v":{"$error":"#VALUE!"}},{"$f":"T341-HLOOKUP(Y341,Feuil2!$C$1:$CD$9,4,FALSE)","v":{"$error":"#VALUE!"}},{"$f":"T341-HLOOKUP(Y341,Feuil2!$C$1:$CD$9,5,FALSE)","v":{"$error":"#VALUE!"}},{"$f":"T341-HLOOKUP(Y341,Feuil2!$C$1:$CD$9,6,FALSE)","v":{"$error":"#VALUE!"}},{"$f":"T341-HLOOKUP(Y341,Feuil2!$C$1:$CD$9,7,FALSE)","v":{"$error":"#VALUE!"}},{"$f":"T341-HLOOKUP(Y341,Feuil2!$C$1:$CD$9,8,FALSE)","v":{"$error":"#VALUE!"}},{"$f":"T341-HLOOKUP(Y341,Feuil2!$C$1:$CD$9,9,FALSE)","v":{"$error":"#VALUE!"}},null,null,null,null,null,null,null,{"$error":"#VALUE!"},2016,null,{"$f":"IF(AQ341,VLOOKUP(AQ341,HOM!$AS$561:$AT$616,2))","v":3.5710000000000002}]
["H",null,null,null,null,null,null,null,null,null,null,null,null,null,"",null,null,null,"","","","","",{"$error":"#N/A"},{"$f":"IF(AND(J342<1920),VLOOKUP(K342,Feuil2!$F$10:$P$28,11),IF(AND(J342>=1920,J342<1937),VLOOKUP(K342,Feuil2!$F$10:$P$28,11),IF(AND(J342>=1936,J342<1942),VLOOKUP(K342,Feuil2!$F$10:$P$28,10),IF(AND(J342>=1942,J342<1947),VLOOKUP(K342,Feuil2!$F$10:$P$28,9),IF(AND(J342>=1947,J342<1952),VLOOKUP(K342,Feuil2!$F$10:$P$28,8),IF(AND(J342>=1952,J342<1957),VLOOKUP(K342,Feuil2!$F$10:$P$28,7),IF(AND(J342>=1957,J342<1962),VLOOKUP(K342,Feuil2!$F$10:$P$28,6),IF(AND(J342>=1962,J342<1967),VLOOKUP(K342,Feuil2!$F$10:$P$28,5),IF(AND(J342>=1967,J342<1972),VLOOKUP(K342,Feuil2!$F$10:$P$28,4),IF(AND(J342>=1972,J342<1977),VLOOKUP(K342,Feuil2!$F$10:$P$28,3),IF(AND(J342>=1977,J342<1982),VLOOKUP(K342,Feuil2!$F$10:$P$28,2),VLOOKUP(K342,Feuil2!$F$10:$P$28,2))))))))))))","v":{"$error":"#N/A"}},null,{"$f":"T342-HLOOKUP(Y342,Feuil2!$C$1:$CD$9,2,FALSE)","v":{"$error":"#VALUE!"}},{"$f":"T342-HLOOKUP(Y342,Feuil2!$C$1:$CD$9,3,FALSE)","v":{"$error":"#VALUE!"}},{"$f":"T342-HLOOKUP(Y342,Feuil2!$C$1:$CD$9,4,FALSE)","v":{"$error":"#VALUE!"}},{"$f":"T342-HLOOKUP(Y342,Feuil2!$C$1:$CD$9,5,FALSE)","v":{"$error":"#VALUE!"}},{"$f":"T342-HLOOKUP(Y342,Feuil2!$C$1:$CD$9,6,FALSE)","v":{"$error":"#VALUE!"}},{"$f":"T342-HLOOKUP(Y342,Feuil2!$C$1:$CD$9,7,FALSE)","v":{"$error":"#VALUE!"}},{"$f":"T342-HLOOKUP(Y342,Feuil2!$C$1:$CD$9,8,FALSE)","v":{"$error":"#VALUE!"}},{"$f":"T342-HLOOKUP(Y342,Feuil2!$C$1:$CD$9,9,FALSE)","v":{"$error":"#VALUE!"}},null,null,null,null,null,null,null,{"$error":"#VALUE!"},2016,null,{"$f":"IF(AQ342,VLOOKUP(AQ342,HOM!$AS$561:$AT$616,2))","v":3.5710000000000002}]
["H",null,null,null,null,null,null,null,null,null,null,null,null,null,"",null,null,null,"","","","","",{"$error":"#N/A"},{"$f":"IF(AND(J343<1920),VLOOKUP(K343,Feuil2!$F$10:$P$28,11),IF(AND(J343>=1920,J343<1937),VLOOKUP(K343,Feuil2!$F$10:$P$28,11),IF(AND(J343>=1936,J343<1942),VLOOKUP(K343,Feuil2!$F$10:$P$28,10),IF(AND(J343>=1942,J343<1947),VLOOKUP(K343,Feuil2!$F$10:$P$28,9),IF(AND(J343>=1947,J343<1952),VLOOKUP(K343,Feuil2!$F$10:$P$28,8),IF(AND(J343>=1952,J343<1957),VLOOKUP(K343,Feuil2!$F$10:$P$28,7),IF(AND(J343>=1957,J343<1962),VLOOKUP(K343,Feuil2!$F$10:$P$28,6),IF(AND(J343>=1962,J343<1967),VLOOKUP(K343,Feuil2!$F$10:$P$28,5),IF(AND(J343>=1967,J343<1972),VLOOKUP(K343,Feuil2!$F$10:$P$28,4),IF(AND(J343>=1972,J343<1977),VLOOKUP(K343,Feuil2!$F$10:$P$28,3),IF(AND(J343>=1977,J343<1982),VLOOKUP(K343,Feuil2!$F$10:$P$28,2),VLOOKUP(K343,Feuil2!$F$10:$P$28,2))))))))))))","v":{"$error":"#N/A"}},null,{"$f":"T343-HLOOKUP(Y343,Feuil2!$C$1:$CD$9,2,FALSE)","v":{"$error":"#VALUE!"}},{"$f":"T343-HLOOKUP(Y343,Feuil2!$C$1:$CD$9,3,FALSE)","v":{"$error":"#VALUE!"}},{"$f":"T343-HLOOKUP(Y343,Feuil2!$C$1:$CD$9,4,FALSE)","v":{"$error":"#VALUE!"}},{"$f":"T343-HLOOKUP(Y343,Feuil2!$C$1:$CD$9,5,FALSE)","v":{"$error":"#VALUE!"}},{"$f":"T343-HLOOKUP(Y343,Feuil2!$C$1:$CD$9,6,FALSE)","v":{"$error":"#VALUE!"}},{"$f":"T343-HLOOKUP(Y343,Feuil2!$C$1:$CD$9,7,FALSE)","v":{"$error":"#VALUE!"}},{"$f":"T343-HLOOKUP(Y343,Feuil2!$C$1:$CD$9,8,FALSE)","v":{"$error":"#VALUE!"}},{"$f":"T343-HLOOKUP(Y343,Feuil2!$C$1:$CD$9,9,FALSE)","v":{"$error":"#VALUE!"}},null,null,null,null,null,null,null,{"$error":"#VALUE!"},2016,null,{"$f":"IF(AQ343,VLOOKUP(AQ343,HOM!$AS$561:$AT$616,2))","v":3.5710000000000002}]
["H",null,null,null,null,null,null,null,null,null,null,null,null,null,"",null,null,null,"","","","","",{"$error":"#N/A"},{"$f":"IF(AND(J344<1920),VLOOKUP(K344,Feuil2!$F$10:$P$28,11),IF(AND(J344>=1920,J344<1937),VLOOKUP(K344,Feuil2!$F$10:$P$28,11),IF(AND(J344>=1936,J344<1942),VLOOKUP(K344,Feuil2!$F$10:$P$28,10),IF(AND(J344>=1942,J344<1947),VLOOKUP(K344,Feuil2!$F$10:$P$28,9),IF(AND(J344>=1947,J344<1952),VLOOKUP(K344,Feuil2!$F$10:$P$28,8),IF(AND(J344>=1952,J344<1957),VLOOKUP(K344,Feuil2!$F$10:$P$28,7),IF(AND(J344>=1957,J344<1962),VLOOKUP(K344,Feuil2!$F$10:$P$28,6),IF(AND(J344>=1962,J344<1967),VLOOKUP(K344,Feuil2!$F$10:$P$28,5),IF(AND(J344>=1967,J344<1972),VLOOKUP(K344,Feuil2!$F$10:$P$28,4),IF(AND(J344>=1972,J344<1977),VLOOKUP(K344,Feuil2!$F$10:$P$28,3),IF(AND(J344>=1977,J344<1982),VLOOKUP(K344,Feuil2!$F$10:$P$28,2),VLOOKUP(K344,Feuil2!$F$10:$P$28,2))))))))))))","v":{"$error":"#N/A"}},null,{"$f":"T344-HLOOKUP(Y344,Feuil2!$C$1:$CD$9,2,FALSE)","v":{"$error":"#VALUE!"}},{"$f":"T344-HLOOKUP(Y344,Feuil2!$C$1:$CD$9,3,FALSE)","v":{"$error":"#VALUE!"}},{"$f":"T344-HLOOKUP(Y344,Feuil2!$C$1:$CD$9,4,FALSE)","v":{"$error":"#VALUE!"}},{"$f":"T344-HLOOKUP(Y344,Feuil2!$C$1:$CD$9,5,FALSE)","v":{"$error":"#VALUE!"}},{"$f":"T344-HLOOKUP(Y344,Feuil2!$C$1:$CD$9,6,FALSE)","v":{"$error":"#VALUE!"}},{"$f":"T344-HLOOKUP(Y344,Feuil2!$C$1:$CD$9,7,FALSE)","v":{"$error":"#VALUE!"}},{"$f":"T344-HLOOKUP(Y344,Feuil2!$C$1:$CD$9,8,FALSE)","v":{"$error":"#VALUE!"}},{"$f":"T344-HLOOKUP(Y344,Feuil2!$C$1:$CD$9,9,FALSE)","v":{"$error":"#VALUE!"}},null,null,null,null,null,null,null,{"$error":"#VALUE!"},2016,null,{"$f":"IF(AQ344,VLOOKUP(AQ344,HOM!$AS$561:$AT$616,2))","v":3.5710000000000002}]
["H",null,null,null,null,null,null,null,null,null,null,null,null,null,"",null,null,null,"","","","","",{"$error":"#N/A"},{"$f":"IF(AND(J345<1920),VLOOKUP(K345,Feuil2!$F$10:$P$28,11),IF(AND(J345>=1920,J345<1937),VLOOKUP(K345,Feuil2!$F$10:$P$28,11),IF(AND(J345>=1936,J345<1942),VLOOKUP(K345,Feuil2!$F$10:$P$28,10),IF(AND(J345>=1942,J345<1947),VLOOKUP(K345,Feuil2!$F$10:$P$28,9),IF(AND(J345>=1947,J345<1952),VLOOKUP(K345,Feuil2!$F$10:$P$28,8),IF(AND(J345>=1952,J345<1957),VLOOKUP(K345,Feuil2!$F$10:$P$28,7),IF(AND(J345>=1957,J345<1962),VLOOKUP(K345,Feuil2!$F$10:$P$28,6),IF(AND(J345>=1962,J345<1967),VLOOKUP(K345,Feuil2!$F$10:$P$28,5),IF(AND(J345>=1967,J345<1972),VLOOKUP(K345,Feuil2!$F$10:$P$28,4),IF(AND(J345>=1972,J345<1977),VLOOKUP(K345,Feuil2!$F$10:$P$28,3),IF(AND(J345>=1977,J345<1982),VLOOKUP(K345,Feuil2!$F$10:$P$28,2),VLOOKUP(K345,Feuil2!$F$10:$P$28,2))))))))))))","v":{"$error":"#N/A"}},null,{"$f":"T345-HLOOKUP(Y345,Feuil2!$C$1:$CD$9,2,FALSE)","v":{"$error":"#VALUE!"}},{"$f":"T345-HLOOKUP(Y345,Feuil2!$C$1:$CD$9,3,FALSE)","v":{"$error":"#VALUE!"}},{"$f":"T345-HLOOKUP(Y345,Feuil2!$C$1:$CD$9,4,FALSE)","v":{"$error":"#VALUE!"}},{"$f":"T345-HLOOKUP(Y345,Feuil2!$C$1:$CD$9,5,FALSE)","v":{"$error":"#VALUE!"}},{"$f":"T345-HLOOKUP(Y345,Feuil2!$C$1:$CD$9,6,FALSE)","v":{"$error":"#VALUE!"}},{"$f":"T345-HLOOKUP(Y345,Feuil2!$C$1:$CD$9,7,FALSE)","v":{"$error":"#VALUE!"}},{"$f":"T345-HLOOKUP(Y345,Feuil2!$C$1:$CD$9,8,FALSE)","v":{"$error":"#VALUE!"}},{"$f":"T345-HLOOKUP(Y345,Feuil2!$C$1:$CD$9,9,FALSE)","v":{"$error":"#VALUE!"}},null,null,null,null,null,null,null,{"$error":"#VALUE!"},2016,null,{"$f":"IF(AQ345,VLOOKUP(AQ345,HOM!$AS$561:$AT$616,2))","v":3.5710000000000002}]
["H",null,null,null,null,null,null,null,null,null,null,null,null,null,"",null,null,null,"","","","","",{"$error":"#N/A"},{"$f":"IF(AND(J346<1920),VLOOKUP(K346,Feuil2!$F$10:$P$28,11),IF(AND(J346>=1920,J346<1937),VLOOKUP(K346,Feuil2!$F$10:$P$28,11),IF(AND(J346>=1936,J346<1942),VLOOKUP(K346,Feuil2!$F$10:$P$28,10),IF(AND(J346>=1942,J346<1947),VLOOKUP(K346,Feuil2!$F$10:$P$28,9),IF(AND(J346>=1947,J346<1952),VLOOKUP(K346,Feuil2!$F$10:$P$28,8),IF(AND(J346>=1952,J346<1957),VLOOKUP(K346,Feuil2!$F$10:$P$28,7),IF(AND(J346>=1957,J346<1962),VLOOKUP(K346,Feuil2!$F$10:$P$28,6),IF(AND(J346>=1962,J346<1967),VLOOKUP(K346,Feuil2!$F$10:$P$28,5),IF(AND(J346>=1967,J346<1972),VLOOKUP(K346,Feuil2!$F$10:$P$28,4),IF(AND(J346>=1972,J346<1977),VLOOKUP(K346,Feuil2!$F$10:$P$28,3),IF(AND(J346>=1977,J346<1982),VLOOKUP(K346,Feuil2!$F$10:$P$28,2),VLOOKUP(K346,Feuil2!$F$10:$P$28,2))))))))))))","v":{"$error":"#N/A"}},null,{"$f":"T346-HLOOKUP(Y346,Feuil2!$C$1:$CD$9,2,FALSE)","v":{"$error":"#VALUE!"}},{"$f":"T346-HLOOKUP(Y346,Feuil2!$C$1:$CD$9,3,FALSE)","v":{"$error":"#VALUE!"}},{"$f":"T346-HLOOKUP(Y346,Feuil2!$C$1:$CD$9,4,FALSE)","v":{"$error":"#VALUE!"}},{"$f":"T346-HLOOKUP(Y346,Feuil2!$C$1:$CD$9,5,FALSE)","v":{"$error":"#VALUE!"}},{"$f":"T346-HLOOKUP(Y346,Feuil2!$C$1:$CD$9,6,FALSE)","v":{"$error":"#VALUE!"}},{"$f":"T346-HLOOKUP(Y346,Feuil2!$C$1:$CD$9,7,FALSE)","v":{"$error":"#VALUE!"}},{"$f":"T346-HLOOKUP(Y346,Feuil2!$C$1:$CD$9,8,FALSE)","v":{"$error":"#VALUE!"}},{"$f":"T346-HLOOKUP(Y346,Feuil2!$C$1:$CD$9,9,FALSE)","v":{"$error":"#VALUE!"}},null,null,null,null,null,null,null,{"$error":"#VALUE!"},2016,null,{"$f":"IF(AQ346,VLOOKUP(AQ346,HOM!$AS$561:$AT$616,2))","v":3.5710000000000002}]
["H",null,null,null,null,null,null,null,null,null,null,null,null,null,"",null,null,null,"","","","","",{"$error":"#N/A"},{"$f":"IF(AND(J347<1920),VLOOKUP(K347,Feuil2!$F$10:$P$28,11),IF(AND(J347>=1920,J347<1937),VLOOKUP(K347,Feuil2!$F$10:$P$28,11),IF(AND(J347>=1936,J347<1942),VLOOKUP(K347,Feuil2!$F$10:$P$28,10),IF(AND(J347>=1942,J347<1947),VLOOKUP(K347,Feuil2!$F$10:$P$28,9),IF(AND(J347>=1947,J347<1952),VLOOKUP(K347,Feuil2!$F$10:$P$28,8),IF(AND(J347>=1952,J347<1957),VLOOKUP(K347,Feuil2!$F$10:$P$28,7),IF(AND(J347>=1957,J347<1962),VLOOKUP(K347,Feuil2!$F$10:$P$28,6),IF(AND(J347>=1962,J347<1967),VLOOKUP(K347,Feuil2!$F$10:$P$28,5),IF(AND(J347>=1967,J347<1972),VLOOKUP(K347,Feuil2!$F$10:$P$28,4),IF(AND(J347>=1972,J347<1977),VLOOKUP(K347,Feuil2!$F$10:$P$28,3),IF(AND(J347>=1977,J347<1982),VLOOKUP(K347,Feuil2!$F$10:$P$28,2),VLOOKUP(K347,Feuil2!$F$10:$P$28,2))))))))))))","v":{"$error":"#N/A"}},null,{"$f":"T347-HLOOKUP(Y347,Feuil2!$C$1:$CD$9,2,FALSE)","v":{"$error":"#VALUE!"}},{"$f":"T347-HLOOKUP(Y347,Feuil2!$C$1:$CD$9,3,FALSE)","v":{"$error":"#VALUE!"}},{"$f":"T347-HLOOKUP(Y347,Feuil2!$C$1:$CD$9,4,FALSE)","v":{"$error":"#VALUE!"}},{"$f":"T347-HLOOKUP(Y347,Feuil2!$C$1:$CD$9,5,FALSE)","v":{"$error":"#VALUE!"}},{"$f":"T347-HLOOKUP(Y347,Feuil2!$C$1:$CD$9,6,FALSE)","v":{"$error":"#VALUE!"}},{"$f":"T347-HLOOKUP(Y347,Feuil2!$C$1:$CD$9,7,FALSE)","v":{"$error":"#VALUE!"}},{"$f":"T347-HLOOKUP(Y347,Feuil2!$C$1:$CD$9,8,FALSE)","v":{"$error":"#VALUE!"}},{"$f":"T347-HLOOKUP(Y347,Feuil2!$C$1:$CD$9,9,FALSE)","v":{"$error":"#VALUE!"}},null,null,null,null,null,null,null,{"$error":"#VALUE!"},2016,null,{"$f":"IF(AQ347,VLOOKUP(AQ347,HOM!$AS$561:$AT$616,2))","v":3.5710000000000002}]
["H",null,null,null,null,null,null,null,null,null,null,null,null,null,"",null,null,null,"","","","","",{"$error":"#N/A"},{"$f":"IF(AND(J348<1920),VLOOKUP(K348,Feuil2!$F$10:$P$28,11),IF(AND(J348>=1920,J348<1937),VLOOKUP(K348,Feuil2!$F$10:$P$28,11),IF(AND(J348>=1936,J348<1942),VLOOKUP(K348,Feuil2!$F$10:$P$28,10),IF(AND(J348>=1942,J348<1947),VLOOKUP(K348,Feuil2!$F$10:$P$28,9),IF(AND(J348>=1947,J348<1952),VLOOKUP(K348,Feuil2!$F$10:$P$28,8),IF(AND(J348>=1952,J348<1957),VLOOKUP(K348,Feuil2!$F$10:$P$28,7),IF(AND(J348>=1957,J348<1962),VLOOKUP(K348,Feuil2!$F$10:$P$28,6),IF(AND(J348>=1962,J348<1967),VLOOKUP(K348,Feuil2!$F$10:$P$28,5),IF(AND(J348>=1967,J348<1972),VLOOKUP(K348,Feuil2!$F$10:$P$28,4),IF(AND(J348>=1972,J348<1977),VLOOKUP(K348,Feuil2!$F$10:$P$28,3),IF(AND(J348>=1977,J348<1982),VLOOKUP(K348,Feuil2!$F$10:$P$28,2),VLOOKUP(K348,Feuil2!$F$10:$P$28,2))))))))))))","v":{"$error":"#N/A"}},null,{"$f":"T348-HLOOKUP(Y348,Feuil2!$C$1:$CD$9,2,FALSE)","v":{"$error":"#VALUE!"}},{"$f":"T348-HLOOKUP(Y348,Feuil2!$C$1:$CD$9,3,FALSE)","v":{"$error":"#VALUE!"}},{"$f":"T348-HLOOKUP(Y348,Feuil2!$C$1:$CD$9,4,FALSE)","v":{"$error":"#VALUE!"}},{"$f":"T348-HLOOKUP(Y348,Feuil2!$C$1:$CD$9,5,FALSE)","v":{"$error":"#VALUE!"}},{"$f":"T348-HLOOKUP(Y348,Feuil2!$C$1:$CD$9,6,FALSE)","v":{"$error":"#VALUE!"}},{"$f":"T348-HLOOKUP(Y348,Feuil2!$C$1:$CD$9,7,FALSE)","v":{"$error":"#VALUE!"}},{"$f":"T348-HLOOKUP(Y348,Feuil2!$C$1:$CD$9,8,FALSE)","v":{"$error":"#VALUE!"}},{"$f":"T348-HLOOKUP(Y348,Feuil2!$C$1:$CD$9,9,FALSE)","v":{"$error":"#VALUE!"}},null,null,null,null,null,null,null,{"$error":"#VALUE!"},2016,null,{"$f":"IF(AQ348,VLOOKUP(AQ348,HOM!$AS$561:$AT$616,2))","v":3.5710000000000002}]
["H",null,null,null,null,null,null,null,null,null,null,null,null,null,"",null,null,null,"","","","","",{"$error":"#N/A"},{"$f":"IF(AND(J349<1920),VLOOKUP(K349,Feuil2!$F$10:$P$28,11),IF(AND(J349>=1920,J349<1937),VLOOKUP(K349,Feuil2!$F$10:$P$28,11),IF(AND(J349>=1936,J349<1942),VLOOKUP(K349,Feuil2!$F$10:$P$28,10),IF(AND(J349>=1942,J349<1947),VLOOKUP(K349,Feuil2!$F$10:$P$28,9),IF(AND(J349>=1947,J349<1952),VLOOKUP(K349,Feuil2!$F$10:$P$28,8),IF(AND(J349>=1952,J349<1957),VLOOKUP(K349,Feuil2!$F$10:$P$28,7),IF(AND(J349>=1957,J349<1962),VLOOKUP(K349,Feuil2!$F$10:$P$28,6),IF(AND(J349>=1962,J349<1967),VLOOKUP(K349,Feuil2!$F$10:$P$28,5),IF(AND(J349>=1967,J349<1972),VLOOKUP(K349,Feuil2!$F$10:$P$28,4),IF(AND(J349>=1972,J349<1977),VLOOKUP(K349,Feuil2!$F$10:$P$28,3),IF(AND(J349>=1977,J349<1982),VLOOKUP(K349,Feuil2!$F$10:$P$28,2),VLOOKUP(K349,Feuil2!$F$10:$P$28,2))))))))))))","v":{"$error":"#N/A"}},null,{"$f":"T349-HLOOKUP(Y349,Feuil2!$C$1:$CD$9,2,FALSE)","v":{"$error":"#VALUE!"}},{"$f":"T349-HLOOKUP(Y349,Feuil2!$C$1:$CD$9,3,FALSE)","v":{"$error":"#VALUE!"}},{"$f":"T349-HLOOKUP(Y349,Feuil2!$C$1:$CD$9,4,FALSE)","v":{"$error":"#VALUE!"}},{"$f":"T349-HLOOKUP(Y349,Feuil2!$C$1:$CD$9,5,FALSE)","v":{"$error":"#VALUE!"}},{"$f":"T349-HLOOKUP(Y349,Feuil2!$C$1:$CD$9,6,FALSE)","v":{"$error":"#VALUE!"}},{"$f":"T349-HLOOKUP(Y349,Feuil2!$C$1:$CD$9,7,FALSE)","v":{"$error":"#VALUE!"}},{"$f":"T349-HLOOKUP(Y349,Feuil2!$C$1:$CD$9,8,FALSE)","v":{"$error":"#VALUE!"}},{"$f":"T349-HLOOKUP(Y349,Feuil2!$C$1:$CD$9,9,FALSE)","v":{"$error":"#VALUE!"}},null,null,null,null,null,null,null,{"$error":"#VALUE!"},2016,null,{"$f":"IF(AQ349,VLOOKUP(AQ349,HOM!$AS$561:$AT$616,2))","v":3.5710000000000002}]
["H",null,null,null,null,null,null,null,null,null,null,null,null,null,"",null,null,null,"","","","","",{"$error":"#N/A"},{"$f":"IF(AND(J350<1920),VLOOKUP(K350,Feuil2!$F$10:$P$28,11),IF(AND(J350>=1920,J350<1937),VLOOKUP(K350,Feuil2!$F$10:$P$28,11),IF(AND(J350>=1936,J350<1942),VLOOKUP(K350,Feuil2!$F$10:$P$28,10),IF(AND(J350>=1942,J350<1947),VLOOKUP(K350,Feuil2!$F$10:$P$28,9),IF(AND(J350>=1947,J350<1952),VLOOKUP(K350,Feuil2!$F$10:$P$28,8),IF(AND(J350>=1952,J350<1957),VLOOKUP(K350,Feuil2!$F$10:$P$28,7),IF(AND(J350>=1957,J350<1962),VLOOKUP(K350,Feuil2!$F$10:$P$28,6),IF(AND(J350>=1962,J350<1967),VLOOKUP(K350,Feuil2!$F$10:$P$28,5),IF(AND(J350>=1967,J350<1972),VLOOKUP(K350,Feuil2!$F$10:$P$28,4),IF(AND(J350>=1972,J350<1977),VLOOKUP(K350,Feuil2!$F$10:$P$28,3),IF(AND(J350>=1977,J350<1982),VLOOKUP(K350,Feuil2!$F$10:$P$28,2),VLOOKUP(K350,Feuil2!$F$10:$P$28,2))))))))))))","v":{"$error":"#N/A"}},null,{"$f":"T350-HLOOKUP(Y350,Feuil2!$C$1:$CD$9,2,FALSE)","v":{"$error":"#VALUE!"}},{"$f":"T350-HLOOKUP(Y350,Feuil2!$C$1:$CD$9,3,FALSE)","v":{"$error":"#VALUE!"}},{"$f":"T350-HLOOKUP(Y350,Feuil2!$C$1:$CD$9,4,FALSE)","v":{"$error":"#VALUE!"}},{"$f":"T350-HLOOKUP(Y350,Feuil2!$C$1:$CD$9,5,FALSE)","v":{"$error":"#VALUE!"}},{"$f":"T350-HLOOKUP(Y350,Feuil2!$C$1:$CD$9,6,FALSE)","v":{"$error":"#VALUE!"}},{"$f":"T350-HLOOKUP(Y350,Feuil2!$C$1:$CD$9,7,FALSE)","v":{"$error":"#VALUE!"}},{"$f":"T350-HLOOKUP(Y350,Feuil2!$C$1:$CD$9,8,FALSE)","v":{"$error":"#VALUE!"}},{"$f":"T350-HLOOKUP(Y350,Feuil2!$C$1:$CD$9,9,FALSE)","v":{"$error":"#VALUE!"}},null,null,null,null,null,null,null,{"$error":"#VALUE!"},2016,null,{"$f":"IF(AQ350,VLOOKUP(AQ350,HOM!$AS$561:$AT$616,2))","v":3.5710000000000002}]
["H",null,null,null,null,null,null,null,null,null,null,null,null,null,"",null,null,null,"","","","","",{"$error":"#N/A"},{"$f":"IF(AND(J351<1920),VLOOKUP(K351,Feuil2!$F$10:$P$28,11),IF(AND(J351>=1920,J351<1937),VLOOKUP(K351,Feuil2!$F$10:$P$28,11),IF(AND(J351>=1936,J351<1942),VLOOKUP(K351,Feuil2!$F$10:$P$28,10),IF(AND(J351>=1942,J351<1947),VLOOKUP(K351,Feuil2!$F$10:$P$28,9),IF(AND(J351>=1947,J351<1952),VLOOKUP(K351,Feuil2!$F$10:$P$28,8),IF(AND(J351>=1952,J351<1957),VLOOKUP(K351,Feuil2!$F$10:$P$28,7),IF(AND(J351>=1957,J351<1962),VLOOKUP(K351,Feuil2!$F$10:$P$28,6),IF(AND(J351>=1962,J351<1967),VLOOKUP(K351,Feuil2!$F$10:$P$28,5),IF(AND(J351>=1967,J351<1972),VLOOKUP(K351,Feuil2!$F$10:$P$28,4),IF(AND(J351>=1972,J351<1977),VLOOKUP(K351,Feuil2!$F$10:$P$28,3),IF(AND(J351>=1977,J351<1982),VLOOKUP(K351,Feuil2!$F$10:$P$28,2),VLOOKUP(K351,Feuil2!$F$10:$P$28,2))))))))))))","v":{"$error":"#N/A"}},null,{"$f":"T351-HLOOKUP(Y351,Feuil2!$C$1:$CD$9,2,FALSE)","v":{"$error":"#VALUE!"}},{"$f":"T351-HLOOKUP(Y351,Feuil2!$C$1:$CD$9,3,FALSE)","v":{"$error":"#VALUE!"}},{"$f":"T351-HLOOKUP(Y351,Feuil2!$C$1:$CD$9,4,FALSE)","v":{"$error":"#VALUE!"}},{"$f":"T351-HLOOKUP(Y351,Feuil2!$C$1:$CD$9,5,FALSE)","v":{"$error":"#VALUE!"}},{"$f":"T351-HLOOKUP(Y351,Feuil2!$C$1:$CD$9,6,FALSE)","v":{"$error":"#VALUE!"}},{"$f":"T351-HLOOKUP(Y351,Feuil2!$C$1:$CD$9,7,FALSE)","v":{"$error":"#VALUE!"}},{"$f":"T351-HLOOKUP(Y351,Feuil2!$C$1:$CD$9,8,FALSE)","v":{"$error":"#VALUE!"}},{"$f":"T351-HLOOKUP(Y351,Feuil2!$C$1:$CD$9,9,FALSE)","v":{"$error":"#VALUE!"}},null,null,null,null,null,null,null,{"$error":"#VALUE!"},2016,null,{"$f":"IF(AQ351,VLOOKUP(AQ351,HOM!$AS$561:$AT$616,2))","v":3.5710000000000002}]
["H",null,null,null,null,null,null,null,null,null,null,null,null,null,"",null,null,null,"","","","","",{"$error":"#N/A"},{"$f":"IF(AND(J352<1920),VLOOKUP(K352,Feuil2!$F$10:$P$28,11),IF(AND(J352>=1920,J352<1937),VLOOKUP(K352,Feuil2!$F$10:$P$28,11),IF(AND(J352>=1936,J352<1942),VLOOKUP(K352,Feuil2!$F$10:$P$28,10),IF(AND(J352>=1942,J352<1947),VLOOKUP(K352,Feuil2!$F$10:$P$28,9),IF(AND(J352>=1947,J352<1952),VLOOKUP(K352,Feuil2!$F$10:$P$28,8),IF(AND(J352>=1952,J352<1957),VLOOKUP(K352,Feuil2!$F$10:$P$28,7),IF(AND(J352>=1957,J352<1962),VLOOKUP(K352,Feuil2!$F$10:$P$28,6),IF(AND(J352>=1962,J352<1967),VLOOKUP(K352,Feuil2!$F$10:$P$28,5),IF(AND(J352>=1967,J352<1972),VLOOKUP(K352,Feuil2!$F$10:$P$28,4),IF(AND(J352>=1972,J352<1977),VLOOKUP(K352,Feuil2!$F$10:$P$28,3),IF(AND(J352>=1977,J352<1982),VLOOKUP(K352,Feuil2!$F$10:$P$28,2),VLOOKUP(K352,Feuil2!$F$10:$P$28,2))))))))))))","v":{"$error":"#N/A"}},null,{"$f":"T352-HLOOKUP(Y352,Feuil2!$C$1:$CD$9,2,FALSE)","v":{"$error":"#VALUE!"}},{"$f":"T352-HLOOKUP(Y352,Feuil2!$C$1:$CD$9,3,FALSE)","v":{"$error":"#VALUE!"}},{"$f":"T352-HLOOKUP(Y352,Feuil2!$C$1:$CD$9,4,FALSE)","v":{"$error":"#VALUE!"}},{"$f":"T352-HLOOKUP(Y352,Feuil2!$C$1:$CD$9,5,FALSE)","v":{"$error":"#VALUE!"}},{"$f":"T352-HLOOKUP(Y352,Feuil2!$C$1:$CD$9,6,FALSE)","v":{"$error":"#VALUE!"}},{"$f":"T352-HLOOKUP(Y352,Feuil2!$C$1:$CD$9,7,FALSE)","v":{"$error":"#VALUE!"}},{"$f":"T352-HLOOKUP(Y352,Feuil2!$C$1:$CD$9,8,FALSE)","v":{"$error":"#VALUE!"}},{"$f":"T352-HLOOKUP(Y352,Feuil2!$C$1:$CD$9,9,FALSE)","v":{"$error":"#VALUE!"}},null,null,null,null,null,null,null,{"$error":"#VALUE!"},2016,null,{"$f":"IF(AQ352,VLOOKUP(AQ352,HOM!$AS$561:$AT$616,2))","v":3.5710000000000002}]
["H",null,null,null,null,null,null,null,null,null,null,null,null,null,"",null,null,null,"","","","","",{"$error":"#N/A"},{"$f":"IF(AND(J353<1920),VLOOKUP(K353,Feuil2!$F$10:$P$28,11),IF(AND(J353>=1920,J353<1937),VLOOKUP(K353,Feuil2!$F$10:$P$28,11),IF(AND(J353>=1936,J353<1942),VLOOKUP(K353,Feuil2!$F$10:$P$28,10),IF(AND(J353>=1942,J353<1947),VLOOKUP(K353,Feuil2!$F$10:$P$28,9),IF(AND(J353>=1947,J353<1952),VLOOKUP(K353,Feuil2!$F$10:$P$28,8),IF(AND(J353>=1952,J353<1957),VLOOKUP(K353,Feuil2!$F$10:$P$28,7),IF(AND(J353>=1957,J353<1962),VLOOKUP(K353,Feuil2!$F$10:$P$28,6),IF(AND(J353>=1962,J353<1967),VLOOKUP(K353,Feuil2!$F$10:$P$28,5),IF(AND(J353>=1967,J353<1972),VLOOKUP(K353,Feuil2!$F$10:$P$28,4),IF(AND(J353>=1972,J353<1977),VLOOKUP(K353,Feuil2!$F$10:$P$28,3),IF(AND(J353>=1977,J353<1982),VLOOKUP(K353,Feuil2!$F$10:$P$28,2),VLOOKUP(K353,Feuil2!$F$10:$P$28,2))))))))))))","v":{"$error":"#N/A"}},null,{"$f":"T353-HLOOKUP(Y353,Feuil2!$C$1:$CD$9,2,FALSE)","v":{"$error":"#VALUE!"}},{"$f":"T353-HLOOKUP(Y353,Feuil2!$C$1:$CD$9,3,FALSE)","v":{"$error":"#VALUE!"}},{"$f":"T353-HLOOKUP(Y353,Feuil2!$C$1:$CD$9,4,FALSE)","v":{"$error":"#VALUE!"}},{"$f":"T353-HLOOKUP(Y353,Feuil2!$C$1:$CD$9,5,FALSE)","v":{"$error":"#VALUE!"}},{"$f":"T353-HLOOKUP(Y353,Feuil2!$C$1:$CD$9,6,FALSE)","v":{"$error":"#VALUE!"}},{"$f":"T353-HLOOKUP(Y353,Feuil2!$C$1:$CD$9,7,FALSE)","v":{"$error":"#VALUE!"}},{"$f":"T353-HLOOKUP(Y353,Feuil2!$C$1:$CD$9,8,FALSE)","v":{"$error":"#VALUE!"}},{"$f":"T353-HLOOKUP(Y353,Feuil2!$C$1:$CD$9,9,FALSE)","v":{"$error":"#VALUE!"}},null,null,null,null,null,null,null,{"$error":"#VALUE!"},2016,null,{"$f":"IF(AQ353,VLOOKUP(AQ353,HOM!$AS$561:$AT$616,2))","v":3.5710000000000002}]
["H",null,null,null,null,null,null,null,null,null,null,null,null,null,"",null,null,null,"","","","","",{"$error":"#N/A"},{"$f":"IF(AND(J354<1920),VLOOKUP(K354,Feuil2!$F$10:$P$28,11),IF(AND(J354>=1920,J354<1937),VLOOKUP(K354,Feuil2!$F$10:$P$28,11),IF(AND(J354>=1936,J354<1942),VLOOKUP(K354,Feuil2!$F$10:$P$28,10),IF(AND(J354>=1942,J354<1947),VLOOKUP(K354,Feuil2!$F$10:$P$28,9),IF(AND(J354>=1947,J354<1952),VLOOKUP(K354,Feuil2!$F$10:$P$28,8),IF(AND(J354>=1952,J354<1957),VLOOKUP(K354,Feuil2!$F$10:$P$28,7),IF(AND(J354>=1957,J354<1962),VLOOKUP(K354,Feuil2!$F$10:$P$28,6),IF(AND(J354>=1962,J354<1967),VLOOKUP(K354,Feuil2!$F$10:$P$28,5),IF(AND(J354>=1967,J354<1972),VLOOKUP(K354,Feuil2!$F$10:$P$28,4),IF(AND(J354>=1972,J354<1977),VLOOKUP(K354,Feuil2!$F$10:$P$28,3),IF(AND(J354>=1977,J354<1982),VLOOKUP(K354,Feuil2!$F$10:$P$28,2),VLOOKUP(K354,Feuil2!$F$10:$P$28,2))))))))))))","v":{"$error":"#N/A"}},null,{"$f":"T354-HLOOKUP(Y354,Feuil2!$C$1:$CD$9,2,FALSE)","v":{"$error":"#VALUE!"}},{"$f":"T354-HLOOKUP(Y354,Feuil2!$C$1:$CD$9,3,FALSE)","v":{"$error":"#VALUE!"}},{"$f":"T354-HLOOKUP(Y354,Feuil2!$C$1:$CD$9,4,FALSE)","v":{"$error":"#VALUE!"}},{"$f":"T354-HLOOKUP(Y354,Feuil2!$C$1:$CD$9,5,FALSE)","v":{"$error":"#VALUE!"}},{"$f":"T354-HLOOKUP(Y354,Feuil2!$C$1:$CD$9,6,FALSE)","v":{"$error":"#VALUE!"}},{"$f":"T354-HLOOKUP(Y354,Feuil2!$C$1:$CD$9,7,FALSE)","v":{"$error":"#VALUE!"}},{"$f":"T354-HLOOKUP(Y354,Feuil2!$C$1:$CD$9,8,FALSE)","v":{"$error":"#VALUE!"}},{"$f":"T354-HLOOKUP(Y354,Feuil2!$C$1:$CD$9,9,FALSE)","v":{"$error":"#VALUE!"}},null,null,null,null,null,null,null,{"$error":"#VALUE!"},2016,null,{"$f":"IF(AQ354,VLOOKUP(AQ354,HOM!$AS$561:$AT$616,2))","v":3.5710000000000002}]
["H",null,null,null,null,null,null,null,null,null,null,null,null,null,"",null,null,null,"","","","","",{"$error":"#N/A"},{"$f":"IF(AND(J355<1920),VLOOKUP(K355,Feuil2!$F$10:$P$28,11),IF(AND(J355>=1920,J355<1937),VLOOKUP(K355,Feuil2!$F$10:$P$28,11),IF(AND(J355>=1936,J355<1942),VLOOKUP(K355,Feuil2!$F$10:$P$28,10),IF(AND(J355>=1942,J355<1947),VLOOKUP(K355,Feuil2!$F$10:$P$28,9),IF(AND(J355>=1947,J355<1952),VLOOKUP(K355,Feuil2!$F$10:$P$28,8),IF(AND(J355>=1952,J355<1957),VLOOKUP(K355,Feuil2!$F$10:$P$28,7),IF(AND(J355>=1957,J355<1962),VLOOKUP(K355,Feuil2!$F$10:$P$28,6),IF(AND(J355>=1962,J355<1967),VLOOKUP(K355,Feuil2!$F$10:$P$28,5),IF(AND(J355>=1967,J355<1972),VLOOKUP(K355,Feuil2!$F$10:$P$28,4),IF(AND(J355>=1972,J355<1977),VLOOKUP(K355,Feuil2!$F$10:$P$28,3),IF(AND(J355>=1977,J355<1982),VLOOKUP(K355,Feuil2!$F$10:$P$28,2),VLOOKUP(K355,Feuil2!$F$10:$P$28,2))))))))))))","v":{"$error":"#N/A"}},null,{"$f":"T355-HLOOKUP(Y355,Feuil2!$C$1:$CD$9,2,FALSE)","v":{"$error":"#VALUE!"}},{"$f":"T355-HLOOKUP(Y355,Feuil2!$C$1:$CD$9,3,FALSE)","v":{"$error":"#VALUE!"}},{"$f":"T355-HLOOKUP(Y355,Feuil2!$C$1:$CD$9,4,FALSE)","v":{"$error":"#VALUE!"}},{"$f":"T355-HLOOKUP(Y355,Feuil2!$C$1:$CD$9,5,FALSE)","v":{"$error":"#VALUE!"}},{"$f":"T355-HLOOKUP(Y355,Feuil2!$C$1:$CD$9,6,FALSE)","v":{"$error":"#VALUE!"}},{"$f":"T355-HLOOKUP(Y355,Feuil2!$C$1:$CD$9,7,FALSE)","v":{"$error":"#VALUE!"}},{"$f":"T355-HLOOKUP(Y355,Feuil2!$C$1:$CD$9,8,FALSE)","v":{"$error":"#VALUE!"}},{"$f":"T355-HLOOKUP(Y355,Feuil2!$C$1:$CD$9,9,FALSE)","v":{"$error":"#VALUE!"}},null,null,null,null,null,null,null,{"$error":"#VALUE!"},2016,null,{"$f":"IF(AQ355,VLOOKUP(AQ355,HOM!$AS$561:$AT$616,2))","v":3.5710000000000002}]
["H",null,null,null,null,null,null,null,null,null,null,null,null,null,"",null,null,null,"","","","","",{"$error":"#N/A"},{"$f":"IF(AND(J356<1920),VLOOKUP(K356,Feuil2!$F$10:$P$28,11),IF(AND(J356>=1920,J356<1937),VLOOKUP(K356,Feuil2!$F$10:$P$28,11),IF(AND(J356>=1936,J356<1942),VLOOKUP(K356,Feuil2!$F$10:$P$28,10),IF(AND(J356>=1942,J356<1947),VLOOKUP(K356,Feuil2!$F$10:$P$28,9),IF(AND(J356>=1947,J356<1952),VLOOKUP(K356,Feuil2!$F$10:$P$28,8),IF(AND(J356>=1952,J356<1957),VLOOKUP(K356,Feuil2!$F$10:$P$28,7),IF(AND(J356>=1957,J356<1962),VLOOKUP(K356,Feuil2!$F$10:$P$28,6),IF(AND(J356>=1962,J356<1967),VLOOKUP(K356,Feuil2!$F$10:$P$28,5),IF(AND(J356>=1967,J356<1972),VLOOKUP(K356,Feuil2!$F$10:$P$28,4),IF(AND(J356>=1972,J356<1977),VLOOKUP(K356,Feuil2!$F$10:$P$28,3),IF(AND(J356>=1977,J356<1982),VLOOKUP(K356,Feuil2!$F$10:$P$28,2),VLOOKUP(K356,Feuil2!$F$10:$P$28,2))))))))))))","v":{"$error":"#N/A"}},null,{"$f":"T356-HLOOKUP(Y356,Feuil2!$C$1:$CD$9,2,FALSE)","v":{"$error":"#VALUE!"}},{"$f":"T356-HLOOKUP(Y356,Feuil2!$C$1:$CD$9,3,FALSE)","v":{"$error":"#VALUE!"}},{"$f":"T356-HLOOKUP(Y356,Feuil2!$C$1:$CD$9,4,FALSE)","v":{"$error":"#VALUE!"}},{"$f":"T356-HLOOKUP(Y356,Feuil2!$C$1:$CD$9,5,FALSE)","v":{"$error":"#VALUE!"}},{"$f":"T356-HLOOKUP(Y356,Feuil2!$C$1:$CD$9,6,FALSE)","v":{"$error":"#VALUE!"}},{"$f":"T356-HLOOKUP(Y356,Feuil2!$C$1:$CD$9,7,FALSE)","v":{"$error":"#VALUE!"}},{"$f":"T356-HLOOKUP(Y356,Feuil2!$C$1:$CD$9,8,FALSE)","v":{"$error":"#VALUE!"}},{"$f":"T356-HLOOKUP(Y356,Feuil2!$C$1:$CD$9,9,FALSE)","v":{"$error":"#VALUE!"}},null,null,null,null,null,null,null,{"$error":"#VALUE!"},2016,null,{"$f":"IF(AQ356,VLOOKUP(AQ356,HOM!$AS$561:$AT$616,2))","v":3.5710000000000002}]
["H",null,null,null,null,null,null,null,null,null,null,null,null,null,"",null,null,null,"","","","","",{"$error":"#N/A"},{"$f":"IF(AND(J357<1920),VLOOKUP(K357,Feuil2!$F$10:$P$28,11),IF(AND(J357>=1920,J357<1937),VLOOKUP(K357,Feuil2!$F$10:$P$28,11),IF(AND(J357>=1936,J357<1942),VLOOKUP(K357,Feuil2!$F$10:$P$28,10),IF(AND(J357>=1942,J357<1947),VLOOKUP(K357,Feuil2!$F$10:$P$28,9),IF(AND(J357>=1947,J357<1952),VLOOKUP(K357,Feuil2!$F$10:$P$28,8),IF(AND(J357>=1952,J357<1957),VLOOKUP(K357,Feuil2!$F$10:$P$28,7),IF(AND(J357>=1957,J357<1962),VLOOKUP(K357,Feuil2!$F$10:$P$28,6),IF(AND(J357>=1962,J357<1967),VLOOKUP(K357,Feuil2!$F$10:$P$28,5),IF(AND(J357>=1967,J357<1972),VLOOKUP(K357,Feuil2!$F$10:$P$28,4),IF(AND(J357>=1972,J357<1977),VLOOKUP(K357,Feuil2!$F$10:$P$28,3),IF(AND(J357>=1977,J357<1982),VLOOKUP(K357,Feuil2!$F$10:$P$28,2),VLOOKUP(K357,Feuil2!$F$10:$P$28,2))))))))))))","v":{"$error":"#N/A"}},null,{"$f":"T357-HLOOKUP(Y357,Feuil2!$C$1:$CD$9,2,FALSE)","v":{"$error":"#VALUE!"}},{"$f":"T357-HLOOKUP(Y357,Feuil2!$C$1:$CD$9,3,FALSE)","v":{"$error":"#VALUE!"}},{"$f":"T357-HLOOKUP(Y357,Feuil2!$C$1:$CD$9,4,FALSE)","v":{"$error":"#VALUE!"}},{"$f":"T357-HLOOKUP(Y357,Feuil2!$C$1:$CD$9,5,FALSE)","v":{"$error":"#VALUE!"}},{"$f":"T357-HLOOKUP(Y357,Feuil2!$C$1:$CD$9,6,FALSE)","v":{"$error":"#VALUE!"}},{"$f":"T357-HLOOKUP(Y357,Feuil2!$C$1:$CD$9,7,FALSE)","v":{"$error":"#VALUE!"}},{"$f":"T357-HLOOKUP(Y357,Feuil2!$C$1:$CD$9,8,FALSE)","v":{"$error":"#VALUE!"}},{"$f":"T357-HLOOKUP(Y357,Feuil2!$C$1:$CD$9,9,FALSE)","v":{"$error":"#VALUE!"}},null,null,null,null,null,null,null,{"$error":"#VALUE!"},2016,null,{"$f":"IF(AQ357,VLOOKUP(AQ357,HOM!$AS$561:$AT$616,2))","v":3.5710000000000002}]
["H",null,null,null,null,null,null,null,null,null,null,null,null,null,"",null,null,null,"","","","","",{"$error":"#N/A"},{"$f":"IF(AND(J358<1920),VLOOKUP(K358,Feuil2!$F$10:$P$28,11),IF(AND(J358>=1920,J358<1937),VLOOKUP(K358,Feuil2!$F$10:$P$28,11),IF(AND(J358>=1936,J358<1942),VLOOKUP(K358,Feuil2!$F$10:$P$28,10),IF(AND(J358>=1942,J358<1947),VLOOKUP(K358,Feuil2!$F$10:$P$28,9),IF(AND(J358>=1947,J358<1952),VLOOKUP(K358,Feuil2!$F$10:$P$28,8),IF(AND(J358>=1952,J358<1957),VLOOKUP(K358,Feuil2!$F$10:$P$28,7),IF(AND(J358>=1957,J358<1962),VLOOKUP(K358,Feuil2!$F$10:$P$28,6),IF(AND(J358>=1962,J358<1967),VLOOKUP(K358,Feuil2!$F$10:$P$28,5),IF(AND(J358>=1967,J358<1972),VLOOKUP(K358,Feuil2!$F$10:$P$28,4),IF(AND(J358>=1972,J358<1977),VLOOKUP(K358,Feuil2!$F$10:$P$28,3),IF(AND(J358>=1977,J358<1982),VLOOKUP(K358,Feuil2!$F$10:$P$28,2),VLOOKUP(K358,Feuil2!$F$10:$P$28,2))))))))))))","v":{"$error":"#N/A"}},null,{"$f":"T358-HLOOKUP(Y358,Feuil2!$C$1:$CD$9,2,FALSE)","v":{"$error":"#VALUE!"}},{"$f":"T358-HLOOKUP(Y358,Feuil2!$C$1:$CD$9,3,FALSE)","v":{"$error":"#VALUE!"}},{"$f":"T358-HLOOKUP(Y358,Feuil2!$C$1:$CD$9,4,FALSE)","v":{"$error":"#VALUE!"}},{"$f":"T358-HLOOKUP(Y358,Feuil2!$C$1:$CD$9,5,FALSE)","v":{"$error":"#VALUE!"}},{"$f":"T358-HLOOKUP(Y358,Feuil2!$C$1:$CD$9,6,FALSE)","v":{"$error":"#VALUE!"}},{"$f":"T358-HLOOKUP(Y358,Feuil2!$C$1:$CD$9,7,FALSE)","v":{"$error":"#VALUE!"}},{"$f":"T358-HLOOKUP(Y358,Feuil2!$C$1:$CD$9,8,FALSE)","v":{"$error":"#VALUE!"}},{"$f":"T358-HLOOKUP(Y358,Feuil2!$C$1:$CD$9,9,FALSE)","v":{"$error":"#VALUE!"}},null,null,null,null,null,null,null,{"$error":"#VALUE!"},2016,null,{"$f":"IF(AQ358,VLOOKUP(AQ358,HOM!$AS$561:$AT$616,2))","v":3.5710000000000002}]
["H",null,null,null,null,null,null,null,null,null,null,null,null,null,"",null,null,null,"","","","","",{"$error":"#N/A"},{"$f":"IF(AND(J359<1920),VLOOKUP(K359,Feuil2!$F$10:$P$28,11),IF(AND(J359>=1920,J359<1937),VLOOKUP(K359,Feuil2!$F$10:$P$28,11),IF(AND(J359>=1936,J359<1942),VLOOKUP(K359,Feuil2!$F$10:$P$28,10),IF(AND(J359>=1942,J359<1947),VLOOKUP(K359,Feuil2!$F$10:$P$28,9),IF(AND(J359>=1947,J359<1952),VLOOKUP(K359,Feuil2!$F$10:$P$28,8),IF(AND(J359>=1952,J359<1957),VLOOKUP(K359,Feuil2!$F$10:$P$28,7),IF(AND(J359>=1957,J359<1962),VLOOKUP(K359,Feuil2!$F$10:$P$28,6),IF(AND(J359>=1962,J359<1967),VLOOKUP(K359,Feuil2!$F$10:$P$28,5),IF(AND(J359>=1967,J359<1972),VLOOKUP(K359,Feuil2!$F$10:$P$28,4),IF(AND(J359>=1972,J359<1977),VLOOKUP(K359,Feuil2!$F$10:$P$28,3),IF(AND(J359>=1977,J359<1982),VLOOKUP(K359,Feuil2!$F$10:$P$28,2),VLOOKUP(K359,Feuil2!$F$10:$P$28,2))))))))))))","v":{"$error":"#N/A"}},null,{"$f":"T359-HLOOKUP(Y359,Feuil2!$C$1:$CD$9,2,FALSE)","v":{"$error":"#VALUE!"}},{"$f":"T359-HLOOKUP(Y359,Feuil2!$C$1:$CD$9,3,FALSE)","v":{"$error":"#VALUE!"}},{"$f":"T359-HLOOKUP(Y359,Feuil2!$C$1:$CD$9,4,FALSE)","v":{"$error":"#VALUE!"}},{"$f":"T359-HLOOKUP(Y359,Feuil2!$C$1:$CD$9,5,FALSE)","v":{"$error":"#VALUE!"}},{"$f":"T359-HLOOKUP(Y359,Feuil2!$C$1:$CD$9,6,FALSE)","v":{"$error":"#VALUE!"}},{"$f":"T359-HLOOKUP(Y359,Feuil2!$C$1:$CD$9,7,FALSE)","v":{"$error":"#VALUE!"}},{"$f":"T359-HLOOKUP(Y359,Feuil2!$C$1:$CD$9,8,FALSE)","v":{"$error":"#VALUE!"}},{"$f":"T359-HLOOKUP(Y359,Feuil2!$C$1:$CD$9,9,FALSE)","v":{"$error":"#VALUE!"}},null,null,null,null,null,null,null,{"$error":"#VALUE!"},2016,null,{"$f":"IF(AQ359,VLOOKUP(AQ359,HOM!$AS$561:$AT$616,2))","v":3.5710000000000002}]
["H",null,null,null,null,null,null,null,null,null,null,null,null,null,"",null,null,null,"","","","","",{"$error":"#N/A"},{"$f":"IF(AND(J360<1920),VLOOKUP(K360,Feuil2!$F$10:$P$28,11),IF(AND(J360>=1920,J360<1937),VLOOKUP(K360,Feuil2!$F$10:$P$28,11),IF(AND(J360>=1936,J360<1942),VLOOKUP(K360,Feuil2!$F$10:$P$28,10),IF(AND(J360>=1942,J360<1947),VLOOKUP(K360,Feuil2!$F$10:$P$28,9),IF(AND(J360>=1947,J360<1952),VLOOKUP(K360,Feuil2!$F$10:$P$28,8),IF(AND(J360>=1952,J360<1957),VLOOKUP(K360,Feuil2!$F$10:$P$28,7),IF(AND(J360>=1957,J360<1962),VLOOKUP(K360,Feuil2!$F$10:$P$28,6),IF(AND(J360>=1962,J360<1967),VLOOKUP(K360,Feuil2!$F$10:$P$28,5),IF(AND(J360>=1967,J360<1972),VLOOKUP(K360,Feuil2!$F$10:$P$28,4),IF(AND(J360>=1972,J360<1977),VLOOKUP(K360,Feuil2!$F$10:$P$28,3),IF(AND(J360>=1977,J360<1982),VLOOKUP(K360,Feuil2!$F$10:$P$28,2),VLOOKUP(K360,Feuil2!$F$10:$P$28,2))))))))))))","v":{"$error":"#N/A"}},null,{"$f":"T360-HLOOKUP(Y360,Feuil2!$C$1:$CD$9,2,FALSE)","v":{"$error":"#VALUE!"}},{"$f":"T360-HLOOKUP(Y360,Feuil2!$C$1:$CD$9,3,FALSE)","v":{"$error":"#VALUE!"}},{"$f":"T360-HLOOKUP(Y360,Feuil2!$C$1:$CD$9,4,FALSE)","v":{"$error":"#VALUE!"}},{"$f":"T360-HLOOKUP(Y360,Feuil2!$C$1:$CD$9,5,FALSE)","v":{"$error":"#VALUE!"}},{"$f":"T360-HLOOKUP(Y360,Feuil2!$C$1:$CD$9,6,FALSE)","v":{"$error":"#VALUE!"}},{"$f":"T360-HLOOKUP(Y360,Feuil2!$C$1:$CD$9,7,FALSE)","v":{"$error":"#VALUE!"}},{"$f":"T360-HLOOKUP(Y360,Feuil2!$C$1:$CD$9,8,FALSE)","v":{"$error":"#VALUE!"}},{"$f":"T360-HLOOKUP(Y360,Feuil2!$C$1:$CD$9,9,FALSE)","v":{"$error":"#VALUE!"}},null,null,null,null,null,null,null,{"$error":"#VALUE!"},2016,null,{"$f":"IF(AQ360,VLOOKUP(AQ360,HOM!$AS$561:$AT$616,2))","v":3.5710000000000002}]
["H",null,null,null,null,null,null,null,null,null,null,null,null,null,"",null,null,null,"","","","","",{"$error":"#N/A"},{"$f":"IF(AND(J361<1920),VLOOKUP(K361,Feuil2!$F$10:$P$28,11),IF(AND(J361>=1920,J361<1937),VLOOKUP(K361,Feuil2!$F$10:$P$28,11),IF(AND(J361>=1936,J361<1942),VLOOKUP(K361,Feuil2!$F$10:$P$28,10),IF(AND(J361>=1942,J361<1947),VLOOKUP(K361,Feuil2!$F$10:$P$28,9),IF(AND(J361>=1947,J361<1952),VLOOKUP(K361,Feuil2!$F$10:$P$28,8),IF(AND(J361>=1952,J361<1957),VLOOKUP(K361,Feuil2!$F$10:$P$28,7),IF(AND(J361>=1957,J361<1962),VLOOKUP(K361,Feuil2!$F$10:$P$28,6),IF(AND(J361>=1962,J361<1967),VLOOKUP(K361,Feuil2!$F$10:$P$28,5),IF(AND(J361>=1967,J361<1972),VLOOKUP(K361,Feuil2!$F$10:$P$28,4),IF(AND(J361>=1972,J361<1977),VLOOKUP(K361,Feuil2!$F$10:$P$28,3),IF(AND(J361>=1977,J361<1982),VLOOKUP(K361,Feuil2!$F$10:$P$28,2),VLOOKUP(K361,Feuil2!$F$10:$P$28,2))))))))))))","v":{"$error":"#N/A"}},null,{"$f":"T361-HLOOKUP(Y361,Feuil2!$C$1:$CD$9,2,FALSE)","v":{"$error":"#VALUE!"}},{"$f":"T361-HLOOKUP(Y361,Feuil2!$C$1:$CD$9,3,FALSE)","v":{"$error":"#VALUE!"}},{"$f":"T361-HLOOKUP(Y361,Feuil2!$C$1:$CD$9,4,FALSE)","v":{"$error":"#VALUE!"}},{"$f":"T361-HLOOKUP(Y361,Feuil2!$C$1:$CD$9,5,FALSE)","v":{"$error":"#VALUE!"}},{"$f":"T361-HLOOKUP(Y361,Feuil2!$C$1:$CD$9,6,FALSE)","v":{"$error":"#VALUE!"}},{"$f":"T361-HLOOKUP(Y361,Feuil2!$C$1:$CD$9,7,FALSE)","v":{"$error":"#VALUE!"}},{"$f":"T361-HLOOKUP(Y361,Feuil2!$C$1:$CD$9,8,FALSE)","v":{"$error":"#VALUE!"}},{"$f":"T361-HLOOKUP(Y361,Feuil2!$C$1:$CD$9,9,FALSE)","v":{"$error":"#VALUE!"}},null,null,null,null,null,null,null,{"$error":"#VALUE!"},2016,null,{"$f":"IF(AQ361,VLOOKUP(AQ361,HOM!$AS$561:$AT$616,2))","v":3.5710000000000002}]
["H",null,null,null,null,null,null,null,null,null,null,null,null,null,"",null,null,null,"","","","","",{"$error":"#N/A"},{"$f":"IF(AND(J362<1920),VLOOKUP(K362,Feuil2!$F$10:$P$28,11),IF(AND(J362>=1920,J362<1937),VLOOKUP(K362,Feuil2!$F$10:$P$28,11),IF(AND(J362>=1936,J362<1942),VLOOKUP(K362,Feuil2!$F$10:$P$28,10),IF(AND(J362>=1942,J362<1947),VLOOKUP(K362,Feuil2!$F$10:$P$28,9),IF(AND(J362>=1947,J362<1952),VLOOKUP(K362,Feuil2!$F$10:$P$28,8),IF(AND(J362>=1952,J362<1957),VLOOKUP(K362,Feuil2!$F$10:$P$28,7),IF(AND(J362>=1957,J362<1962),VLOOKUP(K362,Feuil2!$F$10:$P$28,6),IF(AND(J362>=1962,J362<1967),VLOOKUP(K362,Feuil2!$F$10:$P$28,5),IF(AND(J362>=1967,J362<1972),VLOOKUP(K362,Feuil2!$F$10:$P$28,4),IF(AND(J362>=1972,J362<1977),VLOOKUP(K362,Feuil2!$F$10:$P$28,3),IF(AND(J362>=1977,J362<1982),VLOOKUP(K362,Feuil2!$F$10:$P$28,2),VLOOKUP(K362,Feuil2!$F$10:$P$28,2))))))))))))","v":{"$error":"#N/A"}},null,{"$f":"T362-HLOOKUP(Y362,Feuil2!$C$1:$CD$9,2,FALSE)","v":{"$error":"#VALUE!"}},{"$f":"T362-HLOOKUP(Y362,Feuil2!$C$1:$CD$9,3,FALSE)","v":{"$error":"#VALUE!"}},{"$f":"T362-HLOOKUP(Y362,Feuil2!$C$1:$CD$9,4,FALSE)","v":{"$error":"#VALUE!"}},{"$f":"T362-HLOOKUP(Y362,Feuil2!$C$1:$CD$9,5,FALSE)","v":{"$error":"#VALUE!"}},{"$f":"T362-HLOOKUP(Y362,Feuil2!$C$1:$CD$9,6,FALSE)","v":{"$error":"#VALUE!"}},{"$f":"T362-HLOOKUP(Y362,Feuil2!$C$1:$CD$9,7,FALSE)","v":{"$error":"#VALUE!"}},{"$f":"T362-HLOOKUP(Y362,Feuil2!$C$1:$CD$9,8,FALSE)","v":{"$error":"#VALUE!"}},{"$f":"T362-HLOOKUP(Y362,Feuil2!$C$1:$CD$9,9,FALSE)","v":{"$error":"#VALUE!"}},null,null,null,null,null,null,null,{"$error":"#VALUE!"},2016,null,{"$f":"IF(AQ362,VLOOKUP(AQ362,HOM!$AS$561:$AT$616,2))","v":3.5710000000000002}]
["H",null,null,null,null,null,null,null,null,null,null,null,null,null,"",null,null,null,"","","","","",{"$error":"#N/A"},{"$f":"IF(AND(J363<1920),VLOOKUP(K363,Feuil2!$F$10:$P$28,11),IF(AND(J363>=1920,J363<1937),VLOOKUP(K363,Feuil2!$F$10:$P$28,11),IF(AND(J363>=1936,J363<1942),VLOOKUP(K363,Feuil2!$F$10:$P$28,10),IF(AND(J363>=1942,J363<1947),VLOOKUP(K363,Feuil2!$F$10:$P$28,9),IF(AND(J363>=1947,J363<1952),VLOOKUP(K363,Feuil2!$F$10:$P$28,8),IF(AND(J363>=1952,J363<1957),VLOOKUP(K363,Feuil2!$F$10:$P$28,7),IF(AND(J363>=1957,J363<1962),VLOOKUP(K363,Feuil2!$F$10:$P$28,6),IF(AND(J363>=1962,J363<1967),VLOOKUP(K363,Feuil2!$F$10:$P$28,5),IF(AND(J363>=1967,J363<1972),VLOOKUP(K363,Feuil2!$F$10:$P$28,4),IF(AND(J363>=1972,J363<1977),VLOOKUP(K363,Feuil2!$F$10:$P$28,3),IF(AND(J363>=1977,J363<1982),VLOOKUP(K363,Feuil2!$F$10:$P$28,2),VLOOKUP(K363,Feuil2!$F$10:$P$28,2))))))))))))","v":{"$error":"#N/A"}},null,{"$f":"T363-HLOOKUP(Y363,Feuil2!$C$1:$CD$9,2,FALSE)","v":{"$error":"#VALUE!"}},{"$f":"T363-HLOOKUP(Y363,Feuil2!$C$1:$CD$9,3,FALSE)","v":{"$error":"#VALUE!"}},{"$f":"T363-HLOOKUP(Y363,Feuil2!$C$1:$CD$9,4,FALSE)","v":{"$error":"#VALUE!"}},{"$f":"T363-HLOOKUP(Y363,Feuil2!$C$1:$CD$9,5,FALSE)","v":{"$error":"#VALUE!"}},{"$f":"T363-HLOOKUP(Y363,Feuil2!$C$1:$CD$9,6,FALSE)","v":{"$error":"#VALUE!"}},{"$f":"T363-HLOOKUP(Y363,Feuil2!$C$1:$CD$9,7,FALSE)","v":{"$error":"#VALUE!"}},{"$f":"T363-HLOOKUP(Y363,Feuil2!$C$1:$CD$9,8,FALSE)","v":{"$error":"#VALUE!"}},{"$f":"T363-HLOOKUP(Y363,Feuil2!$C$1:$CD$9,9,FALSE)","v":{"$error":"#VALUE!"}},null,null,null,null,null,null,null,{"$error":"#VALUE!"},2016,null,{"$f":"IF(AQ363,VLOOKUP(AQ363,HOM!$AS$561:$AT$616,2))","v":3.5710000000000002}]
["H",null,null,null,null,null,null,null,null,null,null,null,null,null,"",null,null,null,"","","","","",{"$error":"#N/A"},{"$f":"IF(AND(J364<1920),VLOOKUP(K364,Feuil2!$F$10:$P$28,11),IF(AND(J364>=1920,J364<1937),VLOOKUP(K364,Feuil2!$F$10:$P$28,11),IF(AND(J364>=1936,J364<1942),VLOOKUP(K364,Feuil2!$F$10:$P$28,10),IF(AND(J364>=1942,J364<1947),VLOOKUP(K364,Feuil2!$F$10:$P$28,9),IF(AND(J364>=1947,J364<1952),VLOOKUP(K364,Feuil2!$F$10:$P$28,8),IF(AND(J364>=1952,J364<1957),VLOOKUP(K364,Feuil2!$F$10:$P$28,7),IF(AND(J364>=1957,J364<1962),VLOOKUP(K364,Feuil2!$F$10:$P$28,6),IF(AND(J364>=1962,J364<1967),VLOOKUP(K364,Feuil2!$F$10:$P$28,5),IF(AND(J364>=1967,J364<1972),VLOOKUP(K364,Feuil2!$F$10:$P$28,4),IF(AND(J364>=1972,J364<1977),VLOOKUP(K364,Feuil2!$F$10:$P$28,3),IF(AND(J364>=1977,J364<1982),VLOOKUP(K364,Feuil2!$F$10:$P$28,2),VLOOKUP(K364,Feuil2!$F$10:$P$28,2))))))))))))","v":{"$error":"#N/A"}},null,{"$f":"T364-HLOOKUP(Y364,Feuil2!$C$1:$CD$9,2,FALSE)","v":{"$error":"#VALUE!"}},{"$f":"T364-HLOOKUP(Y364,Feuil2!$C$1:$CD$9,3,FALSE)","v":{"$error":"#VALUE!"}},{"$f":"T364-HLOOKUP(Y364,Feuil2!$C$1:$CD$9,4,FALSE)","v":{"$error":"#VALUE!"}},{"$f":"T364-HLOOKUP(Y364,Feuil2!$C$1:$CD$9,5,FALSE)","v":{"$error":"#VALUE!"}},{"$f":"T364-HLOOKUP(Y364,Feuil2!$C$1:$CD$9,6,FALSE)","v":{"$error":"#VALUE!"}},{"$f":"T364-HLOOKUP(Y364,Feuil2!$C$1:$CD$9,7,FALSE)","v":{"$error":"#VALUE!"}},{"$f":"T364-HLOOKUP(Y364,Feuil2!$C$1:$CD$9,8,FALSE)","v":{"$error":"#VALUE!"}},{"$f":"T364-HLOOKUP(Y364,Feuil2!$C$1:$CD$9,9,FALSE)","v":{"$error":"#VALUE!"}},null,null,null,null,null,null,null,{"$error":"#VALUE!"},2016,null,{"$f":"IF(AQ364,VLOOKUP(AQ364,HOM!$AS$561:$AT$616,2))","v":3.5710000000000002}]
["H",null,null,null,null,null,null,null,null,null,null,null,null,null,"",null,null,null,"","","","","",{"$error":"#N/A"},{"$f":"IF(AND(J365<1920),VLOOKUP(K365,Feuil2!$F$10:$P$28,11),IF(AND(J365>=1920,J365<1937),VLOOKUP(K365,Feuil2!$F$10:$P$28,11),IF(AND(J365>=1936,J365<1942),VLOOKUP(K365,Feuil2!$F$10:$P$28,10),IF(AND(J365>=1942,J365<1947),VLOOKUP(K365,Feuil2!$F$10:$P$28,9),IF(AND(J365>=1947,J365<1952),VLOOKUP(K365,Feuil2!$F$10:$P$28,8),IF(AND(J365>=1952,J365<1957),VLOOKUP(K365,Feuil2!$F$10:$P$28,7),IF(AND(J365>=1957,J365<1962),VLOOKUP(K365,Feuil2!$F$10:$P$28,6),IF(AND(J365>=1962,J365<1967),VLOOKUP(K365,Feuil2!$F$10:$P$28,5),IF(AND(J365>=1967,J365<1972),VLOOKUP(K365,Feuil2!$F$10:$P$28,4),IF(AND(J365>=1972,J365<1977),VLOOKUP(K365,Feuil2!$F$10:$P$28,3),IF(AND(J365>=1977,J365<1982),VLOOKUP(K365,Feuil2!$F$10:$P$28,2),VLOOKUP(K365,Feuil2!$F$10:$P$28,2))))))))))))","v":{"$error":"#N/A"}},null,{"$f":"T365-HLOOKUP(Y365,Feuil2!$C$1:$CD$9,2,FALSE)","v":{"$error":"#VALUE!"}},{"$f":"T365-HLOOKUP(Y365,Feuil2!$C$1:$CD$9,3,FALSE)","v":{"$error":"#VALUE!"}},{"$f":"T365-HLOOKUP(Y365,Feuil2!$C$1:$CD$9,4,FALSE)","v":{"$error":"#VALUE!"}},{"$f":"T365-HLOOKUP(Y365,Feuil2!$C$1:$CD$9,5,FALSE)","v":{"$error":"#VALUE!"}},{"$f":"T365-HLOOKUP(Y365,Feuil2!$C$1:$CD$9,6,FALSE)","v":{"$error":"#VALUE!"}},{"$f":"T365-HLOOKUP(Y365,Feuil2!$C$1:$CD$9,7,FALSE)","v":{"$error":"#VALUE!"}},{"$f":"T365-HLOOKUP(Y365,Feuil2!$C$1:$CD$9,8,FALSE)","v":{"$error":"#VALUE!"}},{"$f":"T365-HLOOKUP(Y365,Feuil2!$C$1:$CD$9,9,FALSE)","v":{"$error":"#VALUE!"}},null,null,null,null,null,null,null,{"$error":"#VALUE!"},2016,null,{"$f":"IF(AQ365,VLOOKUP(AQ365,HOM!$AS$561:$AT$616,2))","v":3.5710000000000002}]
["H",null,null,null,null,null,null,null,null,null,null,null,null,null,"",null,null,null,"","","","","",{"$error":"#N/A"},{"$f":"IF(AND(J366<1920),VLOOKUP(K366,Feuil2!$F$10:$P$28,11),IF(AND(J366>=1920,J366<1937),VLOOKUP(K366,Feuil2!$F$10:$P$28,11),IF(AND(J366>=1936,J366<1942),VLOOKUP(K366,Feuil2!$F$10:$P$28,10),IF(AND(J366>=1942,J366<1947),VLOOKUP(K366,Feuil2!$F$10:$P$28,9),IF(AND(J366>=1947,J366<1952),VLOOKUP(K366,Feuil2!$F$10:$P$28,8),IF(AND(J366>=1952,J366<1957),VLOOKUP(K366,Feuil2!$F$10:$P$28,7),IF(AND(J366>=1957,J366<1962),VLOOKUP(K366,Feuil2!$F$10:$P$28,6),IF(AND(J366>=1962,J366<1967),VLOOKUP(K366,Feuil2!$F$10:$P$28,5),IF(AND(J366>=1967,J366<1972),VLOOKUP(K366,Feuil2!$F$10:$P$28,4),IF(AND(J366>=1972,J366<1977),VLOOKUP(K366,Feuil2!$F$10:$P$28,3),IF(AND(J366>=1977,J366<1982),VLOOKUP(K366,Feuil2!$F$10:$P$28,2),VLOOKUP(K366,Feuil2!$F$10:$P$28,2))))))))))))","v":{"$error":"#N/A"}},null,{"$f":"T366-HLOOKUP(Y366,Feuil2!$C$1:$CD$9,2,FALSE)","v":{"$error":"#VALUE!"}},{"$f":"T366-HLOOKUP(Y366,Feuil2!$C$1:$CD$9,3,FALSE)","v":{"$error":"#VALUE!"}},{"$f":"T366-HLOOKUP(Y366,Feuil2!$C$1:$CD$9,4,FALSE)","v":{"$error":"#VALUE!"}},{"$f":"T366-HLOOKUP(Y366,Feuil2!$C$1:$CD$9,5,FALSE)","v":{"$error":"#VALUE!"}},{"$f":"T366-HLOOKUP(Y366,Feuil2!$C$1:$CD$9,6,FALSE)","v":{"$error":"#VALUE!"}},{"$f":"T366-HLOOKUP(Y366,Feuil2!$C$1:$CD$9,7,FALSE)","v":{"$error":"#VALUE!"}},{"$f":"T366-HLOOKUP(Y366,Feuil2!$C$1:$CD$9,8,FALSE)","v":{"$error":"#VALUE!"}},{"$f":"T366-HLOOKUP(Y366,Feuil2!$C$1:$CD$9,9,FALSE)","v":{"$error":"#VALUE!"}},null,null,null,null,null,null,null,{"$error":"#VALUE!"},2016,null,{"$f":"IF(AQ366,VLOOKUP(AQ366,HOM!$AS$561:$AT$616,2))","v":3.5710000000000002}]
["H",null,null,null,null,null,null,null,null,null,null,null,null,null,"",null,null,null,"","","","","",{"$error":"#N/A"},{"$f":"IF(AND(J367<1920),VLOOKUP(K367,Feuil2!$F$10:$P$28,11),IF(AND(J367>=1920,J367<1937),VLOOKUP(K367,Feuil2!$F$10:$P$28,11),IF(AND(J367>=1936,J367<1942),VLOOKUP(K367,Feuil2!$F$10:$P$28,10),IF(AND(J367>=1942,J367<1947),VLOOKUP(K367,Feuil2!$F$10:$P$28,9),IF(AND(J367>=1947,J367<1952),VLOOKUP(K367,Feuil2!$F$10:$P$28,8),IF(AND(J367>=1952,J367<1957),VLOOKUP(K367,Feuil2!$F$10:$P$28,7),IF(AND(J367>=1957,J367<1962),VLOOKUP(K367,Feuil2!$F$10:$P$28,6),IF(AND(J367>=1962,J367<1967),VLOOKUP(K367,Feuil2!$F$10:$P$28,5),IF(AND(J367>=1967,J367<1972),VLOOKUP(K367,Feuil2!$F$10:$P$28,4),IF(AND(J367>=1972,J367<1977),VLOOKUP(K367,Feuil2!$F$10:$P$28,3),IF(AND(J367>=1977,J367<1982),VLOOKUP(K367,Feuil2!$F$10:$P$28,2),VLOOKUP(K367,Feuil2!$F$10:$P$28,2))))))))))))","v":{"$error":"#N/A"}},null,{"$f":"T367-HLOOKUP(Y367,Feuil2!$C$1:$CD$9,2,FALSE)","v":{"$error":"#VALUE!"}},{"$f":"T367-HLOOKUP(Y367,Feuil2!$C$1:$CD$9,3,FALSE)","v":{"$error":"#VALUE!"}},{"$f":"T367-HLOOKUP(Y367,Feuil2!$C$1:$CD$9,4,FALSE)","v":{"$error":"#VALUE!"}},{"$f":"T367-HLOOKUP(Y367,Feuil2!$C$1:$CD$9,5,FALSE)","v":{"$error":"#VALUE!"}},{"$f":"T367-HLOOKUP(Y367,Feuil2!$C$1:$CD$9,6,FALSE)","v":{"$error":"#VALUE!"}},{"$f":"T367-HLOOKUP(Y367,Feuil2!$C$1:$CD$9,7,FALSE)","v":{"$error":"#VALUE!"}},{"$f":"T367-HLOOKUP(Y367,Feuil2!$C$1:$CD$9,8,FALSE)","v":{"$error":"#VALUE!"}},{"$f":"T367-HLOOKUP(Y367,Feuil2!$C$1:$CD$9,9,FALSE)","v":{"$error":"#VALUE!"}},null,null,null,null,null,null,null,{"$error":"#VALUE!"},2016,null,{"$f":"IF(AQ367,VLOOKUP(AQ367,HOM!$AS$561:$AT$616,2))","v":3.5710000000000002}]
["H",null,null,null,null,null,null,null,null,null,null,null,null,null,"",null,null,null,"","","","","",{"$error":"#N/A"},{"$f":"IF(AND(J368<1920),VLOOKUP(K368,Feuil2!$F$10:$P$28,11),IF(AND(J368>=1920,J368<1937),VLOOKUP(K368,Feuil2!$F$10:$P$28,11),IF(AND(J368>=1936,J368<1942),VLOOKUP(K368,Feuil2!$F$10:$P$28,10),IF(AND(J368>=1942,J368<1947),VLOOKUP(K368,Feuil2!$F$10:$P$28,9),IF(AND(J368>=1947,J368<1952),VLOOKUP(K368,Feuil2!$F$10:$P$28,8),IF(AND(J368>=1952,J368<1957),VLOOKUP(K368,Feuil2!$F$10:$P$28,7),IF(AND(J368>=1957,J368<1962),VLOOKUP(K368,Feuil2!$F$10:$P$28,6),IF(AND(J368>=1962,J368<1967),VLOOKUP(K368,Feuil2!$F$10:$P$28,5),IF(AND(J368>=1967,J368<1972),VLOOKUP(K368,Feuil2!$F$10:$P$28,4),IF(AND(J368>=1972,J368<1977),VLOOKUP(K368,Feuil2!$F$10:$P$28,3),IF(AND(J368>=1977,J368<1982),VLOOKUP(K368,Feuil2!$F$10:$P$28,2),VLOOKUP(K368,Feuil2!$F$10:$P$28,2))))))))))))","v":{"$error":"#N/A"}},null,{"$f":"T368-HLOOKUP(Y368,Feuil2!$C$1:$CD$9,2,FALSE)","v":{"$error":"#VALUE!"}},{"$f":"T368-HLOOKUP(Y368,Feuil2!$C$1:$CD$9,3,FALSE)","v":{"$error":"#VALUE!"}},{"$f":"T368-HLOOKUP(Y368,Feuil2!$C$1:$CD$9,4,FALSE)","v":{"$error":"#VALUE!"}},{"$f":"T368-HLOOKUP(Y368,Feuil2!$C$1:$CD$9,5,FALSE)","v":{"$error":"#VALUE!"}},{"$f":"T368-HLOOKUP(Y368,Feuil2!$C$1:$CD$9,6,FALSE)","v":{"$error":"#VALUE!"}},{"$f":"T368-HLOOKUP(Y368,Feuil2!$C$1:$CD$9,7,FALSE)","v":{"$error":"#VALUE!"}},{"$f":"T368-HLOOKUP(Y368,Feuil2!$C$1:$CD$9,8,FALSE)","v":{"$error":"#VALUE!"}},{"$f":"T368-HLOOKUP(Y368,Feuil2!$C$1:$CD$9,9,FALSE)","v":{"$error":"#VALUE!"}},null,null,null,null,null,null,null,{"$error":"#VALUE!"},2016,null,{"$f":"IF(AQ368,VLOOKUP(AQ368,HOM!$AS$561:$AT$616,2))","v":3.5710000000000002}]
["H",null,null,null,null,null,null,null,null,null,null,null,null,null,"",null,null,null,"","","","","",{"$error":"#N/A"},{"$f":"IF(AND(J369<1920),VLOOKUP(K369,Feuil2!$F$10:$P$28,11),IF(AND(J369>=1920,J369<1937),VLOOKUP(K369,Feuil2!$F$10:$P$28,11),IF(AND(J369>=1936,J369<1942),VLOOKUP(K369,Feuil2!$F$10:$P$28,10),IF(AND(J369>=1942,J369<1947),VLOOKUP(K369,Feuil2!$F$10:$P$28,9),IF(AND(J369>=1947,J369<1952),VLOOKUP(K369,Feuil2!$F$10:$P$28,8),IF(AND(J369>=1952,J369<1957),VLOOKUP(K369,Feuil2!$F$10:$P$28,7),IF(AND(J369>=1957,J369<1962),VLOOKUP(K369,Feuil2!$F$10:$P$28,6),IF(AND(J369>=1962,J369<1967),VLOOKUP(K369,Feuil2!$F$10:$P$28,5),IF(AND(J369>=1967,J369<1972),VLOOKUP(K369,Feuil2!$F$10:$P$28,4),IF(AND(J369>=1972,J369<1977),VLOOKUP(K369,Feuil2!$F$10:$P$28,3),IF(AND(J369>=1977,J369<1982),VLOOKUP(K369,Feuil2!$F$10:$P$28,2),VLOOKUP(K369,Feuil2!$F$10:$P$28,2))))))))))))","v":{"$error":"#N/A"}},null,{"$f":"T369-HLOOKUP(Y369,Feuil2!$C$1:$CD$9,2,FALSE)","v":{"$error":"#VALUE!"}},{"$f":"T369-HLOOKUP(Y369,Feuil2!$C$1:$CD$9,3,FALSE)","v":{"$error":"#VALUE!"}},{"$f":"T369-HLOOKUP(Y369,Feuil2!$C$1:$CD$9,4,FALSE)","v":{"$error":"#VALUE!"}},{"$f":"T369-HLOOKUP(Y369,Feuil2!$C$1:$CD$9,5,FALSE)","v":{"$error":"#VALUE!"}},{"$f":"T369-HLOOKUP(Y369,Feuil2!$C$1:$CD$9,6,FALSE)","v":{"$error":"#VALUE!"}},{"$f":"T369-HLOOKUP(Y369,Feuil2!$C$1:$CD$9,7,FALSE)","v":{"$error":"#VALUE!"}},{"$f":"T369-HLOOKUP(Y369,Feuil2!$C$1:$CD$9,8,FALSE)","v":{"$error":"#VALUE!"}},{"$f":"T369-HLOOKUP(Y369,Feuil2!$C$1:$CD$9,9,FALSE)","v":{"$error":"#VALUE!"}},null,null,null,null,null,null,null,{"$error":"#VALUE!"},2016,null,{"$f":"IF(AQ369,VLOOKUP(AQ369,HOM!$AS$561:$AT$616,2))","v":3.5710000000000002}]
["H",null,null,null,null,null,null,null,null,null,null,null,null,null,"",null,null,null,"","","",{"$f":"IF(K370=\"\",\"\",AP370)","v":""},{"$f":"IF(K370=\"\",\"\",IF(AH370>=0,AH370,IF(AG370>=0,AG370,IF(AF370>=0,AF370,IF(AE370>=0,AE370,IF(AD370>=0,AD370,IF(AC370>=0,AC370,IF(AB370>=0,AB370,AA370))))))))","v":""},{"$error":"#N/A"},{"$f":"IF(AND(J370<1920),VLOOKUP(K370,Feuil2!$F$10:$P$28,11),IF(AND(J370>=1920,J370<1937),VLOOKUP(K370,Feuil2!$F$10:$P$28,11),IF(AND(J370>=1936,J370<1942),VLOOKUP(K370,Feuil2!$F$10:$P$28,10),IF(AND(J370>=1942,J370<1947),VLOOKUP(K370,Feuil2!$F$10:$P$28,9),IF(AND(J370>=1947,J370<1952),VLOOKUP(K370,Feuil2!$F$10:$P$28,8),IF(AND(J370>=1952,J370<1957),VLOOKUP(K370,Feuil2!$F$10:$P$28,7),IF(AND(J370>=1957,J370<1962),VLOOKUP(K370,Feuil2!$F$10:$P$28,6),IF(AND(J370>=1962,J370<1967),VLOOKUP(K370,Feuil2!$F$10:$P$28,5),IF(AND(J370>=1967,J370<1972),VLOOKUP(K370,Feuil2!$F$10:$P$28,4),IF(AND(J370>=1972,J370<1977),VLOOKUP(K370,Feuil2!$F$10:$P$28,3),IF(AND(J370>=1977,J370<1982),VLOOKUP(K370,Feuil2!$F$10:$P$28,2),VLOOKUP(K370,Feuil2!$F$10:$P$28,2))))))))))))","v":{"$error":"#N/A"}},null,{"$f":"T370-HLOOKUP(Y370,Feuil2!$C$1:$CD$9,2,FALSE)","v":{"$error":"#VALUE!"}},{"$f":"T370-HLOOKUP(Y370,Feuil2!$C$1:$CD$9,3,FALSE)","v":{"$error":"#VALUE!"}},{"$f":"T370-HLOOKUP(Y370,Feuil2!$C$1:$CD$9,4,FALSE)","v":{"$error":"#VALUE!"}},{"$f":"T370-HLOOKUP(Y370,Feuil2!$C$1:$CD$9,5,FALSE)","v":{"$error":"#VALUE!"}},{"$f":"T370-HLOOKUP(Y370,Feuil2!$C$1:$CD$9,6,FALSE)","v":{"$error":"#VALUE!"}},{"$f":"T370-HLOOKUP(Y370,Feuil2!$C$1:$CD$9,7,FALSE)","v":{"$error":"#VALUE!"}},{"$f":"T370-HLOOKUP(Y370,Feuil2!$C$1:$CD$9,8,FALSE)","v":{"$error":"#VALUE!"}},{"$f":"T370-HLOOKUP(Y370,Feuil2!$C$1:$CD$9,9,FALSE)","v":{"$error":"#VALUE!"}},null,null,null,null,null,null,null,{"$f":"IF(AH370>=0,$AH$4,IF(AG370>=0,$AG$4,IF(AF370>=0,$AF$4,IF(AE370>=0,$AE$4,IF(AD370>=0,$AD$4,IF(AC370>=0,$AC$4,IF(AB370>=0,$AB$4,IF(AA370>=0,$AA$4,$AI$4))))))))","v":{"$error":"#VALUE!"}},2016,null,{"$f":"IF(AQ370,VLOOKUP(AQ370,HOM!$AS$561:$AT$616,2))","v":3.5710000000000002}]
["H",null,null,null,null,null,null,null,null,null,null,null,null,null,"",null,null,null,"","","","","",{"$error":"#N/A"},{"$f":"IF(AND(J371<1920),VLOOKUP(K371,Feuil2!$F$10:$P$28,11),IF(AND(J371>=1920,J371<1937),VLOOKUP(K371,Feuil2!$F$10:$P$28,11),IF(AND(J371>=1936,J371<1942),VLOOKUP(K371,Feuil2!$F$10:$P$28,10),IF(AND(J371>=1942,J371<1947),VLOOKUP(K371,Feuil2!$F$10:$P$28,9),IF(AND(J371>=1947,J371<1952),VLOOKUP(K371,Feuil2!$F$10:$P$28,8),IF(AND(J371>=1952,J371<1957),VLOOKUP(K371,Feuil2!$F$10:$P$28,7),IF(AND(J371>=1957,J371<1962),VLOOKUP(K371,Feuil2!$F$10:$P$28,6),IF(AND(J371>=1962,J371<1967),VLOOKUP(K371,Feuil2!$F$10:$P$28,5),IF(AND(J371>=1967,J371<1972),VLOOKUP(K371,Feuil2!$F$10:$P$28,4),IF(AND(J371>=1972,J371<1977),VLOOKUP(K371,Feuil2!$F$10:$P$28,3),IF(AND(J371>=1977,J371<1982),VLOOKUP(K371,Feuil2!$F$10:$P$28,2),VLOOKUP(K371,Feuil2!$F$10:$P$28,2))))))))))))","v":{"$error":"#N/A"}},null,{"$f":"T371-HLOOKUP(Y371,Feuil2!$C$1:$CD$9,2,FALSE)","v":{"$error":"#VALUE!"}},{"$f":"T371-HLOOKUP(Y371,Feuil2!$C$1:$CD$9,3,FALSE)","v":{"$error":"#VALUE!"}},{"$f":"T371-HLOOKUP(Y371,Feuil2!$C$1:$CD$9,4,FALSE)","v":{"$error":"#VALUE!"}},{"$f":"T371-HLOOKUP(Y371,Feuil2!$C$1:$CD$9,5,FALSE)","v":{"$error":"#VALUE!"}},{"$f":"T371-HLOOKUP(Y371,Feuil2!$C$1:$CD$9,6,FALSE)","v":{"$error":"#VALUE!"}},{"$f":"T371-HLOOKUP(Y371,Feuil2!$C$1:$CD$9,7,FALSE)","v":{"$error":"#VALUE!"}},{"$f":"T371-HLOOKUP(Y371,Feuil2!$C$1:$CD$9,8,FALSE)","v":{"$error":"#VALUE!"}},{"$f":"T371-HLOOKUP(Y371,Feuil2!$C$1:$CD$9,9,FALSE)","v":{"$error":"#VALUE!"}},null,null,null,null,null,null,null,{"$error":"#VALUE!"},2016,null,{"$f":"IF(AQ371,VLOOKUP(AQ371,HOM!$AS$561:$AT$616,2))","v":3.5710000000000002}]
["H",null,null,null,null,null,null,null,null,null,null,null,null,null,"",null,null,null,"","","","","",{"$error":"#N/A"},{"$f":"IF(AND(J372<1920),VLOOKUP(K372,Feuil2!$F$10:$P$28,11),IF(AND(J372>=1920,J372<1937),VLOOKUP(K372,Feuil2!$F$10:$P$28,11),IF(AND(J372>=1936,J372<1942),VLOOKUP(K372,Feuil2!$F$10:$P$28,10),IF(AND(J372>=1942,J372<1947),VLOOKUP(K372,Feuil2!$F$10:$P$28,9),IF(AND(J372>=1947,J372<1952),VLOOKUP(K372,Feuil2!$F$10:$P$28,8),IF(AND(J372>=1952,J372<1957),VLOOKUP(K372,Feuil2!$F$10:$P$28,7),IF(AND(J372>=1957,J372<1962),VLOOKUP(K372,Feuil2!$F$10:$P$28,6),IF(AND(J372>=1962,J372<1967),VLOOKUP(K372,Feuil2!$F$10:$P$28,5),IF(AND(J372>=1967,J372<1972),VLOOKUP(K372,Feuil2!$F$10:$P$28,4),IF(AND(J372>=1972,J372<1977),VLOOKUP(K372,Feuil2!$F$10:$P$28,3),IF(AND(J372>=1977,J372<1982),VLOOKUP(K372,Feuil2!$F$10:$P$28,2),VLOOKUP(K372,Feuil2!$F$10:$P$28,2))))))))))))","v":{"$error":"#N/A"}},null,{"$f":"T372-HLOOKUP(Y372,Feuil2!$C$1:$CD$9,2,FALSE)","v":{"$error":"#VALUE!"}},{"$f":"T372-HLOOKUP(Y372,Feuil2!$C$1:$CD$9,3,FALSE)","v":{"$error":"#VALUE!"}},{"$f":"T372-HLOOKUP(Y372,Feuil2!$C$1:$CD$9,4,FALSE)","v":{"$error":"#VALUE!"}},{"$f":"T372-HLOOKUP(Y372,Feuil2!$C$1:$CD$9,5,FALSE)","v":{"$error":"#VALUE!"}},{"$f":"T372-HLOOKUP(Y372,Feuil2!$C$1:$CD$9,6,FALSE)","v":{"$error":"#VALUE!"}},{"$f":"T372-HLOOKUP(Y372,Feuil2!$C$1:$CD$9,7,FALSE)","v":{"$error":"#VALUE!"}},{"$f":"T372-HLOOKUP(Y372,Feuil2!$C$1:$CD$9,8,FALSE)","v":{"$error":"#VALUE!"}},{"$f":"T372-HLOOKUP(Y372,Feuil2!$C$1:$CD$9,9,FALSE)","v":{"$error":"#VALUE!"}},null,null,null,null,null,null,null,{"$error":"#VALUE!"},2016,null,{"$f":"IF(AQ372,VLOOKUP(AQ372,HOM!$AS$561:$AT$616,2))","v":3.5710000000000002}]
["H",null,null,null,null,null,null,null,null,null,null,null,null,null,"",null,null,null,"","","","","",{"$error":"#N/A"},{"$f":"IF(AND(J373<1920),VLOOKUP(K373,Feuil2!$F$10:$P$28,11),IF(AND(J373>=1920,J373<1937),VLOOKUP(K373,Feuil2!$F$10:$P$28,11),IF(AND(J373>=1936,J373<1942),VLOOKUP(K373,Feuil2!$F$10:$P$28,10),IF(AND(J373>=1942,J373<1947),VLOOKUP(K373,Feuil2!$F$10:$P$28,9),IF(AND(J373>=1947,J373<1952),VLOOKUP(K373,Feuil2!$F$10:$P$28,8),IF(AND(J373>=1952,J373<1957),VLOOKUP(K373,Feuil2!$F$10:$P$28,7),IF(AND(J373>=1957,J373<1962),VLOOKUP(K373,Feuil2!$F$10:$P$28,6),IF(AND(J373>=1962,J373<1967),VLOOKUP(K373,Feuil2!$F$10:$P$28,5),IF(AND(J373>=1967,J373<1972),VLOOKUP(K373,Feuil2!$F$10:$P$28,4),IF(AND(J373>=1972,J373<1977),VLOOKUP(K373,Feuil2!$F$10:$P$28,3),IF(AND(J373>=1977,J373<1982),VLOOKUP(K373,Feuil2!$F$10:$P$28,2),VLOOKUP(K373,Feuil2!$F$10:$P$28,2))))))))))))","v":{"$error":"#N/A"}},null,{"$f":"T373-HLOOKUP(Y373,Feuil2!$C$1:$CD$9,2,FALSE)","v":{"$error":"#VALUE!"}},{"$f":"T373-HLOOKUP(Y373,Feuil2!$C$1:$CD$9,3,FALSE)","v":{"$error":"#VALUE!"}},{"$f":"T373-HLOOKUP(Y373,Feuil2!$C$1:$CD$9,4,FALSE)","v":{"$error":"#VALUE!"}},{"$f":"T373-HLOOKUP(Y373,Feuil2!$C$1:$CD$9,5,FALSE)","v":{"$error":"#VALUE!"}},{"$f":"T373-HLOOKUP(Y373,Feuil2!$C$1:$CD$9,6,FALSE)","v":{"$error":"#VALUE!"}},{"$f":"T373-HLOOKUP(Y373,Feuil2!$C$1:$CD$9,7,FALSE)","v":{"$error":"#VALUE!"}},{"$f":"T373-HLOOKUP(Y373,Feuil2!$C$1:$CD$9,8,FALSE)","v":{"$error":"#VALUE!"}},{"$f":"T373-HLOOKUP(Y373,Feuil2!$C$1:$CD$9,9,FALSE)","v":{"$error":"#VALUE!"}},null,null,null,null,null,null,null,{"$error":"#VALUE!"},2016,null,{"$f":"IF(AQ373,VLOOKUP(AQ373,HOM!$AS$561:$AT$616,2))","v":3.5710000000000002}]
["H",null,null,null,null,null,null,null,null,null,null,null,null,null,"",null,null,null,"","","","","",{"$error":"#N/A"},{"$f":"IF(AND(J374<1920),VLOOKUP(K374,Feuil2!$F$10:$P$28,11),IF(AND(J374>=1920,J374<1937),VLOOKUP(K374,Feuil2!$F$10:$P$28,11),IF(AND(J374>=1936,J374<1942),VLOOKUP(K374,Feuil2!$F$10:$P$28,10),IF(AND(J374>=1942,J374<1947),VLOOKUP(K374,Feuil2!$F$10:$P$28,9),IF(AND(J374>=1947,J374<1952),VLOOKUP(K374,Feuil2!$F$10:$P$28,8),IF(AND(J374>=1952,J374<1957),VLOOKUP(K374,Feuil2!$F$10:$P$28,7),IF(AND(J374>=1957,J374<1962),VLOOKUP(K374,Feuil2!$F$10:$P$28,6),IF(AND(J374>=1962,J374<1967),VLOOKUP(K374,Feuil2!$F$10:$P$28,5),IF(AND(J374>=1967,J374<1972),VLOOKUP(K374,Feuil2!$F$10:$P$28,4),IF(AND(J374>=1972,J374<1977),VLOOKUP(K374,Feuil2!$F$10:$P$28,3),IF(AND(J374>=1977,J374<1982),VLOOKUP(K374,Feuil2!$F$10:$P$28,2),VLOOKUP(K374,Feuil2!$F$10:$P$28,2))))))))))))","v":{"$error":"#N/A"}},null,{"$f":"T374-HLOOKUP(Y374,Feuil2!$C$1:$CD$9,2,FALSE)","v":{"$error":"#VALUE!"}},{"$f":"T374-HLOOKUP(Y374,Feuil2!$C$1:$CD$9,3,FALSE)","v":{"$error":"#VALUE!"}},{"$f":"T374-HLOOKUP(Y374,Feuil2!$C$1:$CD$9,4,FALSE)","v":{"$error":"#VALUE!"}},{"$f":"T374-HLOOKUP(Y374,Feuil2!$C$1:$CD$9,5,FALSE)","v":{"$error":"#VALUE!"}},{"$f":"T374-HLOOKUP(Y374,Feuil2!$C$1:$CD$9,6,FALSE)","v":{"$error":"#VALUE!"}},{"$f":"T374-HLOOKUP(Y374,Feuil2!$C$1:$CD$9,7,FALSE)","v":{"$error":"#VALUE!"}},{"$f":"T374-HLOOKUP(Y374,Feuil2!$C$1:$CD$9,8,FALSE)","v":{"$error":"#VALUE!"}},{"$f":"T374-HLOOKUP(Y374,Feuil2!$C$1:$CD$9,9,FALSE)","v":{"$error":"#VALUE!"}},null,null,null,null,null,null,null,{"$error":"#VALUE!"},2016,null,{"$f":"IF(AQ374,VLOOKUP(AQ374,HOM!$AS$561:$AT$616,2))","v":3.5710000000000002}]
["H",null,null,null,null,null,null,null,null,null,null,null,null,null,{"$f":"IF(K375=\"\",\"\",IF(MAXA(L375:N375)<=0,0,MAXA(L375:N375)))","v":""},null,null,null,{"$f":"IF(K375=\"\",\"\",IF(MAXA(P375:R375)<=0,0,MAXA(P375:R375)))","v":""},{"$f":"IF(K375=\"\",\"\",IF(OR(O375=0,S375=0),0,O375+S375))","v":""},"","","",{"$error":"#N/A"},{"$f":"IF(AND(J375<1920),VLOOKUP(K375,Feuil2!$F$10:$P$28,11),IF(AND(J375>=1920,J375<1937),VLOOKUP(K375,Feuil2!$F$10:$P$28,11),IF(AND(J375>=1936,J375<1942),VLOOKUP(K375,Feuil2!$F$10:$P$28,10),IF(AND(J375>=1942,J375<1947),VLOOKUP(K375,Feuil2!$F$10:$P$28,9),IF(AND(J375>=1947,J375<1952),VLOOKUP(K375,Feuil2!$F$10:$P$28,8),IF(AND(J375>=1952,J375<1957),VLOOKUP(K375,Feuil2!$F$10:$P$28,7),IF(AND(J375>=1957,J375<1962),VLOOKUP(K375,Feuil2!$F$10:$P$28,6),IF(AND(J375>=1962,J375<1967),VLOOKUP(K375,Feuil2!$F$10:$P$28,5),IF(AND(J375>=1967,J375<1972),VLOOKUP(K375,Feuil2!$F$10:$P$28,4),IF(AND(J375>=1972,J375<1977),VLOOKUP(K375,Feuil2!$F$10:$P$28,3),IF(AND(J375>=1977,J375<1982),VLOOKUP(K375,Feuil2!$F$10:$P$28,2),VLOOKUP(K375,Feuil2!$F$10:$P$28,2))))))))))))","v":{"$error":"#N/A"}},null,{"$f":"T375-HLOOKUP(Y375,Feuil2!$C$1:$CD$9,2,FALSE)","v":{"$error":"#VALUE!"}},{"$f":"T375-HLOOKUP(Y375,Feuil2!$C$1:$CD$9,3,FALSE)","v":{"$error":"#VALUE!"}},{"$f":"T375-HLOOKUP(Y375,Feuil2!$C$1:$CD$9,4,FALSE)","v":{"$error":"#VALUE!"}},{"$f":"T375-HLOOKUP(Y375,Feuil2!$C$1:$CD$9,5,FALSE)","v":{"$error":"#VALUE!"}},{"$f":"T375-HLOOKUP(Y375,Feuil2!$C$1:$CD$9,6,FALSE)","v":{"$error":"#VALUE!"}},{"$f":"T375-HLOOKUP(Y375,Feuil2!$C$1:$CD$9,7,FALSE)","v":{"$error":"#VALUE!"}},{"$f":"T375-HLOOKUP(Y375,Feuil2!$C$1:$CD$9,8,FALSE)","v":{"$error":"#VALUE!"}},{"$f":"T375-HLOOKUP(Y375,Feuil2!$C$1:$CD$9,9,FALSE)","v":{"$error":"#VALUE!"}},null,null,null,null,null,null,null,{"$error":"#VALUE!"},2016,null,{"$f":"IF(AQ375,VLOOKUP(AQ375,HOM!$AS$561:$AT$616,2))","v":3.5710000000000002}]
["H",null,null,null,null,null,null,null,null,null,null,null,null,null,"",null,null,null,"","","","","",{"$error":"#N/A"},{"$f":"IF(AND(J376<1920),VLOOKUP(K376,Feuil2!$F$10:$P$28,11),IF(AND(J376>=1920,J376<1937),VLOOKUP(K376,Feuil2!$F$10:$P$28,11),IF(AND(J376>=1936,J376<1942),VLOOKUP(K376,Feuil2!$F$10:$P$28,10),IF(AND(J376>=1942,J376<1947),VLOOKUP(K376,Feuil2!$F$10:$P$28,9),IF(AND(J376>=1947,J376<1952),VLOOKUP(K376,Feuil2!$F$10:$P$28,8),IF(AND(J376>=1952,J376<1957),VLOOKUP(K376,Feuil2!$F$10:$P$28,7),IF(AND(J376>=1957,J376<1962),VLOOKUP(K376,Feuil2!$F$10:$P$28,6),IF(AND(J376>=1962,J376<1967),VLOOKUP(K376,Feuil2!$F$10:$P$28,5),IF(AND(J376>=1967,J376<1972),VLOOKUP(K376,Feuil2!$F$10:$P$28,4),IF(AND(J376>=1972,J376<1977),VLOOKUP(K376,Feuil2!$F$10:$P$28,3),IF(AND(J376>=1977,J376<1982),VLOOKUP(K376,Feuil2!$F$10:$P$28,2),VLOOKUP(K376,Feuil2!$F$10:$P$28,2))))))))))))","v":{"$error":"#N/A"}},null,{"$f":"T376-HLOOKUP(Y376,Feuil2!$C$1:$CD$9,2,FALSE)","v":{"$error":"#VALUE!"}},{"$f":"T376-HLOOKUP(Y376,Feuil2!$C$1:$CD$9,3,FALSE)","v":{"$error":"#VALUE!"}},{"$f":"T376-HLOOKUP(Y376,Feuil2!$C$1:$CD$9,4,FALSE)","v":{"$error":"#VALUE!"}},{"$f":"T376-HLOOKUP(Y376,Feuil2!$C$1:$CD$9,5,FALSE)","v":{"$error":"#VALUE!"}},{"$f":"T376-HLOOKUP(Y376,Feuil2!$C$1:$CD$9,6,FALSE)","v":{"$error":"#VALUE!"}},{"$f":"T376-HLOOKUP(Y376,Feuil2!$C$1:$CD$9,7,FALSE)","v":{"$error":"#VALUE!"}},{"$f":"T376-HLOOKUP(Y376,Feuil2!$C$1:$CD$9,8,FALSE)","v":{"$error":"#VALUE!"}},{"$f":"T376-HLOOKUP(Y376,Feuil2!$C$1:$CD$9,9,FALSE)","v":{"$error":"#VALUE!"}},null,null,null,null,null,null,null,{"$error":"#VALUE!"},2016,null,{"$f":"IF(AQ376,VLOOKUP(AQ376,HOM!$AS$561:$AT$616,2))","v":3.5710000000000002}]
["H",null,null,null,null,null,null,null,null,null,null,null,null,null,"",null,null,null,"","","","","",{"$error":"#N/A"},{"$f":"IF(AND(J377<1920),VLOOKUP(K377,Feuil2!$F$10:$P$28,11),IF(AND(J377>=1920,J377<1937),VLOOKUP(K377,Feuil2!$F$10:$P$28,11),IF(AND(J377>=1936,J377<1942),VLOOKUP(K377,Feuil2!$F$10:$P$28,10),IF(AND(J377>=1942,J377<1947),VLOOKUP(K377,Feuil2!$F$10:$P$28,9),IF(AND(J377>=1947,J377<1952),VLOOKUP(K377,Feuil2!$F$10:$P$28,8),IF(AND(J377>=1952,J377<1957),VLOOKUP(K377,Feuil2!$F$10:$P$28,7),IF(AND(J377>=1957,J377<1962),VLOOKUP(K377,Feuil2!$F$10:$P$28,6),IF(AND(J377>=1962,J377<1967),VLOOKUP(K377,Feuil2!$F$10:$P$28,5),IF(AND(J377>=1967,J377<1972),VLOOKUP(K377,Feuil2!$F$10:$P$28,4),IF(AND(J377>=1972,J377<1977),VLOOKUP(K377,Feuil2!$F$10:$P$28,3),IF(AND(J377>=1977,J377<1982),VLOOKUP(K377,Feuil2!$F$10:$P$28,2),VLOOKUP(K377,Feuil2!$F$10:$P$28,2))))))))))))","v":{"$error":"#N/A"}},null,{"$f":"T377-HLOOKUP(Y377,Feuil2!$C$1:$CD$9,2,FALSE)","v":{"$error":"#VALUE!"}},{"$f":"T377-HLOOKUP(Y377,Feuil2!$C$1:$CD$9,3,FALSE)","v":{"$error":"#VALUE!"}},{"$f":"T377-HLOOKUP(Y377,Feuil2!$C$1:$CD$9,4,FALSE)","v":{"$error":"#VALUE!"}},{"$f":"T377-HLOOKUP(Y377,Feuil2!$C$1:$CD$9,5,FALSE)","v":{"$error":"#VALUE!"}},{"$f":"T377-HLOOKUP(Y377,Feuil2!$C$1:$CD$9,6,FALSE)","v":{"$error":"#VALUE!"}},{"$f":"T377-HLOOKUP(Y377,Feuil2!$C$1:$CD$9,7,FALSE)","v":{"$error":"#VALUE!"}},{"$f":"T377-HLOOKUP(Y377,Feuil2!$C$1:$CD$9,8,FALSE)","v":{"$error":"#VALUE!"}},{"$f":"T377-HLOOKUP(Y377,Feuil2!$C$1:$CD$9,9,FALSE)","v":{"$error":"#VALUE!"}},null,null,null,null,null,null,null,{"$error":"#VALUE!"},2016,null,{"$f":"IF(AQ377,VLOOKUP(AQ377,HOM!$AS$561:$AT$616,2))","v":3.5710000000000002}]
["H",null,null,null,null,null,null,null,null,null,null,null,null,null,"",null,null,null,"","","","","",{"$error":"#N/A"},{"$f":"IF(AND(J378<1920),VLOOKUP(K378,Feuil2!$F$10:$P$28,11),IF(AND(J378>=1920,J378<1937),VLOOKUP(K378,Feuil2!$F$10:$P$28,11),IF(AND(J378>=1936,J378<1942),VLOOKUP(K378,Feuil2!$F$10:$P$28,10),IF(AND(J378>=1942,J378<1947),VLOOKUP(K378,Feuil2!$F$10:$P$28,9),IF(AND(J378>=1947,J378<1952),VLOOKUP(K378,Feuil2!$F$10:$P$28,8),IF(AND(J378>=1952,J378<1957),VLOOKUP(K378,Feuil2!$F$10:$P$28,7),IF(AND(J378>=1957,J378<1962),VLOOKUP(K378,Feuil2!$F$10:$P$28,6),IF(AND(J378>=1962,J378<1967),VLOOKUP(K378,Feuil2!$F$10:$P$28,5),IF(AND(J378>=1967,J378<1972),VLOOKUP(K378,Feuil2!$F$10:$P$28,4),IF(AND(J378>=1972,J378<1977),VLOOKUP(K378,Feuil2!$F$10:$P$28,3),IF(AND(J378>=1977,J378<1982),VLOOKUP(K378,Feuil2!$F$10:$P$28,2),VLOOKUP(K378,Feuil2!$F$10:$P$28,2))))))))))))","v":{"$error":"#N/A"}},null,{"$f":"T378-HLOOKUP(Y378,Feuil2!$C$1:$CD$9,2,FALSE)","v":{"$error":"#VALUE!"}},{"$f":"T378-HLOOKUP(Y378,Feuil2!$C$1:$CD$9,3,FALSE)","v":{"$error":"#VALUE!"}},{"$f":"T378-HLOOKUP(Y378,Feuil2!$C$1:$CD$9,4,FALSE)","v":{"$error":"#VALUE!"}},{"$f":"T378-HLOOKUP(Y378,Feuil2!$C$1:$CD$9,5,FALSE)","v":{"$error":"#VALUE!"}},{"$f":"T378-HLOOKUP(Y378,Feuil2!$C$1:$CD$9,6,FALSE)","v":{"$error":"#VALUE!"}},{"$f":"T378-HLOOKUP(Y378,Feuil2!$C$1:$CD$9,7,FALSE)","v":{"$error":"#VALUE!"}},{"$f":"T378-HLOOKUP(Y378,Feuil2!$C$1:$CD$9,8,FALSE)","v":{"$error":"#VALUE!"}},{"$f":"T378-HLOOKUP(Y378,Feuil2!$C$1:$CD$9,9,FALSE)","v":{"$error":"#VALUE!"}},null,null,null,null,null,null,null,{"$error":"#VALUE!"},2016,null,{"$f":"IF(AQ378,VLOOKUP(AQ378,HOM!$AS$561:$AT$616,2))","v":3.5710000000000002}]
["H",null,null,null,null,null,null,null,null,null,null,null,null,null,"",null,null,null,"","","","","",{"$error":"#N/A"},{"$f":"IF(AND(J379<1920),VLOOKUP(K379,Feuil2!$F$10:$P$28,11),IF(AND(J379>=1920,J379<1937),VLOOKUP(K379,Feuil2!$F$10:$P$28,11),IF(AND(J379>=1936,J379<1942),VLOOKUP(K379,Feuil2!$F$10:$P$28,10),IF(AND(J379>=1942,J379<1947),VLOOKUP(K379,Feuil2!$F$10:$P$28,9),IF(AND(J379>=1947,J379<1952),VLOOKUP(K379,Feuil2!$F$10:$P$28,8),IF(AND(J379>=1952,J379<1957),VLOOKUP(K379,Feuil2!$F$10:$P$28,7),IF(AND(J379>=1957,J379<1962),VLOOKUP(K379,Feuil2!$F$10:$P$28,6),IF(AND(J379>=1962,J379<1967),VLOOKUP(K379,Feuil2!$F$10:$P$28,5),IF(AND(J379>=1967,J379<1972),VLOOKUP(K379,Feuil2!$F$10:$P$28,4),IF(AND(J379>=1972,J379<1977),VLOOKUP(K379,Feuil2!$F$10:$P$28,3),IF(AND(J379>=1977,J379<1982),VLOOKUP(K379,Feuil2!$F$10:$P$28,2),VLOOKUP(K379,Feuil2!$F$10:$P$28,2))))))))))))","v":{"$error":"#N/A"}},null,{"$f":"T379-HLOOKUP(Y379,Feuil2!$C$1:$CD$9,2,FALSE)","v":{"$error":"#VALUE!"}},{"$f":"T379-HLOOKUP(Y379,Feuil2!$C$1:$CD$9,3,FALSE)","v":{"$error":"#VALUE!"}},{"$f":"T379-HLOOKUP(Y379,Feuil2!$C$1:$CD$9,4,FALSE)","v":{"$error":"#VALUE!"}},{"$f":"T379-HLOOKUP(Y379,Feuil2!$C$1:$CD$9,5,FALSE)","v":{"$error":"#VALUE!"}},{"$f":"T379-HLOOKUP(Y379,Feuil2!$C$1:$CD$9,6,FALSE)","v":{"$error":"#VALUE!"}},{"$f":"T379-HLOOKUP(Y379,Feuil2!$C$1:$CD$9,7,FALSE)","v":{"$error":"#VALUE!"}},{"$f":"T379-HLOOKUP(Y379,Feuil2!$C$1:$CD$9,8,FALSE)","v":{"$error":"#VALUE!"}},{"$f":"T379-HLOOKUP(Y379,Feuil2!$C$1:$CD$9,9,FALSE)","v":{"$error":"#VALUE!"}},null,null,null,null,null,null,null,{"$error":"#VALUE!"},2016,null,{"$f":"IF(AQ379,VLOOKUP(AQ379,HOM!$AS$561:$AT$616,2))","v":3.5710000000000002}]
["H",null,null,null,null,null,null,null,null,null,null,null,null,null,"",null,null,null,"","","","","",{"$error":"#N/A"},{"$f":"IF(AND(J380<1920),VLOOKUP(K380,Feuil2!$F$10:$P$28,11),IF(AND(J380>=1920,J380<1937),VLOOKUP(K380,Feuil2!$F$10:$P$28,11),IF(AND(J380>=1936,J380<1942),VLOOKUP(K380,Feuil2!$F$10:$P$28,10),IF(AND(J380>=1942,J380<1947),VLOOKUP(K380,Feuil2!$F$10:$P$28,9),IF(AND(J380>=1947,J380<1952),VLOOKUP(K380,Feuil2!$F$10:$P$28,8),IF(AND(J380>=1952,J380<1957),VLOOKUP(K380,Feuil2!$F$10:$P$28,7),IF(AND(J380>=1957,J380<1962),VLOOKUP(K380,Feuil2!$F$10:$P$28,6),IF(AND(J380>=1962,J380<1967),VLOOKUP(K380,Feuil2!$F$10:$P$28,5),IF(AND(J380>=1967,J380<1972),VLOOKUP(K380,Feuil2!$F$10:$P$28,4),IF(AND(J380>=1972,J380<1977),VLOOKUP(K380,Feuil2!$F$10:$P$28,3),IF(AND(J380>=1977,J380<1982),VLOOKUP(K380,Feuil2!$F$10:$P$28,2),VLOOKUP(K380,Feuil2!$F$10:$P$28,2))))))))))))","v":{"$error":"#N/A"}},null,{"$f":"T380-HLOOKUP(Y380,Feuil2!$C$1:$CD$9,2,FALSE)","v":{"$error":"#VALUE!"}},{"$f":"T380-HLOOKUP(Y380,Feuil2!$C$1:$CD$9,3,FALSE)","v":{"$error":"#VALUE!"}},{"$f":"T380-HLOOKUP(Y380,Feuil2!$C$1:$CD$9,4,FALSE)","v":{"$error":"#VALUE!"}},{"$f":"T380-HLOOKUP(Y380,Feuil2!$C$1:$CD$9,5,FALSE)","v":{"$error":"#VALUE!"}},{"$f":"T380-HLOOKUP(Y380,Feuil2!$C$1:$CD$9,6,FALSE)","v":{"$error":"#VALUE!"}},{"$f":"T380-HLOOKUP(Y380,Feuil2!$C$1:$CD$9,7,FALSE)","v":{"$error":"#VALUE!"}},{"$f":"T380-HLOOKUP(Y380,Feuil2!$C$1:$CD$9,8,FALSE)","v":{"$error":"#VALUE!"}},{"$f":"T380-HLOOKUP(Y380,Feuil2!$C$1:$CD$9,9,FALSE)","v":{"$error":"#VALUE!"}},null,null,null,null,null,null,null,{"$error":"#VALUE!"},2016,null,{"$f":"IF(AQ380,VLOOKUP(AQ380,HOM!$AS$561:$AT$616,2))","v":3.5710000000000002}]
["H",null,null,null,null,null,null,null,null,null,null,null,null,null,"",null,null,null,"","","","","",{"$error":"#N/A"},{"$f":"IF(AND(J381<1920),VLOOKUP(K381,Feuil2!$F$10:$P$28,11),IF(AND(J381>=1920,J381<1937),VLOOKUP(K381,Feuil2!$F$10:$P$28,11),IF(AND(J381>=1936,J381<1942),VLOOKUP(K381,Feuil2!$F$10:$P$28,10),IF(AND(J381>=1942,J381<1947),VLOOKUP(K381,Feuil2!$F$10:$P$28,9),IF(AND(J381>=1947,J381<1952),VLOOKUP(K381,Feuil2!$F$10:$P$28,8),IF(AND(J381>=1952,J381<1957),VLOOKUP(K381,Feuil2!$F$10:$P$28,7),IF(AND(J381>=1957,J381<1962),VLOOKUP(K381,Feuil2!$F$10:$P$28,6),IF(AND(J381>=1962,J381<1967),VLOOKUP(K381,Feuil2!$F$10:$P$28,5),IF(AND(J381>=1967,J381<1972),VLOOKUP(K381,Feuil2!$F$10:$P$28,4),IF(AND(J381>=1972,J381<1977),VLOOKUP(K381,Feuil2!$F$10:$P$28,3),IF(AND(J381>=1977,J381<1982),VLOOKUP(K381,Feuil2!$F$10:$P$28,2),VLOOKUP(K381,Feuil2!$F$10:$P$28,2))))))))))))","v":{"$error":"#N/A"}},null,{"$f":"T381-HLOOKUP(Y381,Feuil2!$C$1:$CD$9,2,FALSE)","v":{"$error":"#VALUE!"}},{"$f":"T381-HLOOKUP(Y381,Feuil2!$C$1:$CD$9,3,FALSE)","v":{"$error":"#VALUE!"}},{"$f":"T381-HLOOKUP(Y381,Feuil2!$C$1:$CD$9,4,FALSE)","v":{"$error":"#VALUE!"}},{"$f":"T381-HLOOKUP(Y381,Feuil2!$C$1:$CD$9,5,FALSE)","v":{"$error":"#VALUE!"}},{"$f":"T381-HLOOKUP(Y381,Feuil2!$C$1:$CD$9,6,FALSE)","v":{"$error":"#VALUE!"}},{"$f":"T381-HLOOKUP(Y381,Feuil2!$C$1:$CD$9,7,FALSE)","v":{"$error":"#VALUE!"}},{"$f":"T381-HLOOKUP(Y381,Feuil2!$C$1:$CD$9,8,FALSE)","v":{"$error":"#VALUE!"}},{"$f":"T381-HLOOKUP(Y381,Feuil2!$C$1:$CD$9,9,FALSE)","v":{"$error":"#VALUE!"}},null,null,null,null,null,null,null,{"$error":"#VALUE!"},2016,null,{"$f":"IF(AQ381,VLOOKUP(AQ381,HOM!$AS$561:$AT$616,2))","v":3.5710000000000002}]
["H",null,null,null,null,null,null,null,null,null,null,null,null,null,"",null,null,null,"","","","","",{"$error":"#N/A"},{"$f":"IF(AND(J382<1920),VLOOKUP(K382,Feuil2!$F$10:$P$28,11),IF(AND(J382>=1920,J382<1937),VLOOKUP(K382,Feuil2!$F$10:$P$28,11),IF(AND(J382>=1936,J382<1942),VLOOKUP(K382,Feuil2!$F$10:$P$28,10),IF(AND(J382>=1942,J382<1947),VLOOKUP(K382,Feuil2!$F$10:$P$28,9),IF(AND(J382>=1947,J382<1952),VLOOKUP(K382,Feuil2!$F$10:$P$28,8),IF(AND(J382>=1952,J382<1957),VLOOKUP(K382,Feuil2!$F$10:$P$28,7),IF(AND(J382>=1957,J382<1962),VLOOKUP(K382,Feuil2!$F$10:$P$28,6),IF(AND(J382>=1962,J382<1967),VLOOKUP(K382,Feuil2!$F$10:$P$28,5),IF(AND(J382>=1967,J382<1972),VLOOKUP(K382,Feuil2!$F$10:$P$28,4),IF(AND(J382>=1972,J382<1977),VLOOKUP(K382,Feuil2!$F$10:$P$28,3),IF(AND(J382>=1977,J382<1982),VLOOKUP(K382,Feuil2!$F$10:$P$28,2),VLOOKUP(K382,Feuil2!$F$10:$P$28,2))))))))))))","v":{"$error":"#N/A"}},null,{"$f":"T382-HLOOKUP(Y382,Feuil2!$C$1:$CD$9,2,FALSE)","v":{"$error":"#VALUE!"}},{"$f":"T382-HLOOKUP(Y382,Feuil2!$C$1:$CD$9,3,FALSE)","v":{"$error":"#VALUE!"}},{"$f":"T382-HLOOKUP(Y382,Feuil2!$C$1:$CD$9,4,FALSE)","v":{"$error":"#VALUE!"}},{"$f":"T382-HLOOKUP(Y382,Feuil2!$C$1:$CD$9,5,FALSE)","v":{"$error":"#VALUE!"}},{"$f":"T382-HLOOKUP(Y382,Feuil2!$C$1:$CD$9,6,FALSE)","v":{"$error":"#VALUE!"}},{"$f":"T382-HLOOKUP(Y382,Feuil2!$C$1:$CD$9,7,FALSE)","v":{"$error":"#VALUE!"}},{"$f":"T382-HLOOKUP(Y382,Feuil2!$C$1:$CD$9,8,FALSE)","v":{"$error":"#VALUE!"}},{"$f":"T382-HLOOKUP(Y382,Feuil2!$C$1:$CD$9,9,FALSE)","v":{"$error":"#VALUE!"}},null,null,null,null,null,null,null,{"$error":"#VALUE!"},2016,null,{"$f":"IF(AQ382,VLOOKUP(AQ382,HOM!$AS$561:$AT$616,2))","v":3.5710000000000002}]
["H",null,null,null,null,null,null,null,null,null,null,null,null,null,"",null,null,null,"","","","","",{"$error":"#N/A"},{"$f":"IF(AND(J383<1920),VLOOKUP(K383,Feuil2!$F$10:$P$28,11),IF(AND(J383>=1920,J383<1937),VLOOKUP(K383,Feuil2!$F$10:$P$28,11),IF(AND(J383>=1936,J383<1942),VLOOKUP(K383,Feuil2!$F$10:$P$28,10),IF(AND(J383>=1942,J383<1947),VLOOKUP(K383,Feuil2!$F$10:$P$28,9),IF(AND(J383>=1947,J383<1952),VLOOKUP(K383,Feuil2!$F$10:$P$28,8),IF(AND(J383>=1952,J383<1957),VLOOKUP(K383,Feuil2!$F$10:$P$28,7),IF(AND(J383>=1957,J383<1962),VLOOKUP(K383,Feuil2!$F$10:$P$28,6),IF(AND(J383>=1962,J383<1967),VLOOKUP(K383,Feuil2!$F$10:$P$28,5),IF(AND(J383>=1967,J383<1972),VLOOKUP(K383,Feuil2!$F$10:$P$28,4),IF(AND(J383>=1972,J383<1977),VLOOKUP(K383,Feuil2!$F$10:$P$28,3),IF(AND(J383>=1977,J383<1982),VLOOKUP(K383,Feuil2!$F$10:$P$28,2),VLOOKUP(K383,Feuil2!$F$10:$P$28,2))))))))))))","v":{"$error":"#N/A"}},null,{"$f":"T383-HLOOKUP(Y383,Feuil2!$C$1:$CD$9,2,FALSE)","v":{"$error":"#VALUE!"}},{"$f":"T383-HLOOKUP(Y383,Feuil2!$C$1:$CD$9,3,FALSE)","v":{"$error":"#VALUE!"}},{"$f":"T383-HLOOKUP(Y383,Feuil2!$C$1:$CD$9,4,FALSE)","v":{"$error":"#VALUE!"}},{"$f":"T383-HLOOKUP(Y383,Feuil2!$C$1:$CD$9,5,FALSE)","v":{"$error":"#VALUE!"}},{"$f":"T383-HLOOKUP(Y383,Feuil2!$C$1:$CD$9,6,FALSE)","v":{"$error":"#VALUE!"}},{"$f":"T383-HLOOKUP(Y383,Feuil2!$C$1:$CD$9,7,FALSE)","v":{"$error":"#VALUE!"}},{"$f":"T383-HLOOKUP(Y383,Feuil2!$C$1:$CD$9,8,FALSE)","v":{"$error":"#VALUE!"}},{"$f":"T383-HLOOKUP(Y383,Feuil2!$C$1:$CD$9,9,FALSE)","v":{"$error":"#VALUE!"}},null,null,null,null,null,null,null,{"$error":"#VALUE!"},2016,null,{"$f":"IF(AQ383,VLOOKUP(AQ383,HOM!$AS$561:$AT$616,2))","v":3.5710000000000002}]
["H",null,null,null,null,null,null,null,null,null,null,null,null,null,"",null,null,null,"","","","","",{"$error":"#N/A"},{"$f":"IF(AND(J384<1920),VLOOKUP(K384,Feuil2!$F$10:$P$28,11),IF(AND(J384>=1920,J384<1937),VLOOKUP(K384,Feuil2!$F$10:$P$28,11),IF(AND(J384>=1936,J384<1942),VLOOKUP(K384,Feuil2!$F$10:$P$28,10),IF(AND(J384>=1942,J384<1947),VLOOKUP(K384,Feuil2!$F$10:$P$28,9),IF(AND(J384>=1947,J384<1952),VLOOKUP(K384,Feuil2!$F$10:$P$28,8),IF(AND(J384>=1952,J384<1957),VLOOKUP(K384,Feuil2!$F$10:$P$28,7),IF(AND(J384>=1957,J384<1962),VLOOKUP(K384,Feuil2!$F$10:$P$28,6),IF(AND(J384>=1962,J384<1967),VLOOKUP(K384,Feuil2!$F$10:$P$28,5),IF(AND(J384>=1967,J384<1972),VLOOKUP(K384,Feuil2!$F$10:$P$28,4),IF(AND(J384>=1972,J384<1977),VLOOKUP(K384,Feuil2!$F$10:$P$28,3),IF(AND(J384>=1977,J384<1982),VLOOKUP(K384,Feuil2!$F$10:$P$28,2),VLOOKUP(K384,Feuil2!$F$10:$P$28,2))))))))))))","v":{"$error":"#N/A"}},null,{"$f":"T384-HLOOKUP(Y384,Feuil2!$C$1:$CD$9,2,FALSE)","v":{"$error":"#VALUE!"}},{"$f":"T384-HLOOKUP(Y384,Feuil2!$C$1:$CD$9,3,FALSE)","v":{"$error":"#VALUE!"}},{"$f":"T384-HLOOKUP(Y384,Feuil2!$C$1:$CD$9,4,FALSE)","v":{"$error":"#VALUE!"}},{"$f":"T384-HLOOKUP(Y384,Feuil2!$C$1:$CD$9,5,FALSE)","v":{"$error":"#VALUE!"}},{"$f":"T384-HLOOKUP(Y384,Feuil2!$C$1:$CD$9,6,FALSE)","v":{"$error":"#VALUE!"}},{"$f":"T384-HLOOKUP(Y384,Feuil2!$C$1:$CD$9,7,FALSE)","v":{"$error":"#VALUE!"}},{"$f":"T384-HLOOKUP(Y384,Feuil2!$C$1:$CD$9,8,FALSE)","v":{"$error":"#VALUE!"}},{"$f":"T384-HLOOKUP(Y384,Feuil2!$C$1:$CD$9,9,FALSE)","v":{"$error":"#VALUE!"}},null,null,null,null,null,null,null,{"$error":"#VALUE!"},2016,null,{"$f":"IF(AQ384,VLOOKUP(AQ384,HOM!$AS$561:$AT$616,2))","v":3.5710000000000002}]
["H",null,null,null,null,null,null,null,null,null,null,null,null,null,"",null,null,null,"","","","","",{"$error":"#N/A"},{"$f":"IF(AND(J385<1920),VLOOKUP(K385,Feuil2!$F$10:$P$28,11),IF(AND(J385>=1920,J385<1937),VLOOKUP(K385,Feuil2!$F$10:$P$28,11),IF(AND(J385>=1936,J385<1942),VLOOKUP(K385,Feuil2!$F$10:$P$28,10),IF(AND(J385>=1942,J385<1947),VLOOKUP(K385,Feuil2!$F$10:$P$28,9),IF(AND(J385>=1947,J385<1952),VLOOKUP(K385,Feuil2!$F$10:$P$28,8),IF(AND(J385>=1952,J385<1957),VLOOKUP(K385,Feuil2!$F$10:$P$28,7),IF(AND(J385>=1957,J385<1962),VLOOKUP(K385,Feuil2!$F$10:$P$28,6),IF(AND(J385>=1962,J385<1967),VLOOKUP(K385,Feuil2!$F$10:$P$28,5),IF(AND(J385>=1967,J385<1972),VLOOKUP(K385,Feuil2!$F$10:$P$28,4),IF(AND(J385>=1972,J385<1977),VLOOKUP(K385,Feuil2!$F$10:$P$28,3),IF(AND(J385>=1977,J385<1982),VLOOKUP(K385,Feuil2!$F$10:$P$28,2),VLOOKUP(K385,Feuil2!$F$10:$P$28,2))))))))))))","v":{"$error":"#N/A"}},null,{"$f":"T385-HLOOKUP(Y385,Feuil2!$C$1:$CD$9,2,FALSE)","v":{"$error":"#VALUE!"}},{"$f":"T385-HLOOKUP(Y385,Feuil2!$C$1:$CD$9,3,FALSE)","v":{"$error":"#VALUE!"}},{"$f":"T385-HLOOKUP(Y385,Feuil2!$C$1:$CD$9,4,FALSE)","v":{"$error":"#VALUE!"}},{"$f":"T385-HLOOKUP(Y385,Feuil2!$C$1:$CD$9,5,FALSE)","v":{"$error":"#VALUE!"}},{"$f":"T385-HLOOKUP(Y385,Feuil2!$C$1:$CD$9,6,FALSE)","v":{"$error":"#VALUE!"}},{"$f":"T385-HLOOKUP(Y385,Feuil2!$C$1:$CD$9,7,FALSE)","v":{"$error":"#VALUE!"}},{"$f":"T385-HLOOKUP(Y385,Feuil2!$C$1:$CD$9,8,FALSE)","v":{"$error":"#VALUE!"}},{"$f":"T385-HLOOKUP(Y385,Feuil2!$C$1:$CD$9,9,FALSE)","v":{"$error":"#VALUE!"}},null,null,null,null,null,null,null,{"$error":"#VALUE!"},2016,null,{"$f":"IF(AQ385,VLOOKUP(AQ385,HOM!$AS$561:$AT$616,2))","v":3.5710000000000002}]
["H",null,null,null,null,null,null,null,null,null,null,null,null,null,"",null,null,null,"","","","","",{"$error":"#N/A"},{"$f":"IF(AND(J386<1920),VLOOKUP(K386,Feuil2!$F$10:$P$28,11),IF(AND(J386>=1920,J386<1937),VLOOKUP(K386,Feuil2!$F$10:$P$28,11),IF(AND(J386>=1936,J386<1942),VLOOKUP(K386,Feuil2!$F$10:$P$28,10),IF(AND(J386>=1942,J386<1947),VLOOKUP(K386,Feuil2!$F$10:$P$28,9),IF(AND(J386>=1947,J386<1952),VLOOKUP(K386,Feuil2!$F$10:$P$28,8),IF(AND(J386>=1952,J386<1957),VLOOKUP(K386,Feuil2!$F$10:$P$28,7),IF(AND(J386>=1957,J386<1962),VLOOKUP(K386,Feuil2!$F$10:$P$28,6),IF(AND(J386>=1962,J386<1967),VLOOKUP(K386,Feuil2!$F$10:$P$28,5),IF(AND(J386>=1967,J386<1972),VLOOKUP(K386,Feuil2!$F$10:$P$28,4),IF(AND(J386>=1972,J386<1977),VLOOKUP(K386,Feuil2!$F$10:$P$28,3),IF(AND(J386>=1977,J386<1982),VLOOKUP(K386,Feuil2!$F$10:$P$28,2),VLOOKUP(K386,Feuil2!$F$10:$P$28,2))))))))))))","v":{"$error":"#N/A"}},null,{"$f":"T386-HLOOKUP(Y386,Feuil2!$C$1:$CD$9,2,FALSE)","v":{"$error":"#VALUE!"}},{"$f":"T386-HLOOKUP(Y386,Feuil2!$C$1:$CD$9,3,FALSE)","v":{"$error":"#VALUE!"}},{"$f":"T386-HLOOKUP(Y386,Feuil2!$C$1:$CD$9,4,FALSE)","v":{"$error":"#VALUE!"}},{"$f":"T386-HLOOKUP(Y386,Feuil2!$C$1:$CD$9,5,FALSE)","v":{"$error":"#VALUE!"}},{"$f":"T386-HLOOKUP(Y386,Feuil2!$C$1:$CD$9,6,FALSE)","v":{"$error":"#VALUE!"}},{"$f":"T386-HLOOKUP(Y386,Feuil2!$C$1:$CD$9,7,FALSE)","v":{"$error":"#VALUE!"}},{"$f":"T386-HLOOKUP(Y386,Feuil2!$C$1:$CD$9,8,FALSE)","v":{"$error":"#VALUE!"}},{"$f":"T386-HLOOKUP(Y386,Feuil2!$C$1:$CD$9,9,FALSE)","v":{"$error":"#VALUE!"}},null,null,null,null,null,null,null,{"$error":"#VALUE!"},2016,null,{"$f":"IF(AQ386,VLOOKUP(AQ386,HOM!$AS$561:$AT$616,2))","v":3.5710000000000002}]
["H",null,null,null,null,null,null,null,null,null,null,null,null,null,"",null,null,null,"","","","","",{"$error":"#N/A"},{"$f":"IF(AND(J387<1920),VLOOKUP(K387,Feuil2!$F$10:$P$28,11),IF(AND(J387>=1920,J387<1937),VLOOKUP(K387,Feuil2!$F$10:$P$28,11),IF(AND(J387>=1936,J387<1942),VLOOKUP(K387,Feuil2!$F$10:$P$28,10),IF(AND(J387>=1942,J387<1947),VLOOKUP(K387,Feuil2!$F$10:$P$28,9),IF(AND(J387>=1947,J387<1952),VLOOKUP(K387,Feuil2!$F$10:$P$28,8),IF(AND(J387>=1952,J387<1957),VLOOKUP(K387,Feuil2!$F$10:$P$28,7),IF(AND(J387>=1957,J387<1962),VLOOKUP(K387,Feuil2!$F$10:$P$28,6),IF(AND(J387>=1962,J387<1967),VLOOKUP(K387,Feuil2!$F$10:$P$28,5),IF(AND(J387>=1967,J387<1972),VLOOKUP(K387,Feuil2!$F$10:$P$28,4),IF(AND(J387>=1972,J387<1977),VLOOKUP(K387,Feuil2!$F$10:$P$28,3),IF(AND(J387>=1977,J387<1982),VLOOKUP(K387,Feuil2!$F$10:$P$28,2),VLOOKUP(K387,Feuil2!$F$10:$P$28,2))))))))))))","v":{"$error":"#N/A"}},null,{"$f":"T387-HLOOKUP(Y387,Feuil2!$C$1:$CD$9,2,FALSE)","v":{"$error":"#VALUE!"}},{"$f":"T387-HLOOKUP(Y387,Feuil2!$C$1:$CD$9,3,FALSE)","v":{"$error":"#VALUE!"}},{"$f":"T387-HLOOKUP(Y387,Feuil2!$C$1:$CD$9,4,FALSE)","v":{"$error":"#VALUE!"}},{"$f":"T387-HLOOKUP(Y387,Feuil2!$C$1:$CD$9,5,FALSE)","v":{"$error":"#VALUE!"}},{"$f":"T387-HLOOKUP(Y387,Feuil2!$C$1:$CD$9,6,FALSE)","v":{"$error":"#VALUE!"}},{"$f":"T387-HLOOKUP(Y387,Feuil2!$C$1:$CD$9,7,FALSE)","v":{"$error":"#VALUE!"}},{"$f":"T387-HLOOKUP(Y387,Feuil2!$C$1:$CD$9,8,FALSE)","v":{"$error":"#VALUE!"}},{"$f":"T387-HLOOKUP(Y387,Feuil2!$C$1:$CD$9,9,FALSE)","v":{"$error":"#VALUE!"}},null,null,null,null,null,null,null,{"$error":"#VALUE!"},2016,null,{"$f":"IF(AQ387,VLOOKUP(AQ387,HOM!$AS$561:$AT$616,2))","v":3.5710000000000002}]
["H",null,null,null,null,null,null,null,null,null,null,null,null,null,"",null,null,null,"","","","","",{"$error":"#N/A"},{"$f":"IF(AND(J388<1920),VLOOKUP(K388,Feuil2!$F$10:$P$28,11),IF(AND(J388>=1920,J388<1937),VLOOKUP(K388,Feuil2!$F$10:$P$28,11),IF(AND(J388>=1936,J388<1942),VLOOKUP(K388,Feuil2!$F$10:$P$28,10),IF(AND(J388>=1942,J388<1947),VLOOKUP(K388,Feuil2!$F$10:$P$28,9),IF(AND(J388>=1947,J388<1952),VLOOKUP(K388,Feuil2!$F$10:$P$28,8),IF(AND(J388>=1952,J388<1957),VLOOKUP(K388,Feuil2!$F$10:$P$28,7),IF(AND(J388>=1957,J388<1962),VLOOKUP(K388,Feuil2!$F$10:$P$28,6),IF(AND(J388>=1962,J388<1967),VLOOKUP(K388,Feuil2!$F$10:$P$28,5),IF(AND(J388>=1967,J388<1972),VLOOKUP(K388,Feuil2!$F$10:$P$28,4),IF(AND(J388>=1972,J388<1977),VLOOKUP(K388,Feuil2!$F$10:$P$28,3),IF(AND(J388>=1977,J388<1982),VLOOKUP(K388,Feuil2!$F$10:$P$28,2),VLOOKUP(K388,Feuil2!$F$10:$P$28,2))))))))))))","v":{"$error":"#N/A"}},null,{"$f":"T388-HLOOKUP(Y388,Feuil2!$C$1:$CD$9,2,FALSE)","v":{"$error":"#VALUE!"}},{"$f":"T388-HLOOKUP(Y388,Feuil2!$C$1:$CD$9,3,FALSE)","v":{"$error":"#VALUE!"}},{"$f":"T388-HLOOKUP(Y388,Feuil2!$C$1:$CD$9,4,FALSE)","v":{"$error":"#VALUE!"}},{"$f":"T388-HLOOKUP(Y388,Feuil2!$C$1:$CD$9,5,FALSE)","v":{"$error":"#VALUE!"}},{"$f":"T388-HLOOKUP(Y388,Feuil2!$C$1:$CD$9,6,FALSE)","v":{"$error":"#VALUE!"}},{"$f":"T388-HLOOKUP(Y388,Feuil2!$C$1:$CD$9,7,FALSE)","v":{"$error":"#VALUE!"}},{"$f":"T388-HLOOKUP(Y388,Feuil2!$C$1:$CD$9,8,FALSE)","v":{"$error":"#VALUE!"}},{"$f":"T388-HLOOKUP(Y388,Feuil2!$C$1:$CD$9,9,FALSE)","v":{"$error":"#VALUE!"}},null,null,null,null,null,null,null,{"$error":"#VALUE!"},2016,null,{"$f":"IF(AQ388,VLOOKUP(AQ388,HOM!$AS$561:$AT$616,2))","v":3.5710000000000002}]
["H",null,null,null,null,null,null,null,null,null,null,null,null,null,"",null,null,null,"","","","","",{"$error":"#N/A"},{"$f":"IF(AND(J389<1920),VLOOKUP(K389,Feuil2!$F$10:$P$28,11),IF(AND(J389>=1920,J389<1937),VLOOKUP(K389,Feuil2!$F$10:$P$28,11),IF(AND(J389>=1936,J389<1942),VLOOKUP(K389,Feuil2!$F$10:$P$28,10),IF(AND(J389>=1942,J389<1947),VLOOKUP(K389,Feuil2!$F$10:$P$28,9),IF(AND(J389>=1947,J389<1952),VLOOKUP(K389,Feuil2!$F$10:$P$28,8),IF(AND(J389>=1952,J389<1957),VLOOKUP(K389,Feuil2!$F$10:$P$28,7),IF(AND(J389>=1957,J389<1962),VLOOKUP(K389,Feuil2!$F$10:$P$28,6),IF(AND(J389>=1962,J389<1967),VLOOKUP(K389,Feuil2!$F$10:$P$28,5),IF(AND(J389>=1967,J389<1972),VLOOKUP(K389,Feuil2!$F$10:$P$28,4),IF(AND(J389>=1972,J389<1977),VLOOKUP(K389,Feuil2!$F$10:$P$28,3),IF(AND(J389>=1977,J389<1982),VLOOKUP(K389,Feuil2!$F$10:$P$28,2),VLOOKUP(K389,Feuil2!$F$10:$P$28,2))))))))))))","v":{"$error":"#N/A"}},null,{"$f":"T389-HLOOKUP(Y389,Feuil2!$C$1:$CD$9,2,FALSE)","v":{"$error":"#VALUE!"}},{"$f":"T389-HLOOKUP(Y389,Feuil2!$C$1:$CD$9,3,FALSE)","v":{"$error":"#VALUE!"}},{"$f":"T389-HLOOKUP(Y389,Feuil2!$C$1:$CD$9,4,FALSE)","v":{"$error":"#VALUE!"}},{"$f":"T389-HLOOKUP(Y389,Feuil2!$C$1:$CD$9,5,FALSE)","v":{"$error":"#VALUE!"}},{"$f":"T389-HLOOKUP(Y389,Feuil2!$C$1:$CD$9,6,FALSE)","v":{"$error":"#VALUE!"}},{"$f":"T389-HLOOKUP(Y389,Feuil2!$C$1:$CD$9,7,FALSE)","v":{"$error":"#VALUE!"}},{"$f":"T389-HLOOKUP(Y389,Feuil2!$C$1:$CD$9,8,FALSE)","v":{"$error":"#VALUE!"}},{"$f":"T389-HLOOKUP(Y389,Feuil2!$C$1:$CD$9,9,FALSE)","v":{"$error":"#VALUE!"}},null,null,null,null,null,null,null,{"$error":"#VALUE!"},2016,null,{"$f":"IF(AQ389,VLOOKUP(AQ389,HOM!$AS$561:$AT$616,2))","v":3.5710000000000002}]
["H",null,null,null,null,null,null,null,null,null,null,null,null,null,"",null,null,null,"","","","","",{"$error":"#N/A"},{"$f":"IF(AND(J390<1920),VLOOKUP(K390,Feuil2!$F$10:$P$28,11),IF(AND(J390>=1920,J390<1937),VLOOKUP(K390,Feuil2!$F$10:$P$28,11),IF(AND(J390>=1936,J390<1942),VLOOKUP(K390,Feuil2!$F$10:$P$28,10),IF(AND(J390>=1942,J390<1947),VLOOKUP(K390,Feuil2!$F$10:$P$28,9),IF(AND(J390>=1947,J390<1952),VLOOKUP(K390,Feuil2!$F$10:$P$28,8),IF(AND(J390>=1952,J390<1957),VLOOKUP(K390,Feuil2!$F$10:$P$28,7),IF(AND(J390>=1957,J390<1962),VLOOKUP(K390,Feuil2!$F$10:$P$28,6),IF(AND(J390>=1962,J390<1967),VLOOKUP(K390,Feuil2!$F$10:$P$28,5),IF(AND(J390>=1967,J390<1972),VLOOKUP(K390,Feuil2!$F$10:$P$28,4),IF(AND(J390>=1972,J390<1977),VLOOKUP(K390,Feuil2!$F$10:$P$28,3),IF(AND(J390>=1977,J390<1982),VLOOKUP(K390,Feuil2!$F$10:$P$28,2),VLOOKUP(K390,Feuil2!$F$10:$P$28,2))))))))))))","v":{"$error":"#N/A"}},null,{"$f":"T390-HLOOKUP(Y390,Feuil2!$C$1:$CD$9,2,FALSE)","v":{"$error":"#VALUE!"}},{"$f":"T390-HLOOKUP(Y390,Feuil2!$C$1:$CD$9,3,FALSE)","v":{"$error":"#VALUE!"}},{"$f":"T390-HLOOKUP(Y390,Feuil2!$C$1:$CD$9,4,FALSE)","v":{"$error":"#VALUE!"}},{"$f":"T390-HLOOKUP(Y390,Feuil2!$C$1:$CD$9,5,FALSE)","v":{"$error":"#VALUE!"}},{"$f":"T390-HLOOKUP(Y390,Feuil2!$C$1:$CD$9,6,FALSE)","v":{"$error":"#VALUE!"}},{"$f":"T390-HLOOKUP(Y390,Feuil2!$C$1:$CD$9,7,FALSE)","v":{"$error":"#VALUE!"}},{"$f":"T390-HLOOKUP(Y390,Feuil2!$C$1:$CD$9,8,FALSE)","v":{"$error":"#VALUE!"}},{"$f":"T390-HLOOKUP(Y390,Feuil2!$C$1:$CD$9,9,FALSE)","v":{"$error":"#VALUE!"}},null,null,null,null,null,null,null,{"$error":"#VALUE!"},2016,null,{"$f":"IF(AQ390,VLOOKUP(AQ390,HOM!$AS$561:$AT$616,2))","v":3.5710000000000002}]
["H",null,null,null,null,null,null,null,null,null,null,null,null,null,"",null,null,null,"","","","","",{"$error":"#N/A"},{"$f":"IF(AND(J391<1920),VLOOKUP(K391,Feuil2!$F$10:$P$28,11),IF(AND(J391>=1920,J391<1937),VLOOKUP(K391,Feuil2!$F$10:$P$28,11),IF(AND(J391>=1936,J391<1942),VLOOKUP(K391,Feuil2!$F$10:$P$28,10),IF(AND(J391>=1942,J391<1947),VLOOKUP(K391,Feuil2!$F$10:$P$28,9),IF(AND(J391>=1947,J391<1952),VLOOKUP(K391,Feuil2!$F$10:$P$28,8),IF(AND(J391>=1952,J391<1957),VLOOKUP(K391,Feuil2!$F$10:$P$28,7),IF(AND(J391>=1957,J391<1962),VLOOKUP(K391,Feuil2!$F$10:$P$28,6),IF(AND(J391>=1962,J391<1967),VLOOKUP(K391,Feuil2!$F$10:$P$28,5),IF(AND(J391>=1967,J391<1972),VLOOKUP(K391,Feuil2!$F$10:$P$28,4),IF(AND(J391>=1972,J391<1977),VLOOKUP(K391,Feuil2!$F$10:$P$28,3),IF(AND(J391>=1977,J391<1982),VLOOKUP(K391,Feuil2!$F$10:$P$28,2),VLOOKUP(K391,Feuil2!$F$10:$P$28,2))))))))))))","v":{"$error":"#N/A"}},null,{"$f":"T391-HLOOKUP(Y391,Feuil2!$C$1:$CD$9,2,FALSE)","v":{"$error":"#VALUE!"}},{"$f":"T391-HLOOKUP(Y391,Feuil2!$C$1:$CD$9,3,FALSE)","v":{"$error":"#VALUE!"}},{"$f":"T391-HLOOKUP(Y391,Feuil2!$C$1:$CD$9,4,FALSE)","v":{"$error":"#VALUE!"}},{"$f":"T391-HLOOKUP(Y391,Feuil2!$C$1:$CD$9,5,FALSE)","v":{"$error":"#VALUE!"}},{"$f":"T391-HLOOKUP(Y391,Feuil2!$C$1:$CD$9,6,FALSE)","v":{"$error":"#VALUE!"}},{"$f":"T391-HLOOKUP(Y391,Feuil2!$C$1:$CD$9,7,FALSE)","v":{"$error":"#VALUE!"}},{"$f":"T391-HLOOKUP(Y391,Feuil2!$C$1:$CD$9,8,FALSE)","v":{"$error":"#VALUE!"}},{"$f":"T391-HLOOKUP(Y391,Feuil2!$C$1:$CD$9,9,FALSE)","v":{"$error":"#VALUE!"}},null,null,null,null,null,null,null,{"$error":"#VALUE!"},2016,null,{"$f":"IF(AQ391,VLOOKUP(AQ391,HOM!$AS$561:$AT$616,2))","v":3.5710000000000002}]
["H",null,null,null,null,null,null,null,null,null,null,null,null,null,"",null,null,null,"","","","","",{"$error":"#N/A"},{"$f":"IF(AND(J392<1920),VLOOKUP(K392,Feuil2!$F$10:$P$28,11),IF(AND(J392>=1920,J392<1937),VLOOKUP(K392,Feuil2!$F$10:$P$28,11),IF(AND(J392>=1936,J392<1942),VLOOKUP(K392,Feuil2!$F$10:$P$28,10),IF(AND(J392>=1942,J392<1947),VLOOKUP(K392,Feuil2!$F$10:$P$28,9),IF(AND(J392>=1947,J392<1952),VLOOKUP(K392,Feuil2!$F$10:$P$28,8),IF(AND(J392>=1952,J392<1957),VLOOKUP(K392,Feuil2!$F$10:$P$28,7),IF(AND(J392>=1957,J392<1962),VLOOKUP(K392,Feuil2!$F$10:$P$28,6),IF(AND(J392>=1962,J392<1967),VLOOKUP(K392,Feuil2!$F$10:$P$28,5),IF(AND(J392>=1967,J392<1972),VLOOKUP(K392,Feuil2!$F$10:$P$28,4),IF(AND(J392>=1972,J392<1977),VLOOKUP(K392,Feuil2!$F$10:$P$28,3),IF(AND(J392>=1977,J392<1982),VLOOKUP(K392,Feuil2!$F$10:$P$28,2),VLOOKUP(K392,Feuil2!$F$10:$P$28,2))))))))))))","v":{"$error":"#N/A"}},null,{"$f":"T392-HLOOKUP(Y392,Feuil2!$C$1:$CD$9,2,FALSE)","v":{"$error":"#VALUE!"}},{"$f":"T392-HLOOKUP(Y392,Feuil2!$C$1:$CD$9,3,FALSE)","v":{"$error":"#VALUE!"}},{"$f":"T392-HLOOKUP(Y392,Feuil2!$C$1:$CD$9,4,FALSE)","v":{"$error":"#VALUE!"}},{"$f":"T392-HLOOKUP(Y392,Feuil2!$C$1:$CD$9,5,FALSE)","v":{"$error":"#VALUE!"}},{"$f":"T392-HLOOKUP(Y392,Feuil2!$C$1:$CD$9,6,FALSE)","v":{"$error":"#VALUE!"}},{"$f":"T392-HLOOKUP(Y392,Feuil2!$C$1:$CD$9,7,FALSE)","v":{"$error":"#VALUE!"}},{"$f":"T392-HLOOKUP(Y392,Feuil2!$C$1:$CD$9,8,FALSE)","v":{"$error":"#VALUE!"}},{"$f":"T392-HLOOKUP(Y392,Feuil2!$C$1:$CD$9,9,FALSE)","v":{"$error":"#VALUE!"}},null,null,null,null,null,null,null,{"$error":"#VALUE!"},2016,null,{"$f":"IF(AQ392,VLOOKUP(AQ392,HOM!$AS$561:$AT$616,2))","v":3.5710000000000002}]
["H",null,null,null,null,null,null,null,null,null,null,null,null,null,"",null,null,null,"","","","","",{"$error":"#N/A"},{"$f":"IF(AND(J393<1920),VLOOKUP(K393,Feuil2!$F$10:$P$28,11),IF(AND(J393>=1920,J393<1937),VLOOKUP(K393,Feuil2!$F$10:$P$28,11),IF(AND(J393>=1936,J393<1942),VLOOKUP(K393,Feuil2!$F$10:$P$28,10),IF(AND(J393>=1942,J393<1947),VLOOKUP(K393,Feuil2!$F$10:$P$28,9),IF(AND(J393>=1947,J393<1952),VLOOKUP(K393,Feuil2!$F$10:$P$28,8),IF(AND(J393>=1952,J393<1957),VLOOKUP(K393,Feuil2!$F$10:$P$28,7),IF(AND(J393>=1957,J393<1962),VLOOKUP(K393,Feuil2!$F$10:$P$28,6),IF(AND(J393>=1962,J393<1967),VLOOKUP(K393,Feuil2!$F$10:$P$28,5),IF(AND(J393>=1967,J393<1972),VLOOKUP(K393,Feuil2!$F$10:$P$28,4),IF(AND(J393>=1972,J393<1977),VLOOKUP(K393,Feuil2!$F$10:$P$28,3),IF(AND(J393>=1977,J393<1982),VLOOKUP(K393,Feuil2!$F$10:$P$28,2),VLOOKUP(K393,Feuil2!$F$10:$P$28,2))))))))))))","v":{"$error":"#N/A"}},null,{"$f":"T393-HLOOKUP(Y393,Feuil2!$C$1:$CD$9,2,FALSE)","v":{"$error":"#VALUE!"}},{"$f":"T393-HLOOKUP(Y393,Feuil2!$C$1:$CD$9,3,FALSE)","v":{"$error":"#VALUE!"}},{"$f":"T393-HLOOKUP(Y393,Feuil2!$C$1:$CD$9,4,FALSE)","v":{"$error":"#VALUE!"}},{"$f":"T393-HLOOKUP(Y393,Feuil2!$C$1:$CD$9,5,FALSE)","v":{"$error":"#VALUE!"}},{"$f":"T393-HLOOKUP(Y393,Feuil2!$C$1:$CD$9,6,FALSE)","v":{"$error":"#VALUE!"}},{"$f":"T393-HLOOKUP(Y393,Feuil2!$C$1:$CD$9,7,FALSE)","v":{"$error":"#VALUE!"}},{"$f":"T393-HLOOKUP(Y393,Feuil2!$C$1:$CD$9,8,FALSE)","v":{"$error":"#VALUE!"}},{"$f":"T393-HLOOKUP(Y393,Feuil2!$C$1:$CD$9,9,FALSE)","v":{"$error":"#VALUE!"}},null,null,null,null,null,null,null,{"$error":"#VALUE!"},2016,null,{"$f":"IF(AQ393,VLOOKUP(AQ393,HOM!$AS$561:$AT$616,2))","v":3.5710000000000002}]
["H",null,null,null,null,null,null,null,null,null,null,null,null,null,"",null,null,null,"","","","","",{"$error":"#N/A"},{"$f":"IF(AND(J394<1920),VLOOKUP(K394,Feuil2!$F$10:$P$28,11),IF(AND(J394>=1920,J394<1937),VLOOKUP(K394,Feuil2!$F$10:$P$28,11),IF(AND(J394>=1936,J394<1942),VLOOKUP(K394,Feuil2!$F$10:$P$28,10),IF(AND(J394>=1942,J394<1947),VLOOKUP(K394,Feuil2!$F$10:$P$28,9),IF(AND(J394>=1947,J394<1952),VLOOKUP(K394,Feuil2!$F$10:$P$28,8),IF(AND(J394>=1952,J394<1957),VLOOKUP(K394,Feuil2!$F$10:$P$28,7),IF(AND(J394>=1957,J394<1962),VLOOKUP(K394,Feuil2!$F$10:$P$28,6),IF(AND(J394>=1962,J394<1967),VLOOKUP(K394,Feuil2!$F$10:$P$28,5),IF(AND(J394>=1967,J394<1972),VLOOKUP(K394,Feuil2!$F$10:$P$28,4),IF(AND(J394>=1972,J394<1977),VLOOKUP(K394,Feuil2!$F$10:$P$28,3),IF(AND(J394>=1977,J394<1982),VLOOKUP(K394,Feuil2!$F$10:$P$28,2),VLOOKUP(K394,Feuil2!$F$10:$P$28,2))))))))))))","v":{"$error":"#N/A"}},null,{"$f":"T394-HLOOKUP(Y394,Feuil2!$C$1:$CD$9,2,FALSE)","v":{"$error":"#VALUE!"}},{"$f":"T394-HLOOKUP(Y394,Feuil2!$C$1:$CD$9,3,FALSE)","v":{"$error":"#VALUE!"}},{"$f":"T394-HLOOKUP(Y394,Feuil2!$C$1:$CD$9,4,FALSE)","v":{"$error":"#VALUE!"}},{"$f":"T394-HLOOKUP(Y394,Feuil2!$C$1:$CD$9,5,FALSE)","v":{"$error":"#VALUE!"}},{"$f":"T394-HLOOKUP(Y394,Feuil2!$C$1:$CD$9,6,FALSE)","v":{"$error":"#VALUE!"}},{"$f":"T394-HLOOKUP(Y394,Feuil2!$C$1:$CD$9,7,FALSE)","v":{"$error":"#VALUE!"}},{"$f":"T394-HLOOKUP(Y394,Feuil2!$C$1:$CD$9,8,FALSE)","v":{"$error":"#VALUE!"}},{"$f":"T394-HLOOKUP(Y394,Feuil2!$C$1:$CD$9,9,FALSE)","v":{"$error":"#VALUE!"}},null,null,null,null,null,null,null,{"$error":"#VALUE!"},2016,null,{"$f":"IF(AQ394,VLOOKUP(AQ394,HOM!$AS$561:$AT$616,2))","v":3.5710000000000002}]
["H",null,null,null,null,null,null,null,null,null,null,null,null,null,"",null,null,null,"","","","","",{"$error":"#N/A"},{"$f":"IF(AND(J395<1920),VLOOKUP(K395,Feuil2!$F$10:$P$28,11),IF(AND(J395>=1920,J395<1937),VLOOKUP(K395,Feuil2!$F$10:$P$28,11),IF(AND(J395>=1936,J395<1942),VLOOKUP(K395,Feuil2!$F$10:$P$28,10),IF(AND(J395>=1942,J395<1947),VLOOKUP(K395,Feuil2!$F$10:$P$28,9),IF(AND(J395>=1947,J395<1952),VLOOKUP(K395,Feuil2!$F$10:$P$28,8),IF(AND(J395>=1952,J395<1957),VLOOKUP(K395,Feuil2!$F$10:$P$28,7),IF(AND(J395>=1957,J395<1962),VLOOKUP(K395,Feuil2!$F$10:$P$28,6),IF(AND(J395>=1962,J395<1967),VLOOKUP(K395,Feuil2!$F$10:$P$28,5),IF(AND(J395>=1967,J395<1972),VLOOKUP(K395,Feuil2!$F$10:$P$28,4),IF(AND(J395>=1972,J395<1977),VLOOKUP(K395,Feuil2!$F$10:$P$28,3),IF(AND(J395>=1977,J395<1982),VLOOKUP(K395,Feuil2!$F$10:$P$28,2),VLOOKUP(K395,Feuil2!$F$10:$P$28,2))))))))))))","v":{"$error":"#N/A"}},null,{"$f":"T395-HLOOKUP(Y395,Feuil2!$C$1:$CD$9,2,FALSE)","v":{"$error":"#VALUE!"}},{"$f":"T395-HLOOKUP(Y395,Feuil2!$C$1:$CD$9,3,FALSE)","v":{"$error":"#VALUE!"}},{"$f":"T395-HLOOKUP(Y395,Feuil2!$C$1:$CD$9,4,FALSE)","v":{"$error":"#VALUE!"}},{"$f":"T395-HLOOKUP(Y395,Feuil2!$C$1:$CD$9,5,FALSE)","v":{"$error":"#VALUE!"}},{"$f":"T395-HLOOKUP(Y395,Feuil2!$C$1:$CD$9,6,FALSE)","v":{"$error":"#VALUE!"}},{"$f":"T395-HLOOKUP(Y395,Feuil2!$C$1:$CD$9,7,FALSE)","v":{"$error":"#VALUE!"}},{"$f":"T395-HLOOKUP(Y395,Feuil2!$C$1:$CD$9,8,FALSE)","v":{"$error":"#VALUE!"}},{"$f":"T395-HLOOKUP(Y395,Feuil2!$C$1:$CD$9,9,FALSE)","v":{"$error":"#VALUE!"}},null,null,null,null,null,null,null,{"$error":"#VALUE!"},2016,null,{"$f":"IF(AQ395,VLOOKUP(AQ395,HOM!$AS$561:$AT$616,2))","v":3.5710000000000002}]
["H",null,null,null,null,null,null,null,null,null,null,null,null,null,"",null,null,null,"","","","","",{"$error":"#N/A"},{"$f":"IF(AND(J396<1920),VLOOKUP(K396,Feuil2!$F$10:$P$28,11),IF(AND(J396>=1920,J396<1937),VLOOKUP(K396,Feuil2!$F$10:$P$28,11),IF(AND(J396>=1936,J396<1942),VLOOKUP(K396,Feuil2!$F$10:$P$28,10),IF(AND(J396>=1942,J396<1947),VLOOKUP(K396,Feuil2!$F$10:$P$28,9),IF(AND(J396>=1947,J396<1952),VLOOKUP(K396,Feuil2!$F$10:$P$28,8),IF(AND(J396>=1952,J396<1957),VLOOKUP(K396,Feuil2!$F$10:$P$28,7),IF(AND(J396>=1957,J396<1962),VLOOKUP(K396,Feuil2!$F$10:$P$28,6),IF(AND(J396>=1962,J396<1967),VLOOKUP(K396,Feuil2!$F$10:$P$28,5),IF(AND(J396>=1967,J396<1972),VLOOKUP(K396,Feuil2!$F$10:$P$28,4),IF(AND(J396>=1972,J396<1977),VLOOKUP(K396,Feuil2!$F$10:$P$28,3),IF(AND(J396>=1977,J396<1982),VLOOKUP(K396,Feuil2!$F$10:$P$28,2),VLOOKUP(K396,Feuil2!$F$10:$P$28,2))))))))))))","v":{"$error":"#N/A"}},null,{"$f":"T396-HLOOKUP(Y396,Feuil2!$C$1:$CD$9,2,FALSE)","v":{"$error":"#VALUE!"}},{"$f":"T396-HLOOKUP(Y396,Feuil2!$C$1:$CD$9,3,FALSE)","v":{"$error":"#VALUE!"}},{"$f":"T396-HLOOKUP(Y396,Feuil2!$C$1:$CD$9,4,FALSE)","v":{"$error":"#VALUE!"}},{"$f":"T396-HLOOKUP(Y396,Feuil2!$C$1:$CD$9,5,FALSE)","v":{"$error":"#VALUE!"}},{"$f":"T396-HLOOKUP(Y396,Feuil2!$C$1:$CD$9,6,FALSE)","v":{"$error":"#VALUE!"}},{"$f":"T396-HLOOKUP(Y396,Feuil2!$C$1:$CD$9,7,FALSE)","v":{"$error":"#VALUE!"}},{"$f":"T396-HLOOKUP(Y396,Feuil2!$C$1:$CD$9,8,FALSE)","v":{"$error":"#VALUE!"}},{"$f":"T396-HLOOKUP(Y396,Feuil2!$C$1:$CD$9,9,FALSE)","v":{"$error":"#VALUE!"}},null,null,null,null,null,null,null,{"$error":"#VALUE!"},2016,null,{"$f":"IF(AQ396,VLOOKUP(AQ396,HOM!$AS$561:$AT$616,2))","v":3.5710000000000002}]
["H",null,null,null,null,null,null,null,null,null,null,null,null,null,"",null,null,null,"","","","","",{"$error":"#N/A"},{"$f":"IF(AND(J397<1920),VLOOKUP(K397,Feuil2!$F$10:$P$28,11),IF(AND(J397>=1920,J397<1937),VLOOKUP(K397,Feuil2!$F$10:$P$28,11),IF(AND(J397>=1936,J397<1942),VLOOKUP(K397,Feuil2!$F$10:$P$28,10),IF(AND(J397>=1942,J397<1947),VLOOKUP(K397,Feuil2!$F$10:$P$28,9),IF(AND(J397>=1947,J397<1952),VLOOKUP(K397,Feuil2!$F$10:$P$28,8),IF(AND(J397>=1952,J397<1957),VLOOKUP(K397,Feuil2!$F$10:$P$28,7),IF(AND(J397>=1957,J397<1962),VLOOKUP(K397,Feuil2!$F$10:$P$28,6),IF(AND(J397>=1962,J397<1967),VLOOKUP(K397,Feuil2!$F$10:$P$28,5),IF(AND(J397>=1967,J397<1972),VLOOKUP(K397,Feuil2!$F$10:$P$28,4),IF(AND(J397>=1972,J397<1977),VLOOKUP(K397,Feuil2!$F$10:$P$28,3),IF(AND(J397>=1977,J397<1982),VLOOKUP(K397,Feuil2!$F$10:$P$28,2),VLOOKUP(K397,Feuil2!$F$10:$P$28,2))))))))))))","v":{"$error":"#N/A"}},null,{"$f":"T397-HLOOKUP(Y397,Feuil2!$C$1:$CD$9,2,FALSE)","v":{"$error":"#VALUE!"}},{"$f":"T397-HLOOKUP(Y397,Feuil2!$C$1:$CD$9,3,FALSE)","v":{"$error":"#VALUE!"}},{"$f":"T397-HLOOKUP(Y397,Feuil2!$C$1:$CD$9,4,FALSE)","v":{"$error":"#VALUE!"}},{"$f":"T397-HLOOKUP(Y397,Feuil2!$C$1:$CD$9,5,FALSE)","v":{"$error":"#VALUE!"}},{"$f":"T397-HLOOKUP(Y397,Feuil2!$C$1:$CD$9,6,FALSE)","v":{"$error":"#VALUE!"}},{"$f":"T397-HLOOKUP(Y397,Feuil2!$C$1:$CD$9,7,FALSE)","v":{"$error":"#VALUE!"}},{"$f":"T397-HLOOKUP(Y397,Feuil2!$C$1:$CD$9,8,FALSE)","v":{"$error":"#VALUE!"}},{"$f":"T397-HLOOKUP(Y397,Feuil2!$C$1:$CD$9,9,FALSE)","v":{"$error":"#VALUE!"}},null,null,null,null,null,null,null,{"$error":"#VALUE!"},2016,null,{"$f":"IF(AQ397,VLOOKUP(AQ397,HOM!$AS$561:$AT$616,2))","v":3.5710000000000002}]
["H",null,null,null,null,null,null,null,null,null,null,null,null,null,"",null,null,null,"","","","","",{"$error":"#N/A"},{"$f":"IF(AND(J398<1920),VLOOKUP(K398,Feuil2!$F$10:$P$28,11),IF(AND(J398>=1920,J398<1937),VLOOKUP(K398,Feuil2!$F$10:$P$28,11),IF(AND(J398>=1936,J398<1942),VLOOKUP(K398,Feuil2!$F$10:$P$28,10),IF(AND(J398>=1942,J398<1947),VLOOKUP(K398,Feuil2!$F$10:$P$28,9),IF(AND(J398>=1947,J398<1952),VLOOKUP(K398,Feuil2!$F$10:$P$28,8),IF(AND(J398>=1952,J398<1957),VLOOKUP(K398,Feuil2!$F$10:$P$28,7),IF(AND(J398>=1957,J398<1962),VLOOKUP(K398,Feuil2!$F$10:$P$28,6),IF(AND(J398>=1962,J398<1967),VLOOKUP(K398,Feuil2!$F$10:$P$28,5),IF(AND(J398>=1967,J398<1972),VLOOKUP(K398,Feuil2!$F$10:$P$28,4),IF(AND(J398>=1972,J398<1977),VLOOKUP(K398,Feuil2!$F$10:$P$28,3),IF(AND(J398>=1977,J398<1982),VLOOKUP(K398,Feuil2!$F$10:$P$28,2),VLOOKUP(K398,Feuil2!$F$10:$P$28,2))))))))))))","v":{"$error":"#N/A"}},null,{"$f":"T398-HLOOKUP(Y398,Feuil2!$C$1:$CD$9,2,FALSE)","v":{"$error":"#VALUE!"}},{"$f":"T398-HLOOKUP(Y398,Feuil2!$C$1:$CD$9,3,FALSE)","v":{"$error":"#VALUE!"}},{"$f":"T398-HLOOKUP(Y398,Feuil2!$C$1:$CD$9,4,FALSE)","v":{"$error":"#VALUE!"}},{"$f":"T398-HLOOKUP(Y398,Feuil2!$C$1:$CD$9,5,FALSE)","v":{"$error":"#VALUE!"}},{"$f":"T398-HLOOKUP(Y398,Feuil2!$C$1:$CD$9,6,FALSE)","v":{"$error":"#VALUE!"}},{"$f":"T398-HLOOKUP(Y398,Feuil2!$C$1:$CD$9,7,FALSE)","v":{"$error":"#VALUE!"}},{"$f":"T398-HLOOKUP(Y398,Feuil2!$C$1:$CD$9,8,FALSE)","v":{"$error":"#VALUE!"}},{"$f":"T398-HLOOKUP(Y398,Feuil2!$C$1:$CD$9,9,FALSE)","v":{"$error":"#VALUE!"}},null,null,null,null,null,null,null,{"$error":"#VALUE!"},2016,null,{"$f":"IF(AQ398,VLOOKUP(AQ398,HOM!$AS$561:$AT$616,2))","v":3.5710000000000002}]
["H",null,null,null,null,null,null,null,null,null,null,null,null,null,"",null,null,null,"","",{"$f":"IF(K399=\"\",\"\",IF(A399=\"H\",10^(0.794358141*LOG(K399/174.393)^2)*T399*AS399,IF(A399=\"F\",10^(0.89726074 * LOG(K399/148.026)^2)*T399*AS399,\"\")))","v":""},"","",{"$error":"#N/A"},{"$f":"IF(AND(J399<1920),VLOOKUP(K399,Feuil2!$F$10:$P$28,11),IF(AND(J399>=1920,J399<1937),VLOOKUP(K399,Feuil2!$F$10:$P$28,11),IF(AND(J399>=1936,J399<1942),VLOOKUP(K399,Feuil2!$F$10:$P$28,10),IF(AND(J399>=1942,J399<1947),VLOOKUP(K399,Feuil2!$F$10:$P$28,9),IF(AND(J399>=1947,J399<1952),VLOOKUP(K399,Feuil2!$F$10:$P$28,8),IF(AND(J399>=1952,J399<1957),VLOOKUP(K399,Feuil2!$F$10:$P$28,7),IF(AND(J399>=1957,J399<1962),VLOOKUP(K399,Feuil2!$F$10:$P$28,6),IF(AND(J399>=1962,J399<1967),VLOOKUP(K399,Feuil2!$F$10:$P$28,5),IF(AND(J399>=1967,J399<1972),VLOOKUP(K399,Feuil2!$F$10:$P$28,4),IF(AND(J399>=1972,J399<1977),VLOOKUP(K399,Feuil2!$F$10:$P$28,3),IF(AND(J399>=1977,J399<1982),VLOOKUP(K399,Feuil2!$F$10:$P$28,2),VLOOKUP(K399,Feuil2!$F$10:$P$28,2))))))))))))","v":{"$error":"#N/A"}},null,{"$f":"T399-HLOOKUP(Y399,Feuil2!$C$1:$CD$9,2,FALSE)","v":{"$error":"#VALUE!"}},{"$f":"T399-HLOOKUP(Y399,Feuil2!$C$1:$CD$9,3,FALSE)","v":{"$error":"#VALUE!"}},{"$f":"T399-HLOOKUP(Y399,Feuil2!$C$1:$CD$9,4,FALSE)","v":{"$error":"#VALUE!"}},{"$f":"T399-HLOOKUP(Y399,Feuil2!$C$1:$CD$9,5,FALSE)","v":{"$error":"#VALUE!"}},{"$f":"T399-HLOOKUP(Y399,Feuil2!$C$1:$CD$9,6,FALSE)","v":{"$error":"#VALUE!"}},{"$f":"T399-HLOOKUP(Y399,Feuil2!$C$1:$CD$9,7,FALSE)","v":{"$error":"#VALUE!"}},{"$f":"T399-HLOOKUP(Y399,Feuil2!$C$1:$CD$9,8,FALSE)","v":{"$error":"#VALUE!"}},{"$f":"T399-HLOOKUP(Y399,Feuil2!$C$1:$CD$9,9,FALSE)","v":{"$error":"#VALUE!"}},null,null,null,null,null,null,null,{"$error":"#VALUE!"},2016,null,{"$f":"IF(AQ399,VLOOKUP(AQ399,HOM!$AS$561:$AT$616,2))","v":3.5710000000000002}]
["H",null,null,null,null,null,null,null,null,null,null,null,null,null,"",null,null,null,"","","","","",{"$error":"#N/A"},{"$f":"IF(AND(J400<1920),VLOOKUP(K400,Feuil2!$F$10:$P$28,11),IF(AND(J400>=1920,J400<1937),VLOOKUP(K400,Feuil2!$F$10:$P$28,11),IF(AND(J400>=1936,J400<1942),VLOOKUP(K400,Feuil2!$F$10:$P$28,10),IF(AND(J400>=1942,J400<1947),VLOOKUP(K400,Feuil2!$F$10:$P$28,9),IF(AND(J400>=1947,J400<1952),VLOOKUP(K400,Feuil2!$F$10:$P$28,8),IF(AND(J400>=1952,J400<1957),VLOOKUP(K400,Feuil2!$F$10:$P$28,7),IF(AND(J400>=1957,J400<1962),VLOOKUP(K400,Feuil2!$F$10:$P$28,6),IF(AND(J400>=1962,J400<1967),VLOOKUP(K400,Feuil2!$F$10:$P$28,5),IF(AND(J400>=1967,J400<1972),VLOOKUP(K400,Feuil2!$F$10:$P$28,4),IF(AND(J400>=1972,J400<1977),VLOOKUP(K400,Feuil2!$F$10:$P$28,3),IF(AND(J400>=1977,J400<1982),VLOOKUP(K400,Feuil2!$F$10:$P$28,2),VLOOKUP(K400,Feuil2!$F$10:$P$28,2))))))))))))","v":{"$error":"#N/A"}},null,{"$f":"T400-HLOOKUP(Y400,Feuil2!$C$1:$CD$9,2,FALSE)","v":{"$error":"#VALUE!"}},{"$f":"T400-HLOOKUP(Y400,Feuil2!$C$1:$CD$9,3,FALSE)","v":{"$error":"#VALUE!"}},{"$f":"T400-HLOOKUP(Y400,Feuil2!$C$1:$CD$9,4,FALSE)","v":{"$error":"#VALUE!"}},{"$f":"T400-HLOOKUP(Y400,Feuil2!$C$1:$CD$9,5,FALSE)","v":{"$error":"#VALUE!"}},{"$f":"T400-HLOOKUP(Y400,Feuil2!$C$1:$CD$9,6,FALSE)","v":{"$error":"#VALUE!"}},{"$f":"T400-HLOOKUP(Y400,Feuil2!$C$1:$CD$9,7,FALSE)","v":{"$error":"#VALUE!"}},{"$f":"T400-HLOOKUP(Y400,Feuil2!$C$1:$CD$9,8,FALSE)","v":{"$error":"#VALUE!"}},{"$f":"T400-HLOOKUP(Y400,Feuil2!$C$1:$CD$9,9,FALSE)","v":{"$error":"#VALUE!"}},null,null,null,null,null,null,null,{"$error":"#VALUE!"},2016,null,{"$f":"IF(AQ400,VLOOKUP(AQ400,HOM!$AS$561:$AT$616,2))","v":3.5710000000000002}]
["H",null,null,null,null,null,null,null,null,null,null,null,null,null,"",null,null,null,"","","","","",{"$f":"IF(BI401<95,IF(BI401<=90,VLOOKUP(BI401,$AQ$560:$AR$615,2)))","v":{"$error":"#N/A"}},{"$f":"IF(AND(J401<1920),VLOOKUP(K401,Feuil2!$F$10:$P$28,11),IF(AND(J401>=1920,J401<1937),VLOOKUP(K401,Feuil2!$F$10:$P$28,11),IF(AND(J401>=1936,J401<1942),VLOOKUP(K401,Feuil2!$F$10:$P$28,10),IF(AND(J401>=1942,J401<1947),VLOOKUP(K401,Feuil2!$F$10:$P$28,9),IF(AND(J401>=1947,J401<1952),VLOOKUP(K401,Feuil2!$F$10:$P$28,8),IF(AND(J401>=1952,J401<1957),VLOOKUP(K401,Feuil2!$F$10:$P$28,7),IF(AND(J401>=1957,J401<1962),VLOOKUP(K401,Feuil2!$F$10:$P$28,6),IF(AND(J401>=1962,J401<1967),VLOOKUP(K401,Feuil2!$F$10:$P$28,5),IF(AND(J401>=1967,J401<1972),VLOOKUP(K401,Feuil2!$F$10:$P$28,4),IF(AND(J401>=1972,J401<1977),VLOOKUP(K401,Feuil2!$F$10:$P$28,3),IF(AND(J401>=1977,J401<1982),VLOOKUP(K401,Feuil2!$F$10:$P$28,2),VLOOKUP(K401,Feuil2!$F$10:$P$28,2))))))))))))","v":{"$error":"#N/A"}},null,{"$f":"T401-HLOOKUP(Y401,Feuil2!$C$1:$CD$9,2,FALSE)","v":{"$error":"#VALUE!"}},{"$f":"T401-HLOOKUP(Y401,Feuil2!$C$1:$CD$9,3,FALSE)","v":{"$error":"#VALUE!"}},{"$f":"T401-HLOOKUP(Y401,Feuil2!$C$1:$CD$9,4,FALSE)","v":{"$error":"#VALUE!"}},{"$f":"T401-HLOOKUP(Y401,Feuil2!$C$1:$CD$9,5,FALSE)","v":{"$error":"#VALUE!"}},{"$f":"T401-HLOOKUP(Y401,Feuil2!$C$1:$CD$9,6,FALSE)","v":{"$error":"#VALUE!"}},{"$f":"T401-HLOOKUP(Y401,Feuil2!$C$1:$CD$9,7,FALSE)","v":{"$error":"#VALUE!"}},{"$f":"T401-HLOOKUP(Y401,Feuil2!$C$1:$CD$9,8,FALSE)","v":{"$error":"#VALUE!"}},{"$f":"T401-HLOOKUP(Y401,Feuil2!$C$1:$CD$9,9,FALSE)","v":{"$error":"#VALUE!"}},null,null,null,null,null,null,null,{"$error":"#VALUE!"},{"$f":"2016-J401","v":2016},null,{"$f":"IF(AQ401,VLOOKUP(AQ401,HOM!$AS$561:$AT$616,2))","v":3.5710000000000002}]
["H",null,null,null,null,null,null,null,null,null,null,null,null,null,"",null,null,null,"","","","","",{"$error":"#N/A"},{"$f":"IF(AND(J402<1920),VLOOKUP(K402,Feuil2!$F$10:$P$28,11),IF(AND(J402>=1920,J402<1937),VLOOKUP(K402,Feuil2!$F$10:$P$28,11),IF(AND(J402>=1936,J402<1942),VLOOKUP(K402,Feuil2!$F$10:$P$28,10),IF(AND(J402>=1942,J402<1947),VLOOKUP(K402,Feuil2!$F$10:$P$28,9),IF(AND(J402>=1947,J402<1952),VLOOKUP(K402,Feuil2!$F$10:$P$28,8),IF(AND(J402>=1952,J402<1957),VLOOKUP(K402,Feuil2!$F$10:$P$28,7),IF(AND(J402>=1957,J402<1962),VLOOKUP(K402,Feuil2!$F$10:$P$28,6),IF(AND(J402>=1962,J402<1967),VLOOKUP(K402,Feuil2!$F$10:$P$28,5),IF(AND(J402>=1967,J402<1972),VLOOKUP(K402,Feuil2!$F$10:$P$28,4),IF(AND(J402>=1972,J402<1977),VLOOKUP(K402,Feuil2!$F$10:$P$28,3),IF(AND(J402>=1977,J402<1982),VLOOKUP(K402,Feuil2!$F$10:$P$28,2),VLOOKUP(K402,Feuil2!$F$10:$P$28,2))))))))))))","v":{"$error":"#N/A"}},null,{"$f":"T402-HLOOKUP(Y402,Feuil2!$C$1:$CD$9,2,FALSE)","v":{"$error":"#VALUE!"}},{"$f":"T402-HLOOKUP(Y402,Feuil2!$C$1:$CD$9,3,FALSE)","v":{"$error":"#VALUE!"}},{"$f":"T402-HLOOKUP(Y402,Feuil2!$C$1:$CD$9,4,FALSE)","v":{"$error":"#VALUE!"}},{"$f":"T402-HLOOKUP(Y402,Feuil2!$C$1:$CD$9,5,FALSE)","v":{"$error":"#VALUE!"}},{"$f":"T402-HLOOKUP(Y402,Feuil2!$C$1:$CD$9,6,FALSE)","v":{"$error":"#VALUE!"}},{"$f":"T402-HLOOKUP(Y402,Feuil2!$C$1:$CD$9,7,FALSE)","v":{"$error":"#VALUE!"}},{"$f":"T402-HLOOKUP(Y402,Feuil2!$C$1:$CD$9,8,FALSE)","v":{"$error":"#VALUE!"}},{"$f":"T402-HLOOKUP(Y402,Feuil2!$C$1:$CD$9,9,FALSE)","v":{"$error":"#VALUE!"}},null,null,null,null,null,null,null,{"$error":"#VALUE!"},2016,null,{"$f":"IF(AQ402,VLOOKUP(AQ402,HOM!$AS$561:$AT$616,2))","v":3.5710000000000002}]
["H",null,null,null,null,null,null,null,null,null,null,null,null,null,"",null,null,null,"","","","","",{"$error":"#N/A"},{"$f":"IF(AND(J403<1920),VLOOKUP(K403,Feuil2!$F$10:$P$28,11),IF(AND(J403>=1920,J403<1937),VLOOKUP(K403,Feuil2!$F$10:$P$28,11),IF(AND(J403>=1936,J403<1942),VLOOKUP(K403,Feuil2!$F$10:$P$28,10),IF(AND(J403>=1942,J403<1947),VLOOKUP(K403,Feuil2!$F$10:$P$28,9),IF(AND(J403>=1947,J403<1952),VLOOKUP(K403,Feuil2!$F$10:$P$28,8),IF(AND(J403>=1952,J403<1957),VLOOKUP(K403,Feuil2!$F$10:$P$28,7),IF(AND(J403>=1957,J403<1962),VLOOKUP(K403,Feuil2!$F$10:$P$28,6),IF(AND(J403>=1962,J403<1967),VLOOKUP(K403,Feuil2!$F$10:$P$28,5),IF(AND(J403>=1967,J403<1972),VLOOKUP(K403,Feuil2!$F$10:$P$28,4),IF(AND(J403>=1972,J403<1977),VLOOKUP(K403,Feuil2!$F$10:$P$28,3),IF(AND(J403>=1977,J403<1982),VLOOKUP(K403,Feuil2!$F$10:$P$28,2),VLOOKUP(K403,Feuil2!$F$10:$P$28,2))))))))))))","v":{"$error":"#N/A"}},null,{"$f":"T403-HLOOKUP(Y403,Feuil2!$C$1:$CD$9,2,FALSE)","v":{"$error":"#VALUE!"}},{"$f":"T403-HLOOKUP(Y403,Feuil2!$C$1:$CD$9,3,FALSE)","v":{"$error":"#VALUE!"}},{"$f":"T403-HLOOKUP(Y403,Feuil2!$C$1:$CD$9,4,FALSE)","v":{"$error":"#VALUE!"}},{"$f":"T403-HLOOKUP(Y403,Feuil2!$C$1:$CD$9,5,FALSE)","v":{"$error":"#VALUE!"}},{"$f":"T403-HLOOKUP(Y403,Feuil2!$C$1:$CD$9,6,FALSE)","v":{"$error":"#VALUE!"}},{"$f":"T403-HLOOKUP(Y403,Feuil2!$C$1:$CD$9,7,FALSE)","v":{"$error":"#VALUE!"}},{"$f":"T403-HLOOKUP(Y403,Feuil2!$C$1:$CD$9,8,FALSE)","v":{"$error":"#VALUE!"}},{"$f":"T403-HLOOKUP(Y403,Feuil2!$C$1:$CD$9,9,FALSE)","v":{"$error":"#VALUE!"}},null,null,null,null,null,null,null,{"$error":"#VALUE!"},2016,null,{"$f":"IF(AQ403,VLOOKUP(AQ403,HOM!$AS$561:$AT$616,2))","v":3.5710000000000002}]
["H",null,null,null,null,null,null,null,null,null,null,null,null,null,"",null,null,null,"","","","","",{"$error":"#N/A"},{"$f":"IF(AND(J404<1920),VLOOKUP(K404,Feuil2!$F$10:$P$28,11),IF(AND(J404>=1920,J404<1937),VLOOKUP(K404,Feuil2!$F$10:$P$28,11),IF(AND(J404>=1936,J404<1942),VLOOKUP(K404,Feuil2!$F$10:$P$28,10),IF(AND(J404>=1942,J404<1947),VLOOKUP(K404,Feuil2!$F$10:$P$28,9),IF(AND(J404>=1947,J404<1952),VLOOKUP(K404,Feuil2!$F$10:$P$28,8),IF(AND(J404>=1952,J404<1957),VLOOKUP(K404,Feuil2!$F$10:$P$28,7),IF(AND(J404>=1957,J404<1962),VLOOKUP(K404,Feuil2!$F$10:$P$28,6),IF(AND(J404>=1962,J404<1967),VLOOKUP(K404,Feuil2!$F$10:$P$28,5),IF(AND(J404>=1967,J404<1972),VLOOKUP(K404,Feuil2!$F$10:$P$28,4),IF(AND(J404>=1972,J404<1977),VLOOKUP(K404,Feuil2!$F$10:$P$28,3),IF(AND(J404>=1977,J404<1982),VLOOKUP(K404,Feuil2!$F$10:$P$28,2),VLOOKUP(K404,Feuil2!$F$10:$P$28,2))))))))))))","v":{"$error":"#N/A"}},null,{"$f":"T404-HLOOKUP(Y404,Feuil2!$C$1:$CD$9,2,FALSE)","v":{"$error":"#VALUE!"}},{"$f":"T404-HLOOKUP(Y404,Feuil2!$C$1:$CD$9,3,FALSE)","v":{"$error":"#VALUE!"}},{"$f":"T404-HLOOKUP(Y404,Feuil2!$C$1:$CD$9,4,FALSE)","v":{"$error":"#VALUE!"}},{"$f":"T404-HLOOKUP(Y404,Feuil2!$C$1:$CD$9,5,FALSE)","v":{"$error":"#VALUE!"}},{"$f":"T404-HLOOKUP(Y404,Feuil2!$C$1:$CD$9,6,FALSE)","v":{"$error":"#VALUE!"}},{"$f":"T404-HLOOKUP(Y404,Feuil2!$C$1:$CD$9,7,FALSE)","v":{"$error":"#VALUE!"}},{"$f":"T404-HLOOKUP(Y404,Feuil2!$C$1:$CD$9,8,FALSE)","v":{"$error":"#VALUE!"}},{"$f":"T404-HLOOKUP(Y404,Feuil2!$C$1:$CD$9,9,FALSE)","v":{"$error":"#VALUE!"}},null,null,null,null,null,null,null,{"$error":"#VALUE!"},2016,null,{"$f":"IF(AQ404,VLOOKUP(AQ404,HOM!$AS$561:$AT$616,2))","v":3.5710000000000002}]
["H",null,null,null,null,null,null,null,null,null,null,null,null,null,"",null,null,null,"","","","","",{"$error":"#N/A"},{"$f":"IF(AND(J405<1920),VLOOKUP(K405,Feuil2!$F$10:$P$28,11),IF(AND(J405>=1920,J405<1937),VLOOKUP(K405,Feuil2!$F$10:$P$28,11),IF(AND(J405>=1936,J405<1942),VLOOKUP(K405,Feuil2!$F$10:$P$28,10),IF(AND(J405>=1942,J405<1947),VLOOKUP(K405,Feuil2!$F$10:$P$28,9),IF(AND(J405>=1947,J405<1952),VLOOKUP(K405,Feuil2!$F$10:$P$28,8),IF(AND(J405>=1952,J405<1957),VLOOKUP(K405,Feuil2!$F$10:$P$28,7),IF(AND(J405>=1957,J405<1962),VLOOKUP(K405,Feuil2!$F$10:$P$28,6),IF(AND(J405>=1962,J405<1967),VLOOKUP(K405,Feuil2!$F$10:$P$28,5),IF(AND(J405>=1967,J405<1972),VLOOKUP(K405,Feuil2!$F$10:$P$28,4),IF(AND(J405>=1972,J405<1977),VLOOKUP(K405,Feuil2!$F$10:$P$28,3),IF(AND(J405>=1977,J405<1982),VLOOKUP(K405,Feuil2!$F$10:$P$28,2),VLOOKUP(K405,Feuil2!$F$10:$P$28,2))))))))))))","v":{"$error":"#N/A"}},null,{"$f":"T405-HLOOKUP(Y405,Feuil2!$C$1:$CD$9,2,FALSE)","v":{"$error":"#VALUE!"}},{"$f":"T405-HLOOKUP(Y405,Feuil2!$C$1:$CD$9,3,FALSE)","v":{"$error":"#VALUE!"}},{"$f":"T405-HLOOKUP(Y405,Feuil2!$C$1:$CD$9,4,FALSE)","v":{"$error":"#VALUE!"}},{"$f":"T405-HLOOKUP(Y405,Feuil2!$C$1:$CD$9,5,FALSE)","v":{"$error":"#VALUE!"}},{"$f":"T405-HLOOKUP(Y405,Feuil2!$C$1:$CD$9,6,FALSE)","v":{"$error":"#VALUE!"}},{"$f":"T405-HLOOKUP(Y405,Feuil2!$C$1:$CD$9,7,FALSE)","v":{"$error":"#VALUE!"}},{"$f":"T405-HLOOKUP(Y405,Feuil2!$C$1:$CD$9,8,FALSE)","v":{"$error":"#VALUE!"}},{"$f":"T405-HLOOKUP(Y405,Feuil2!$C$1:$CD$9,9,FALSE)","v":{"$error":"#VALUE!"}},null,null,null,null,null,null,null,{"$error":"#VALUE!"},2016,null,{"$f":"IF(AQ405,VLOOKUP(AQ405,HOM!$AS$561:$AT$616,2))","v":3.5710000000000002}]
["H",null,null,null,null,null,null,null,null,null,null,null,null,null,"",null,null,null,"","","","","",{"$error":"#N/A"},{"$f":"IF(AND(J406<1920),VLOOKUP(K406,Feuil2!$F$10:$P$28,11),IF(AND(J406>=1920,J406<1937),VLOOKUP(K406,Feuil2!$F$10:$P$28,11),IF(AND(J406>=1936,J406<1942),VLOOKUP(K406,Feuil2!$F$10:$P$28,10),IF(AND(J406>=1942,J406<1947),VLOOKUP(K406,Feuil2!$F$10:$P$28,9),IF(AND(J406>=1947,J406<1952),VLOOKUP(K406,Feuil2!$F$10:$P$28,8),IF(AND(J406>=1952,J406<1957),VLOOKUP(K406,Feuil2!$F$10:$P$28,7),IF(AND(J406>=1957,J406<1962),VLOOKUP(K406,Feuil2!$F$10:$P$28,6),IF(AND(J406>=1962,J406<1967),VLOOKUP(K406,Feuil2!$F$10:$P$28,5),IF(AND(J406>=1967,J406<1972),VLOOKUP(K406,Feuil2!$F$10:$P$28,4),IF(AND(J406>=1972,J406<1977),VLOOKUP(K406,Feuil2!$F$10:$P$28,3),IF(AND(J406>=1977,J406<1982),VLOOKUP(K406,Feuil2!$F$10:$P$28,2),VLOOKUP(K406,Feuil2!$F$10:$P$28,2))))))))))))","v":{"$error":"#N/A"}},null,{"$f":"T406-HLOOKUP(Y406,Feuil2!$C$1:$CD$9,2,FALSE)","v":{"$error":"#VALUE!"}},{"$f":"T406-HLOOKUP(Y406,Feuil2!$C$1:$CD$9,3,FALSE)","v":{"$error":"#VALUE!"}},{"$f":"T406-HLOOKUP(Y406,Feuil2!$C$1:$CD$9,4,FALSE)","v":{"$error":"#VALUE!"}},{"$f":"T406-HLOOKUP(Y406,Feuil2!$C$1:$CD$9,5,FALSE)","v":{"$error":"#VALUE!"}},{"$f":"T406-HLOOKUP(Y406,Feuil2!$C$1:$CD$9,6,FALSE)","v":{"$error":"#VALUE!"}},{"$f":"T406-HLOOKUP(Y406,Feuil2!$C$1:$CD$9,7,FALSE)","v":{"$error":"#VALUE!"}},{"$f":"T406-HLOOKUP(Y406,Feuil2!$C$1:$CD$9,8,FALSE)","v":{"$error":"#VALUE!"}},{"$f":"T406-HLOOKUP(Y406,Feuil2!$C$1:$CD$9,9,FALSE)","v":{"$error":"#VALUE!"}},null,null,null,null,null,null,null,{"$error":"#VALUE!"},2016,null,{"$f":"IF(AQ406,VLOOKUP(AQ406,HOM!$AS$561:$AT$616,2))","v":3.5710000000000002}]
["H",null,null,null,null,null,null,null,null,null,null,null,null,null,"",null,null,null,"","","","","",{"$error":"#N/A"},{"$f":"IF(AND(J407<1920),VLOOKUP(K407,Feuil2!$F$10:$P$28,11),IF(AND(J407>=1920,J407<1937),VLOOKUP(K407,Feuil2!$F$10:$P$28,11),IF(AND(J407>=1936,J407<1942),VLOOKUP(K407,Feuil2!$F$10:$P$28,10),IF(AND(J407>=1942,J407<1947),VLOOKUP(K407,Feuil2!$F$10:$P$28,9),IF(AND(J407>=1947,J407<1952),VLOOKUP(K407,Feuil2!$F$10:$P$28,8),IF(AND(J407>=1952,J407<1957),VLOOKUP(K407,Feuil2!$F$10:$P$28,7),IF(AND(J407>=1957,J407<1962),VLOOKUP(K407,Feuil2!$F$10:$P$28,6),IF(AND(J407>=1962,J407<1967),VLOOKUP(K407,Feuil2!$F$10:$P$28,5),IF(AND(J407>=1967,J407<1972),VLOOKUP(K407,Feuil2!$F$10:$P$28,4),IF(AND(J407>=1972,J407<1977),VLOOKUP(K407,Feuil2!$F$10:$P$28,3),IF(AND(J407>=1977,J407<1982),VLOOKUP(K407,Feuil2!$F$10:$P$28,2),VLOOKUP(K407,Feuil2!$F$10:$P$28,2))))))))))))","v":{"$error":"#N/A"}},null,{"$f":"T407-HLOOKUP(Y407,Feuil2!$C$1:$CD$9,2,FALSE)","v":{"$error":"#VALUE!"}},{"$f":"T407-HLOOKUP(Y407,Feuil2!$C$1:$CD$9,3,FALSE)","v":{"$error":"#VALUE!"}},{"$f":"T407-HLOOKUP(Y407,Feuil2!$C$1:$CD$9,4,FALSE)","v":{"$error":"#VALUE!"}},{"$f":"T407-HLOOKUP(Y407,Feuil2!$C$1:$CD$9,5,FALSE)","v":{"$error":"#VALUE!"}},{"$f":"T407-HLOOKUP(Y407,Feuil2!$C$1:$CD$9,6,FALSE)","v":{"$error":"#VALUE!"}},{"$f":"T407-HLOOKUP(Y407,Feuil2!$C$1:$CD$9,7,FALSE)","v":{"$error":"#VALUE!"}},{"$f":"T407-HLOOKUP(Y407,Feuil2!$C$1:$CD$9,8,FALSE)","v":{"$error":"#VALUE!"}},{"$f":"T407-HLOOKUP(Y407,Feuil2!$C$1:$CD$9,9,FALSE)","v":{"$error":"#VALUE!"}},null,null,null,null,null,null,null,{"$error":"#VALUE!"},2016,null,{"$f":"IF(AQ407,VLOOKUP(AQ407,HOM!$AS$561:$AT$616,2))","v":3.5710000000000002}]
["H",null,null,null,null,null,null,null,null,null,null,null,null,null,"",null,null,null,"","","","","",{"$error":"#N/A"},{"$f":"IF(AND(J408<1920),VLOOKUP(K408,Feuil2!$F$10:$P$28,11),IF(AND(J408>=1920,J408<1937),VLOOKUP(K408,Feuil2!$F$10:$P$28,11),IF(AND(J408>=1936,J408<1942),VLOOKUP(K408,Feuil2!$F$10:$P$28,10),IF(AND(J408>=1942,J408<1947),VLOOKUP(K408,Feuil2!$F$10:$P$28,9),IF(AND(J408>=1947,J408<1952),VLOOKUP(K408,Feuil2!$F$10:$P$28,8),IF(AND(J408>=1952,J408<1957),VLOOKUP(K408,Feuil2!$F$10:$P$28,7),IF(AND(J408>=1957,J408<1962),VLOOKUP(K408,Feuil2!$F$10:$P$28,6),IF(AND(J408>=1962,J408<1967),VLOOKUP(K408,Feuil2!$F$10:$P$28,5),IF(AND(J408>=1967,J408<1972),VLOOKUP(K408,Feuil2!$F$10:$P$28,4),IF(AND(J408>=1972,J408<1977),VLOOKUP(K408,Feuil2!$F$10:$P$28,3),IF(AND(J408>=1977,J408<1982),VLOOKUP(K408,Feuil2!$F$10:$P$28,2),VLOOKUP(K408,Feuil2!$F$10:$P$28,2))))))))))))","v":{"$error":"#N/A"}},null,{"$f":"T408-HLOOKUP(Y408,Feuil2!$C$1:$CD$9,2,FALSE)","v":{"$error":"#VALUE!"}},{"$f":"T408-HLOOKUP(Y408,Feuil2!$C$1:$CD$9,3,FALSE)","v":{"$error":"#VALUE!"}},{"$f":"T408-HLOOKUP(Y408,Feuil2!$C$1:$CD$9,4,FALSE)","v":{"$error":"#VALUE!"}},{"$f":"T408-HLOOKUP(Y408,Feuil2!$C$1:$CD$9,5,FALSE)","v":{"$error":"#VALUE!"}},{"$f":"T408-HLOOKUP(Y408,Feuil2!$C$1:$CD$9,6,FALSE)","v":{"$error":"#VALUE!"}},{"$f":"T408-HLOOKUP(Y408,Feuil2!$C$1:$CD$9,7,FALSE)","v":{"$error":"#VALUE!"}},{"$f":"T408-HLOOKUP(Y408,Feuil2!$C$1:$CD$9,8,FALSE)","v":{"$error":"#VALUE!"}},{"$f":"T408-HLOOKUP(Y408,Feuil2!$C$1:$CD$9,9,FALSE)","v":{"$error":"#VALUE!"}},null,null,null,null,null,null,null,{"$error":"#VALUE!"},2016,null,{"$f":"IF(AQ408,VLOOKUP(AQ408,HOM!$AS$561:$AT$616,2))","v":3.5710000000000002}]
["H",null,null,null,null,null,null,null," ",null,null,null,null,null,"",null,null,null,"","","","","",{"$error":"#N/A"},{"$f":"IF(AND(J409<1920),VLOOKUP(K409,Feuil2!$F$10:$P$28,11),IF(AND(J409>=1920,J409<1937),VLOOKUP(K409,Feuil2!$F$10:$P$28,11),IF(AND(J409>=1936,J409<1942),VLOOKUP(K409,Feuil2!$F$10:$P$28,10),IF(AND(J409>=1942,J409<1947),VLOOKUP(K409,Feuil2!$F$10:$P$28,9),IF(AND(J409>=1947,J409<1952),VLOOKUP(K409,Feuil2!$F$10:$P$28,8),IF(AND(J409>=1952,J409<1957),VLOOKUP(K409,Feuil2!$F$10:$P$28,7),IF(AND(J409>=1957,J409<1962),VLOOKUP(K409,Feuil2!$F$10:$P$28,6),IF(AND(J409>=1962,J409<1967),VLOOKUP(K409,Feuil2!$F$10:$P$28,5),IF(AND(J409>=1967,J409<1972),VLOOKUP(K409,Feuil2!$F$10:$P$28,4),IF(AND(J409>=1972,J409<1977),VLOOKUP(K409,Feuil2!$F$10:$P$28,3),IF(AND(J409>=1977,J409<1982),VLOOKUP(K409,Feuil2!$F$10:$P$28,2),VLOOKUP(K409,Feuil2!$F$10:$P$28,2))))))))))))","v":{"$error":"#N/A"}},null,{"$f":"T409-HLOOKUP(Y409,Feuil2!$C$1:$CD$9,2,FALSE)","v":{"$error":"#VALUE!"}},{"$f":"T409-HLOOKUP(Y409,Feuil2!$C$1:$CD$9,3,FALSE)","v":{"$error":"#VALUE!"}},{"$f":"T409-HLOOKUP(Y409,Feuil2!$C$1:$CD$9,4,FALSE)","v":{"$error":"#VALUE!"}},{"$f":"T409-HLOOKUP(Y409,Feuil2!$C$1:$CD$9,5,FALSE)","v":{"$error":"#VALUE!"}},{"$f":"T409-HLOOKUP(Y409,Feuil2!$C$1:$CD$9,6,FALSE)","v":{"$error":"#VALUE!"}},{"$f":"T409-HLOOKUP(Y409,Feuil2!$C$1:$CD$9,7,FALSE)","v":{"$error":"#VALUE!"}},{"$f":"T409-HLOOKUP(Y409,Feuil2!$C$1:$CD$9,8,FALSE)","v":{"$error":"#VALUE!"}},{"$f":"T409-HLOOKUP(Y409,Feuil2!$C$1:$CD$9,9,FALSE)","v":{"$error":"#VALUE!"}},null,null,null,null,null,null,null,{"$error":"#VALUE!"},2016,null,{"$f":"IF(AQ409,VLOOKUP(AQ409,HOM!$AS$561:$AT$616,2))","v":3.5710000000000002}]
["H",null,null,null,null,null,null,null," ",null,null,null,null,null,"",null,null,null,"","","","","",{"$error":"#N/A"},{"$f":"IF(AND(J410<1920),VLOOKUP(K410,Feuil2!$F$10:$P$28,11),IF(AND(J410>=1920,J410<1937),VLOOKUP(K410,Feuil2!$F$10:$P$28,11),IF(AND(J410>=1936,J410<1942),VLOOKUP(K410,Feuil2!$F$10:$P$28,10),IF(AND(J410>=1942,J410<1947),VLOOKUP(K410,Feuil2!$F$10:$P$28,9),IF(AND(J410>=1947,J410<1952),VLOOKUP(K410,Feuil2!$F$10:$P$28,8),IF(AND(J410>=1952,J410<1957),VLOOKUP(K410,Feuil2!$F$10:$P$28,7),IF(AND(J410>=1957,J410<1962),VLOOKUP(K410,Feuil2!$F$10:$P$28,6),IF(AND(J410>=1962,J410<1967),VLOOKUP(K410,Feuil2!$F$10:$P$28,5),IF(AND(J410>=1967,J410<1972),VLOOKUP(K410,Feuil2!$F$10:$P$28,4),IF(AND(J410>=1972,J410<1977),VLOOKUP(K410,Feuil2!$F$10:$P$28,3),IF(AND(J410>=1977,J410<1982),VLOOKUP(K410,Feuil2!$F$10:$P$28,2),VLOOKUP(K410,Feuil2!$F$10:$P$28,2))))))))))))","v":{"$error":"#N/A"}},null,{"$f":"T410-HLOOKUP(Y410,Feuil2!$C$1:$CD$9,2,FALSE)","v":{"$error":"#VALUE!"}},{"$f":"T410-HLOOKUP(Y410,Feuil2!$C$1:$CD$9,3,FALSE)","v":{"$error":"#VALUE!"}},{"$f":"T410-HLOOKUP(Y410,Feuil2!$C$1:$CD$9,4,FALSE)","v":{"$error":"#VALUE!"}},{"$f":"T410-HLOOKUP(Y410,Feuil2!$C$1:$CD$9,5,FALSE)","v":{"$error":"#VALUE!"}},{"$f":"T410-HLOOKUP(Y410,Feuil2!$C$1:$CD$9,6,FALSE)","v":{"$error":"#VALUE!"}},{"$f":"T410-HLOOKUP(Y410,Feuil2!$C$1:$CD$9,7,FALSE)","v":{"$error":"#VALUE!"}},{"$f":"T410-HLOOKUP(Y410,Feuil2!$C$1:$CD$9,8,FALSE)","v":{"$error":"#VALUE!"}},{"$f":"T410-HLOOKUP(Y410,Feuil2!$C$1:$CD$9,9,FALSE)","v":{"$error":"#VALUE!"}},null,null,null,null,null,null,null,{"$error":"#VALUE!"},2016,null,{"$f":"IF(AQ410,VLOOKUP(AQ410,HOM!$AS$561:$AT$616,2))","v":3.5710000000000002}]
["H",null,null,null,null," ",null,null," ",null,null,null,null,null,"",null,null,null,"","","","","",{"$error":"#N/A"},{"$f":"IF(AND(J411<1920),VLOOKUP(K411,Feuil2!$F$10:$P$28,11),IF(AND(J411>=1920,J411<1937),VLOOKUP(K411,Feuil2!$F$10:$P$28,11),IF(AND(J411>=1936,J411<1942),VLOOKUP(K411,Feuil2!$F$10:$P$28,10),IF(AND(J411>=1942,J411<1947),VLOOKUP(K411,Feuil2!$F$10:$P$28,9),IF(AND(J411>=1947,J411<1952),VLOOKUP(K411,Feuil2!$F$10:$P$28,8),IF(AND(J411>=1952,J411<1957),VLOOKUP(K411,Feuil2!$F$10:$P$28,7),IF(AND(J411>=1957,J411<1962),VLOOKUP(K411,Feuil2!$F$10:$P$28,6),IF(AND(J411>=1962,J411<1967),VLOOKUP(K411,Feuil2!$F$10:$P$28,5),IF(AND(J411>=1967,J411<1972),VLOOKUP(K411,Feuil2!$F$10:$P$28,4),IF(AND(J411>=1972,J411<1977),VLOOKUP(K411,Feuil2!$F$10:$P$28,3),IF(AND(J411>=1977,J411<1982),VLOOKUP(K411,Feuil2!$F$10:$P$28,2),VLOOKUP(K411,Feuil2!$F$10:$P$28,2))))))))))))","v":{"$error":"#N/A"}},null,{"$f":"T411-HLOOKUP(Y411,Feuil2!$C$1:$CD$9,2,FALSE)","v":{"$error":"#VALUE!"}},{"$f":"T411-HLOOKUP(Y411,Feuil2!$C$1:$CD$9,3,FALSE)","v":{"$error":"#VALUE!"}},{"$f":"T411-HLOOKUP(Y411,Feuil2!$C$1:$CD$9,4,FALSE)","v":{"$error":"#VALUE!"}},{"$f":"T411-HLOOKUP(Y411,Feuil2!$C$1:$CD$9,5,FALSE)","v":{"$error":"#VALUE!"}},{"$f":"T411-HLOOKUP(Y411,Feuil2!$C$1:$CD$9,6,FALSE)","v":{"$error":"#VALUE!"}},{"$f":"T411-HLOOKUP(Y411,Feuil2!$C$1:$CD$9,7,FALSE)","v":{"$error":"#VALUE!"}},{"$f":"T411-HLOOKUP(Y411,Feuil2!$C$1:$CD$9,8,FALSE)","v":{"$error":"#VALUE!"}},{"$f":"T411-HLOOKUP(Y411,Feuil2!$C$1:$CD$9,9,FALSE)","v":{"$error":"#VALUE!"}},null,null,null,null,null,null,null,{"$error":"#VALUE!"},2016,null,{"$f":"IF(AQ411,VLOOKUP(AQ411,HOM!$AS$561:$AT$616,2))","v":3.5710000000000002}]
["H",null,null,null,null,null,null,null," ",null,null,null,null,null,"",null,null,null,"","","","","",{"$error":"#N/A"},{"$f":"IF(AND(J412<1920),VLOOKUP(K412,Feuil2!$F$10:$P$28,11),IF(AND(J412>=1920,J412<1937),VLOOKUP(K412,Feuil2!$F$10:$P$28,11),IF(AND(J412>=1936,J412<1942),VLOOKUP(K412,Feuil2!$F$10:$P$28,10),IF(AND(J412>=1942,J412<1947),VLOOKUP(K412,Feuil2!$F$10:$P$28,9),IF(AND(J412>=1947,J412<1952),VLOOKUP(K412,Feuil2!$F$10:$P$28,8),IF(AND(J412>=1952,J412<1957),VLOOKUP(K412,Feuil2!$F$10:$P$28,7),IF(AND(J412>=1957,J412<1962),VLOOKUP(K412,Feuil2!$F$10:$P$28,6),IF(AND(J412>=1962,J412<1967),VLOOKUP(K412,Feuil2!$F$10:$P$28,5),IF(AND(J412>=1967,J412<1972),VLOOKUP(K412,Feuil2!$F$10:$P$28,4),IF(AND(J412>=1972,J412<1977),VLOOKUP(K412,Feuil2!$F$10:$P$28,3),IF(AND(J412>=1977,J412<1982),VLOOKUP(K412,Feuil2!$F$10:$P$28,2),VLOOKUP(K412,Feuil2!$F$10:$P$28,2))))))))))))","v":{"$error":"#N/A"}},null,{"$f":"T412-HLOOKUP(Y412,Feuil2!$C$1:$CD$9,2,FALSE)","v":{"$error":"#VALUE!"}},{"$f":"T412-HLOOKUP(Y412,Feuil2!$C$1:$CD$9,3,FALSE)","v":{"$error":"#VALUE!"}},{"$f":"T412-HLOOKUP(Y412,Feuil2!$C$1:$CD$9,4,FALSE)","v":{"$error":"#VALUE!"}},{"$f":"T412-HLOOKUP(Y412,Feuil2!$C$1:$CD$9,5,FALSE)","v":{"$error":"#VALUE!"}},{"$f":"T412-HLOOKUP(Y412,Feuil2!$C$1:$CD$9,6,FALSE)","v":{"$error":"#VALUE!"}},{"$f":"T412-HLOOKUP(Y412,Feuil2!$C$1:$CD$9,7,FALSE)","v":{"$error":"#VALUE!"}},{"$f":"T412-HLOOKUP(Y412,Feuil2!$C$1:$CD$9,8,FALSE)","v":{"$error":"#VALUE!"}},{"$f":"T412-HLOOKUP(Y412,Feuil2!$C$1:$CD$9,9,FALSE)","v":{"$error":"#VALUE!"}},null,null,null,null,null,null,null,{"$error":"#VALUE!"},2016,null,{"$f":"IF(AQ412,VLOOKUP(AQ412,HOM!$AS$561:$AT$616,2))","v":3.5710000000000002}]
["H",null,null,null,null,null,null,null," ",null,null,null,null,null,"",null,null,null,"","","","","",{"$error":"#N/A"},{"$f":"IF(AND(J413<1920),VLOOKUP(K413,Feuil2!$F$10:$P$28,11),IF(AND(J413>=1920,J413<1937),VLOOKUP(K413,Feuil2!$F$10:$P$28,11),IF(AND(J413>=1936,J413<1942),VLOOKUP(K413,Feuil2!$F$10:$P$28,10),IF(AND(J413>=1942,J413<1947),VLOOKUP(K413,Feuil2!$F$10:$P$28,9),IF(AND(J413>=1947,J413<1952),VLOOKUP(K413,Feuil2!$F$10:$P$28,8),IF(AND(J413>=1952,J413<1957),VLOOKUP(K413,Feuil2!$F$10:$P$28,7),IF(AND(J413>=1957,J413<1962),VLOOKUP(K413,Feuil2!$F$10:$P$28,6),IF(AND(J413>=1962,J413<1967),VLOOKUP(K413,Feuil2!$F$10:$P$28,5),IF(AND(J413>=1967,J413<1972),VLOOKUP(K413,Feuil2!$F$10:$P$28,4),IF(AND(J413>=1972,J413<1977),VLOOKUP(K413,Feuil2!$F$10:$P$28,3),IF(AND(J413>=1977,J413<1982),VLOOKUP(K413,Feuil2!$F$10:$P$28,2),VLOOKUP(K413,Feuil2!$F$10:$P$28,2))))))))))))","v":{"$error":"#N/A"}},null,{"$f":"T413-HLOOKUP(Y413,Feuil2!$C$1:$CD$9,2,FALSE)","v":{"$error":"#VALUE!"}},{"$f":"T413-HLOOKUP(Y413,Feuil2!$C$1:$CD$9,3,FALSE)","v":{"$error":"#VALUE!"}},{"$f":"T413-HLOOKUP(Y413,Feuil2!$C$1:$CD$9,4,FALSE)","v":{"$error":"#VALUE!"}},{"$f":"T413-HLOOKUP(Y413,Feuil2!$C$1:$CD$9,5,FALSE)","v":{"$error":"#VALUE!"}},{"$f":"T413-HLOOKUP(Y413,Feuil2!$C$1:$CD$9,6,FALSE)","v":{"$error":"#VALUE!"}},{"$f":"T413-HLOOKUP(Y413,Feuil2!$C$1:$CD$9,7,FALSE)","v":{"$error":"#VALUE!"}},{"$f":"T413-HLOOKUP(Y413,Feuil2!$C$1:$CD$9,8,FALSE)","v":{"$error":"#VALUE!"}},{"$f":"T413-HLOOKUP(Y413,Feuil2!$C$1:$CD$9,9,FALSE)","v":{"$error":"#VALUE!"}},null,null,null,null,null,null,null,{"$error":"#VALUE!"},2016,null,{"$f":"IF(AQ413,VLOOKUP(AQ413,HOM!$AS$561:$AT$616,2))","v":3.5710000000000002}]
["H",null,null,null,null,null,null,null," ",null,null,null,null,null,"",null,null,null,"","","","","",{"$error":"#N/A"},{"$f":"IF(AND(J414<1920),VLOOKUP(K414,Feuil2!$F$10:$P$28,11),IF(AND(J414>=1920,J414<1937),VLOOKUP(K414,Feuil2!$F$10:$P$28,11),IF(AND(J414>=1936,J414<1942),VLOOKUP(K414,Feuil2!$F$10:$P$28,10),IF(AND(J414>=1942,J414<1947),VLOOKUP(K414,Feuil2!$F$10:$P$28,9),IF(AND(J414>=1947,J414<1952),VLOOKUP(K414,Feuil2!$F$10:$P$28,8),IF(AND(J414>=1952,J414<1957),VLOOKUP(K414,Feuil2!$F$10:$P$28,7),IF(AND(J414>=1957,J414<1962),VLOOKUP(K414,Feuil2!$F$10:$P$28,6),IF(AND(J414>=1962,J414<1967),VLOOKUP(K414,Feuil2!$F$10:$P$28,5),IF(AND(J414>=1967,J414<1972),VLOOKUP(K414,Feuil2!$F$10:$P$28,4),IF(AND(J414>=1972,J414<1977),VLOOKUP(K414,Feuil2!$F$10:$P$28,3),IF(AND(J414>=1977,J414<1982),VLOOKUP(K414,Feuil2!$F$10:$P$28,2),VLOOKUP(K414,Feuil2!$F$10:$P$28,2))))))))))))","v":{"$error":"#N/A"}},null,{"$f":"T414-HLOOKUP(Y414,Feuil2!$C$1:$CD$9,2,FALSE)","v":{"$error":"#VALUE!"}},{"$f":"T414-HLOOKUP(Y414,Feuil2!$C$1:$CD$9,3,FALSE)","v":{"$error":"#VALUE!"}},{"$f":"T414-HLOOKUP(Y414,Feuil2!$C$1:$CD$9,4,FALSE)","v":{"$error":"#VALUE!"}},{"$f":"T414-HLOOKUP(Y414,Feuil2!$C$1:$CD$9,5,FALSE)","v":{"$error":"#VALUE!"}},{"$f":"T414-HLOOKUP(Y414,Feuil2!$C$1:$CD$9,6,FALSE)","v":{"$error":"#VALUE!"}},{"$f":"T414-HLOOKUP(Y414,Feuil2!$C$1:$CD$9,7,FALSE)","v":{"$error":"#VALUE!"}},{"$f":"T414-HLOOKUP(Y414,Feuil2!$C$1:$CD$9,8,FALSE)","v":{"$error":"#VALUE!"}},{"$f":"T414-HLOOKUP(Y414,Feuil2!$C$1:$CD$9,9,FALSE)","v":{"$error":"#VALUE!"}},null,null,null,null,null,null,null,{"$error":"#VALUE!"},2016,null,{"$f":"IF(AQ414,VLOOKUP(AQ414,HOM!$AS$561:$AT$616,2))","v":3.5710000000000002}]
["H",null,null,null,null,null,null,null,null,null,null,null,null,null,{"$f":"IF(K415=\"\",\"\",IF(MAXA(L415:N415)<=0,0,MAXA(L415:N415)))","v":""},null,null,null,{"$f":"IF(K415=\"\",\"\",IF(MAXA(P415:R415)<=0,0,MAXA(P415:R415)))","v":""},{"$f":"IF(K415=\"\",\"\",IF(OR(O415=0,S415=0),0,O415+S415))","v":""},"","","",{"$error":"#N/A"},{"$f":"IF(AND(J415<1920),VLOOKUP(K415,Feuil2!$F$10:$P$28,11),IF(AND(J415>=1920,J415<1937),VLOOKUP(K415,Feuil2!$F$10:$P$28,11),IF(AND(J415>=1936,J415<1942),VLOOKUP(K415,Feuil2!$F$10:$P$28,10),IF(AND(J415>=1942,J415<1947),VLOOKUP(K415,Feuil2!$F$10:$P$28,9),IF(AND(J415>=1947,J415<1952),VLOOKUP(K415,Feuil2!$F$10:$P$28,8),IF(AND(J415>=1952,J415<1957),VLOOKUP(K415,Feuil2!$F$10:$P$28,7),IF(AND(J415>=1957,J415<1962),VLOOKUP(K415,Feuil2!$F$10:$P$28,6),IF(AND(J415>=1962,J415<1967),VLOOKUP(K415,Feuil2!$F$10:$P$28,5),IF(AND(J415>=1967,J415<1972),VLOOKUP(K415,Feuil2!$F$10:$P$28,4),IF(AND(J415>=1972,J415<1977),VLOOKUP(K415,Feuil2!$F$10:$P$28,3),IF(AND(J415>=1977,J415<1982),VLOOKUP(K415,Feuil2!$F$10:$P$28,2),VLOOKUP(K415,Feuil2!$F$10:$P$28,2))))))))))))","v":{"$error":"#N/A"}},null,{"$f":"T415-HLOOKUP(Y415,Feuil2!$C$1:$CD$9,2,FALSE)","v":{"$error":"#VALUE!"}},{"$f":"T415-HLOOKUP(Y415,Feuil2!$C$1:$CD$9,3,FALSE)","v":{"$error":"#VALUE!"}},{"$f":"T415-HLOOKUP(Y415,Feuil2!$C$1:$CD$9,4,FALSE)","v":{"$error":"#VALUE!"}},{"$f":"T415-HLOOKUP(Y415,Feuil2!$C$1:$CD$9,5,FALSE)","v":{"$error":"#VALUE!"}},{"$f":"T415-HLOOKUP(Y415,Feuil2!$C$1:$CD$9,6,FALSE)","v":{"$error":"#VALUE!"}},{"$f":"T415-HLOOKUP(Y415,Feuil2!$C$1:$CD$9,7,FALSE)","v":{"$error":"#VALUE!"}},{"$f":"T415-HLOOKUP(Y415,Feuil2!$C$1:$CD$9,8,FALSE)","v":{"$error":"#VALUE!"}},{"$f":"T415-HLOOKUP(Y415,Feuil2!$C$1:$CD$9,9,FALSE)","v":{"$error":"#VALUE!"}},null,null,null,null,null,null,null,{"$error":"#VALUE!"},2016,null,{"$f":"IF(AQ415,VLOOKUP(AQ415,HOM!$AS$561:$AT$616,2))","v":3.5710000000000002}]
["H",null,null,null,null,null,null,null,null,null,null,null,null,null,"",null,null,null,"","","","","",{"$error":"#N/A"},{"$f":"IF(AND(J416<1920),VLOOKUP(K416,Feuil2!$F$10:$P$28,11),IF(AND(J416>=1920,J416<1937),VLOOKUP(K416,Feuil2!$F$10:$P$28,11),IF(AND(J416>=1936,J416<1942),VLOOKUP(K416,Feuil2!$F$10:$P$28,10),IF(AND(J416>=1942,J416<1947),VLOOKUP(K416,Feuil2!$F$10:$P$28,9),IF(AND(J416>=1947,J416<1952),VLOOKUP(K416,Feuil2!$F$10:$P$28,8),IF(AND(J416>=1952,J416<1957),VLOOKUP(K416,Feuil2!$F$10:$P$28,7),IF(AND(J416>=1957,J416<1962),VLOOKUP(K416,Feuil2!$F$10:$P$28,6),IF(AND(J416>=1962,J416<1967),VLOOKUP(K416,Feuil2!$F$10:$P$28,5),IF(AND(J416>=1967,J416<1972),VLOOKUP(K416,Feuil2!$F$10:$P$28,4),IF(AND(J416>=1972,J416<1977),VLOOKUP(K416,Feuil2!$F$10:$P$28,3),IF(AND(J416>=1977,J416<1982),VLOOKUP(K416,Feuil2!$F$10:$P$28,2),VLOOKUP(K416,Feuil2!$F$10:$P$28,2))))))))))))","v":{"$error":"#N/A"}},null,{"$f":"T416-HLOOKUP(Y416,Feuil2!$C$1:$CD$9,2,FALSE)","v":{"$error":"#VALUE!"}},{"$f":"T416-HLOOKUP(Y416,Feuil2!$C$1:$CD$9,3,FALSE)","v":{"$error":"#VALUE!"}},{"$f":"T416-HLOOKUP(Y416,Feuil2!$C$1:$CD$9,4,FALSE)","v":{"$error":"#VALUE!"}},{"$f":"T416-HLOOKUP(Y416,Feuil2!$C$1:$CD$9,5,FALSE)","v":{"$error":"#VALUE!"}},{"$f":"T416-HLOOKUP(Y416,Feuil2!$C$1:$CD$9,6,FALSE)","v":{"$error":"#VALUE!"}},{"$f":"T416-HLOOKUP(Y416,Feuil2!$C$1:$CD$9,7,FALSE)","v":{"$error":"#VALUE!"}},{"$f":"T416-HLOOKUP(Y416,Feuil2!$C$1:$CD$9,8,FALSE)","v":{"$error":"#VALUE!"}},{"$f":"T416-HLOOKUP(Y416,Feuil2!$C$1:$CD$9,9,FALSE)","v":{"$error":"#VALUE!"}},null,null,null,null,null,null,null,{"$error":"#VALUE!"},2016,null,{"$f":"IF(AQ416,VLOOKUP(AQ416,HOM!$AS$561:$AT$616,2))","v":3.5710000000000002}]
["H",null,null,null,null,null,null,null,null,null,null,null,null,null,"",null,null,null,"","","","","",{"$error":"#N/A"},{"$f":"IF(AND(J417<1920),VLOOKUP(K417,Feuil2!$F$10:$P$28,11),IF(AND(J417>=1920,J417<1937),VLOOKUP(K417,Feuil2!$F$10:$P$28,11),IF(AND(J417>=1936,J417<1942),VLOOKUP(K417,Feuil2!$F$10:$P$28,10),IF(AND(J417>=1942,J417<1947),VLOOKUP(K417,Feuil2!$F$10:$P$28,9),IF(AND(J417>=1947,J417<1952),VLOOKUP(K417,Feuil2!$F$10:$P$28,8),IF(AND(J417>=1952,J417<1957),VLOOKUP(K417,Feuil2!$F$10:$P$28,7),IF(AND(J417>=1957,J417<1962),VLOOKUP(K417,Feuil2!$F$10:$P$28,6),IF(AND(J417>=1962,J417<1967),VLOOKUP(K417,Feuil2!$F$10:$P$28,5),IF(AND(J417>=1967,J417<1972),VLOOKUP(K417,Feuil2!$F$10:$P$28,4),IF(AND(J417>=1972,J417<1977),VLOOKUP(K417,Feuil2!$F$10:$P$28,3),IF(AND(J417>=1977,J417<1982),VLOOKUP(K417,Feuil2!$F$10:$P$28,2),VLOOKUP(K417,Feuil2!$F$10:$P$28,2))))))))))))","v":{"$error":"#N/A"}},null,{"$f":"T417-HLOOKUP(Y417,Feuil2!$C$1:$CD$9,2,FALSE)","v":{"$error":"#VALUE!"}},{"$f":"T417-HLOOKUP(Y417,Feuil2!$C$1:$CD$9,3,FALSE)","v":{"$error":"#VALUE!"}},{"$f":"T417-HLOOKUP(Y417,Feuil2!$C$1:$CD$9,4,FALSE)","v":{"$error":"#VALUE!"}},{"$f":"T417-HLOOKUP(Y417,Feuil2!$C$1:$CD$9,5,FALSE)","v":{"$error":"#VALUE!"}},{"$f":"T417-HLOOKUP(Y417,Feuil2!$C$1:$CD$9,6,FALSE)","v":{"$error":"#VALUE!"}},{"$f":"T417-HLOOKUP(Y417,Feuil2!$C$1:$CD$9,7,FALSE)","v":{"$error":"#VALUE!"}},{"$f":"T417-HLOOKUP(Y417,Feuil2!$C$1:$CD$9,8,FALSE)","v":{"$error":"#VALUE!"}},{"$f":"T417-HLOOKUP(Y417,Feuil2!$C$1:$CD$9,9,FALSE)","v":{"$error":"#VALUE!"}},null,null,null,null,null,null,null,{"$error":"#VALUE!"},2016,null,{"$f":"IF(AQ417,VLOOKUP(AQ417,HOM!$AS$561:$AT$616,2))","v":3.5710000000000002}]
["H",null,null,null,null,null,null,null,null,null,null,null,null,null,"",null,null,null,"","","","","",{"$error":"#N/A"},{"$f":"IF(AND(J418<1920),VLOOKUP(K418,Feuil2!$F$10:$P$28,11),IF(AND(J418>=1920,J418<1937),VLOOKUP(K418,Feuil2!$F$10:$P$28,11),IF(AND(J418>=1936,J418<1942),VLOOKUP(K418,Feuil2!$F$10:$P$28,10),IF(AND(J418>=1942,J418<1947),VLOOKUP(K418,Feuil2!$F$10:$P$28,9),IF(AND(J418>=1947,J418<1952),VLOOKUP(K418,Feuil2!$F$10:$P$28,8),IF(AND(J418>=1952,J418<1957),VLOOKUP(K418,Feuil2!$F$10:$P$28,7),IF(AND(J418>=1957,J418<1962),VLOOKUP(K418,Feuil2!$F$10:$P$28,6),IF(AND(J418>=1962,J418<1967),VLOOKUP(K418,Feuil2!$F$10:$P$28,5),IF(AND(J418>=1967,J418<1972),VLOOKUP(K418,Feuil2!$F$10:$P$28,4),IF(AND(J418>=1972,J418<1977),VLOOKUP(K418,Feuil2!$F$10:$P$28,3),IF(AND(J418>=1977,J418<1982),VLOOKUP(K418,Feuil2!$F$10:$P$28,2),VLOOKUP(K418,Feuil2!$F$10:$P$28,2))))))))))))","v":{"$error":"#N/A"}},null,{"$f":"T418-HLOOKUP(Y418,Feuil2!$C$1:$CD$9,2,FALSE)","v":{"$error":"#VALUE!"}},{"$f":"T418-HLOOKUP(Y418,Feuil2!$C$1:$CD$9,3,FALSE)","v":{"$error":"#VALUE!"}},{"$f":"T418-HLOOKUP(Y418,Feuil2!$C$1:$CD$9,4,FALSE)","v":{"$error":"#VALUE!"}},{"$f":"T418-HLOOKUP(Y418,Feuil2!$C$1:$CD$9,5,FALSE)","v":{"$error":"#VALUE!"}},{"$f":"T418-HLOOKUP(Y418,Feuil2!$C$1:$CD$9,6,FALSE)","v":{"$error":"#VALUE!"}},{"$f":"T418-HLOOKUP(Y418,Feuil2!$C$1:$CD$9,7,FALSE)","v":{"$error":"#VALUE!"}},{"$f":"T418-HLOOKUP(Y418,Feuil2!$C$1:$CD$9,8,FALSE)","v":{"$error":"#VALUE!"}},{"$f":"T418-HLOOKUP(Y418,Feuil2!$C$1:$CD$9,9,FALSE)","v":{"$error":"#VALUE!"}},null,null,null,null,null,null,null,{"$error":"#VALUE!"},2016,null,{"$f":"IF(AQ418,VLOOKUP(AQ418,HOM!$AS$561:$AT$616,2))","v":3.5710000000000002}]
["H",null,null,null,null,null,null,null,null,null,null,null,null,null,"",null,null,null,"","","","","",{"$error":"#N/A"},{"$f":"IF(AND(J419<1920),VLOOKUP(K419,Feuil2!$F$10:$P$28,11),IF(AND(J419>=1920,J419<1937),VLOOKUP(K419,Feuil2!$F$10:$P$28,11),IF(AND(J419>=1936,J419<1942),VLOOKUP(K419,Feuil2!$F$10:$P$28,10),IF(AND(J419>=1942,J419<1947),VLOOKUP(K419,Feuil2!$F$10:$P$28,9),IF(AND(J419>=1947,J419<1952),VLOOKUP(K419,Feuil2!$F$10:$P$28,8),IF(AND(J419>=1952,J419<1957),VLOOKUP(K419,Feuil2!$F$10:$P$28,7),IF(AND(J419>=1957,J419<1962),VLOOKUP(K419,Feuil2!$F$10:$P$28,6),IF(AND(J419>=1962,J419<1967),VLOOKUP(K419,Feuil2!$F$10:$P$28,5),IF(AND(J419>=1967,J419<1972),VLOOKUP(K419,Feuil2!$F$10:$P$28,4),IF(AND(J419>=1972,J419<1977),VLOOKUP(K419,Feuil2!$F$10:$P$28,3),IF(AND(J419>=1977,J419<1982),VLOOKUP(K419,Feuil2!$F$10:$P$28,2),VLOOKUP(K419,Feuil2!$F$10:$P$28,2))))))))))))","v":{"$error":"#N/A"}},null,{"$f":"T419-HLOOKUP(Y419,Feuil2!$C$1:$CD$9,2,FALSE)","v":{"$error":"#VALUE!"}},{"$f":"T419-HLOOKUP(Y419,Feuil2!$C$1:$CD$9,3,FALSE)","v":{"$error":"#VALUE!"}},{"$f":"T419-HLOOKUP(Y419,Feuil2!$C$1:$CD$9,4,FALSE)","v":{"$error":"#VALUE!"}},{"$f":"T419-HLOOKUP(Y419,Feuil2!$C$1:$CD$9,5,FALSE)","v":{"$error":"#VALUE!"}},{"$f":"T419-HLOOKUP(Y419,Feuil2!$C$1:$CD$9,6,FALSE)","v":{"$error":"#VALUE!"}},{"$f":"T419-HLOOKUP(Y419,Feuil2!$C$1:$CD$9,7,FALSE)","v":{"$error":"#VALUE!"}},{"$f":"T419-HLOOKUP(Y419,Feuil2!$C$1:$CD$9,8,FALSE)","v":{"$error":"#VALUE!"}},{"$f":"T419-HLOOKUP(Y419,Feuil2!$C$1:$CD$9,9,FALSE)","v":{"$error":"#VALUE!"}},null,null,null,null,null,null,null,{"$error":"#VALUE!"},2016,null,{"$f":"IF(AQ419,VLOOKUP(AQ419,HOM!$AS$561:$AT$616,2))","v":3.5710000000000002}]
["H",null,null,null,null,null,null,null,null,null,null,null,null,null,"",null,null,null,"","","","","",{"$error":"#N/A"},{"$f":"IF(AND(J420<1920),VLOOKUP(K420,Feuil2!$F$10:$P$28,11),IF(AND(J420>=1920,J420<1937),VLOOKUP(K420,Feuil2!$F$10:$P$28,11),IF(AND(J420>=1936,J420<1942),VLOOKUP(K420,Feuil2!$F$10:$P$28,10),IF(AND(J420>=1942,J420<1947),VLOOKUP(K420,Feuil2!$F$10:$P$28,9),IF(AND(J420>=1947,J420<1952),VLOOKUP(K420,Feuil2!$F$10:$P$28,8),IF(AND(J420>=1952,J420<1957),VLOOKUP(K420,Feuil2!$F$10:$P$28,7),IF(AND(J420>=1957,J420<1962),VLOOKUP(K420,Feuil2!$F$10:$P$28,6),IF(AND(J420>=1962,J420<1967),VLOOKUP(K420,Feuil2!$F$10:$P$28,5),IF(AND(J420>=1967,J420<1972),VLOOKUP(K420,Feuil2!$F$10:$P$28,4),IF(AND(J420>=1972,J420<1977),VLOOKUP(K420,Feuil2!$F$10:$P$28,3),IF(AND(J420>=1977,J420<1982),VLOOKUP(K420,Feuil2!$F$10:$P$28,2),VLOOKUP(K420,Feuil2!$F$10:$P$28,2))))))))))))","v":{"$error":"#N/A"}},null,{"$f":"T420-HLOOKUP(Y420,Feuil2!$C$1:$CD$9,2,FALSE)","v":{"$error":"#VALUE!"}},{"$f":"T420-HLOOKUP(Y420,Feuil2!$C$1:$CD$9,3,FALSE)","v":{"$error":"#VALUE!"}},{"$f":"T420-HLOOKUP(Y420,Feuil2!$C$1:$CD$9,4,FALSE)","v":{"$error":"#VALUE!"}},{"$f":"T420-HLOOKUP(Y420,Feuil2!$C$1:$CD$9,5,FALSE)","v":{"$error":"#VALUE!"}},{"$f":"T420-HLOOKUP(Y420,Feuil2!$C$1:$CD$9,6,FALSE)","v":{"$error":"#VALUE!"}},{"$f":"T420-HLOOKUP(Y420,Feuil2!$C$1:$CD$9,7,FALSE)","v":{"$error":"#VALUE!"}},{"$f":"T420-HLOOKUP(Y420,Feuil2!$C$1:$CD$9,8,FALSE)","v":{"$error":"#VALUE!"}},{"$f":"T420-HLOOKUP(Y420,Feuil2!$C$1:$CD$9,9,FALSE)","v":{"$error":"#VALUE!"}},null,null,null,null,null,null,null,{"$error":"#VALUE!"},2016,null,{"$f":"IF(AQ420,VLOOKUP(AQ420,HOM!$AS$561:$AT$616,2))","v":3.5710000000000002}]
["H",null,null,null,null,null,null,null,null,null,null,null,null,null,"",null,null,null,"","","","","",{"$error":"#N/A"},{"$f":"IF(AND(J421<1920),VLOOKUP(K421,Feuil2!$F$10:$P$28,11),IF(AND(J421>=1920,J421<1937),VLOOKUP(K421,Feuil2!$F$10:$P$28,11),IF(AND(J421>=1936,J421<1942),VLOOKUP(K421,Feuil2!$F$10:$P$28,10),IF(AND(J421>=1942,J421<1947),VLOOKUP(K421,Feuil2!$F$10:$P$28,9),IF(AND(J421>=1947,J421<1952),VLOOKUP(K421,Feuil2!$F$10:$P$28,8),IF(AND(J421>=1952,J421<1957),VLOOKUP(K421,Feuil2!$F$10:$P$28,7),IF(AND(J421>=1957,J421<1962),VLOOKUP(K421,Feuil2!$F$10:$P$28,6),IF(AND(J421>=1962,J421<1967),VLOOKUP(K421,Feuil2!$F$10:$P$28,5),IF(AND(J421>=1967,J421<1972),VLOOKUP(K421,Feuil2!$F$10:$P$28,4),IF(AND(J421>=1972,J421<1977),VLOOKUP(K421,Feuil2!$F$10:$P$28,3),IF(AND(J421>=1977,J421<1982),VLOOKUP(K421,Feuil2!$F$10:$P$28,2),VLOOKUP(K421,Feuil2!$F$10:$P$28,2))))))))))))","v":{"$error":"#N/A"}},null,{"$f":"T421-HLOOKUP(Y421,Feuil2!$C$1:$CD$9,2,FALSE)","v":{"$error":"#VALUE!"}},{"$f":"T421-HLOOKUP(Y421,Feuil2!$C$1:$CD$9,3,FALSE)","v":{"$error":"#VALUE!"}},{"$f":"T421-HLOOKUP(Y421,Feuil2!$C$1:$CD$9,4,FALSE)","v":{"$error":"#VALUE!"}},{"$f":"T421-HLOOKUP(Y421,Feuil2!$C$1:$CD$9,5,FALSE)","v":{"$error":"#VALUE!"}},{"$f":"T421-HLOOKUP(Y421,Feuil2!$C$1:$CD$9,6,FALSE)","v":{"$error":"#VALUE!"}},{"$f":"T421-HLOOKUP(Y421,Feuil2!$C$1:$CD$9,7,FALSE)","v":{"$error":"#VALUE!"}},{"$f":"T421-HLOOKUP(Y421,Feuil2!$C$1:$CD$9,8,FALSE)","v":{"$error":"#VALUE!"}},{"$f":"T421-HLOOKUP(Y421,Feuil2!$C$1:$CD$9,9,FALSE)","v":{"$error":"#VALUE!"}},null,null,null,null,null,null,null,{"$error":"#VALUE!"},2016,null,{"$f":"IF(AQ421,VLOOKUP(AQ421,HOM!$AS$561:$AT$616,2))","v":3.5710000000000002}]
["H",null,null,null,null,null,null,null,null,null,null,null,null,null,"",null,null,null,"","","","","",{"$error":"#N/A"},{"$f":"IF(AND(J422<1920),VLOOKUP(K422,Feuil2!$F$10:$P$28,11),IF(AND(J422>=1920,J422<1937),VLOOKUP(K422,Feuil2!$F$10:$P$28,11),IF(AND(J422>=1936,J422<1942),VLOOKUP(K422,Feuil2!$F$10:$P$28,10),IF(AND(J422>=1942,J422<1947),VLOOKUP(K422,Feuil2!$F$10:$P$28,9),IF(AND(J422>=1947,J422<1952),VLOOKUP(K422,Feuil2!$F$10:$P$28,8),IF(AND(J422>=1952,J422<1957),VLOOKUP(K422,Feuil2!$F$10:$P$28,7),IF(AND(J422>=1957,J422<1962),VLOOKUP(K422,Feuil2!$F$10:$P$28,6),IF(AND(J422>=1962,J422<1967),VLOOKUP(K422,Feuil2!$F$10:$P$28,5),IF(AND(J422>=1967,J422<1972),VLOOKUP(K422,Feuil2!$F$10:$P$28,4),IF(AND(J422>=1972,J422<1977),VLOOKUP(K422,Feuil2!$F$10:$P$28,3),IF(AND(J422>=1977,J422<1982),VLOOKUP(K422,Feuil2!$F$10:$P$28,2),VLOOKUP(K422,Feuil2!$F$10:$P$28,2))))))))))))","v":{"$error":"#N/A"}},null,{"$f":"T422-HLOOKUP(Y422,Feuil2!$C$1:$CD$9,2,FALSE)","v":{"$error":"#VALUE!"}},{"$f":"T422-HLOOKUP(Y422,Feuil2!$C$1:$CD$9,3,FALSE)","v":{"$error":"#VALUE!"}},{"$f":"T422-HLOOKUP(Y422,Feuil2!$C$1:$CD$9,4,FALSE)","v":{"$error":"#VALUE!"}},{"$f":"T422-HLOOKUP(Y422,Feuil2!$C$1:$CD$9,5,FALSE)","v":{"$error":"#VALUE!"}},{"$f":"T422-HLOOKUP(Y422,Feuil2!$C$1:$CD$9,6,FALSE)","v":{"$error":"#VALUE!"}},{"$f":"T422-HLOOKUP(Y422,Feuil2!$C$1:$CD$9,7,FALSE)","v":{"$error":"#VALUE!"}},{"$f":"T422-HLOOKUP(Y422,Feuil2!$C$1:$CD$9,8,FALSE)","v":{"$error":"#VALUE!"}},{"$f":"T422-HLOOKUP(Y422,Feuil2!$C$1:$CD$9,9,FALSE)","v":{"$error":"#VALUE!"}},null,null,null,null,null,null,null,{"$error":"#VALUE!"},2016,null,{"$f":"IF(AQ422,VLOOKUP(AQ422,HOM!$AS$561:$AT$616,2))","v":3.5710000000000002}]
["H",null,null,null,null,null,null,null,null,null,null,null,null,null,"",null,null,null,"","","","","",{"$error":"#N/A"},{"$f":"IF(AND(J423<1920),VLOOKUP(K423,Feuil2!$F$10:$P$28,11),IF(AND(J423>=1920,J423<1937),VLOOKUP(K423,Feuil2!$F$10:$P$28,11),IF(AND(J423>=1936,J423<1942),VLOOKUP(K423,Feuil2!$F$10:$P$28,10),IF(AND(J423>=1942,J423<1947),VLOOKUP(K423,Feuil2!$F$10:$P$28,9),IF(AND(J423>=1947,J423<1952),VLOOKUP(K423,Feuil2!$F$10:$P$28,8),IF(AND(J423>=1952,J423<1957),VLOOKUP(K423,Feuil2!$F$10:$P$28,7),IF(AND(J423>=1957,J423<1962),VLOOKUP(K423,Feuil2!$F$10:$P$28,6),IF(AND(J423>=1962,J423<1967),VLOOKUP(K423,Feuil2!$F$10:$P$28,5),IF(AND(J423>=1967,J423<1972),VLOOKUP(K423,Feuil2!$F$10:$P$28,4),IF(AND(J423>=1972,J423<1977),VLOOKUP(K423,Feuil2!$F$10:$P$28,3),IF(AND(J423>=1977,J423<1982),VLOOKUP(K423,Feuil2!$F$10:$P$28,2),VLOOKUP(K423,Feuil2!$F$10:$P$28,2))))))))))))","v":{"$error":"#N/A"}},null,{"$f":"T423-HLOOKUP(Y423,Feuil2!$C$1:$CD$9,2,FALSE)","v":{"$error":"#VALUE!"}},{"$f":"T423-HLOOKUP(Y423,Feuil2!$C$1:$CD$9,3,FALSE)","v":{"$error":"#VALUE!"}},{"$f":"T423-HLOOKUP(Y423,Feuil2!$C$1:$CD$9,4,FALSE)","v":{"$error":"#VALUE!"}},{"$f":"T423-HLOOKUP(Y423,Feuil2!$C$1:$CD$9,5,FALSE)","v":{"$error":"#VALUE!"}},{"$f":"T423-HLOOKUP(Y423,Feuil2!$C$1:$CD$9,6,FALSE)","v":{"$error":"#VALUE!"}},{"$f":"T423-HLOOKUP(Y423,Feuil2!$C$1:$CD$9,7,FALSE)","v":{"$error":"#VALUE!"}},{"$f":"T423-HLOOKUP(Y423,Feuil2!$C$1:$CD$9,8,FALSE)","v":{"$error":"#VALUE!"}},{"$f":"T423-HLOOKUP(Y423,Feuil2!$C$1:$CD$9,9,FALSE)","v":{"$error":"#VALUE!"}},null,null,null,null,null,null,null,{"$error":"#VALUE!"},2016,null,{"$f":"IF(AQ423,VLOOKUP(AQ423,HOM!$AS$561:$AT$616,2))","v":3.5710000000000002}]
["H",null,null,null,null," "," "," ",null,null,null,null,null,null,"",null,null,null,"","","","","",{"$error":"#N/A"},{"$f":"IF(AND(J424<1920),VLOOKUP(K424,Feuil2!$F$10:$P$28,11),IF(AND(J424>=1920,J424<1937),VLOOKUP(K424,Feuil2!$F$10:$P$28,11),IF(AND(J424>=1936,J424<1942),VLOOKUP(K424,Feuil2!$F$10:$P$28,10),IF(AND(J424>=1942,J424<1947),VLOOKUP(K424,Feuil2!$F$10:$P$28,9),IF(AND(J424>=1947,J424<1952),VLOOKUP(K424,Feuil2!$F$10:$P$28,8),IF(AND(J424>=1952,J424<1957),VLOOKUP(K424,Feuil2!$F$10:$P$28,7),IF(AND(J424>=1957,J424<1962),VLOOKUP(K424,Feuil2!$F$10:$P$28,6),IF(AND(J424>=1962,J424<1967),VLOOKUP(K424,Feuil2!$F$10:$P$28,5),IF(AND(J424>=1967,J424<1972),VLOOKUP(K424,Feuil2!$F$10:$P$28,4),IF(AND(J424>=1972,J424<1977),VLOOKUP(K424,Feuil2!$F$10:$P$28,3),IF(AND(J424>=1977,J424<1982),VLOOKUP(K424,Feuil2!$F$10:$P$28,2),VLOOKUP(K424,Feuil2!$F$10:$P$28,2))))))))))))","v":{"$error":"#N/A"}},null,{"$f":"T424-HLOOKUP(Y424,Feuil2!$C$1:$CD$9,2,FALSE)","v":{"$error":"#VALUE!"}},{"$f":"T424-HLOOKUP(Y424,Feuil2!$C$1:$CD$9,3,FALSE)","v":{"$error":"#VALUE!"}},{"$f":"T424-HLOOKUP(Y424,Feuil2!$C$1:$CD$9,4,FALSE)","v":{"$error":"#VALUE!"}},{"$f":"T424-HLOOKUP(Y424,Feuil2!$C$1:$CD$9,5,FALSE)","v":{"$error":"#VALUE!"}},{"$f":"T424-HLOOKUP(Y424,Feuil2!$C$1:$CD$9,6,FALSE)","v":{"$error":"#VALUE!"}},{"$f":"T424-HLOOKUP(Y424,Feuil2!$C$1:$CD$9,7,FALSE)","v":{"$error":"#VALUE!"}},{"$f":"T424-HLOOKUP(Y424,Feuil2!$C$1:$CD$9,8,FALSE)","v":{"$error":"#VALUE!"}},{"$f":"T424-HLOOKUP(Y424,Feuil2!$C$1:$CD$9,9,FALSE)","v":{"$error":"#VALUE!"}},null,null,null,null,null,null,null,{"$error":"#VALUE!"},2016,null,{"$f":"IF(AQ424,VLOOKUP(AQ424,HOM!$AS$561:$AT$616,2))","v":3.5710000000000002}]
["H",null,null,null,null," ",null,null,null,null,null,null,null,null,"",null,null,null,"","","","","",{"$error":"#N/A"},{"$f":"IF(AND(J425<1920),VLOOKUP(K425,Feuil2!$F$10:$P$28,11),IF(AND(J425>=1920,J425<1937),VLOOKUP(K425,Feuil2!$F$10:$P$28,11),IF(AND(J425>=1936,J425<1942),VLOOKUP(K425,Feuil2!$F$10:$P$28,10),IF(AND(J425>=1942,J425<1947),VLOOKUP(K425,Feuil2!$F$10:$P$28,9),IF(AND(J425>=1947,J425<1952),VLOOKUP(K425,Feuil2!$F$10:$P$28,8),IF(AND(J425>=1952,J425<1957),VLOOKUP(K425,Feuil2!$F$10:$P$28,7),IF(AND(J425>=1957,J425<1962),VLOOKUP(K425,Feuil2!$F$10:$P$28,6),IF(AND(J425>=1962,J425<1967),VLOOKUP(K425,Feuil2!$F$10:$P$28,5),IF(AND(J425>=1967,J425<1972),VLOOKUP(K425,Feuil2!$F$10:$P$28,4),IF(AND(J425>=1972,J425<1977),VLOOKUP(K425,Feuil2!$F$10:$P$28,3),IF(AND(J425>=1977,J425<1982),VLOOKUP(K425,Feuil2!$F$10:$P$28,2),VLOOKUP(K425,Feuil2!$F$10:$P$28,2))))))))))))","v":{"$error":"#N/A"}},null,{"$f":"T425-HLOOKUP(Y425,Feuil2!$C$1:$CD$9,2,FALSE)","v":{"$error":"#VALUE!"}},{"$f":"T425-HLOOKUP(Y425,Feuil2!$C$1:$CD$9,3,FALSE)","v":{"$error":"#VALUE!"}},{"$f":"T425-HLOOKUP(Y425,Feuil2!$C$1:$CD$9,4,FALSE)","v":{"$error":"#VALUE!"}},{"$f":"T425-HLOOKUP(Y425,Feuil2!$C$1:$CD$9,5,FALSE)","v":{"$error":"#VALUE!"}},{"$f":"T425-HLOOKUP(Y425,Feuil2!$C$1:$CD$9,6,FALSE)","v":{"$error":"#VALUE!"}},{"$f":"T425-HLOOKUP(Y425,Feuil2!$C$1:$CD$9,7,FALSE)","v":{"$error":"#VALUE!"}},{"$f":"T425-HLOOKUP(Y425,Feuil2!$C$1:$CD$9,8,FALSE)","v":{"$error":"#VALUE!"}},{"$f":"T425-HLOOKUP(Y425,Feuil2!$C$1:$CD$9,9,FALSE)","v":{"$error":"#VALUE!"}},null,null,null,null,null,null,null,{"$error":"#VALUE!"},2016,null,{"$f":"IF(AQ425,VLOOKUP(AQ425,HOM!$AS$561:$AT$616,2))","v":3.5710000000000002}]
["H",null,null,null,null,null,null,null,null,null,null,null,null,null,"",null,null,null,"","","","","",{"$error":"#N/A"},{"$f":"IF(AND(J426<1920),VLOOKUP(K426,Feuil2!$F$10:$P$28,11),IF(AND(J426>=1920,J426<1937),VLOOKUP(K426,Feuil2!$F$10:$P$28,11),IF(AND(J426>=1936,J426<1942),VLOOKUP(K426,Feuil2!$F$10:$P$28,10),IF(AND(J426>=1942,J426<1947),VLOOKUP(K426,Feuil2!$F$10:$P$28,9),IF(AND(J426>=1947,J426<1952),VLOOKUP(K426,Feuil2!$F$10:$P$28,8),IF(AND(J426>=1952,J426<1957),VLOOKUP(K426,Feuil2!$F$10:$P$28,7),IF(AND(J426>=1957,J426<1962),VLOOKUP(K426,Feuil2!$F$10:$P$28,6),IF(AND(J426>=1962,J426<1967),VLOOKUP(K426,Feuil2!$F$10:$P$28,5),IF(AND(J426>=1967,J426<1972),VLOOKUP(K426,Feuil2!$F$10:$P$28,4),IF(AND(J426>=1972,J426<1977),VLOOKUP(K426,Feuil2!$F$10:$P$28,3),IF(AND(J426>=1977,J426<1982),VLOOKUP(K426,Feuil2!$F$10:$P$28,2),VLOOKUP(K426,Feuil2!$F$10:$P$28,2))))))))))))","v":{"$error":"#N/A"}},null,{"$f":"T426-HLOOKUP(Y426,Feuil2!$C$1:$CD$9,2,FALSE)","v":{"$error":"#VALUE!"}},{"$f":"T426-HLOOKUP(Y426,Feuil2!$C$1:$CD$9,3,FALSE)","v":{"$error":"#VALUE!"}},{"$f":"T426-HLOOKUP(Y426,Feuil2!$C$1:$CD$9,4,FALSE)","v":{"$error":"#VALUE!"}},{"$f":"T426-HLOOKUP(Y426,Feuil2!$C$1:$CD$9,5,FALSE)","v":{"$error":"#VALUE!"}},{"$f":"T426-HLOOKUP(Y426,Feuil2!$C$1:$CD$9,6,FALSE)","v":{"$error":"#VALUE!"}},{"$f":"T426-HLOOKUP(Y426,Feuil2!$C$1:$CD$9,7,FALSE)","v":{"$error":"#VALUE!"}},{"$f":"T426-HLOOKUP(Y426,Feuil2!$C$1:$CD$9,8,FALSE)","v":{"$error":"#VALUE!"}},{"$f":"T426-HLOOKUP(Y426,Feuil2!$C$1:$CD$9,9,FALSE)","v":{"$error":"#VALUE!"}},null,null,null,null,null,null,null,{"$error":"#VALUE!"},2016,null,{"$f":"IF(AQ426,VLOOKUP(AQ426,HOM!$AS$561:$AT$616,2))","v":3.5710000000000002}]
["H",null,null,null,null,null,null,null,null,null,null,null,null,null,"",null,null,null,"","","","","",{"$error":"#N/A"},{"$f":"IF(AND(J427<1920),VLOOKUP(K427,Feuil2!$F$10:$P$28,11),IF(AND(J427>=1920,J427<1937),VLOOKUP(K427,Feuil2!$F$10:$P$28,11),IF(AND(J427>=1936,J427<1942),VLOOKUP(K427,Feuil2!$F$10:$P$28,10),IF(AND(J427>=1942,J427<1947),VLOOKUP(K427,Feuil2!$F$10:$P$28,9),IF(AND(J427>=1947,J427<1952),VLOOKUP(K427,Feuil2!$F$10:$P$28,8),IF(AND(J427>=1952,J427<1957),VLOOKUP(K427,Feuil2!$F$10:$P$28,7),IF(AND(J427>=1957,J427<1962),VLOOKUP(K427,Feuil2!$F$10:$P$28,6),IF(AND(J427>=1962,J427<1967),VLOOKUP(K427,Feuil2!$F$10:$P$28,5),IF(AND(J427>=1967,J427<1972),VLOOKUP(K427,Feuil2!$F$10:$P$28,4),IF(AND(J427>=1972,J427<1977),VLOOKUP(K427,Feuil2!$F$10:$P$28,3),IF(AND(J427>=1977,J427<1982),VLOOKUP(K427,Feuil2!$F$10:$P$28,2),VLOOKUP(K427,Feuil2!$F$10:$P$28,2))))))))))))","v":{"$error":"#N/A"}},null,{"$f":"T427-HLOOKUP(Y427,Feuil2!$C$1:$CD$9,2,FALSE)","v":{"$error":"#VALUE!"}},{"$f":"T427-HLOOKUP(Y427,Feuil2!$C$1:$CD$9,3,FALSE)","v":{"$error":"#VALUE!"}},{"$f":"T427-HLOOKUP(Y427,Feuil2!$C$1:$CD$9,4,FALSE)","v":{"$error":"#VALUE!"}},{"$f":"T427-HLOOKUP(Y427,Feuil2!$C$1:$CD$9,5,FALSE)","v":{"$error":"#VALUE!"}},{"$f":"T427-HLOOKUP(Y427,Feuil2!$C$1:$CD$9,6,FALSE)","v":{"$error":"#VALUE!"}},{"$f":"T427-HLOOKUP(Y427,Feuil2!$C$1:$CD$9,7,FALSE)","v":{"$error":"#VALUE!"}},{"$f":"T427-HLOOKUP(Y427,Feuil2!$C$1:$CD$9,8,FALSE)","v":{"$error":"#VALUE!"}},{"$f":"T427-HLOOKUP(Y427,Feuil2!$C$1:$CD$9,9,FALSE)","v":{"$error":"#VALUE!"}},null,null,null,null,null,null,null,{"$error":"#VALUE!"},2016,null,{"$f":"IF(AQ427,VLOOKUP(AQ427,HOM!$AS$561:$AT$616,2))","v":3.5710000000000002}]
["H",null,null,null,null,null,null,null,null,null,null,null,null,null,"",null,null,null,"","","",{"$f":"IF(K428=\"\",\"\",AP428)","v":""},{"$f":"IF(K428=\"\",\"\",IF(AH428>=0,AH428,IF(AG428>=0,AG428,IF(AF428>=0,AF428,IF(AE428>=0,AE428,IF(AD428>=0,AD428,IF(AC428>=0,AC428,IF(AB428>=0,AB428,AA428))))))))","v":""},{"$error":"#N/A"},{"$f":"IF(AND(J428<1920),VLOOKUP(K428,Feuil2!$F$10:$P$28,11),IF(AND(J428>=1920,J428<1937),VLOOKUP(K428,Feuil2!$F$10:$P$28,11),IF(AND(J428>=1936,J428<1942),VLOOKUP(K428,Feuil2!$F$10:$P$28,10),IF(AND(J428>=1942,J428<1947),VLOOKUP(K428,Feuil2!$F$10:$P$28,9),IF(AND(J428>=1947,J428<1952),VLOOKUP(K428,Feuil2!$F$10:$P$28,8),IF(AND(J428>=1952,J428<1957),VLOOKUP(K428,Feuil2!$F$10:$P$28,7),IF(AND(J428>=1957,J428<1962),VLOOKUP(K428,Feuil2!$F$10:$P$28,6),IF(AND(J428>=1962,J428<1967),VLOOKUP(K428,Feuil2!$F$10:$P$28,5),IF(AND(J428>=1967,J428<1972),VLOOKUP(K428,Feuil2!$F$10:$P$28,4),IF(AND(J428>=1972,J428<1977),VLOOKUP(K428,Feuil2!$F$10:$P$28,3),IF(AND(J428>=1977,J428<1982),VLOOKUP(K428,Feuil2!$F$10:$P$28,2),VLOOKUP(K428,Feuil2!$F$10:$P$28,2))))))))))))","v":{"$error":"#N/A"}},null,{"$f":"T428-HLOOKUP(Y428,Feuil2!$C$1:$CD$9,2,FALSE)","v":{"$error":"#VALUE!"}},{"$f":"T428-HLOOKUP(Y428,Feuil2!$C$1:$CD$9,3,FALSE)","v":{"$error":"#VALUE!"}},{"$f":"T428-HLOOKUP(Y428,Feuil2!$C$1:$CD$9,4,FALSE)","v":{"$error":"#VALUE!"}},{"$f":"T428-HLOOKUP(Y428,Feuil2!$C$1:$CD$9,5,FALSE)","v":{"$error":"#VALUE!"}},{"$f":"T428-HLOOKUP(Y428,Feuil2!$C$1:$CD$9,6,FALSE)","v":{"$error":"#VALUE!"}},{"$f":"T428-HLOOKUP(Y428,Feuil2!$C$1:$CD$9,7,FALSE)","v":{"$error":"#VALUE!"}},{"$f":"T428-HLOOKUP(Y428,Feuil2!$C$1:$CD$9,8,FALSE)","v":{"$error":"#VALUE!"}},{"$f":"T428-HLOOKUP(Y428,Feuil2!$C$1:$CD$9,9,FALSE)","v":{"$error":"#VALUE!"}},null,null,null,null,null,null,null,{"$f":"IF(AH428>=0,$AH$4,IF(AG428>=0,$AG$4,IF(AF428>=0,$AF$4,IF(AE428>=0,$AE$4,IF(AD428>=0,$AD$4,IF(AC428>=0,$AC$4,IF(AB428>=0,$AB$4,IF(AA428>=0,$AA$4,$AI$4))))))))","v":{"$error":"#VALUE!"}},2016,null,{"$f":"IF(AQ428,VLOOKUP(AQ428,HOM!$AS$561:$AT$616,2))","v":3.5710000000000002}]
["H",null,null,null,null,null,null,null,null,null,null,null,null,null,"",null,null,null,"","","","","",{"$error":"#N/A"},{"$f":"IF(AND(J429<1920),VLOOKUP(K429,Feuil2!$F$10:$P$28,11),IF(AND(J429>=1920,J429<1937),VLOOKUP(K429,Feuil2!$F$10:$P$28,11),IF(AND(J429>=1936,J429<1942),VLOOKUP(K429,Feuil2!$F$10:$P$28,10),IF(AND(J429>=1942,J429<1947),VLOOKUP(K429,Feuil2!$F$10:$P$28,9),IF(AND(J429>=1947,J429<1952),VLOOKUP(K429,Feuil2!$F$10:$P$28,8),IF(AND(J429>=1952,J429<1957),VLOOKUP(K429,Feuil2!$F$10:$P$28,7),IF(AND(J429>=1957,J429<1962),VLOOKUP(K429,Feuil2!$F$10:$P$28,6),IF(AND(J429>=1962,J429<1967),VLOOKUP(K429,Feuil2!$F$10:$P$28,5),IF(AND(J429>=1967,J429<1972),VLOOKUP(K429,Feuil2!$F$10:$P$28,4),IF(AND(J429>=1972,J429<1977),VLOOKUP(K429,Feuil2!$F$10:$P$28,3),IF(AND(J429>=1977,J429<1982),VLOOKUP(K429,Feuil2!$F$10:$P$28,2),VLOOKUP(K429,Feuil2!$F$10:$P$28,2))))))))))))","v":{"$error":"#N/A"}},null,{"$f":"T429-HLOOKUP(Y429,Feuil2!$C$1:$CD$9,2,FALSE)","v":{"$error":"#VALUE!"}},{"$f":"T429-HLOOKUP(Y429,Feuil2!$C$1:$CD$9,3,FALSE)","v":{"$error":"#VALUE!"}},{"$f":"T429-HLOOKUP(Y429,Feuil2!$C$1:$CD$9,4,FALSE)","v":{"$error":"#VALUE!"}},{"$f":"T429-HLOOKUP(Y429,Feuil2!$C$1:$CD$9,5,FALSE)","v":{"$error":"#VALUE!"}},{"$f":"T429-HLOOKUP(Y429,Feuil2!$C$1:$CD$9,6,FALSE)","v":{"$error":"#VALUE!"}},{"$f":"T429-HLOOKUP(Y429,Feuil2!$C$1:$CD$9,7,FALSE)","v":{"$error":"#VALUE!"}},{"$f":"T429-HLOOKUP(Y429,Feuil2!$C$1:$CD$9,8,FALSE)","v":{"$error":"#VALUE!"}},{"$f":"T429-HLOOKUP(Y429,Feuil2!$C$1:$CD$9,9,FALSE)","v":{"$error":"#VALUE!"}},null,null,null,null,null,null,null,{"$error":"#VALUE!"},2016,null,{"$f":"IF(AQ429,VLOOKUP(AQ429,HOM!$AS$561:$AT$616,2))","v":3.5710000000000002}]
["H",null,null,null,null,null,null,null,null,null,null,null,null,null,"",null,null,null,"","","","","",{"$error":"#N/A"},{"$f":"IF(AND(J430<1920),VLOOKUP(K430,Feuil2!$F$10:$P$28,11),IF(AND(J430>=1920,J430<1937),VLOOKUP(K430,Feuil2!$F$10:$P$28,11),IF(AND(J430>=1936,J430<1942),VLOOKUP(K430,Feuil2!$F$10:$P$28,10),IF(AND(J430>=1942,J430<1947),VLOOKUP(K430,Feuil2!$F$10:$P$28,9),IF(AND(J430>=1947,J430<1952),VLOOKUP(K430,Feuil2!$F$10:$P$28,8),IF(AND(J430>=1952,J430<1957),VLOOKUP(K430,Feuil2!$F$10:$P$28,7),IF(AND(J430>=1957,J430<1962),VLOOKUP(K430,Feuil2!$F$10:$P$28,6),IF(AND(J430>=1962,J430<1967),VLOOKUP(K430,Feuil2!$F$10:$P$28,5),IF(AND(J430>=1967,J430<1972),VLOOKUP(K430,Feuil2!$F$10:$P$28,4),IF(AND(J430>=1972,J430<1977),VLOOKUP(K430,Feuil2!$F$10:$P$28,3),IF(AND(J430>=1977,J430<1982),VLOOKUP(K430,Feuil2!$F$10:$P$28,2),VLOOKUP(K430,Feuil2!$F$10:$P$28,2))))))))))))","v":{"$error":"#N/A"}},null,{"$f":"T430-HLOOKUP(Y430,Feuil2!$C$1:$CD$9,2,FALSE)","v":{"$error":"#VALUE!"}},{"$f":"T430-HLOOKUP(Y430,Feuil2!$C$1:$CD$9,3,FALSE)","v":{"$error":"#VALUE!"}},{"$f":"T430-HLOOKUP(Y430,Feuil2!$C$1:$CD$9,4,FALSE)","v":{"$error":"#VALUE!"}},{"$f":"T430-HLOOKUP(Y430,Feuil2!$C$1:$CD$9,5,FALSE)","v":{"$error":"#VALUE!"}},{"$f":"T430-HLOOKUP(Y430,Feuil2!$C$1:$CD$9,6,FALSE)","v":{"$error":"#VALUE!"}},{"$f":"T430-HLOOKUP(Y430,Feuil2!$C$1:$CD$9,7,FALSE)","v":{"$error":"#VALUE!"}},{"$f":"T430-HLOOKUP(Y430,Feuil2!$C$1:$CD$9,8,FALSE)","v":{"$error":"#VALUE!"}},{"$f":"T430-HLOOKUP(Y430,Feuil2!$C$1:$CD$9,9,FALSE)","v":{"$error":"#VALUE!"}},null,null,null,null,null,null,null,{"$error":"#VALUE!"},2016,null,{"$f":"IF(AQ430,VLOOKUP(AQ430,HOM!$AS$561:$AT$616,2))","v":3.5710000000000002}]
["H",null,null,null,null,null,null,null,null,null,null,null,null,null,"",null,null,null,"","","","","",{"$error":"#N/A"},{"$f":"IF(AND(J431<1920),VLOOKUP(K431,Feuil2!$F$10:$P$28,11),IF(AND(J431>=1920,J431<1937),VLOOKUP(K431,Feuil2!$F$10:$P$28,11),IF(AND(J431>=1936,J431<1942),VLOOKUP(K431,Feuil2!$F$10:$P$28,10),IF(AND(J431>=1942,J431<1947),VLOOKUP(K431,Feuil2!$F$10:$P$28,9),IF(AND(J431>=1947,J431<1952),VLOOKUP(K431,Feuil2!$F$10:$P$28,8),IF(AND(J431>=1952,J431<1957),VLOOKUP(K431,Feuil2!$F$10:$P$28,7),IF(AND(J431>=1957,J431<1962),VLOOKUP(K431,Feuil2!$F$10:$P$28,6),IF(AND(J431>=1962,J431<1967),VLOOKUP(K431,Feuil2!$F$10:$P$28,5),IF(AND(J431>=1967,J431<1972),VLOOKUP(K431,Feuil2!$F$10:$P$28,4),IF(AND(J431>=1972,J431<1977),VLOOKUP(K431,Feuil2!$F$10:$P$28,3),IF(AND(J431>=1977,J431<1982),VLOOKUP(K431,Feuil2!$F$10:$P$28,2),VLOOKUP(K431,Feuil2!$F$10:$P$28,2))))))))))))","v":{"$error":"#N/A"}},null,{"$f":"T431-HLOOKUP(Y431,Feuil2!$C$1:$CD$9,2,FALSE)","v":{"$error":"#VALUE!"}},{"$f":"T431-HLOOKUP(Y431,Feuil2!$C$1:$CD$9,3,FALSE)","v":{"$error":"#VALUE!"}},{"$f":"T431-HLOOKUP(Y431,Feuil2!$C$1:$CD$9,4,FALSE)","v":{"$error":"#VALUE!"}},{"$f":"T431-HLOOKUP(Y431,Feuil2!$C$1:$CD$9,5,FALSE)","v":{"$error":"#VALUE!"}},{"$f":"T431-HLOOKUP(Y431,Feuil2!$C$1:$CD$9,6,FALSE)","v":{"$error":"#VALUE!"}},{"$f":"T431-HLOOKUP(Y431,Feuil2!$C$1:$CD$9,7,FALSE)","v":{"$error":"#VALUE!"}},{"$f":"T431-HLOOKUP(Y431,Feuil2!$C$1:$CD$9,8,FALSE)","v":{"$error":"#VALUE!"}},{"$f":"T431-HLOOKUP(Y431,Feuil2!$C$1:$CD$9,9,FALSE)","v":{"$error":"#VALUE!"}},null,null,null,null,null,null,null,{"$error":"#VALUE!"},2016,null,{"$f":"IF(AQ431,VLOOKUP(AQ431,HOM!$AS$561:$AT$616,2))","v":3.5710000000000002}]
["H",null,null,null,null,null,null,null,null,null,null,null,null,null,"",null,null,null,"","","","","",{"$error":"#N/A"},{"$f":"IF(AND(J432<1920),VLOOKUP(K432,Feuil2!$F$10:$P$28,11),IF(AND(J432>=1920,J432<1937),VLOOKUP(K432,Feuil2!$F$10:$P$28,11),IF(AND(J432>=1936,J432<1942),VLOOKUP(K432,Feuil2!$F$10:$P$28,10),IF(AND(J432>=1942,J432<1947),VLOOKUP(K432,Feuil2!$F$10:$P$28,9),IF(AND(J432>=1947,J432<1952),VLOOKUP(K432,Feuil2!$F$10:$P$28,8),IF(AND(J432>=1952,J432<1957),VLOOKUP(K432,Feuil2!$F$10:$P$28,7),IF(AND(J432>=1957,J432<1962),VLOOKUP(K432,Feuil2!$F$10:$P$28,6),IF(AND(J432>=1962,J432<1967),VLOOKUP(K432,Feuil2!$F$10:$P$28,5),IF(AND(J432>=1967,J432<1972),VLOOKUP(K432,Feuil2!$F$10:$P$28,4),IF(AND(J432>=1972,J432<1977),VLOOKUP(K432,Feuil2!$F$10:$P$28,3),IF(AND(J432>=1977,J432<1982),VLOOKUP(K432,Feuil2!$F$10:$P$28,2),VLOOKUP(K432,Feuil2!$F$10:$P$28,2))))))))))))","v":{"$error":"#N/A"}},null,{"$f":"T432-HLOOKUP(Y432,Feuil2!$C$1:$CD$9,2,FALSE)","v":{"$error":"#VALUE!"}},{"$f":"T432-HLOOKUP(Y432,Feuil2!$C$1:$CD$9,3,FALSE)","v":{"$error":"#VALUE!"}},{"$f":"T432-HLOOKUP(Y432,Feuil2!$C$1:$CD$9,4,FALSE)","v":{"$error":"#VALUE!"}},{"$f":"T432-HLOOKUP(Y432,Feuil2!$C$1:$CD$9,5,FALSE)","v":{"$error":"#VALUE!"}},{"$f":"T432-HLOOKUP(Y432,Feuil2!$C$1:$CD$9,6,FALSE)","v":{"$error":"#VALUE!"}},{"$f":"T432-HLOOKUP(Y432,Feuil2!$C$1:$CD$9,7,FALSE)","v":{"$error":"#VALUE!"}},{"$f":"T432-HLOOKUP(Y432,Feuil2!$C$1:$CD$9,8,FALSE)","v":{"$error":"#VALUE!"}},{"$f":"T432-HLOOKUP(Y432,Feuil2!$C$1:$CD$9,9,FALSE)","v":{"$error":"#VALUE!"}},null,null,null,null,null,null,null,{"$error":"#VALUE!"},2016,null,{"$f":"IF(AQ432,VLOOKUP(AQ432,HOM!$AS$561:$AT$616,2))","v":3.5710000000000002}]
["H",null,null,null,null,null,null,null,null,null,null,null,null,null,"",null,null,null,"","","","","",{"$error":"#N/A"},{"$f":"IF(AND(J433<1920),VLOOKUP(K433,Feuil2!$F$10:$P$28,11),IF(AND(J433>=1920,J433<1937),VLOOKUP(K433,Feuil2!$F$10:$P$28,11),IF(AND(J433>=1936,J433<1942),VLOOKUP(K433,Feuil2!$F$10:$P$28,10),IF(AND(J433>=1942,J433<1947),VLOOKUP(K433,Feuil2!$F$10:$P$28,9),IF(AND(J433>=1947,J433<1952),VLOOKUP(K433,Feuil2!$F$10:$P$28,8),IF(AND(J433>=1952,J433<1957),VLOOKUP(K433,Feuil2!$F$10:$P$28,7),IF(AND(J433>=1957,J433<1962),VLOOKUP(K433,Feuil2!$F$10:$P$28,6),IF(AND(J433>=1962,J433<1967),VLOOKUP(K433,Feuil2!$F$10:$P$28,5),IF(AND(J433>=1967,J433<1972),VLOOKUP(K433,Feuil2!$F$10:$P$28,4),IF(AND(J433>=1972,J433<1977),VLOOKUP(K433,Feuil2!$F$10:$P$28,3),IF(AND(J433>=1977,J433<1982),VLOOKUP(K433,Feuil2!$F$10:$P$28,2),VLOOKUP(K433,Feuil2!$F$10:$P$28,2))))))))))))","v":{"$error":"#N/A"}},null,{"$f":"T433-HLOOKUP(Y433,Feuil2!$C$1:$CD$9,2,FALSE)","v":{"$error":"#VALUE!"}},{"$f":"T433-HLOOKUP(Y433,Feuil2!$C$1:$CD$9,3,FALSE)","v":{"$error":"#VALUE!"}},{"$f":"T433-HLOOKUP(Y433,Feuil2!$C$1:$CD$9,4,FALSE)","v":{"$error":"#VALUE!"}},{"$f":"T433-HLOOKUP(Y433,Feuil2!$C$1:$CD$9,5,FALSE)","v":{"$error":"#VALUE!"}},{"$f":"T433-HLOOKUP(Y433,Feuil2!$C$1:$CD$9,6,FALSE)","v":{"$error":"#VALUE!"}},{"$f":"T433-HLOOKUP(Y433,Feuil2!$C$1:$CD$9,7,FALSE)","v":{"$error":"#VALUE!"}},{"$f":"T433-HLOOKUP(Y433,Feuil2!$C$1:$CD$9,8,FALSE)","v":{"$error":"#VALUE!"}},{"$f":"T433-HLOOKUP(Y433,Feuil2!$C$1:$CD$9,9,FALSE)","v":{"$error":"#VALUE!"}},null,null,null,null,null,null,null,{"$error":"#VALUE!"},2016,null,{"$f":"IF(AQ433,VLOOKUP(AQ433,HOM!$AS$561:$AT$616,2))","v":3.5710000000000002}]
["H",null,null,null,null,null,null,null,null,null,null,null,null,null,"",null,null,null,"","","","","",{"$error":"#N/A"},{"$f":"IF(AND(J434<1920),VLOOKUP(K434,Feuil2!$F$10:$P$28,11),IF(AND(J434>=1920,J434<1937),VLOOKUP(K434,Feuil2!$F$10:$P$28,11),IF(AND(J434>=1936,J434<1942),VLOOKUP(K434,Feuil2!$F$10:$P$28,10),IF(AND(J434>=1942,J434<1947),VLOOKUP(K434,Feuil2!$F$10:$P$28,9),IF(AND(J434>=1947,J434<1952),VLOOKUP(K434,Feuil2!$F$10:$P$28,8),IF(AND(J434>=1952,J434<1957),VLOOKUP(K434,Feuil2!$F$10:$P$28,7),IF(AND(J434>=1957,J434<1962),VLOOKUP(K434,Feuil2!$F$10:$P$28,6),IF(AND(J434>=1962,J434<1967),VLOOKUP(K434,Feuil2!$F$10:$P$28,5),IF(AND(J434>=1967,J434<1972),VLOOKUP(K434,Feuil2!$F$10:$P$28,4),IF(AND(J434>=1972,J434<1977),VLOOKUP(K434,Feuil2!$F$10:$P$28,3),IF(AND(J434>=1977,J434<1982),VLOOKUP(K434,Feuil2!$F$10:$P$28,2),VLOOKUP(K434,Feuil2!$F$10:$P$28,2))))))))))))","v":{"$error":"#N/A"}},null,{"$f":"T434-HLOOKUP(Y434,Feuil2!$C$1:$CD$9,2,FALSE)","v":{"$error":"#VALUE!"}},{"$f":"T434-HLOOKUP(Y434,Feuil2!$C$1:$CD$9,3,FALSE)","v":{"$error":"#VALUE!"}},{"$f":"T434-HLOOKUP(Y434,Feuil2!$C$1:$CD$9,4,FALSE)","v":{"$error":"#VALUE!"}},{"$f":"T434-HLOOKUP(Y434,Feuil2!$C$1:$CD$9,5,FALSE)","v":{"$error":"#VALUE!"}},{"$f":"T434-HLOOKUP(Y434,Feuil2!$C$1:$CD$9,6,FALSE)","v":{"$error":"#VALUE!"}},{"$f":"T434-HLOOKUP(Y434,Feuil2!$C$1:$CD$9,7,FALSE)","v":{"$error":"#VALUE!"}},{"$f":"T434-HLOOKUP(Y434,Feuil2!$C$1:$CD$9,8,FALSE)","v":{"$error":"#VALUE!"}},{"$f":"T434-HLOOKUP(Y434,Feuil2!$C$1:$CD$9,9,FALSE)","v":{"$error":"#VALUE!"}},null,null,null,null,null,null,null,{"$error":"#VALUE!"},2016,null,{"$f":"IF(AQ434,VLOOKUP(AQ434,HOM!$AS$561:$AT$616,2))","v":3.5710000000000002}]
["H",null,null,null,null,null,null,null,null,null,null,null,null,null,"",null,null,null,"","","","","",{"$error":"#N/A"},{"$f":"IF(AND(J435<1920),VLOOKUP(K435,Feuil2!$F$10:$P$28,11),IF(AND(J435>=1920,J435<1937),VLOOKUP(K435,Feuil2!$F$10:$P$28,11),IF(AND(J435>=1936,J435<1942),VLOOKUP(K435,Feuil2!$F$10:$P$28,10),IF(AND(J435>=1942,J435<1947),VLOOKUP(K435,Feuil2!$F$10:$P$28,9),IF(AND(J435>=1947,J435<1952),VLOOKUP(K435,Feuil2!$F$10:$P$28,8),IF(AND(J435>=1952,J435<1957),VLOOKUP(K435,Feuil2!$F$10:$P$28,7),IF(AND(J435>=1957,J435<1962),VLOOKUP(K435,Feuil2!$F$10:$P$28,6),IF(AND(J435>=1962,J435<1967),VLOOKUP(K435,Feuil2!$F$10:$P$28,5),IF(AND(J435>=1967,J435<1972),VLOOKUP(K435,Feuil2!$F$10:$P$28,4),IF(AND(J435>=1972,J435<1977),VLOOKUP(K435,Feuil2!$F$10:$P$28,3),IF(AND(J435>=1977,J435<1982),VLOOKUP(K435,Feuil2!$F$10:$P$28,2),VLOOKUP(K435,Feuil2!$F$10:$P$28,2))))))))))))","v":{"$error":"#N/A"}},null,{"$f":"T435-HLOOKUP(Y435,Feuil2!$C$1:$CD$9,2,FALSE)","v":{"$error":"#VALUE!"}},{"$f":"T435-HLOOKUP(Y435,Feuil2!$C$1:$CD$9,3,FALSE)","v":{"$error":"#VALUE!"}},{"$f":"T435-HLOOKUP(Y435,Feuil2!$C$1:$CD$9,4,FALSE)","v":{"$error":"#VALUE!"}},{"$f":"T435-HLOOKUP(Y435,Feuil2!$C$1:$CD$9,5,FALSE)","v":{"$error":"#VALUE!"}},{"$f":"T435-HLOOKUP(Y435,Feuil2!$C$1:$CD$9,6,FALSE)","v":{"$error":"#VALUE!"}},{"$f":"T435-HLOOKUP(Y435,Feuil2!$C$1:$CD$9,7,FALSE)","v":{"$error":"#VALUE!"}},{"$f":"T435-HLOOKUP(Y435,Feuil2!$C$1:$CD$9,8,FALSE)","v":{"$error":"#VALUE!"}},{"$f":"T435-HLOOKUP(Y435,Feuil2!$C$1:$CD$9,9,FALSE)","v":{"$error":"#VALUE!"}},null,null,null,null,null,null,null,{"$error":"#VALUE!"},2016,null,{"$f":"IF(AQ435,VLOOKUP(AQ435,HOM!$AS$561:$AT$616,2))","v":3.5710000000000002}]
["H",null,null,null,null,null,null,null,null,null,null,null,null,null,"",null,null,null,"","","","","",{"$error":"#N/A"},{"$f":"IF(AND(J436<1920),VLOOKUP(K436,Feuil2!$F$10:$P$28,11),IF(AND(J436>=1920,J436<1937),VLOOKUP(K436,Feuil2!$F$10:$P$28,11),IF(AND(J436>=1936,J436<1942),VLOOKUP(K436,Feuil2!$F$10:$P$28,10),IF(AND(J436>=1942,J436<1947),VLOOKUP(K436,Feuil2!$F$10:$P$28,9),IF(AND(J436>=1947,J436<1952),VLOOKUP(K436,Feuil2!$F$10:$P$28,8),IF(AND(J436>=1952,J436<1957),VLOOKUP(K436,Feuil2!$F$10:$P$28,7),IF(AND(J436>=1957,J436<1962),VLOOKUP(K436,Feuil2!$F$10:$P$28,6),IF(AND(J436>=1962,J436<1967),VLOOKUP(K436,Feuil2!$F$10:$P$28,5),IF(AND(J436>=1967,J436<1972),VLOOKUP(K436,Feuil2!$F$10:$P$28,4),IF(AND(J436>=1972,J436<1977),VLOOKUP(K436,Feuil2!$F$10:$P$28,3),IF(AND(J436>=1977,J436<1982),VLOOKUP(K436,Feuil2!$F$10:$P$28,2),VLOOKUP(K436,Feuil2!$F$10:$P$28,2))))))))))))","v":{"$error":"#N/A"}},null,{"$f":"T436-HLOOKUP(Y436,Feuil2!$C$1:$CD$9,2,FALSE)","v":{"$error":"#VALUE!"}},{"$f":"T436-HLOOKUP(Y436,Feuil2!$C$1:$CD$9,3,FALSE)","v":{"$error":"#VALUE!"}},{"$f":"T436-HLOOKUP(Y436,Feuil2!$C$1:$CD$9,4,FALSE)","v":{"$error":"#VALUE!"}},{"$f":"T436-HLOOKUP(Y436,Feuil2!$C$1:$CD$9,5,FALSE)","v":{"$error":"#VALUE!"}},{"$f":"T436-HLOOKUP(Y436,Feuil2!$C$1:$CD$9,6,FALSE)","v":{"$error":"#VALUE!"}},{"$f":"T436-HLOOKUP(Y436,Feuil2!$C$1:$CD$9,7,FALSE)","v":{"$error":"#VALUE!"}},{"$f":"T436-HLOOKUP(Y436,Feuil2!$C$1:$CD$9,8,FALSE)","v":{"$error":"#VALUE!"}},{"$f":"T436-HLOOKUP(Y436,Feuil2!$C$1:$CD$9,9,FALSE)","v":{"$error":"#VALUE!"}},null,null,null,null,null,null,null,{"$error":"#VALUE!"},2016,null,{"$f":"IF(AQ436,VLOOKUP(AQ436,HOM!$AS$561:$AT$616,2))","v":3.5710000000000002}]
["H",null,null,null,null,null,null,null,null,null,null,null,null,null,"",null,null,null,"","","","","",{"$error":"#N/A"},{"$f":"IF(AND(J437<1920),VLOOKUP(K437,Feuil2!$F$10:$P$28,11),IF(AND(J437>=1920,J437<1937),VLOOKUP(K437,Feuil2!$F$10:$P$28,11),IF(AND(J437>=1936,J437<1942),VLOOKUP(K437,Feuil2!$F$10:$P$28,10),IF(AND(J437>=1942,J437<1947),VLOOKUP(K437,Feuil2!$F$10:$P$28,9),IF(AND(J437>=1947,J437<1952),VLOOKUP(K437,Feuil2!$F$10:$P$28,8),IF(AND(J437>=1952,J437<1957),VLOOKUP(K437,Feuil2!$F$10:$P$28,7),IF(AND(J437>=1957,J437<1962),VLOOKUP(K437,Feuil2!$F$10:$P$28,6),IF(AND(J437>=1962,J437<1967),VLOOKUP(K437,Feuil2!$F$10:$P$28,5),IF(AND(J437>=1967,J437<1972),VLOOKUP(K437,Feuil2!$F$10:$P$28,4),IF(AND(J437>=1972,J437<1977),VLOOKUP(K437,Feuil2!$F$10:$P$28,3),IF(AND(J437>=1977,J437<1982),VLOOKUP(K437,Feuil2!$F$10:$P$28,2),VLOOKUP(K437,Feuil2!$F$10:$P$28,2))))))))))))","v":{"$error":"#N/A"}},null,{"$f":"T437-HLOOKUP(Y437,Feuil2!$C$1:$CD$9,2,FALSE)","v":{"$error":"#VALUE!"}},{"$f":"T437-HLOOKUP(Y437,Feuil2!$C$1:$CD$9,3,FALSE)","v":{"$error":"#VALUE!"}},{"$f":"T437-HLOOKUP(Y437,Feuil2!$C$1:$CD$9,4,FALSE)","v":{"$error":"#VALUE!"}},{"$f":"T437-HLOOKUP(Y437,Feuil2!$C$1:$CD$9,5,FALSE)","v":{"$error":"#VALUE!"}},{"$f":"T437-HLOOKUP(Y437,Feuil2!$C$1:$CD$9,6,FALSE)","v":{"$error":"#VALUE!"}},{"$f":"T437-HLOOKUP(Y437,Feuil2!$C$1:$CD$9,7,FALSE)","v":{"$error":"#VALUE!"}},{"$f":"T437-HLOOKUP(Y437,Feuil2!$C$1:$CD$9,8,FALSE)","v":{"$error":"#VALUE!"}},{"$f":"T437-HLOOKUP(Y437,Feuil2!$C$1:$CD$9,9,FALSE)","v":{"$error":"#VALUE!"}},null,null,null,null,null,null,null,{"$error":"#VALUE!"},2016,null,{"$f":"IF(AQ437,VLOOKUP(AQ437,HOM!$AS$561:$AT$616,2))","v":3.5710000000000002}]
["H",null,null,null,null,null,null,null,null,null,null,null,null,null,"",null,null,null,"","","","","",{"$error":"#N/A"},{"$f":"IF(AND(J438<1920),VLOOKUP(K438,Feuil2!$F$10:$P$28,11),IF(AND(J438>=1920,J438<1937),VLOOKUP(K438,Feuil2!$F$10:$P$28,11),IF(AND(J438>=1936,J438<1942),VLOOKUP(K438,Feuil2!$F$10:$P$28,10),IF(AND(J438>=1942,J438<1947),VLOOKUP(K438,Feuil2!$F$10:$P$28,9),IF(AND(J438>=1947,J438<1952),VLOOKUP(K438,Feuil2!$F$10:$P$28,8),IF(AND(J438>=1952,J438<1957),VLOOKUP(K438,Feuil2!$F$10:$P$28,7),IF(AND(J438>=1957,J438<1962),VLOOKUP(K438,Feuil2!$F$10:$P$28,6),IF(AND(J438>=1962,J438<1967),VLOOKUP(K438,Feuil2!$F$10:$P$28,5),IF(AND(J438>=1967,J438<1972),VLOOKUP(K438,Feuil2!$F$10:$P$28,4),IF(AND(J438>=1972,J438<1977),VLOOKUP(K438,Feuil2!$F$10:$P$28,3),IF(AND(J438>=1977,J438<1982),VLOOKUP(K438,Feuil2!$F$10:$P$28,2),VLOOKUP(K438,Feuil2!$F$10:$P$28,2))))))))))))","v":{"$error":"#N/A"}},null,{"$f":"T438-HLOOKUP(Y438,Feuil2!$C$1:$CD$9,2,FALSE)","v":{"$error":"#VALUE!"}},{"$f":"T438-HLOOKUP(Y438,Feuil2!$C$1:$CD$9,3,FALSE)","v":{"$error":"#VALUE!"}},{"$f":"T438-HLOOKUP(Y438,Feuil2!$C$1:$CD$9,4,FALSE)","v":{"$error":"#VALUE!"}},{"$f":"T438-HLOOKUP(Y438,Feuil2!$C$1:$CD$9,5,FALSE)","v":{"$error":"#VALUE!"}},{"$f":"T438-HLOOKUP(Y438,Feuil2!$C$1:$CD$9,6,FALSE)","v":{"$error":"#VALUE!"}},{"$f":"T438-HLOOKUP(Y438,Feuil2!$C$1:$CD$9,7,FALSE)","v":{"$error":"#VALUE!"}},{"$f":"T438-HLOOKUP(Y438,Feuil2!$C$1:$CD$9,8,FALSE)","v":{"$error":"#VALUE!"}},{"$f":"T438-HLOOKUP(Y438,Feuil2!$C$1:$CD$9,9,FALSE)","v":{"$error":"#VALUE!"}},null,null,null,null,null,null,null,{"$error":"#VALUE!"},2016,null,{"$f":"IF(AQ438,VLOOKUP(AQ438,HOM!$AS$561:$AT$616,2))","v":3.5710000000000002}]
["H",null,null,null,null,null,null,null,null,null,null,null,null,null,"",null,null,null,"","","","","",{"$error":"#N/A"},{"$f":"IF(AND(J439<1920),VLOOKUP(K439,Feuil2!$F$10:$P$28,11),IF(AND(J439>=1920,J439<1937),VLOOKUP(K439,Feuil2!$F$10:$P$28,11),IF(AND(J439>=1936,J439<1942),VLOOKUP(K439,Feuil2!$F$10:$P$28,10),IF(AND(J439>=1942,J439<1947),VLOOKUP(K439,Feuil2!$F$10:$P$28,9),IF(AND(J439>=1947,J439<1952),VLOOKUP(K439,Feuil2!$F$10:$P$28,8),IF(AND(J439>=1952,J439<1957),VLOOKUP(K439,Feuil2!$F$10:$P$28,7),IF(AND(J439>=1957,J439<1962),VLOOKUP(K439,Feuil2!$F$10:$P$28,6),IF(AND(J439>=1962,J439<1967),VLOOKUP(K439,Feuil2!$F$10:$P$28,5),IF(AND(J439>=1967,J439<1972),VLOOKUP(K439,Feuil2!$F$10:$P$28,4),IF(AND(J439>=1972,J439<1977),VLOOKUP(K439,Feuil2!$F$10:$P$28,3),IF(AND(J439>=1977,J439<1982),VLOOKUP(K439,Feuil2!$F$10:$P$28,2),VLOOKUP(K439,Feuil2!$F$10:$P$28,2))))))))))))","v":{"$error":"#N/A"}},null,{"$f":"T439-HLOOKUP(Y439,Feuil2!$C$1:$CD$9,2,FALSE)","v":{"$error":"#VALUE!"}},{"$f":"T439-HLOOKUP(Y439,Feuil2!$C$1:$CD$9,3,FALSE)","v":{"$error":"#VALUE!"}},{"$f":"T439-HLOOKUP(Y439,Feuil2!$C$1:$CD$9,4,FALSE)","v":{"$error":"#VALUE!"}},{"$f":"T439-HLOOKUP(Y439,Feuil2!$C$1:$CD$9,5,FALSE)","v":{"$error":"#VALUE!"}},{"$f":"T439-HLOOKUP(Y439,Feuil2!$C$1:$CD$9,6,FALSE)","v":{"$error":"#VALUE!"}},{"$f":"T439-HLOOKUP(Y439,Feuil2!$C$1:$CD$9,7,FALSE)","v":{"$error":"#VALUE!"}},{"$f":"T439-HLOOKUP(Y439,Feuil2!$C$1:$CD$9,8,FALSE)","v":{"$error":"#VALUE!"}},{"$f":"T439-HLOOKUP(Y439,Feuil2!$C$1:$CD$9,9,FALSE)","v":{"$error":"#VALUE!"}},null,null,null,null,null,null,null,{"$error":"#VALUE!"},2016,null,{"$f":"IF(AQ439,VLOOKUP(AQ439,HOM!$AS$561:$AT$616,2))","v":3.5710000000000002}]
["H",null,null,null,null,null,null,null,null,null,null,null,null,null,"",null,null,null,"","","","","",{"$error":"#N/A"},{"$f":"IF(AND(J440<1920),VLOOKUP(K440,Feuil2!$F$10:$P$28,11),IF(AND(J440>=1920,J440<1937),VLOOKUP(K440,Feuil2!$F$10:$P$28,11),IF(AND(J440>=1936,J440<1942),VLOOKUP(K440,Feuil2!$F$10:$P$28,10),IF(AND(J440>=1942,J440<1947),VLOOKUP(K440,Feuil2!$F$10:$P$28,9),IF(AND(J440>=1947,J440<1952),VLOOKUP(K440,Feuil2!$F$10:$P$28,8),IF(AND(J440>=1952,J440<1957),VLOOKUP(K440,Feuil2!$F$10:$P$28,7),IF(AND(J440>=1957,J440<1962),VLOOKUP(K440,Feuil2!$F$10:$P$28,6),IF(AND(J440>=1962,J440<1967),VLOOKUP(K440,Feuil2!$F$10:$P$28,5),IF(AND(J440>=1967,J440<1972),VLOOKUP(K440,Feuil2!$F$10:$P$28,4),IF(AND(J440>=1972,J440<1977),VLOOKUP(K440,Feuil2!$F$10:$P$28,3),IF(AND(J440>=1977,J440<1982),VLOOKUP(K440,Feuil2!$F$10:$P$28,2),VLOOKUP(K440,Feuil2!$F$10:$P$28,2))))))))))))","v":{"$error":"#N/A"}},null,{"$f":"T440-HLOOKUP(Y440,Feuil2!$C$1:$CD$9,2,FALSE)","v":{"$error":"#VALUE!"}},{"$f":"T440-HLOOKUP(Y440,Feuil2!$C$1:$CD$9,3,FALSE)","v":{"$error":"#VALUE!"}},{"$f":"T440-HLOOKUP(Y440,Feuil2!$C$1:$CD$9,4,FALSE)","v":{"$error":"#VALUE!"}},{"$f":"T440-HLOOKUP(Y440,Feuil2!$C$1:$CD$9,5,FALSE)","v":{"$error":"#VALUE!"}},{"$f":"T440-HLOOKUP(Y440,Feuil2!$C$1:$CD$9,6,FALSE)","v":{"$error":"#VALUE!"}},{"$f":"T440-HLOOKUP(Y440,Feuil2!$C$1:$CD$9,7,FALSE)","v":{"$error":"#VALUE!"}},{"$f":"T440-HLOOKUP(Y440,Feuil2!$C$1:$CD$9,8,FALSE)","v":{"$error":"#VALUE!"}},{"$f":"T440-HLOOKUP(Y440,Feuil2!$C$1:$CD$9,9,FALSE)","v":{"$error":"#VALUE!"}},null,null,null,null,null,null,null,{"$error":"#VALUE!"},2016,null,{"$f":"IF(AQ440,VLOOKUP(AQ440,HOM!$AS$561:$AT$616,2))","v":3.5710000000000002}]
["H",null,null,null,null,null,null,null,null,null,null,null,null,null,"",null,null,null,"","","","","",{"$error":"#N/A"},{"$f":"IF(AND(J441<1920),VLOOKUP(K441,Feuil2!$F$10:$P$28,11),IF(AND(J441>=1920,J441<1937),VLOOKUP(K441,Feuil2!$F$10:$P$28,11),IF(AND(J441>=1936,J441<1942),VLOOKUP(K441,Feuil2!$F$10:$P$28,10),IF(AND(J441>=1942,J441<1947),VLOOKUP(K441,Feuil2!$F$10:$P$28,9),IF(AND(J441>=1947,J441<1952),VLOOKUP(K441,Feuil2!$F$10:$P$28,8),IF(AND(J441>=1952,J441<1957),VLOOKUP(K441,Feuil2!$F$10:$P$28,7),IF(AND(J441>=1957,J441<1962),VLOOKUP(K441,Feuil2!$F$10:$P$28,6),IF(AND(J441>=1962,J441<1967),VLOOKUP(K441,Feuil2!$F$10:$P$28,5),IF(AND(J441>=1967,J441<1972),VLOOKUP(K441,Feuil2!$F$10:$P$28,4),IF(AND(J441>=1972,J441<1977),VLOOKUP(K441,Feuil2!$F$10:$P$28,3),IF(AND(J441>=1977,J441<1982),VLOOKUP(K441,Feuil2!$F$10:$P$28,2),VLOOKUP(K441,Feuil2!$F$10:$P$28,2))))))))))))","v":{"$error":"#N/A"}},null,{"$f":"T441-HLOOKUP(Y441,Feuil2!$C$1:$CD$9,2,FALSE)","v":{"$error":"#VALUE!"}},{"$f":"T441-HLOOKUP(Y441,Feuil2!$C$1:$CD$9,3,FALSE)","v":{"$error":"#VALUE!"}},{"$f":"T441-HLOOKUP(Y441,Feuil2!$C$1:$CD$9,4,FALSE)","v":{"$error":"#VALUE!"}},{"$f":"T441-HLOOKUP(Y441,Feuil2!$C$1:$CD$9,5,FALSE)","v":{"$error":"#VALUE!"}},{"$f":"T441-HLOOKUP(Y441,Feuil2!$C$1:$CD$9,6,FALSE)","v":{"$error":"#VALUE!"}},{"$f":"T441-HLOOKUP(Y441,Feuil2!$C$1:$CD$9,7,FALSE)","v":{"$error":"#VALUE!"}},{"$f":"T441-HLOOKUP(Y441,Feuil2!$C$1:$CD$9,8,FALSE)","v":{"$error":"#VALUE!"}},{"$f":"T441-HLOOKUP(Y441,Feuil2!$C$1:$CD$9,9,FALSE)","v":{"$error":"#VALUE!"}},null,null,null,null,null,null,null,{"$error":"#VALUE!"},2016,null,{"$f":"IF(AQ441,VLOOKUP(AQ441,HOM!$AS$561:$AT$616,2))","v":3.5710000000000002}]
["H",null,null,null,null,null,null,null,null,null,null,null,null,null,"",null,null,null,"","","","","",{"$error":"#N/A"},{"$f":"IF(AND(J442<1920),VLOOKUP(K442,Feuil2!$F$10:$P$28,11),IF(AND(J442>=1920,J442<1937),VLOOKUP(K442,Feuil2!$F$10:$P$28,11),IF(AND(J442>=1936,J442<1942),VLOOKUP(K442,Feuil2!$F$10:$P$28,10),IF(AND(J442>=1942,J442<1947),VLOOKUP(K442,Feuil2!$F$10:$P$28,9),IF(AND(J442>=1947,J442<1952),VLOOKUP(K442,Feuil2!$F$10:$P$28,8),IF(AND(J442>=1952,J442<1957),VLOOKUP(K442,Feuil2!$F$10:$P$28,7),IF(AND(J442>=1957,J442<1962),VLOOKUP(K442,Feuil2!$F$10:$P$28,6),IF(AND(J442>=1962,J442<1967),VLOOKUP(K442,Feuil2!$F$10:$P$28,5),IF(AND(J442>=1967,J442<1972),VLOOKUP(K442,Feuil2!$F$10:$P$28,4),IF(AND(J442>=1972,J442<1977),VLOOKUP(K442,Feuil2!$F$10:$P$28,3),IF(AND(J442>=1977,J442<1982),VLOOKUP(K442,Feuil2!$F$10:$P$28,2),VLOOKUP(K442,Feuil2!$F$10:$P$28,2))))))))))))","v":{"$error":"#N/A"}},null,{"$f":"T442-HLOOKUP(Y442,Feuil2!$C$1:$CD$9,2,FALSE)","v":{"$error":"#VALUE!"}},{"$f":"T442-HLOOKUP(Y442,Feuil2!$C$1:$CD$9,3,FALSE)","v":{"$error":"#VALUE!"}},{"$f":"T442-HLOOKUP(Y442,Feuil2!$C$1:$CD$9,4,FALSE)","v":{"$error":"#VALUE!"}},{"$f":"T442-HLOOKUP(Y442,Feuil2!$C$1:$CD$9,5,FALSE)","v":{"$error":"#VALUE!"}},{"$f":"T442-HLOOKUP(Y442,Feuil2!$C$1:$CD$9,6,FALSE)","v":{"$error":"#VALUE!"}},{"$f":"T442-HLOOKUP(Y442,Feuil2!$C$1:$CD$9,7,FALSE)","v":{"$error":"#VALUE!"}},{"$f":"T442-HLOOKUP(Y442,Feuil2!$C$1:$CD$9,8,FALSE)","v":{"$error":"#VALUE!"}},{"$f":"T442-HLOOKUP(Y442,Feuil2!$C$1:$CD$9,9,FALSE)","v":{"$error":"#VALUE!"}},null,null,null,null,null,null,null,{"$error":"#VALUE!"},2016,null,{"$f":"IF(AQ442,VLOOKUP(AQ442,HOM!$AS$561:$AT$616,2))","v":3.5710000000000002}]
["H",null,null,null,null,null,null,null,null,null,null,null,null,null,"",null,null,null,"","","","","",{"$error":"#N/A"},{"$f":"IF(AND(J443<1920),VLOOKUP(K443,Feuil2!$F$10:$P$28,11),IF(AND(J443>=1920,J443<1937),VLOOKUP(K443,Feuil2!$F$10:$P$28,11),IF(AND(J443>=1936,J443<1942),VLOOKUP(K443,Feuil2!$F$10:$P$28,10),IF(AND(J443>=1942,J443<1947),VLOOKUP(K443,Feuil2!$F$10:$P$28,9),IF(AND(J443>=1947,J443<1952),VLOOKUP(K443,Feuil2!$F$10:$P$28,8),IF(AND(J443>=1952,J443<1957),VLOOKUP(K443,Feuil2!$F$10:$P$28,7),IF(AND(J443>=1957,J443<1962),VLOOKUP(K443,Feuil2!$F$10:$P$28,6),IF(AND(J443>=1962,J443<1967),VLOOKUP(K443,Feuil2!$F$10:$P$28,5),IF(AND(J443>=1967,J443<1972),VLOOKUP(K443,Feuil2!$F$10:$P$28,4),IF(AND(J443>=1972,J443<1977),VLOOKUP(K443,Feuil2!$F$10:$P$28,3),IF(AND(J443>=1977,J443<1982),VLOOKUP(K443,Feuil2!$F$10:$P$28,2),VLOOKUP(K443,Feuil2!$F$10:$P$28,2))))))))))))","v":{"$error":"#N/A"}},null,{"$f":"T443-HLOOKUP(Y443,Feuil2!$C$1:$CD$9,2,FALSE)","v":{"$error":"#VALUE!"}},{"$f":"T443-HLOOKUP(Y443,Feuil2!$C$1:$CD$9,3,FALSE)","v":{"$error":"#VALUE!"}},{"$f":"T443-HLOOKUP(Y443,Feuil2!$C$1:$CD$9,4,FALSE)","v":{"$error":"#VALUE!"}},{"$f":"T443-HLOOKUP(Y443,Feuil2!$C$1:$CD$9,5,FALSE)","v":{"$error":"#VALUE!"}},{"$f":"T443-HLOOKUP(Y443,Feuil2!$C$1:$CD$9,6,FALSE)","v":{"$error":"#VALUE!"}},{"$f":"T443-HLOOKUP(Y443,Feuil2!$C$1:$CD$9,7,FALSE)","v":{"$error":"#VALUE!"}},{"$f":"T443-HLOOKUP(Y443,Feuil2!$C$1:$CD$9,8,FALSE)","v":{"$error":"#VALUE!"}},{"$f":"T443-HLOOKUP(Y443,Feuil2!$C$1:$CD$9,9,FALSE)","v":{"$error":"#VALUE!"}},null,null,null,null,null,null,null,{"$error":"#VALUE!"},2016,null,{"$f":"IF(AQ443,VLOOKUP(AQ443,HOM!$AS$561:$AT$616,2))","v":3.5710000000000002}]
["H",null,null,null,null,null,null,null,null,null,null,null,null,null,"",null,null,null,"","","","","",{"$error":"#N/A"},{"$f":"IF(AND(J444<1920),VLOOKUP(K444,Feuil2!$F$10:$P$28,11),IF(AND(J444>=1920,J444<1937),VLOOKUP(K444,Feuil2!$F$10:$P$28,11),IF(AND(J444>=1936,J444<1942),VLOOKUP(K444,Feuil2!$F$10:$P$28,10),IF(AND(J444>=1942,J444<1947),VLOOKUP(K444,Feuil2!$F$10:$P$28,9),IF(AND(J444>=1947,J444<1952),VLOOKUP(K444,Feuil2!$F$10:$P$28,8),IF(AND(J444>=1952,J444<1957),VLOOKUP(K444,Feuil2!$F$10:$P$28,7),IF(AND(J444>=1957,J444<1962),VLOOKUP(K444,Feuil2!$F$10:$P$28,6),IF(AND(J444>=1962,J444<1967),VLOOKUP(K444,Feuil2!$F$10:$P$28,5),IF(AND(J444>=1967,J444<1972),VLOOKUP(K444,Feuil2!$F$10:$P$28,4),IF(AND(J444>=1972,J444<1977),VLOOKUP(K444,Feuil2!$F$10:$P$28,3),IF(AND(J444>=1977,J444<1982),VLOOKUP(K444,Feuil2!$F$10:$P$28,2),VLOOKUP(K444,Feuil2!$F$10:$P$28,2))))))))))))","v":{"$error":"#N/A"}},null,{"$f":"T444-HLOOKUP(Y444,Feuil2!$C$1:$CD$9,2,FALSE)","v":{"$error":"#VALUE!"}},{"$f":"T444-HLOOKUP(Y444,Feuil2!$C$1:$CD$9,3,FALSE)","v":{"$error":"#VALUE!"}},{"$f":"T444-HLOOKUP(Y444,Feuil2!$C$1:$CD$9,4,FALSE)","v":{"$error":"#VALUE!"}},{"$f":"T444-HLOOKUP(Y444,Feuil2!$C$1:$CD$9,5,FALSE)","v":{"$error":"#VALUE!"}},{"$f":"T444-HLOOKUP(Y444,Feuil2!$C$1:$CD$9,6,FALSE)","v":{"$error":"#VALUE!"}},{"$f":"T444-HLOOKUP(Y444,Feuil2!$C$1:$CD$9,7,FALSE)","v":{"$error":"#VALUE!"}},{"$f":"T444-HLOOKUP(Y444,Feuil2!$C$1:$CD$9,8,FALSE)","v":{"$error":"#VALUE!"}},{"$f":"T444-HLOOKUP(Y444,Feuil2!$C$1:$CD$9,9,FALSE)","v":{"$error":"#VALUE!"}},null,null,null,null,null,null,null,{"$error":"#VALUE!"},2016,null,{"$f":"IF(AQ444,VLOOKUP(AQ444,HOM!$AS$561:$AT$616,2))","v":3.5710000000000002}]
["H",null,null,null,null,null,null,null,null,null,null,null,null,null,"",null,null,null,"","","","","",{"$error":"#N/A"},{"$f":"IF(AND(J445<1920),VLOOKUP(K445,Feuil2!$F$10:$P$28,11),IF(AND(J445>=1920,J445<1937),VLOOKUP(K445,Feuil2!$F$10:$P$28,11),IF(AND(J445>=1936,J445<1942),VLOOKUP(K445,Feuil2!$F$10:$P$28,10),IF(AND(J445>=1942,J445<1947),VLOOKUP(K445,Feuil2!$F$10:$P$28,9),IF(AND(J445>=1947,J445<1952),VLOOKUP(K445,Feuil2!$F$10:$P$28,8),IF(AND(J445>=1952,J445<1957),VLOOKUP(K445,Feuil2!$F$10:$P$28,7),IF(AND(J445>=1957,J445<1962),VLOOKUP(K445,Feuil2!$F$10:$P$28,6),IF(AND(J445>=1962,J445<1967),VLOOKUP(K445,Feuil2!$F$10:$P$28,5),IF(AND(J445>=1967,J445<1972),VLOOKUP(K445,Feuil2!$F$10:$P$28,4),IF(AND(J445>=1972,J445<1977),VLOOKUP(K445,Feuil2!$F$10:$P$28,3),IF(AND(J445>=1977,J445<1982),VLOOKUP(K445,Feuil2!$F$10:$P$28,2),VLOOKUP(K445,Feuil2!$F$10:$P$28,2))))))))))))","v":{"$error":"#N/A"}},null,{"$f":"T445-HLOOKUP(Y445,Feuil2!$C$1:$CD$9,2,FALSE)","v":{"$error":"#VALUE!"}},{"$f":"T445-HLOOKUP(Y445,Feuil2!$C$1:$CD$9,3,FALSE)","v":{"$error":"#VALUE!"}},{"$f":"T445-HLOOKUP(Y445,Feuil2!$C$1:$CD$9,4,FALSE)","v":{"$error":"#VALUE!"}},{"$f":"T445-HLOOKUP(Y445,Feuil2!$C$1:$CD$9,5,FALSE)","v":{"$error":"#VALUE!"}},{"$f":"T445-HLOOKUP(Y445,Feuil2!$C$1:$CD$9,6,FALSE)","v":{"$error":"#VALUE!"}},{"$f":"T445-HLOOKUP(Y445,Feuil2!$C$1:$CD$9,7,FALSE)","v":{"$error":"#VALUE!"}},{"$f":"T445-HLOOKUP(Y445,Feuil2!$C$1:$CD$9,8,FALSE)","v":{"$error":"#VALUE!"}},{"$f":"T445-HLOOKUP(Y445,Feuil2!$C$1:$CD$9,9,FALSE)","v":{"$error":"#VALUE!"}},null,null,null,null,null,null,null,{"$error":"#VALUE!"},2016,null,{"$f":"IF(AQ445,VLOOKUP(AQ445,HOM!$AS$561:$AT$616,2))","v":3.5710000000000002}]
["H",null,null,null,null,null,null,null,null,null,null,null,null,null,"",null,null,null,"","","","","",{"$error":"#N/A"},{"$f":"IF(AND(J446<1920),VLOOKUP(K446,Feuil2!$F$10:$P$28,11),IF(AND(J446>=1920,J446<1937),VLOOKUP(K446,Feuil2!$F$10:$P$28,11),IF(AND(J446>=1936,J446<1942),VLOOKUP(K446,Feuil2!$F$10:$P$28,10),IF(AND(J446>=1942,J446<1947),VLOOKUP(K446,Feuil2!$F$10:$P$28,9),IF(AND(J446>=1947,J446<1952),VLOOKUP(K446,Feuil2!$F$10:$P$28,8),IF(AND(J446>=1952,J446<1957),VLOOKUP(K446,Feuil2!$F$10:$P$28,7),IF(AND(J446>=1957,J446<1962),VLOOKUP(K446,Feuil2!$F$10:$P$28,6),IF(AND(J446>=1962,J446<1967),VLOOKUP(K446,Feuil2!$F$10:$P$28,5),IF(AND(J446>=1967,J446<1972),VLOOKUP(K446,Feuil2!$F$10:$P$28,4),IF(AND(J446>=1972,J446<1977),VLOOKUP(K446,Feuil2!$F$10:$P$28,3),IF(AND(J446>=1977,J446<1982),VLOOKUP(K446,Feuil2!$F$10:$P$28,2),VLOOKUP(K446,Feuil2!$F$10:$P$28,2))))))))))))","v":{"$error":"#N/A"}},null,{"$f":"T446-HLOOKUP(Y446,Feuil2!$C$1:$CD$9,2,FALSE)","v":{"$error":"#VALUE!"}},{"$f":"T446-HLOOKUP(Y446,Feuil2!$C$1:$CD$9,3,FALSE)","v":{"$error":"#VALUE!"}},{"$f":"T446-HLOOKUP(Y446,Feuil2!$C$1:$CD$9,4,FALSE)","v":{"$error":"#VALUE!"}},{"$f":"T446-HLOOKUP(Y446,Feuil2!$C$1:$CD$9,5,FALSE)","v":{"$error":"#VALUE!"}},{"$f":"T446-HLOOKUP(Y446,Feuil2!$C$1:$CD$9,6,FALSE)","v":{"$error":"#VALUE!"}},{"$f":"T446-HLOOKUP(Y446,Feuil2!$C$1:$CD$9,7,FALSE)","v":{"$error":"#VALUE!"}},{"$f":"T446-HLOOKUP(Y446,Feuil2!$C$1:$CD$9,8,FALSE)","v":{"$error":"#VALUE!"}},{"$f":"T446-HLOOKUP(Y446,Feuil2!$C$1:$CD$9,9,FALSE)","v":{"$error":"#VALUE!"}},null,null,null,null,null,null,null,{"$error":"#VALUE!"},2016,null,{"$f":"IF(AQ446,VLOOKUP(AQ446,HOM!$AS$561:$AT$616,2))","v":3.5710000000000002}]
["H",null,null,null,null,null,null,null,null,null,null,null,null,null,"",null,null,null,"","","","","",{"$error":"#N/A"},{"$f":"IF(AND(J447<1920),VLOOKUP(K447,Feuil2!$F$10:$P$28,11),IF(AND(J447>=1920,J447<1937),VLOOKUP(K447,Feuil2!$F$10:$P$28,11),IF(AND(J447>=1936,J447<1942),VLOOKUP(K447,Feuil2!$F$10:$P$28,10),IF(AND(J447>=1942,J447<1947),VLOOKUP(K447,Feuil2!$F$10:$P$28,9),IF(AND(J447>=1947,J447<1952),VLOOKUP(K447,Feuil2!$F$10:$P$28,8),IF(AND(J447>=1952,J447<1957),VLOOKUP(K447,Feuil2!$F$10:$P$28,7),IF(AND(J447>=1957,J447<1962),VLOOKUP(K447,Feuil2!$F$10:$P$28,6),IF(AND(J447>=1962,J447<1967),VLOOKUP(K447,Feuil2!$F$10:$P$28,5),IF(AND(J447>=1967,J447<1972),VLOOKUP(K447,Feuil2!$F$10:$P$28,4),IF(AND(J447>=1972,J447<1977),VLOOKUP(K447,Feuil2!$F$10:$P$28,3),IF(AND(J447>=1977,J447<1982),VLOOKUP(K447,Feuil2!$F$10:$P$28,2),VLOOKUP(K447,Feuil2!$F$10:$P$28,2))))))))))))","v":{"$error":"#N/A"}},null,{"$f":"T447-HLOOKUP(Y447,Feuil2!$C$1:$CD$9,2,FALSE)","v":{"$error":"#VALUE!"}},{"$f":"T447-HLOOKUP(Y447,Feuil2!$C$1:$CD$9,3,FALSE)","v":{"$error":"#VALUE!"}},{"$f":"T447-HLOOKUP(Y447,Feuil2!$C$1:$CD$9,4,FALSE)","v":{"$error":"#VALUE!"}},{"$f":"T447-HLOOKUP(Y447,Feuil2!$C$1:$CD$9,5,FALSE)","v":{"$error":"#VALUE!"}},{"$f":"T447-HLOOKUP(Y447,Feuil2!$C$1:$CD$9,6,FALSE)","v":{"$error":"#VALUE!"}},{"$f":"T447-HLOOKUP(Y447,Feuil2!$C$1:$CD$9,7,FALSE)","v":{"$error":"#VALUE!"}},{"$f":"T447-HLOOKUP(Y447,Feuil2!$C$1:$CD$9,8,FALSE)","v":{"$error":"#VALUE!"}},{"$f":"T447-HLOOKUP(Y447,Feuil2!$C$1:$CD$9,9,FALSE)","v":{"$error":"#VALUE!"}},null,null,null,null,null,null,null,{"$error":"#VALUE!"},2016,null,{"$f":"IF(AQ447,VLOOKUP(AQ447,HOM!$AS$561:$AT$616,2))","v":3.5710000000000002}]
["H",null,null,null,null,null,null,null,null,null,null,null,null,null,"",null,null,null,"","","","","",{"$error":"#N/A"},{"$f":"IF(AND(J448<1920),VLOOKUP(K448,Feuil2!$F$10:$P$28,11),IF(AND(J448>=1920,J448<1937),VLOOKUP(K448,Feuil2!$F$10:$P$28,11),IF(AND(J448>=1936,J448<1942),VLOOKUP(K448,Feuil2!$F$10:$P$28,10),IF(AND(J448>=1942,J448<1947),VLOOKUP(K448,Feuil2!$F$10:$P$28,9),IF(AND(J448>=1947,J448<1952),VLOOKUP(K448,Feuil2!$F$10:$P$28,8),IF(AND(J448>=1952,J448<1957),VLOOKUP(K448,Feuil2!$F$10:$P$28,7),IF(AND(J448>=1957,J448<1962),VLOOKUP(K448,Feuil2!$F$10:$P$28,6),IF(AND(J448>=1962,J448<1967),VLOOKUP(K448,Feuil2!$F$10:$P$28,5),IF(AND(J448>=1967,J448<1972),VLOOKUP(K448,Feuil2!$F$10:$P$28,4),IF(AND(J448>=1972,J448<1977),VLOOKUP(K448,Feuil2!$F$10:$P$28,3),IF(AND(J448>=1977,J448<1982),VLOOKUP(K448,Feuil2!$F$10:$P$28,2),VLOOKUP(K448,Feuil2!$F$10:$P$28,2))))))))))))","v":{"$error":"#N/A"}},null,{"$f":"T448-HLOOKUP(Y448,Feuil2!$C$1:$CD$9,2,FALSE)","v":{"$error":"#VALUE!"}},{"$f":"T448-HLOOKUP(Y448,Feuil2!$C$1:$CD$9,3,FALSE)","v":{"$error":"#VALUE!"}},{"$f":"T448-HLOOKUP(Y448,Feuil2!$C$1:$CD$9,4,FALSE)","v":{"$error":"#VALUE!"}},{"$f":"T448-HLOOKUP(Y448,Feuil2!$C$1:$CD$9,5,FALSE)","v":{"$error":"#VALUE!"}},{"$f":"T448-HLOOKUP(Y448,Feuil2!$C$1:$CD$9,6,FALSE)","v":{"$error":"#VALUE!"}},{"$f":"T448-HLOOKUP(Y448,Feuil2!$C$1:$CD$9,7,FALSE)","v":{"$error":"#VALUE!"}},{"$f":"T448-HLOOKUP(Y448,Feuil2!$C$1:$CD$9,8,FALSE)","v":{"$error":"#VALUE!"}},{"$f":"T448-HLOOKUP(Y448,Feuil2!$C$1:$CD$9,9,FALSE)","v":{"$error":"#VALUE!"}},null,null,null,null,null,null,null,{"$error":"#VALUE!"},2016,null,{"$f":"IF(AQ448,VLOOKUP(AQ448,HOM!$AS$561:$AT$616,2))","v":3.5710000000000002}]
["H",null,null,null,null,null,null,null,null,null,null,null,null,null,"",null,null,null,"","","","","",{"$error":"#N/A"},{"$f":"IF(AND(J449<1920),VLOOKUP(K449,Feuil2!$F$10:$P$28,11),IF(AND(J449>=1920,J449<1937),VLOOKUP(K449,Feuil2!$F$10:$P$28,11),IF(AND(J449>=1936,J449<1942),VLOOKUP(K449,Feuil2!$F$10:$P$28,10),IF(AND(J449>=1942,J449<1947),VLOOKUP(K449,Feuil2!$F$10:$P$28,9),IF(AND(J449>=1947,J449<1952),VLOOKUP(K449,Feuil2!$F$10:$P$28,8),IF(AND(J449>=1952,J449<1957),VLOOKUP(K449,Feuil2!$F$10:$P$28,7),IF(AND(J449>=1957,J449<1962),VLOOKUP(K449,Feuil2!$F$10:$P$28,6),IF(AND(J449>=1962,J449<1967),VLOOKUP(K449,Feuil2!$F$10:$P$28,5),IF(AND(J449>=1967,J449<1972),VLOOKUP(K449,Feuil2!$F$10:$P$28,4),IF(AND(J449>=1972,J449<1977),VLOOKUP(K449,Feuil2!$F$10:$P$28,3),IF(AND(J449>=1977,J449<1982),VLOOKUP(K449,Feuil2!$F$10:$P$28,2),VLOOKUP(K449,Feuil2!$F$10:$P$28,2))))))))))))","v":{"$error":"#N/A"}},null,{"$f":"T449-HLOOKUP(Y449,Feuil2!$C$1:$CD$9,2,FALSE)","v":{"$error":"#VALUE!"}},{"$f":"T449-HLOOKUP(Y449,Feuil2!$C$1:$CD$9,3,FALSE)","v":{"$error":"#VALUE!"}},{"$f":"T449-HLOOKUP(Y449,Feuil2!$C$1:$CD$9,4,FALSE)","v":{"$error":"#VALUE!"}},{"$f":"T449-HLOOKUP(Y449,Feuil2!$C$1:$CD$9,5,FALSE)","v":{"$error":"#VALUE!"}},{"$f":"T449-HLOOKUP(Y449,Feuil2!$C$1:$CD$9,6,FALSE)","v":{"$error":"#VALUE!"}},{"$f":"T449-HLOOKUP(Y449,Feuil2!$C$1:$CD$9,7,FALSE)","v":{"$error":"#VALUE!"}},{"$f":"T449-HLOOKUP(Y449,Feuil2!$C$1:$CD$9,8,FALSE)","v":{"$error":"#VALUE!"}},{"$f":"T449-HLOOKUP(Y449,Feuil2!$C$1:$CD$9,9,FALSE)","v":{"$error":"#VALUE!"}},null,null,null,null,null,null,null,{"$error":"#VALUE!"},2016,null,{"$f":"IF(AQ449,VLOOKUP(AQ449,HOM!$AS$561:$AT$616,2))","v":3.5710000000000002}]
["H",null,null,null,null,null,null,null,null,null,null,null,null,null,"",null,null,null,"","","","","",{"$error":"#N/A"},{"$f":"IF(AND(J450<1920),VLOOKUP(K450,Feuil2!$F$10:$P$28,11),IF(AND(J450>=1920,J450<1937),VLOOKUP(K450,Feuil2!$F$10:$P$28,11),IF(AND(J450>=1936,J450<1942),VLOOKUP(K450,Feuil2!$F$10:$P$28,10),IF(AND(J450>=1942,J450<1947),VLOOKUP(K450,Feuil2!$F$10:$P$28,9),IF(AND(J450>=1947,J450<1952),VLOOKUP(K450,Feuil2!$F$10:$P$28,8),IF(AND(J450>=1952,J450<1957),VLOOKUP(K450,Feuil2!$F$10:$P$28,7),IF(AND(J450>=1957,J450<1962),VLOOKUP(K450,Feuil2!$F$10:$P$28,6),IF(AND(J450>=1962,J450<1967),VLOOKUP(K450,Feuil2!$F$10:$P$28,5),IF(AND(J450>=1967,J450<1972),VLOOKUP(K450,Feuil2!$F$10:$P$28,4),IF(AND(J450>=1972,J450<1977),VLOOKUP(K450,Feuil2!$F$10:$P$28,3),IF(AND(J450>=1977,J450<1982),VLOOKUP(K450,Feuil2!$F$10:$P$28,2),VLOOKUP(K450,Feuil2!$F$10:$P$28,2))))))))))))","v":{"$error":"#N/A"}},null,{"$f":"T450-HLOOKUP(Y450,Feuil2!$C$1:$CD$9,2,FALSE)","v":{"$error":"#VALUE!"}},{"$f":"T450-HLOOKUP(Y450,Feuil2!$C$1:$CD$9,3,FALSE)","v":{"$error":"#VALUE!"}},{"$f":"T450-HLOOKUP(Y450,Feuil2!$C$1:$CD$9,4,FALSE)","v":{"$error":"#VALUE!"}},{"$f":"T450-HLOOKUP(Y450,Feuil2!$C$1:$CD$9,5,FALSE)","v":{"$error":"#VALUE!"}},{"$f":"T450-HLOOKUP(Y450,Feuil2!$C$1:$CD$9,6,FALSE)","v":{"$error":"#VALUE!"}},{"$f":"T450-HLOOKUP(Y450,Feuil2!$C$1:$CD$9,7,FALSE)","v":{"$error":"#VALUE!"}},{"$f":"T450-HLOOKUP(Y450,Feuil2!$C$1:$CD$9,8,FALSE)","v":{"$error":"#VALUE!"}},{"$f":"T450-HLOOKUP(Y450,Feuil2!$C$1:$CD$9,9,FALSE)","v":{"$error":"#VALUE!"}},null,null,null,null,null,null,null,{"$error":"#VALUE!"},2016,null,{"$f":"IF(AQ450,VLOOKUP(AQ450,HOM!$AS$561:$AT$616,2))","v":3.5710000000000002}]
["H",null,null,null,null,null,null,null,null,null,null,null,null,null,"",null,null,null,"","","","","",{"$error":"#N/A"},{"$f":"IF(AND(J451<1920),VLOOKUP(K451,Feuil2!$F$10:$P$28,11),IF(AND(J451>=1920,J451<1937),VLOOKUP(K451,Feuil2!$F$10:$P$28,11),IF(AND(J451>=1936,J451<1942),VLOOKUP(K451,Feuil2!$F$10:$P$28,10),IF(AND(J451>=1942,J451<1947),VLOOKUP(K451,Feuil2!$F$10:$P$28,9),IF(AND(J451>=1947,J451<1952),VLOOKUP(K451,Feuil2!$F$10:$P$28,8),IF(AND(J451>=1952,J451<1957),VLOOKUP(K451,Feuil2!$F$10:$P$28,7),IF(AND(J451>=1957,J451<1962),VLOOKUP(K451,Feuil2!$F$10:$P$28,6),IF(AND(J451>=1962,J451<1967),VLOOKUP(K451,Feuil2!$F$10:$P$28,5),IF(AND(J451>=1967,J451<1972),VLOOKUP(K451,Feuil2!$F$10:$P$28,4),IF(AND(J451>=1972,J451<1977),VLOOKUP(K451,Feuil2!$F$10:$P$28,3),IF(AND(J451>=1977,J451<1982),VLOOKUP(K451,Feuil2!$F$10:$P$28,2),VLOOKUP(K451,Feuil2!$F$10:$P$28,2))))))))))))","v":{"$error":"#N/A"}},null,{"$f":"T451-HLOOKUP(Y451,Feuil2!$C$1:$CD$9,2,FALSE)","v":{"$error":"#VALUE!"}},{"$f":"T451-HLOOKUP(Y451,Feuil2!$C$1:$CD$9,3,FALSE)","v":{"$error":"#VALUE!"}},{"$f":"T451-HLOOKUP(Y451,Feuil2!$C$1:$CD$9,4,FALSE)","v":{"$error":"#VALUE!"}},{"$f":"T451-HLOOKUP(Y451,Feuil2!$C$1:$CD$9,5,FALSE)","v":{"$error":"#VALUE!"}},{"$f":"T451-HLOOKUP(Y451,Feuil2!$C$1:$CD$9,6,FALSE)","v":{"$error":"#VALUE!"}},{"$f":"T451-HLOOKUP(Y451,Feuil2!$C$1:$CD$9,7,FALSE)","v":{"$error":"#VALUE!"}},{"$f":"T451-HLOOKUP(Y451,Feuil2!$C$1:$CD$9,8,FALSE)","v":{"$error":"#VALUE!"}},{"$f":"T451-HLOOKUP(Y451,Feuil2!$C$1:$CD$9,9,FALSE)","v":{"$error":"#VALUE!"}},null,null,null,null,null,null,null,{"$error":"#VALUE!"},2016,null,{"$f":"IF(AQ451,VLOOKUP(AQ451,HOM!$AS$561:$AT$616,2))","v":3.5710000000000002}]
["H",null,null,null,null,null,null,null,null,null,null,null,null,null,"",null,null,null,"","","","","",{"$error":"#N/A"},{"$f":"IF(AND(J452<1920),VLOOKUP(K452,Feuil2!$F$10:$P$28,11),IF(AND(J452>=1920,J452<1937),VLOOKUP(K452,Feuil2!$F$10:$P$28,11),IF(AND(J452>=1936,J452<1942),VLOOKUP(K452,Feuil2!$F$10:$P$28,10),IF(AND(J452>=1942,J452<1947),VLOOKUP(K452,Feuil2!$F$10:$P$28,9),IF(AND(J452>=1947,J452<1952),VLOOKUP(K452,Feuil2!$F$10:$P$28,8),IF(AND(J452>=1952,J452<1957),VLOOKUP(K452,Feuil2!$F$10:$P$28,7),IF(AND(J452>=1957,J452<1962),VLOOKUP(K452,Feuil2!$F$10:$P$28,6),IF(AND(J452>=1962,J452<1967),VLOOKUP(K452,Feuil2!$F$10:$P$28,5),IF(AND(J452>=1967,J452<1972),VLOOKUP(K452,Feuil2!$F$10:$P$28,4),IF(AND(J452>=1972,J452<1977),VLOOKUP(K452,Feuil2!$F$10:$P$28,3),IF(AND(J452>=1977,J452<1982),VLOOKUP(K452,Feuil2!$F$10:$P$28,2),VLOOKUP(K452,Feuil2!$F$10:$P$28,2))))))))))))","v":{"$error":"#N/A"}},null,{"$f":"T452-HLOOKUP(Y452,Feuil2!$C$1:$CD$9,2,FALSE)","v":{"$error":"#VALUE!"}},{"$f":"T452-HLOOKUP(Y452,Feuil2!$C$1:$CD$9,3,FALSE)","v":{"$error":"#VALUE!"}},{"$f":"T452-HLOOKUP(Y452,Feuil2!$C$1:$CD$9,4,FALSE)","v":{"$error":"#VALUE!"}},{"$f":"T452-HLOOKUP(Y452,Feuil2!$C$1:$CD$9,5,FALSE)","v":{"$error":"#VALUE!"}},{"$f":"T452-HLOOKUP(Y452,Feuil2!$C$1:$CD$9,6,FALSE)","v":{"$error":"#VALUE!"}},{"$f":"T452-HLOOKUP(Y452,Feuil2!$C$1:$CD$9,7,FALSE)","v":{"$error":"#VALUE!"}},{"$f":"T452-HLOOKUP(Y452,Feuil2!$C$1:$CD$9,8,FALSE)","v":{"$error":"#VALUE!"}},{"$f":"T452-HLOOKUP(Y452,Feuil2!$C$1:$CD$9,9,FALSE)","v":{"$error":"#VALUE!"}},null,null,null,null,null,null,null,{"$error":"#VALUE!"},2016,null,{"$f":"IF(AQ452,VLOOKUP(AQ452,HOM!$AS$561:$AT$616,2))","v":3.5710000000000002}]
["H",null,null,null,null,null,null,null,null,null,null,null,null,null,"",null,null,null,"","","","","",{"$error":"#N/A"},{"$f":"IF(AND(J453<1920),VLOOKUP(K453,Feuil2!$F$10:$P$28,11),IF(AND(J453>=1920,J453<1937),VLOOKUP(K453,Feuil2!$F$10:$P$28,11),IF(AND(J453>=1936,J453<1942),VLOOKUP(K453,Feuil2!$F$10:$P$28,10),IF(AND(J453>=1942,J453<1947),VLOOKUP(K453,Feuil2!$F$10:$P$28,9),IF(AND(J453>=1947,J453<1952),VLOOKUP(K453,Feuil2!$F$10:$P$28,8),IF(AND(J453>=1952,J453<1957),VLOOKUP(K453,Feuil2!$F$10:$P$28,7),IF(AND(J453>=1957,J453<1962),VLOOKUP(K453,Feuil2!$F$10:$P$28,6),IF(AND(J453>=1962,J453<1967),VLOOKUP(K453,Feuil2!$F$10:$P$28,5),IF(AND(J453>=1967,J453<1972),VLOOKUP(K453,Feuil2!$F$10:$P$28,4),IF(AND(J453>=1972,J453<1977),VLOOKUP(K453,Feuil2!$F$10:$P$28,3),IF(AND(J453>=1977,J453<1982),VLOOKUP(K453,Feuil2!$F$10:$P$28,2),VLOOKUP(K453,Feuil2!$F$10:$P$28,2))))))))))))","v":{"$error":"#N/A"}},null,{"$f":"T453-HLOOKUP(Y453,Feuil2!$C$1:$CD$9,2,FALSE)","v":{"$error":"#VALUE!"}},{"$f":"T453-HLOOKUP(Y453,Feuil2!$C$1:$CD$9,3,FALSE)","v":{"$error":"#VALUE!"}},{"$f":"T453-HLOOKUP(Y453,Feuil2!$C$1:$CD$9,4,FALSE)","v":{"$error":"#VALUE!"}},{"$f":"T453-HLOOKUP(Y453,Feuil2!$C$1:$CD$9,5,FALSE)","v":{"$error":"#VALUE!"}},{"$f":"T453-HLOOKUP(Y453,Feuil2!$C$1:$CD$9,6,FALSE)","v":{"$error":"#VALUE!"}},{"$f":"T453-HLOOKUP(Y453,Feuil2!$C$1:$CD$9,7,FALSE)","v":{"$error":"#VALUE!"}},{"$f":"T453-HLOOKUP(Y453,Feuil2!$C$1:$CD$9,8,FALSE)","v":{"$error":"#VALUE!"}},{"$f":"T453-HLOOKUP(Y453,Feuil2!$C$1:$CD$9,9,FALSE)","v":{"$error":"#VALUE!"}},null,null,null,null,null,null,null,{"$error":"#VALUE!"},2016,null,{"$f":"IF(AQ453,VLOOKUP(AQ453,HOM!$AS$561:$AT$616,2))","v":3.5710000000000002}]
["H",null,null,null,null,null,null,null,null,null,null,null,null,null,"",null,null,null,"","","","","",{"$error":"#N/A"},{"$f":"IF(AND(J454<1920),VLOOKUP(K454,Feuil2!$F$10:$P$28,11),IF(AND(J454>=1920,J454<1937),VLOOKUP(K454,Feuil2!$F$10:$P$28,11),IF(AND(J454>=1936,J454<1942),VLOOKUP(K454,Feuil2!$F$10:$P$28,10),IF(AND(J454>=1942,J454<1947),VLOOKUP(K454,Feuil2!$F$10:$P$28,9),IF(AND(J454>=1947,J454<1952),VLOOKUP(K454,Feuil2!$F$10:$P$28,8),IF(AND(J454>=1952,J454<1957),VLOOKUP(K454,Feuil2!$F$10:$P$28,7),IF(AND(J454>=1957,J454<1962),VLOOKUP(K454,Feuil2!$F$10:$P$28,6),IF(AND(J454>=1962,J454<1967),VLOOKUP(K454,Feuil2!$F$10:$P$28,5),IF(AND(J454>=1967,J454<1972),VLOOKUP(K454,Feuil2!$F$10:$P$28,4),IF(AND(J454>=1972,J454<1977),VLOOKUP(K454,Feuil2!$F$10:$P$28,3),IF(AND(J454>=1977,J454<1982),VLOOKUP(K454,Feuil2!$F$10:$P$28,2),VLOOKUP(K454,Feuil2!$F$10:$P$28,2))))))))))))","v":{"$error":"#N/A"}},null,{"$f":"T454-HLOOKUP(Y454,Feuil2!$C$1:$CD$9,2,FALSE)","v":{"$error":"#VALUE!"}},{"$f":"T454-HLOOKUP(Y454,Feuil2!$C$1:$CD$9,3,FALSE)","v":{"$error":"#VALUE!"}},{"$f":"T454-HLOOKUP(Y454,Feuil2!$C$1:$CD$9,4,FALSE)","v":{"$error":"#VALUE!"}},{"$f":"T454-HLOOKUP(Y454,Feuil2!$C$1:$CD$9,5,FALSE)","v":{"$error":"#VALUE!"}},{"$f":"T454-HLOOKUP(Y454,Feuil2!$C$1:$CD$9,6,FALSE)","v":{"$error":"#VALUE!"}},{"$f":"T454-HLOOKUP(Y454,Feuil2!$C$1:$CD$9,7,FALSE)","v":{"$error":"#VALUE!"}},{"$f":"T454-HLOOKUP(Y454,Feuil2!$C$1:$CD$9,8,FALSE)","v":{"$error":"#VALUE!"}},{"$f":"T454-HLOOKUP(Y454,Feuil2!$C$1:$CD$9,9,FALSE)","v":{"$error":"#VALUE!"}},null,null,null,null,null,null,null,{"$error":"#VALUE!"},2016,null,{"$f":"IF(AQ454,VLOOKUP(AQ454,HOM!$AS$561:$AT$616,2))","v":3.5710000000000002}]
["H",null,null,null,null,null,null,null,null,null,null,null,null,null,"",null,null,null,"","","","","",{"$error":"#N/A"},{"$f":"IF(AND(J455<1920),VLOOKUP(K455,Feuil2!$F$10:$P$28,11),IF(AND(J455>=1920,J455<1937),VLOOKUP(K455,Feuil2!$F$10:$P$28,11),IF(AND(J455>=1936,J455<1942),VLOOKUP(K455,Feuil2!$F$10:$P$28,10),IF(AND(J455>=1942,J455<1947),VLOOKUP(K455,Feuil2!$F$10:$P$28,9),IF(AND(J455>=1947,J455<1952),VLOOKUP(K455,Feuil2!$F$10:$P$28,8),IF(AND(J455>=1952,J455<1957),VLOOKUP(K455,Feuil2!$F$10:$P$28,7),IF(AND(J455>=1957,J455<1962),VLOOKUP(K455,Feuil2!$F$10:$P$28,6),IF(AND(J455>=1962,J455<1967),VLOOKUP(K455,Feuil2!$F$10:$P$28,5),IF(AND(J455>=1967,J455<1972),VLOOKUP(K455,Feuil2!$F$10:$P$28,4),IF(AND(J455>=1972,J455<1977),VLOOKUP(K455,Feuil2!$F$10:$P$28,3),IF(AND(J455>=1977,J455<1982),VLOOKUP(K455,Feuil2!$F$10:$P$28,2),VLOOKUP(K455,Feuil2!$F$10:$P$28,2))))))))))))","v":{"$error":"#N/A"}},null,{"$f":"T455-HLOOKUP(Y455,Feuil2!$C$1:$CD$9,2,FALSE)","v":{"$error":"#VALUE!"}},{"$f":"T455-HLOOKUP(Y455,Feuil2!$C$1:$CD$9,3,FALSE)","v":{"$error":"#VALUE!"}},{"$f":"T455-HLOOKUP(Y455,Feuil2!$C$1:$CD$9,4,FALSE)","v":{"$error":"#VALUE!"}},{"$f":"T455-HLOOKUP(Y455,Feuil2!$C$1:$CD$9,5,FALSE)","v":{"$error":"#VALUE!"}},{"$f":"T455-HLOOKUP(Y455,Feuil2!$C$1:$CD$9,6,FALSE)","v":{"$error":"#VALUE!"}},{"$f":"T455-HLOOKUP(Y455,Feuil2!$C$1:$CD$9,7,FALSE)","v":{"$error":"#VALUE!"}},{"$f":"T455-HLOOKUP(Y455,Feuil2!$C$1:$CD$9,8,FALSE)","v":{"$error":"#VALUE!"}},{"$f":"T455-HLOOKUP(Y455,Feuil2!$C$1:$CD$9,9,FALSE)","v":{"$error":"#VALUE!"}},null,null,null,null,null,null,null,{"$error":"#VALUE!"},2016,null,{"$f":"IF(AQ455,VLOOKUP(AQ455,HOM!$AS$561:$AT$616,2))","v":3.5710000000000002}]
["H",null,null,null,null,null,null,null,null,null,null,null,null,null,"",null,null,null,"","","","","",{"$error":"#N/A"},{"$f":"IF(AND(J456<1920),VLOOKUP(K456,Feuil2!$F$10:$P$28,11),IF(AND(J456>=1920,J456<1937),VLOOKUP(K456,Feuil2!$F$10:$P$28,11),IF(AND(J456>=1936,J456<1942),VLOOKUP(K456,Feuil2!$F$10:$P$28,10),IF(AND(J456>=1942,J456<1947),VLOOKUP(K456,Feuil2!$F$10:$P$28,9),IF(AND(J456>=1947,J456<1952),VLOOKUP(K456,Feuil2!$F$10:$P$28,8),IF(AND(J456>=1952,J456<1957),VLOOKUP(K456,Feuil2!$F$10:$P$28,7),IF(AND(J456>=1957,J456<1962),VLOOKUP(K456,Feuil2!$F$10:$P$28,6),IF(AND(J456>=1962,J456<1967),VLOOKUP(K456,Feuil2!$F$10:$P$28,5),IF(AND(J456>=1967,J456<1972),VLOOKUP(K456,Feuil2!$F$10:$P$28,4),IF(AND(J456>=1972,J456<1977),VLOOKUP(K456,Feuil2!$F$10:$P$28,3),IF(AND(J456>=1977,J456<1982),VLOOKUP(K456,Feuil2!$F$10:$P$28,2),VLOOKUP(K456,Feuil2!$F$10:$P$28,2))))))))))))","v":{"$error":"#N/A"}},null,{"$f":"T456-HLOOKUP(Y456,Feuil2!$C$1:$CD$9,2,FALSE)","v":{"$error":"#VALUE!"}},{"$f":"T456-HLOOKUP(Y456,Feuil2!$C$1:$CD$9,3,FALSE)","v":{"$error":"#VALUE!"}},{"$f":"T456-HLOOKUP(Y456,Feuil2!$C$1:$CD$9,4,FALSE)","v":{"$error":"#VALUE!"}},{"$f":"T456-HLOOKUP(Y456,Feuil2!$C$1:$CD$9,5,FALSE)","v":{"$error":"#VALUE!"}},{"$f":"T456-HLOOKUP(Y456,Feuil2!$C$1:$CD$9,6,FALSE)","v":{"$error":"#VALUE!"}},{"$f":"T456-HLOOKUP(Y456,Feuil2!$C$1:$CD$9,7,FALSE)","v":{"$error":"#VALUE!"}},{"$f":"T456-HLOOKUP(Y456,Feuil2!$C$1:$CD$9,8,FALSE)","v":{"$error":"#VALUE!"}},{"$f":"T456-HLOOKUP(Y456,Feuil2!$C$1:$CD$9,9,FALSE)","v":{"$error":"#VALUE!"}},null,null,null,null,null,null,null,{"$error":"#VALUE!"},2016,null,{"$f":"IF(AQ456,VLOOKUP(AQ456,HOM!$AS$561:$AT$616,2))","v":3.5710000000000002}]
["H",null,null,null,null,null,null,null,null,null,null,null,null,null,"",null,null,null,"","","","","",{"$error":"#N/A"},{"$f":"IF(AND(J457<1920),VLOOKUP(K457,Feuil2!$F$10:$P$28,11),IF(AND(J457>=1920,J457<1937),VLOOKUP(K457,Feuil2!$F$10:$P$28,11),IF(AND(J457>=1936,J457<1942),VLOOKUP(K457,Feuil2!$F$10:$P$28,10),IF(AND(J457>=1942,J457<1947),VLOOKUP(K457,Feuil2!$F$10:$P$28,9),IF(AND(J457>=1947,J457<1952),VLOOKUP(K457,Feuil2!$F$10:$P$28,8),IF(AND(J457>=1952,J457<1957),VLOOKUP(K457,Feuil2!$F$10:$P$28,7),IF(AND(J457>=1957,J457<1962),VLOOKUP(K457,Feuil2!$F$10:$P$28,6),IF(AND(J457>=1962,J457<1967),VLOOKUP(K457,Feuil2!$F$10:$P$28,5),IF(AND(J457>=1967,J457<1972),VLOOKUP(K457,Feuil2!$F$10:$P$28,4),IF(AND(J457>=1972,J457<1977),VLOOKUP(K457,Feuil2!$F$10:$P$28,3),IF(AND(J457>=1977,J457<1982),VLOOKUP(K457,Feuil2!$F$10:$P$28,2),VLOOKUP(K457,Feuil2!$F$10:$P$28,2))))))))))))","v":{"$error":"#N/A"}},null,{"$f":"T457-HLOOKUP(Y457,Feuil2!$C$1:$CD$9,2,FALSE)","v":{"$error":"#VALUE!"}},{"$f":"T457-HLOOKUP(Y457,Feuil2!$C$1:$CD$9,3,FALSE)","v":{"$error":"#VALUE!"}},{"$f":"T457-HLOOKUP(Y457,Feuil2!$C$1:$CD$9,4,FALSE)","v":{"$error":"#VALUE!"}},{"$f":"T457-HLOOKUP(Y457,Feuil2!$C$1:$CD$9,5,FALSE)","v":{"$error":"#VALUE!"}},{"$f":"T457-HLOOKUP(Y457,Feuil2!$C$1:$CD$9,6,FALSE)","v":{"$error":"#VALUE!"}},{"$f":"T457-HLOOKUP(Y457,Feuil2!$C$1:$CD$9,7,FALSE)","v":{"$error":"#VALUE!"}},{"$f":"T457-HLOOKUP(Y457,Feuil2!$C$1:$CD$9,8,FALSE)","v":{"$error":"#VALUE!"}},{"$f":"T457-HLOOKUP(Y457,Feuil2!$C$1:$CD$9,9,FALSE)","v":{"$error":"#VALUE!"}},null,null,null,null,null,null,null,{"$error":"#VALUE!"},2016,null,{"$f":"IF(AQ457,VLOOKUP(AQ457,HOM!$AS$561:$AT$616,2))","v":3.5710000000000002}]
["H",null,null,null,null,null,null,null,null,null,null,null,null,null,"",null,null,null,"","","","","",{"$error":"#N/A"},{"$f":"IF(AND(J458<1920),VLOOKUP(K458,Feuil2!$F$10:$P$28,11),IF(AND(J458>=1920,J458<1937),VLOOKUP(K458,Feuil2!$F$10:$P$28,11),IF(AND(J458>=1936,J458<1942),VLOOKUP(K458,Feuil2!$F$10:$P$28,10),IF(AND(J458>=1942,J458<1947),VLOOKUP(K458,Feuil2!$F$10:$P$28,9),IF(AND(J458>=1947,J458<1952),VLOOKUP(K458,Feuil2!$F$10:$P$28,8),IF(AND(J458>=1952,J458<1957),VLOOKUP(K458,Feuil2!$F$10:$P$28,7),IF(AND(J458>=1957,J458<1962),VLOOKUP(K458,Feuil2!$F$10:$P$28,6),IF(AND(J458>=1962,J458<1967),VLOOKUP(K458,Feuil2!$F$10:$P$28,5),IF(AND(J458>=1967,J458<1972),VLOOKUP(K458,Feuil2!$F$10:$P$28,4),IF(AND(J458>=1972,J458<1977),VLOOKUP(K458,Feuil2!$F$10:$P$28,3),IF(AND(J458>=1977,J458<1982),VLOOKUP(K458,Feuil2!$F$10:$P$28,2),VLOOKUP(K458,Feuil2!$F$10:$P$28,2))))))))))))","v":{"$error":"#N/A"}},null,{"$f":"T458-HLOOKUP(Y458,Feuil2!$C$1:$CD$9,2,FALSE)","v":{"$error":"#VALUE!"}},{"$f":"T458-HLOOKUP(Y458,Feuil2!$C$1:$CD$9,3,FALSE)","v":{"$error":"#VALUE!"}},{"$f":"T458-HLOOKUP(Y458,Feuil2!$C$1:$CD$9,4,FALSE)","v":{"$error":"#VALUE!"}},{"$f":"T458-HLOOKUP(Y458,Feuil2!$C$1:$CD$9,5,FALSE)","v":{"$error":"#VALUE!"}},{"$f":"T458-HLOOKUP(Y458,Feuil2!$C$1:$CD$9,6,FALSE)","v":{"$error":"#VALUE!"}},{"$f":"T458-HLOOKUP(Y458,Feuil2!$C$1:$CD$9,7,FALSE)","v":{"$error":"#VALUE!"}},{"$f":"T458-HLOOKUP(Y458,Feuil2!$C$1:$CD$9,8,FALSE)","v":{"$error":"#VALUE!"}},{"$f":"T458-HLOOKUP(Y458,Feuil2!$C$1:$CD$9,9,FALSE)","v":{"$error":"#VALUE!"}},null,null,null,null,null,null,null,{"$error":"#VALUE!"},2016,null,{"$f":"IF(AQ458,VLOOKUP(AQ458,HOM!$AS$561:$AT$616,2))","v":3.5710000000000002}]
["H",null,null,null,null,null,null,null,null,null,null,null,null,null,"",null,null,null,"","","","","",{"$error":"#N/A"},{"$f":"IF(AND(J459<1920),VLOOKUP(K459,Feuil2!$F$10:$P$28,11),IF(AND(J459>=1920,J459<1937),VLOOKUP(K459,Feuil2!$F$10:$P$28,11),IF(AND(J459>=1936,J459<1942),VLOOKUP(K459,Feuil2!$F$10:$P$28,10),IF(AND(J459>=1942,J459<1947),VLOOKUP(K459,Feuil2!$F$10:$P$28,9),IF(AND(J459>=1947,J459<1952),VLOOKUP(K459,Feuil2!$F$10:$P$28,8),IF(AND(J459>=1952,J459<1957),VLOOKUP(K459,Feuil2!$F$10:$P$28,7),IF(AND(J459>=1957,J459<1962),VLOOKUP(K459,Feuil2!$F$10:$P$28,6),IF(AND(J459>=1962,J459<1967),VLOOKUP(K459,Feuil2!$F$10:$P$28,5),IF(AND(J459>=1967,J459<1972),VLOOKUP(K459,Feuil2!$F$10:$P$28,4),IF(AND(J459>=1972,J459<1977),VLOOKUP(K459,Feuil2!$F$10:$P$28,3),IF(AND(J459>=1977,J459<1982),VLOOKUP(K459,Feuil2!$F$10:$P$28,2),VLOOKUP(K459,Feuil2!$F$10:$P$28,2))))))))))))","v":{"$error":"#N/A"}},null,{"$f":"T459-HLOOKUP(Y459,Feuil2!$C$1:$CD$9,2,FALSE)","v":{"$error":"#VALUE!"}},{"$f":"T459-HLOOKUP(Y459,Feuil2!$C$1:$CD$9,3,FALSE)","v":{"$error":"#VALUE!"}},{"$f":"T459-HLOOKUP(Y459,Feuil2!$C$1:$CD$9,4,FALSE)","v":{"$error":"#VALUE!"}},{"$f":"T459-HLOOKUP(Y459,Feuil2!$C$1:$CD$9,5,FALSE)","v":{"$error":"#VALUE!"}},{"$f":"T459-HLOOKUP(Y459,Feuil2!$C$1:$CD$9,6,FALSE)","v":{"$error":"#VALUE!"}},{"$f":"T459-HLOOKUP(Y459,Feuil2!$C$1:$CD$9,7,FALSE)","v":{"$error":"#VALUE!"}},{"$f":"T459-HLOOKUP(Y459,Feuil2!$C$1:$CD$9,8,FALSE)","v":{"$error":"#VALUE!"}},{"$f":"T459-HLOOKUP(Y459,Feuil2!$C$1:$CD$9,9,FALSE)","v":{"$error":"#VALUE!"}},null,null,null,null,null,null,null,{"$error":"#VALUE!"},2016,null,{"$f":"IF(AQ459,VLOOKUP(AQ459,HOM!$AS$561:$AT$616,2))","v":3.5710000000000002}]
["H",null,null,null,null,null,null,null,null,null,null,null,null,null,"",null,null,null,"","","","","",{"$error":"#N/A"},{"$f":"IF(AND(J460<1920),VLOOKUP(K460,Feuil2!$F$10:$P$28,11),IF(AND(J460>=1920,J460<1937),VLOOKUP(K460,Feuil2!$F$10:$P$28,11),IF(AND(J460>=1936,J460<1942),VLOOKUP(K460,Feuil2!$F$10:$P$28,10),IF(AND(J460>=1942,J460<1947),VLOOKUP(K460,Feuil2!$F$10:$P$28,9),IF(AND(J460>=1947,J460<1952),VLOOKUP(K460,Feuil2!$F$10:$P$28,8),IF(AND(J460>=1952,J460<1957),VLOOKUP(K460,Feuil2!$F$10:$P$28,7),IF(AND(J460>=1957,J460<1962),VLOOKUP(K460,Feuil2!$F$10:$P$28,6),IF(AND(J460>=1962,J460<1967),VLOOKUP(K460,Feuil2!$F$10:$P$28,5),IF(AND(J460>=1967,J460<1972),VLOOKUP(K460,Feuil2!$F$10:$P$28,4),IF(AND(J460>=1972,J460<1977),VLOOKUP(K460,Feuil2!$F$10:$P$28,3),IF(AND(J460>=1977,J460<1982),VLOOKUP(K460,Feuil2!$F$10:$P$28,2),VLOOKUP(K460,Feuil2!$F$10:$P$28,2))))))))))))","v":{"$error":"#N/A"}},null,{"$f":"T460-HLOOKUP(Y460,Feuil2!$C$1:$CD$9,2,FALSE)","v":{"$error":"#VALUE!"}},{"$f":"T460-HLOOKUP(Y460,Feuil2!$C$1:$CD$9,3,FALSE)","v":{"$error":"#VALUE!"}},{"$f":"T460-HLOOKUP(Y460,Feuil2!$C$1:$CD$9,4,FALSE)","v":{"$error":"#VALUE!"}},{"$f":"T460-HLOOKUP(Y460,Feuil2!$C$1:$CD$9,5,FALSE)","v":{"$error":"#VALUE!"}},{"$f":"T460-HLOOKUP(Y460,Feuil2!$C$1:$CD$9,6,FALSE)","v":{"$error":"#VALUE!"}},{"$f":"T460-HLOOKUP(Y460,Feuil2!$C$1:$CD$9,7,FALSE)","v":{"$error":"#VALUE!"}},{"$f":"T460-HLOOKUP(Y460,Feuil2!$C$1:$CD$9,8,FALSE)","v":{"$error":"#VALUE!"}},{"$f":"T460-HLOOKUP(Y460,Feuil2!$C$1:$CD$9,9,FALSE)","v":{"$error":"#VALUE!"}},null,null,null,null,null,null,null,{"$error":"#VALUE!"},2016,null,{"$f":"IF(AQ460,VLOOKUP(AQ460,HOM!$AS$561:$AT$616,2))","v":3.5710000000000002}]
["H",null,null,null,null,null,null,null,null,null,null,null,null,null,"",null,null,null,"","","","","",{"$error":"#N/A"},{"$f":"IF(AND(J461<1920),VLOOKUP(K461,Feuil2!$F$10:$P$28,11),IF(AND(J461>=1920,J461<1937),VLOOKUP(K461,Feuil2!$F$10:$P$28,11),IF(AND(J461>=1936,J461<1942),VLOOKUP(K461,Feuil2!$F$10:$P$28,10),IF(AND(J461>=1942,J461<1947),VLOOKUP(K461,Feuil2!$F$10:$P$28,9),IF(AND(J461>=1947,J461<1952),VLOOKUP(K461,Feuil2!$F$10:$P$28,8),IF(AND(J461>=1952,J461<1957),VLOOKUP(K461,Feuil2!$F$10:$P$28,7),IF(AND(J461>=1957,J461<1962),VLOOKUP(K461,Feuil2!$F$10:$P$28,6),IF(AND(J461>=1962,J461<1967),VLOOKUP(K461,Feuil2!$F$10:$P$28,5),IF(AND(J461>=1967,J461<1972),VLOOKUP(K461,Feuil2!$F$10:$P$28,4),IF(AND(J461>=1972,J461<1977),VLOOKUP(K461,Feuil2!$F$10:$P$28,3),IF(AND(J461>=1977,J461<1982),VLOOKUP(K461,Feuil2!$F$10:$P$28,2),VLOOKUP(K461,Feuil2!$F$10:$P$28,2))))))))))))","v":{"$error":"#N/A"}},null,{"$f":"T461-HLOOKUP(Y461,Feuil2!$C$1:$CD$9,2,FALSE)","v":{"$error":"#VALUE!"}},{"$f":"T461-HLOOKUP(Y461,Feuil2!$C$1:$CD$9,3,FALSE)","v":{"$error":"#VALUE!"}},{"$f":"T461-HLOOKUP(Y461,Feuil2!$C$1:$CD$9,4,FALSE)","v":{"$error":"#VALUE!"}},{"$f":"T461-HLOOKUP(Y461,Feuil2!$C$1:$CD$9,5,FALSE)","v":{"$error":"#VALUE!"}},{"$f":"T461-HLOOKUP(Y461,Feuil2!$C$1:$CD$9,6,FALSE)","v":{"$error":"#VALUE!"}},{"$f":"T461-HLOOKUP(Y461,Feuil2!$C$1:$CD$9,7,FALSE)","v":{"$error":"#VALUE!"}},{"$f":"T461-HLOOKUP(Y461,Feuil2!$C$1:$CD$9,8,FALSE)","v":{"$error":"#VALUE!"}},{"$f":"T461-HLOOKUP(Y461,Feuil2!$C$1:$CD$9,9,FALSE)","v":{"$error":"#VALUE!"}},null,null,null,null,null,null,null,{"$error":"#VALUE!"},2016,null,{"$f":"IF(AQ461,VLOOKUP(AQ461,HOM!$AS$561:$AT$616,2))","v":3.5710000000000002}]
["H",null,null,null,null,null,null,null,null,null,null,null,null,null,"",null,null,null,"","","","","",{"$error":"#N/A"},{"$f":"IF(AND(J462<1920),VLOOKUP(K462,Feuil2!$F$10:$P$28,11),IF(AND(J462>=1920,J462<1937),VLOOKUP(K462,Feuil2!$F$10:$P$28,11),IF(AND(J462>=1936,J462<1942),VLOOKUP(K462,Feuil2!$F$10:$P$28,10),IF(AND(J462>=1942,J462<1947),VLOOKUP(K462,Feuil2!$F$10:$P$28,9),IF(AND(J462>=1947,J462<1952),VLOOKUP(K462,Feuil2!$F$10:$P$28,8),IF(AND(J462>=1952,J462<1957),VLOOKUP(K462,Feuil2!$F$10:$P$28,7),IF(AND(J462>=1957,J462<1962),VLOOKUP(K462,Feuil2!$F$10:$P$28,6),IF(AND(J462>=1962,J462<1967),VLOOKUP(K462,Feuil2!$F$10:$P$28,5),IF(AND(J462>=1967,J462<1972),VLOOKUP(K462,Feuil2!$F$10:$P$28,4),IF(AND(J462>=1972,J462<1977),VLOOKUP(K462,Feuil2!$F$10:$P$28,3),IF(AND(J462>=1977,J462<1982),VLOOKUP(K462,Feuil2!$F$10:$P$28,2),VLOOKUP(K462,Feuil2!$F$10:$P$28,2))))))))))))","v":{"$error":"#N/A"}},null,{"$f":"T462-HLOOKUP(Y462,Feuil2!$C$1:$CD$9,2,FALSE)","v":{"$error":"#VALUE!"}},{"$f":"T462-HLOOKUP(Y462,Feuil2!$C$1:$CD$9,3,FALSE)","v":{"$error":"#VALUE!"}},{"$f":"T462-HLOOKUP(Y462,Feuil2!$C$1:$CD$9,4,FALSE)","v":{"$error":"#VALUE!"}},{"$f":"T462-HLOOKUP(Y462,Feuil2!$C$1:$CD$9,5,FALSE)","v":{"$error":"#VALUE!"}},{"$f":"T462-HLOOKUP(Y462,Feuil2!$C$1:$CD$9,6,FALSE)","v":{"$error":"#VALUE!"}},{"$f":"T462-HLOOKUP(Y462,Feuil2!$C$1:$CD$9,7,FALSE)","v":{"$error":"#VALUE!"}},{"$f":"T462-HLOOKUP(Y462,Feuil2!$C$1:$CD$9,8,FALSE)","v":{"$error":"#VALUE!"}},{"$f":"T462-HLOOKUP(Y462,Feuil2!$C$1:$CD$9,9,FALSE)","v":{"$error":"#VALUE!"}},null,null,null,null,null,null,null,{"$error":"#VALUE!"},2016,null,{"$f":"IF(AQ462,VLOOKUP(AQ462,HOM!$AS$561:$AT$616,2))","v":3.5710000000000002}]
["H",null,null,null,null,null,null,null,null,null,null,null,null,null,"",null,null,null,"","",{"$f":"IF(K463=\"\",\"\",IF(A463=\"H\",10^(0.794358141*LOG(K463/174.393)^2)*T463*AS463,IF(A463=\"F\",10^(0.89726074 * LOG(K463/148.026)^2)*T463*AS463,\"\")))","v":""},"","",{"$error":"#N/A"},{"$f":"IF(AND(J463<1920),VLOOKUP(K463,Feuil2!$F$10:$P$28,11),IF(AND(J463>=1920,J463<1937),VLOOKUP(K463,Feuil2!$F$10:$P$28,11),IF(AND(J463>=1936,J463<1942),VLOOKUP(K463,Feuil2!$F$10:$P$28,10),IF(AND(J463>=1942,J463<1947),VLOOKUP(K463,Feuil2!$F$10:$P$28,9),IF(AND(J463>=1947,J463<1952),VLOOKUP(K463,Feuil2!$F$10:$P$28,8),IF(AND(J463>=1952,J463<1957),VLOOKUP(K463,Feuil2!$F$10:$P$28,7),IF(AND(J463>=1957,J463<1962),VLOOKUP(K463,Feuil2!$F$10:$P$28,6),IF(AND(J463>=1962,J463<1967),VLOOKUP(K463,Feuil2!$F$10:$P$28,5),IF(AND(J463>=1967,J463<1972),VLOOKUP(K463,Feuil2!$F$10:$P$28,4),IF(AND(J463>=1972,J463<1977),VLOOKUP(K463,Feuil2!$F$10:$P$28,3),IF(AND(J463>=1977,J463<1982),VLOOKUP(K463,Feuil2!$F$10:$P$28,2),VLOOKUP(K463,Feuil2!$F$10:$P$28,2))))))))))))","v":{"$error":"#N/A"}},null,{"$f":"T463-HLOOKUP(Y463,Feuil2!$C$1:$CD$9,2,FALSE)","v":{"$error":"#VALUE!"}},{"$f":"T463-HLOOKUP(Y463,Feuil2!$C$1:$CD$9,3,FALSE)","v":{"$error":"#VALUE!"}},{"$f":"T463-HLOOKUP(Y463,Feuil2!$C$1:$CD$9,4,FALSE)","v":{"$error":"#VALUE!"}},{"$f":"T463-HLOOKUP(Y463,Feuil2!$C$1:$CD$9,5,FALSE)","v":{"$error":"#VALUE!"}},{"$f":"T463-HLOOKUP(Y463,Feuil2!$C$1:$CD$9,6,FALSE)","v":{"$error":"#VALUE!"}},{"$f":"T463-HLOOKUP(Y463,Feuil2!$C$1:$CD$9,7,FALSE)","v":{"$error":"#VALUE!"}},{"$f":"T463-HLOOKUP(Y463,Feuil2!$C$1:$CD$9,8,FALSE)","v":{"$error":"#VALUE!"}},{"$f":"T463-HLOOKUP(Y463,Feuil2!$C$1:$CD$9,9,FALSE)","v":{"$error":"#VALUE!"}},null,null,null,null,null,null,null,{"$error":"#VALUE!"},2016,null,{"$f":"IF(AQ463,VLOOKUP(AQ463,HOM!$AS$561:$AT$616,2))","v":3.5710000000000002}]
["H",null,null,null,null,null,null,null,null,null,null,null,null,null,"",null,null,null,"","","","","",{"$error":"#N/A"},{"$f":"IF(AND(J464<1920),VLOOKUP(K464,Feuil2!$F$10:$P$28,11),IF(AND(J464>=1920,J464<1937),VLOOKUP(K464,Feuil2!$F$10:$P$28,11),IF(AND(J464>=1936,J464<1942),VLOOKUP(K464,Feuil2!$F$10:$P$28,10),IF(AND(J464>=1942,J464<1947),VLOOKUP(K464,Feuil2!$F$10:$P$28,9),IF(AND(J464>=1947,J464<1952),VLOOKUP(K464,Feuil2!$F$10:$P$28,8),IF(AND(J464>=1952,J464<1957),VLOOKUP(K464,Feuil2!$F$10:$P$28,7),IF(AND(J464>=1957,J464<1962),VLOOKUP(K464,Feuil2!$F$10:$P$28,6),IF(AND(J464>=1962,J464<1967),VLOOKUP(K464,Feuil2!$F$10:$P$28,5),IF(AND(J464>=1967,J464<1972),VLOOKUP(K464,Feuil2!$F$10:$P$28,4),IF(AND(J464>=1972,J464<1977),VLOOKUP(K464,Feuil2!$F$10:$P$28,3),IF(AND(J464>=1977,J464<1982),VLOOKUP(K464,Feuil2!$F$10:$P$28,2),VLOOKUP(K464,Feuil2!$F$10:$P$28,2))))))))))))","v":{"$error":"#N/A"}},null,{"$f":"T464-HLOOKUP(Y464,Feuil2!$C$1:$CD$9,2,FALSE)","v":{"$error":"#VALUE!"}},{"$f":"T464-HLOOKUP(Y464,Feuil2!$C$1:$CD$9,3,FALSE)","v":{"$error":"#VALUE!"}},{"$f":"T464-HLOOKUP(Y464,Feuil2!$C$1:$CD$9,4,FALSE)","v":{"$error":"#VALUE!"}},{"$f":"T464-HLOOKUP(Y464,Feuil2!$C$1:$CD$9,5,FALSE)","v":{"$error":"#VALUE!"}},{"$f":"T464-HLOOKUP(Y464,Feuil2!$C$1:$CD$9,6,FALSE)","v":{"$error":"#VALUE!"}},{"$f":"T464-HLOOKUP(Y464,Feuil2!$C$1:$CD$9,7,FALSE)","v":{"$error":"#VALUE!"}},{"$f":"T464-HLOOKUP(Y464,Feuil2!$C$1:$CD$9,8,FALSE)","v":{"$error":"#VALUE!"}},{"$f":"T464-HLOOKUP(Y464,Feuil2!$C$1:$CD$9,9,FALSE)","v":{"$error":"#VALUE!"}},null,null,null,null,null,null,null,{"$error":"#VALUE!"},2016,null,{"$f":"IF(AQ464,VLOOKUP(AQ464,HOM!$AS$561:$AT$616,2))","v":3.5710000000000002}]
["H",null,null,null,null,null,null,null,null,null,null,null,null,null,"",null,null,null,"","","","","",{"$f":"IF(BI465<95,IF(BI465<=90,VLOOKUP(BI465,$AQ$560:$AR$615,2)))","v":{"$error":"#N/A"}},{"$f":"IF(AND(J465<1920),VLOOKUP(K465,Feuil2!$F$10:$P$28,11),IF(AND(J465>=1920,J465<1937),VLOOKUP(K465,Feuil2!$F$10:$P$28,11),IF(AND(J465>=1936,J465<1942),VLOOKUP(K465,Feuil2!$F$10:$P$28,10),IF(AND(J465>=1942,J465<1947),VLOOKUP(K465,Feuil2!$F$10:$P$28,9),IF(AND(J465>=1947,J465<1952),VLOOKUP(K465,Feuil2!$F$10:$P$28,8),IF(AND(J465>=1952,J465<1957),VLOOKUP(K465,Feuil2!$F$10:$P$28,7),IF(AND(J465>=1957,J465<1962),VLOOKUP(K465,Feuil2!$F$10:$P$28,6),IF(AND(J465>=1962,J465<1967),VLOOKUP(K465,Feuil2!$F$10:$P$28,5),IF(AND(J465>=1967,J465<1972),VLOOKUP(K465,Feuil2!$F$10:$P$28,4),IF(AND(J465>=1972,J465<1977),VLOOKUP(K465,Feuil2!$F$10:$P$28,3),IF(AND(J465>=1977,J465<1982),VLOOKUP(K465,Feuil2!$F$10:$P$28,2),VLOOKUP(K465,Feuil2!$F$10:$P$28,2))))))))))))","v":{"$error":"#N/A"}},null,{"$f":"T465-HLOOKUP(Y465,Feuil2!$C$1:$CD$9,2,FALSE)","v":{"$error":"#VALUE!"}},{"$f":"T465-HLOOKUP(Y465,Feuil2!$C$1:$CD$9,3,FALSE)","v":{"$error":"#VALUE!"}},{"$f":"T465-HLOOKUP(Y465,Feuil2!$C$1:$CD$9,4,FALSE)","v":{"$error":"#VALUE!"}},{"$f":"T465-HLOOKUP(Y465,Feuil2!$C$1:$CD$9,5,FALSE)","v":{"$error":"#VALUE!"}},{"$f":"T465-HLOOKUP(Y465,Feuil2!$C$1:$CD$9,6,FALSE)","v":{"$error":"#VALUE!"}},{"$f":"T465-HLOOKUP(Y465,Feuil2!$C$1:$CD$9,7,FALSE)","v":{"$error":"#VALUE!"}},{"$f":"T465-HLOOKUP(Y465,Feuil2!$C$1:$CD$9,8,FALSE)","v":{"$error":"#VALUE!"}},{"$f":"T465-HLOOKUP(Y465,Feuil2!$C$1:$CD$9,9,FALSE)","v":{"$error":"#VALUE!"}},null,null,null,null,null,null,null,{"$error":"#VALUE!"},{"$f":"2016-J465","v":2016},null,{"$f":"IF(AQ465,VLOOKUP(AQ465,HOM!$AS$561:$AT$616,2))","v":3.5710000000000002}]
["H",null,null,null,null,null,null,null,null,null,null,null,null,null,"",null,null,null,"","","","","",{"$error":"#N/A"},{"$f":"IF(AND(J466<1920),VLOOKUP(K466,Feuil2!$F$10:$P$28,11),IF(AND(J466>=1920,J466<1937),VLOOKUP(K466,Feuil2!$F$10:$P$28,11),IF(AND(J466>=1936,J466<1942),VLOOKUP(K466,Feuil2!$F$10:$P$28,10),IF(AND(J466>=1942,J466<1947),VLOOKUP(K466,Feuil2!$F$10:$P$28,9),IF(AND(J466>=1947,J466<1952),VLOOKUP(K466,Feuil2!$F$10:$P$28,8),IF(AND(J466>=1952,J466<1957),VLOOKUP(K466,Feuil2!$F$10:$P$28,7),IF(AND(J466>=1957,J466<1962),VLOOKUP(K466,Feuil2!$F$10:$P$28,6),IF(AND(J466>=1962,J466<1967),VLOOKUP(K466,Feuil2!$F$10:$P$28,5),IF(AND(J466>=1967,J466<1972),VLOOKUP(K466,Feuil2!$F$10:$P$28,4),IF(AND(J466>=1972,J466<1977),VLOOKUP(K466,Feuil2!$F$10:$P$28,3),IF(AND(J466>=1977,J466<1982),VLOOKUP(K466,Feuil2!$F$10:$P$28,2),VLOOKUP(K466,Feuil2!$F$10:$P$28,2))))))))))))","v":{"$error":"#N/A"}},null,{"$f":"T466-HLOOKUP(Y466,Feuil2!$C$1:$CD$9,2,FALSE)","v":{"$error":"#VALUE!"}},{"$f":"T466-HLOOKUP(Y466,Feuil2!$C$1:$CD$9,3,FALSE)","v":{"$error":"#VALUE!"}},{"$f":"T466-HLOOKUP(Y466,Feuil2!$C$1:$CD$9,4,FALSE)","v":{"$error":"#VALUE!"}},{"$f":"T466-HLOOKUP(Y466,Feuil2!$C$1:$CD$9,5,FALSE)","v":{"$error":"#VALUE!"}},{"$f":"T466-HLOOKUP(Y466,Feuil2!$C$1:$CD$9,6,FALSE)","v":{"$error":"#VALUE!"}},{"$f":"T466-HLOOKUP(Y466,Feuil2!$C$1:$CD$9,7,FALSE)","v":{"$error":"#VALUE!"}},{"$f":"T466-HLOOKUP(Y466,Feuil2!$C$1:$CD$9,8,FALSE)","v":{"$error":"#VALUE!"}},{"$f":"T466-HLOOKUP(Y466,Feuil2!$C$1:$CD$9,9,FALSE)","v":{"$error":"#VALUE!"}},null,null,null,null,null,null,null,{"$error":"#VALUE!"},2016,null,{"$f":"IF(AQ466,VLOOKUP(AQ466,HOM!$AS$561:$AT$616,2))","v":3.5710000000000002}]
["H",null,null,null,null,null,null,null,null,null,null,null,null,null,"",null,null,null,"","","","","",{"$error":"#N/A"},{"$f":"IF(AND(J467<1920),VLOOKUP(K467,Feuil2!$F$10:$P$28,11),IF(AND(J467>=1920,J467<1937),VLOOKUP(K467,Feuil2!$F$10:$P$28,11),IF(AND(J467>=1936,J467<1942),VLOOKUP(K467,Feuil2!$F$10:$P$28,10),IF(AND(J467>=1942,J467<1947),VLOOKUP(K467,Feuil2!$F$10:$P$28,9),IF(AND(J467>=1947,J467<1952),VLOOKUP(K467,Feuil2!$F$10:$P$28,8),IF(AND(J467>=1952,J467<1957),VLOOKUP(K467,Feuil2!$F$10:$P$28,7),IF(AND(J467>=1957,J467<1962),VLOOKUP(K467,Feuil2!$F$10:$P$28,6),IF(AND(J467>=1962,J467<1967),VLOOKUP(K467,Feuil2!$F$10:$P$28,5),IF(AND(J467>=1967,J467<1972),VLOOKUP(K467,Feuil2!$F$10:$P$28,4),IF(AND(J467>=1972,J467<1977),VLOOKUP(K467,Feuil2!$F$10:$P$28,3),IF(AND(J467>=1977,J467<1982),VLOOKUP(K467,Feuil2!$F$10:$P$28,2),VLOOKUP(K467,Feuil2!$F$10:$P$28,2))))))))))))","v":{"$error":"#N/A"}},null,{"$f":"T467-HLOOKUP(Y467,Feuil2!$C$1:$CD$9,2,FALSE)","v":{"$error":"#VALUE!"}},{"$f":"T467-HLOOKUP(Y467,Feuil2!$C$1:$CD$9,3,FALSE)","v":{"$error":"#VALUE!"}},{"$f":"T467-HLOOKUP(Y467,Feuil2!$C$1:$CD$9,4,FALSE)","v":{"$error":"#VALUE!"}},{"$f":"T467-HLOOKUP(Y467,Feuil2!$C$1:$CD$9,5,FALSE)","v":{"$error":"#VALUE!"}},{"$f":"T467-HLOOKUP(Y467,Feuil2!$C$1:$CD$9,6,FALSE)","v":{"$error":"#VALUE!"}},{"$f":"T467-HLOOKUP(Y467,Feuil2!$C$1:$CD$9,7,FALSE)","v":{"$error":"#VALUE!"}},{"$f":"T467-HLOOKUP(Y467,Feuil2!$C$1:$CD$9,8,FALSE)","v":{"$error":"#VALUE!"}},{"$f":"T467-HLOOKUP(Y467,Feuil2!$C$1:$CD$9,9,FALSE)","v":{"$error":"#VALUE!"}},null,null,null,null,null,null,null,{"$error":"#VALUE!"},2016,null,{"$f":"IF(AQ467,VLOOKUP(AQ467,HOM!$AS$561:$AT$616,2))","v":3.5710000000000002}]
["H",null,null,null,null,null,null,null,null,null,null,null,null,null,"",null,null,null,"","","","","",{"$error":"#N/A"},{"$f":"IF(AND(J468<1920),VLOOKUP(K468,Feuil2!$F$10:$P$28,11),IF(AND(J468>=1920,J468<1937),VLOOKUP(K468,Feuil2!$F$10:$P$28,11),IF(AND(J468>=1936,J468<1942),VLOOKUP(K468,Feuil2!$F$10:$P$28,10),IF(AND(J468>=1942,J468<1947),VLOOKUP(K468,Feuil2!$F$10:$P$28,9),IF(AND(J468>=1947,J468<1952),VLOOKUP(K468,Feuil2!$F$10:$P$28,8),IF(AND(J468>=1952,J468<1957),VLOOKUP(K468,Feuil2!$F$10:$P$28,7),IF(AND(J468>=1957,J468<1962),VLOOKUP(K468,Feuil2!$F$10:$P$28,6),IF(AND(J468>=1962,J468<1967),VLOOKUP(K468,Feuil2!$F$10:$P$28,5),IF(AND(J468>=1967,J468<1972),VLOOKUP(K468,Feuil2!$F$10:$P$28,4),IF(AND(J468>=1972,J468<1977),VLOOKUP(K468,Feuil2!$F$10:$P$28,3),IF(AND(J468>=1977,J468<1982),VLOOKUP(K468,Feuil2!$F$10:$P$28,2),VLOOKUP(K468,Feuil2!$F$10:$P$28,2))))))))))))","v":{"$error":"#N/A"}},null,{"$f":"T468-HLOOKUP(Y468,Feuil2!$C$1:$CD$9,2,FALSE)","v":{"$error":"#VALUE!"}},{"$f":"T468-HLOOKUP(Y468,Feuil2!$C$1:$CD$9,3,FALSE)","v":{"$error":"#VALUE!"}},{"$f":"T468-HLOOKUP(Y468,Feuil2!$C$1:$CD$9,4,FALSE)","v":{"$error":"#VALUE!"}},{"$f":"T468-HLOOKUP(Y468,Feuil2!$C$1:$CD$9,5,FALSE)","v":{"$error":"#VALUE!"}},{"$f":"T468-HLOOKUP(Y468,Feuil2!$C$1:$CD$9,6,FALSE)","v":{"$error":"#VALUE!"}},{"$f":"T468-HLOOKUP(Y468,Feuil2!$C$1:$CD$9,7,FALSE)","v":{"$error":"#VALUE!"}},{"$f":"T468-HLOOKUP(Y468,Feuil2!$C$1:$CD$9,8,FALSE)","v":{"$error":"#VALUE!"}},{"$f":"T468-HLOOKUP(Y468,Feuil2!$C$1:$CD$9,9,FALSE)","v":{"$error":"#VALUE!"}},null,null,null,null,null,null,null,{"$error":"#VALUE!"},2016,null,{"$f":"IF(AQ468,VLOOKUP(AQ468,HOM!$AS$561:$AT$616,2))","v":3.5710000000000002}]
["H",null,null,null,null,null,null,null,null,null,null,null,null,null,"",null,null,null,"","","","","",{"$error":"#N/A"},{"$f":"IF(AND(J469<1920),VLOOKUP(K469,Feuil2!$F$10:$P$28,11),IF(AND(J469>=1920,J469<1937),VLOOKUP(K469,Feuil2!$F$10:$P$28,11),IF(AND(J469>=1936,J469<1942),VLOOKUP(K469,Feuil2!$F$10:$P$28,10),IF(AND(J469>=1942,J469<1947),VLOOKUP(K469,Feuil2!$F$10:$P$28,9),IF(AND(J469>=1947,J469<1952),VLOOKUP(K469,Feuil2!$F$10:$P$28,8),IF(AND(J469>=1952,J469<1957),VLOOKUP(K469,Feuil2!$F$10:$P$28,7),IF(AND(J469>=1957,J469<1962),VLOOKUP(K469,Feuil2!$F$10:$P$28,6),IF(AND(J469>=1962,J469<1967),VLOOKUP(K469,Feuil2!$F$10:$P$28,5),IF(AND(J469>=1967,J469<1972),VLOOKUP(K469,Feuil2!$F$10:$P$28,4),IF(AND(J469>=1972,J469<1977),VLOOKUP(K469,Feuil2!$F$10:$P$28,3),IF(AND(J469>=1977,J469<1982),VLOOKUP(K469,Feuil2!$F$10:$P$28,2),VLOOKUP(K469,Feuil2!$F$10:$P$28,2))))))))))))","v":{"$error":"#N/A"}},null,{"$f":"T469-HLOOKUP(Y469,Feuil2!$C$1:$CD$9,2,FALSE)","v":{"$error":"#VALUE!"}},{"$f":"T469-HLOOKUP(Y469,Feuil2!$C$1:$CD$9,3,FALSE)","v":{"$error":"#VALUE!"}},{"$f":"T469-HLOOKUP(Y469,Feuil2!$C$1:$CD$9,4,FALSE)","v":{"$error":"#VALUE!"}},{"$f":"T469-HLOOKUP(Y469,Feuil2!$C$1:$CD$9,5,FALSE)","v":{"$error":"#VALUE!"}},{"$f":"T469-HLOOKUP(Y469,Feuil2!$C$1:$CD$9,6,FALSE)","v":{"$error":"#VALUE!"}},{"$f":"T469-HLOOKUP(Y469,Feuil2!$C$1:$CD$9,7,FALSE)","v":{"$error":"#VALUE!"}},{"$f":"T469-HLOOKUP(Y469,Feuil2!$C$1:$CD$9,8,FALSE)","v":{"$error":"#VALUE!"}},{"$f":"T469-HLOOKUP(Y469,Feuil2!$C$1:$CD$9,9,FALSE)","v":{"$error":"#VALUE!"}},null,null,null,null,null,null,null,{"$error":"#VALUE!"},2016,null,{"$f":"IF(AQ469,VLOOKUP(AQ469,HOM!$AS$561:$AT$616,2))","v":3.5710000000000002}]
["H",null,null,null,null,null,null,null,null,null,null,null,null,null,"",null,null,null,"","","","","",{"$error":"#N/A"},{"$f":"IF(AND(J470<1920),VLOOKUP(K470,Feuil2!$F$10:$P$28,11),IF(AND(J470>=1920,J470<1937),VLOOKUP(K470,Feuil2!$F$10:$P$28,11),IF(AND(J470>=1936,J470<1942),VLOOKUP(K470,Feuil2!$F$10:$P$28,10),IF(AND(J470>=1942,J470<1947),VLOOKUP(K470,Feuil2!$F$10:$P$28,9),IF(AND(J470>=1947,J470<1952),VLOOKUP(K470,Feuil2!$F$10:$P$28,8),IF(AND(J470>=1952,J470<1957),VLOOKUP(K470,Feuil2!$F$10:$P$28,7),IF(AND(J470>=1957,J470<1962),VLOOKUP(K470,Feuil2!$F$10:$P$28,6),IF(AND(J470>=1962,J470<1967),VLOOKUP(K470,Feuil2!$F$10:$P$28,5),IF(AND(J470>=1967,J470<1972),VLOOKUP(K470,Feuil2!$F$10:$P$28,4),IF(AND(J470>=1972,J470<1977),VLOOKUP(K470,Feuil2!$F$10:$P$28,3),IF(AND(J470>=1977,J470<1982),VLOOKUP(K470,Feuil2!$F$10:$P$28,2),VLOOKUP(K470,Feuil2!$F$10:$P$28,2))))))))))))","v":{"$error":"#N/A"}},null,{"$f":"T470-HLOOKUP(Y470,Feuil2!$C$1:$CD$9,2,FALSE)","v":{"$error":"#VALUE!"}},{"$f":"T470-HLOOKUP(Y470,Feuil2!$C$1:$CD$9,3,FALSE)","v":{"$error":"#VALUE!"}},{"$f":"T470-HLOOKUP(Y470,Feuil2!$C$1:$CD$9,4,FALSE)","v":{"$error":"#VALUE!"}},{"$f":"T470-HLOOKUP(Y470,Feuil2!$C$1:$CD$9,5,FALSE)","v":{"$error":"#VALUE!"}},{"$f":"T470-HLOOKUP(Y470,Feuil2!$C$1:$CD$9,6,FALSE)","v":{"$error":"#VALUE!"}},{"$f":"T470-HLOOKUP(Y470,Feuil2!$C$1:$CD$9,7,FALSE)","v":{"$error":"#VALUE!"}},{"$f":"T470-HLOOKUP(Y470,Feuil2!$C$1:$CD$9,8,FALSE)","v":{"$error":"#VALUE!"}},{"$f":"T470-HLOOKUP(Y470,Feuil2!$C$1:$CD$9,9,FALSE)","v":{"$error":"#VALUE!"}},null,null,null,null,null,null,null,{"$error":"#VALUE!"},2016,null,{"$f":"IF(AQ470,VLOOKUP(AQ470,HOM!$AS$561:$AT$616,2))","v":3.5710000000000002}]
["H",null,null,null,null,null,null,null,null,null,null,null,null,null,"",null,null,null,"","","","","",{"$error":"#N/A"},{"$f":"IF(AND(J471<1920),VLOOKUP(K471,Feuil2!$F$10:$P$28,11),IF(AND(J471>=1920,J471<1937),VLOOKUP(K471,Feuil2!$F$10:$P$28,11),IF(AND(J471>=1936,J471<1942),VLOOKUP(K471,Feuil2!$F$10:$P$28,10),IF(AND(J471>=1942,J471<1947),VLOOKUP(K471,Feuil2!$F$10:$P$28,9),IF(AND(J471>=1947,J471<1952),VLOOKUP(K471,Feuil2!$F$10:$P$28,8),IF(AND(J471>=1952,J471<1957),VLOOKUP(K471,Feuil2!$F$10:$P$28,7),IF(AND(J471>=1957,J471<1962),VLOOKUP(K471,Feuil2!$F$10:$P$28,6),IF(AND(J471>=1962,J471<1967),VLOOKUP(K471,Feuil2!$F$10:$P$28,5),IF(AND(J471>=1967,J471<1972),VLOOKUP(K471,Feuil2!$F$10:$P$28,4),IF(AND(J471>=1972,J471<1977),VLOOKUP(K471,Feuil2!$F$10:$P$28,3),IF(AND(J471>=1977,J471<1982),VLOOKUP(K471,Feuil2!$F$10:$P$28,2),VLOOKUP(K471,Feuil2!$F$10:$P$28,2))))))))))))","v":{"$error":"#N/A"}},null,{"$f":"T471-HLOOKUP(Y471,Feuil2!$C$1:$CD$9,2,FALSE)","v":{"$error":"#VALUE!"}},{"$f":"T471-HLOOKUP(Y471,Feuil2!$C$1:$CD$9,3,FALSE)","v":{"$error":"#VALUE!"}},{"$f":"T471-HLOOKUP(Y471,Feuil2!$C$1:$CD$9,4,FALSE)","v":{"$error":"#VALUE!"}},{"$f":"T471-HLOOKUP(Y471,Feuil2!$C$1:$CD$9,5,FALSE)","v":{"$error":"#VALUE!"}},{"$f":"T471-HLOOKUP(Y471,Feuil2!$C$1:$CD$9,6,FALSE)","v":{"$error":"#VALUE!"}},{"$f":"T471-HLOOKUP(Y471,Feuil2!$C$1:$CD$9,7,FALSE)","v":{"$error":"#VALUE!"}},{"$f":"T471-HLOOKUP(Y471,Feuil2!$C$1:$CD$9,8,FALSE)","v":{"$error":"#VALUE!"}},{"$f":"T471-HLOOKUP(Y471,Feuil2!$C$1:$CD$9,9,FALSE)","v":{"$error":"#VALUE!"}},null,null,null,null,null,null,null,{"$error":"#VALUE!"},2016,null,{"$f":"IF(AQ471,VLOOKUP(AQ471,HOM!$AS$561:$AT$616,2))","v":3.5710000000000002}]
["H",null,null,null,null,null,null,null,null,null,null,null,null,null,"",null,null,null,"","","","","",{"$error":"#N/A"},{"$f":"IF(AND(J472<1920),VLOOKUP(K472,Feuil2!$F$10:$P$28,11),IF(AND(J472>=1920,J472<1937),VLOOKUP(K472,Feuil2!$F$10:$P$28,11),IF(AND(J472>=1936,J472<1942),VLOOKUP(K472,Feuil2!$F$10:$P$28,10),IF(AND(J472>=1942,J472<1947),VLOOKUP(K472,Feuil2!$F$10:$P$28,9),IF(AND(J472>=1947,J472<1952),VLOOKUP(K472,Feuil2!$F$10:$P$28,8),IF(AND(J472>=1952,J472<1957),VLOOKUP(K472,Feuil2!$F$10:$P$28,7),IF(AND(J472>=1957,J472<1962),VLOOKUP(K472,Feuil2!$F$10:$P$28,6),IF(AND(J472>=1962,J472<1967),VLOOKUP(K472,Feuil2!$F$10:$P$28,5),IF(AND(J472>=1967,J472<1972),VLOOKUP(K472,Feuil2!$F$10:$P$28,4),IF(AND(J472>=1972,J472<1977),VLOOKUP(K472,Feuil2!$F$10:$P$28,3),IF(AND(J472>=1977,J472<1982),VLOOKUP(K472,Feuil2!$F$10:$P$28,2),VLOOKUP(K472,Feuil2!$F$10:$P$28,2))))))))))))","v":{"$error":"#N/A"}},null,{"$f":"T472-HLOOKUP(Y472,Feuil2!$C$1:$CD$9,2,FALSE)","v":{"$error":"#VALUE!"}},{"$f":"T472-HLOOKUP(Y472,Feuil2!$C$1:$CD$9,3,FALSE)","v":{"$error":"#VALUE!"}},{"$f":"T472-HLOOKUP(Y472,Feuil2!$C$1:$CD$9,4,FALSE)","v":{"$error":"#VALUE!"}},{"$f":"T472-HLOOKUP(Y472,Feuil2!$C$1:$CD$9,5,FALSE)","v":{"$error":"#VALUE!"}},{"$f":"T472-HLOOKUP(Y472,Feuil2!$C$1:$CD$9,6,FALSE)","v":{"$error":"#VALUE!"}},{"$f":"T472-HLOOKUP(Y472,Feuil2!$C$1:$CD$9,7,FALSE)","v":{"$error":"#VALUE!"}},{"$f":"T472-HLOOKUP(Y472,Feuil2!$C$1:$CD$9,8,FALSE)","v":{"$error":"#VALUE!"}},{"$f":"T472-HLOOKUP(Y472,Feuil2!$C$1:$CD$9,9,FALSE)","v":{"$error":"#VALUE!"}},null,null,null,null,null,null,null,{"$error":"#VALUE!"},2016,null,{"$f":"IF(AQ472,VLOOKUP(AQ472,HOM!$AS$561:$AT$616,2))","v":3.5710000000000002}]
["H",null,null,null,null,null,null,null,null,null,null,null,null,null,"",null,null,null,"","","","","",{"$error":"#N/A"},{"$f":"IF(AND(J473<1920),VLOOKUP(K473,Feuil2!$F$10:$P$28,11),IF(AND(J473>=1920,J473<1937),VLOOKUP(K473,Feuil2!$F$10:$P$28,11),IF(AND(J473>=1936,J473<1942),VLOOKUP(K473,Feuil2!$F$10:$P$28,10),IF(AND(J473>=1942,J473<1947),VLOOKUP(K473,Feuil2!$F$10:$P$28,9),IF(AND(J473>=1947,J473<1952),VLOOKUP(K473,Feuil2!$F$10:$P$28,8),IF(AND(J473>=1952,J473<1957),VLOOKUP(K473,Feuil2!$F$10:$P$28,7),IF(AND(J473>=1957,J473<1962),VLOOKUP(K473,Feuil2!$F$10:$P$28,6),IF(AND(J473>=1962,J473<1967),VLOOKUP(K473,Feuil2!$F$10:$P$28,5),IF(AND(J473>=1967,J473<1972),VLOOKUP(K473,Feuil2!$F$10:$P$28,4),IF(AND(J473>=1972,J473<1977),VLOOKUP(K473,Feuil2!$F$10:$P$28,3),IF(AND(J473>=1977,J473<1982),VLOOKUP(K473,Feuil2!$F$10:$P$28,2),VLOOKUP(K473,Feuil2!$F$10:$P$28,2))))))))))))","v":{"$error":"#N/A"}},null,{"$f":"T473-HLOOKUP(Y473,Feuil2!$C$1:$CD$9,2,FALSE)","v":{"$error":"#VALUE!"}},{"$f":"T473-HLOOKUP(Y473,Feuil2!$C$1:$CD$9,3,FALSE)","v":{"$error":"#VALUE!"}},{"$f":"T473-HLOOKUP(Y473,Feuil2!$C$1:$CD$9,4,FALSE)","v":{"$error":"#VALUE!"}},{"$f":"T473-HLOOKUP(Y473,Feuil2!$C$1:$CD$9,5,FALSE)","v":{"$error":"#VALUE!"}},{"$f":"T473-HLOOKUP(Y473,Feuil2!$C$1:$CD$9,6,FALSE)","v":{"$error":"#VALUE!"}},{"$f":"T473-HLOOKUP(Y473,Feuil2!$C$1:$CD$9,7,FALSE)","v":{"$error":"#VALUE!"}},{"$f":"T473-HLOOKUP(Y473,Feuil2!$C$1:$CD$9,8,FALSE)","v":{"$error":"#VALUE!"}},{"$f":"T473-HLOOKUP(Y473,Feuil2!$C$1:$CD$9,9,FALSE)","v":{"$error":"#VALUE!"}},null,null,null,null,null,null,null,{"$error":"#VALUE!"},2016,null,{"$f":"IF(AQ473,VLOOKUP(AQ473,HOM!$AS$561:$AT$616,2))","v":3.5710000000000002}]
["H",null,null,null,null,null,null,null,null,null,null,null,null,null,"",null,null,null,"","","","","",{"$error":"#N/A"},{"$f":"IF(AND(J474<1920),VLOOKUP(K474,Feuil2!$F$10:$P$28,11),IF(AND(J474>=1920,J474<1937),VLOOKUP(K474,Feuil2!$F$10:$P$28,11),IF(AND(J474>=1936,J474<1942),VLOOKUP(K474,Feuil2!$F$10:$P$28,10),IF(AND(J474>=1942,J474<1947),VLOOKUP(K474,Feuil2!$F$10:$P$28,9),IF(AND(J474>=1947,J474<1952),VLOOKUP(K474,Feuil2!$F$10:$P$28,8),IF(AND(J474>=1952,J474<1957),VLOOKUP(K474,Feuil2!$F$10:$P$28,7),IF(AND(J474>=1957,J474<1962),VLOOKUP(K474,Feuil2!$F$10:$P$28,6),IF(AND(J474>=1962,J474<1967),VLOOKUP(K474,Feuil2!$F$10:$P$28,5),IF(AND(J474>=1967,J474<1972),VLOOKUP(K474,Feuil2!$F$10:$P$28,4),IF(AND(J474>=1972,J474<1977),VLOOKUP(K474,Feuil2!$F$10:$P$28,3),IF(AND(J474>=1977,J474<1982),VLOOKUP(K474,Feuil2!$F$10:$P$28,2),VLOOKUP(K474,Feuil2!$F$10:$P$28,2))))))))))))","v":{"$error":"#N/A"}},null,{"$f":"T474-HLOOKUP(Y474,Feuil2!$C$1:$CD$9,2,FALSE)","v":{"$error":"#VALUE!"}},{"$f":"T474-HLOOKUP(Y474,Feuil2!$C$1:$CD$9,3,FALSE)","v":{"$error":"#VALUE!"}},{"$f":"T474-HLOOKUP(Y474,Feuil2!$C$1:$CD$9,4,FALSE)","v":{"$error":"#VALUE!"}},{"$f":"T474-HLOOKUP(Y474,Feuil2!$C$1:$CD$9,5,FALSE)","v":{"$error":"#VALUE!"}},{"$f":"T474-HLOOKUP(Y474,Feuil2!$C$1:$CD$9,6,FALSE)","v":{"$error":"#VALUE!"}},{"$f":"T474-HLOOKUP(Y474,Feuil2!$C$1:$CD$9,7,FALSE)","v":{"$error":"#VALUE!"}},{"$f":"T474-HLOOKUP(Y474,Feuil2!$C$1:$CD$9,8,FALSE)","v":{"$error":"#VALUE!"}},{"$f":"T474-HLOOKUP(Y474,Feuil2!$C$1:$CD$9,9,FALSE)","v":{"$error":"#VALUE!"}},null,null,null,null,null,null,null,{"$error":"#VALUE!"},2016,null,{"$f":"IF(AQ474,VLOOKUP(AQ474,HOM!$AS$561:$AT$616,2))","v":3.5710000000000002}]
["H",null,null,null,null,null,null,null,null,null,null,null,null,null,"",null,null,null,"","","","","",{"$error":"#N/A"},{"$f":"IF(AND(J475<1920),VLOOKUP(K475,Feuil2!$F$10:$P$28,11),IF(AND(J475>=1920,J475<1937),VLOOKUP(K475,Feuil2!$F$10:$P$28,11),IF(AND(J475>=1936,J475<1942),VLOOKUP(K475,Feuil2!$F$10:$P$28,10),IF(AND(J475>=1942,J475<1947),VLOOKUP(K475,Feuil2!$F$10:$P$28,9),IF(AND(J475>=1947,J475<1952),VLOOKUP(K475,Feuil2!$F$10:$P$28,8),IF(AND(J475>=1952,J475<1957),VLOOKUP(K475,Feuil2!$F$10:$P$28,7),IF(AND(J475>=1957,J475<1962),VLOOKUP(K475,Feuil2!$F$10:$P$28,6),IF(AND(J475>=1962,J475<1967),VLOOKUP(K475,Feuil2!$F$10:$P$28,5),IF(AND(J475>=1967,J475<1972),VLOOKUP(K475,Feuil2!$F$10:$P$28,4),IF(AND(J475>=1972,J475<1977),VLOOKUP(K475,Feuil2!$F$10:$P$28,3),IF(AND(J475>=1977,J475<1982),VLOOKUP(K475,Feuil2!$F$10:$P$28,2),VLOOKUP(K475,Feuil2!$F$10:$P$28,2))))))))))))","v":{"$error":"#N/A"}},null,{"$f":"T475-HLOOKUP(Y475,Feuil2!$C$1:$CD$9,2,FALSE)","v":{"$error":"#VALUE!"}},{"$f":"T475-HLOOKUP(Y475,Feuil2!$C$1:$CD$9,3,FALSE)","v":{"$error":"#VALUE!"}},{"$f":"T475-HLOOKUP(Y475,Feuil2!$C$1:$CD$9,4,FALSE)","v":{"$error":"#VALUE!"}},{"$f":"T475-HLOOKUP(Y475,Feuil2!$C$1:$CD$9,5,FALSE)","v":{"$error":"#VALUE!"}},{"$f":"T475-HLOOKUP(Y475,Feuil2!$C$1:$CD$9,6,FALSE)","v":{"$error":"#VALUE!"}},{"$f":"T475-HLOOKUP(Y475,Feuil2!$C$1:$CD$9,7,FALSE)","v":{"$error":"#VALUE!"}},{"$f":"T475-HLOOKUP(Y475,Feuil2!$C$1:$CD$9,8,FALSE)","v":{"$error":"#VALUE!"}},{"$f":"T475-HLOOKUP(Y475,Feuil2!$C$1:$CD$9,9,FALSE)","v":{"$error":"#VALUE!"}},null,null,null,null,null,null,null,{"$error":"#VALUE!"},2016,null,{"$f":"IF(AQ475,VLOOKUP(AQ475,HOM!$AS$561:$AT$616,2))","v":3.5710000000000002}]
["H",null,null,null,null,null,null,null,null,null,null,null,null,null,"",null,null,null,"","","","","",{"$error":"#N/A"},{"$f":"IF(AND(J476<1920),VLOOKUP(K476,Feuil2!$F$10:$P$28,11),IF(AND(J476>=1920,J476<1937),VLOOKUP(K476,Feuil2!$F$10:$P$28,11),IF(AND(J476>=1936,J476<1942),VLOOKUP(K476,Feuil2!$F$10:$P$28,10),IF(AND(J476>=1942,J476<1947),VLOOKUP(K476,Feuil2!$F$10:$P$28,9),IF(AND(J476>=1947,J476<1952),VLOOKUP(K476,Feuil2!$F$10:$P$28,8),IF(AND(J476>=1952,J476<1957),VLOOKUP(K476,Feuil2!$F$10:$P$28,7),IF(AND(J476>=1957,J476<1962),VLOOKUP(K476,Feuil2!$F$10:$P$28,6),IF(AND(J476>=1962,J476<1967),VLOOKUP(K476,Feuil2!$F$10:$P$28,5),IF(AND(J476>=1967,J476<1972),VLOOKUP(K476,Feuil2!$F$10:$P$28,4),IF(AND(J476>=1972,J476<1977),VLOOKUP(K476,Feuil2!$F$10:$P$28,3),IF(AND(J476>=1977,J476<1982),VLOOKUP(K476,Feuil2!$F$10:$P$28,2),VLOOKUP(K476,Feuil2!$F$10:$P$28,2))))))))))))","v":{"$error":"#N/A"}},null,{"$f":"T476-HLOOKUP(Y476,Feuil2!$C$1:$CD$9,2,FALSE)","v":{"$error":"#VALUE!"}},{"$f":"T476-HLOOKUP(Y476,Feuil2!$C$1:$CD$9,3,FALSE)","v":{"$error":"#VALUE!"}},{"$f":"T476-HLOOKUP(Y476,Feuil2!$C$1:$CD$9,4,FALSE)","v":{"$error":"#VALUE!"}},{"$f":"T476-HLOOKUP(Y476,Feuil2!$C$1:$CD$9,5,FALSE)","v":{"$error":"#VALUE!"}},{"$f":"T476-HLOOKUP(Y476,Feuil2!$C$1:$CD$9,6,FALSE)","v":{"$error":"#VALUE!"}},{"$f":"T476-HLOOKUP(Y476,Feuil2!$C$1:$CD$9,7,FALSE)","v":{"$error":"#VALUE!"}},{"$f":"T476-HLOOKUP(Y476,Feuil2!$C$1:$CD$9,8,FALSE)","v":{"$error":"#VALUE!"}},{"$f":"T476-HLOOKUP(Y476,Feuil2!$C$1:$CD$9,9,FALSE)","v":{"$error":"#VALUE!"}},null,null,null,null,null,null,null,{"$error":"#VALUE!"},2016,null,{"$f":"IF(AQ476,VLOOKUP(AQ476,HOM!$AS$561:$AT$616,2))","v":3.5710000000000002}]
["H",null,null,null,null,null,null,null,null,null,null,null,null,null,"",null,null,null,"","","","","",{"$error":"#N/A"},{"$f":"IF(AND(J477<1920),VLOOKUP(K477,Feuil2!$F$10:$P$28,11),IF(AND(J477>=1920,J477<1937),VLOOKUP(K477,Feuil2!$F$10:$P$28,11),IF(AND(J477>=1936,J477<1942),VLOOKUP(K477,Feuil2!$F$10:$P$28,10),IF(AND(J477>=1942,J477<1947),VLOOKUP(K477,Feuil2!$F$10:$P$28,9),IF(AND(J477>=1947,J477<1952),VLOOKUP(K477,Feuil2!$F$10:$P$28,8),IF(AND(J477>=1952,J477<1957),VLOOKUP(K477,Feuil2!$F$10:$P$28,7),IF(AND(J477>=1957,J477<1962),VLOOKUP(K477,Feuil2!$F$10:$P$28,6),IF(AND(J477>=1962,J477<1967),VLOOKUP(K477,Feuil2!$F$10:$P$28,5),IF(AND(J477>=1967,J477<1972),VLOOKUP(K477,Feuil2!$F$10:$P$28,4),IF(AND(J477>=1972,J477<1977),VLOOKUP(K477,Feuil2!$F$10:$P$28,3),IF(AND(J477>=1977,J477<1982),VLOOKUP(K477,Feuil2!$F$10:$P$28,2),VLOOKUP(K477,Feuil2!$F$10:$P$28,2))))))))))))","v":{"$error":"#N/A"}},null,{"$f":"T477-HLOOKUP(Y477,Feuil2!$C$1:$CD$9,2,FALSE)","v":{"$error":"#VALUE!"}},{"$f":"T477-HLOOKUP(Y477,Feuil2!$C$1:$CD$9,3,FALSE)","v":{"$error":"#VALUE!"}},{"$f":"T477-HLOOKUP(Y477,Feuil2!$C$1:$CD$9,4,FALSE)","v":{"$error":"#VALUE!"}},{"$f":"T477-HLOOKUP(Y477,Feuil2!$C$1:$CD$9,5,FALSE)","v":{"$error":"#VALUE!"}},{"$f":"T477-HLOOKUP(Y477,Feuil2!$C$1:$CD$9,6,FALSE)","v":{"$error":"#VALUE!"}},{"$f":"T477-HLOOKUP(Y477,Feuil2!$C$1:$CD$9,7,FALSE)","v":{"$error":"#VALUE!"}},{"$f":"T477-HLOOKUP(Y477,Feuil2!$C$1:$CD$9,8,FALSE)","v":{"$error":"#VALUE!"}},{"$f":"T477-HLOOKUP(Y477,Feuil2!$C$1:$CD$9,9,FALSE)","v":{"$error":"#VALUE!"}},null,null,null,null,null,null,null,{"$error":"#VALUE!"},2016,null,{"$f":"IF(AQ477,VLOOKUP(AQ477,HOM!$AS$561:$AT$616,2))","v":3.5710000000000002}]
["H",null,null,null,null,null,null,null,null,null,null,null,null,null,"",null,null,null,"","","","","",{"$error":"#N/A"},{"$f":"IF(AND(J478<1920),VLOOKUP(K478,Feuil2!$F$10:$P$28,11),IF(AND(J478>=1920,J478<1937),VLOOKUP(K478,Feuil2!$F$10:$P$28,11),IF(AND(J478>=1936,J478<1942),VLOOKUP(K478,Feuil2!$F$10:$P$28,10),IF(AND(J478>=1942,J478<1947),VLOOKUP(K478,Feuil2!$F$10:$P$28,9),IF(AND(J478>=1947,J478<1952),VLOOKUP(K478,Feuil2!$F$10:$P$28,8),IF(AND(J478>=1952,J478<1957),VLOOKUP(K478,Feuil2!$F$10:$P$28,7),IF(AND(J478>=1957,J478<1962),VLOOKUP(K478,Feuil2!$F$10:$P$28,6),IF(AND(J478>=1962,J478<1967),VLOOKUP(K478,Feuil2!$F$10:$P$28,5),IF(AND(J478>=1967,J478<1972),VLOOKUP(K478,Feuil2!$F$10:$P$28,4),IF(AND(J478>=1972,J478<1977),VLOOKUP(K478,Feuil2!$F$10:$P$28,3),IF(AND(J478>=1977,J478<1982),VLOOKUP(K478,Feuil2!$F$10:$P$28,2),VLOOKUP(K478,Feuil2!$F$10:$P$28,2))))))))))))","v":{"$error":"#N/A"}},null,{"$f":"T478-HLOOKUP(Y478,Feuil2!$C$1:$CD$9,2,FALSE)","v":{"$error":"#VALUE!"}},{"$f":"T478-HLOOKUP(Y478,Feuil2!$C$1:$CD$9,3,FALSE)","v":{"$error":"#VALUE!"}},{"$f":"T478-HLOOKUP(Y478,Feuil2!$C$1:$CD$9,4,FALSE)","v":{"$error":"#VALUE!"}},{"$f":"T478-HLOOKUP(Y478,Feuil2!$C$1:$CD$9,5,FALSE)","v":{"$error":"#VALUE!"}},{"$f":"T478-HLOOKUP(Y478,Feuil2!$C$1:$CD$9,6,FALSE)","v":{"$error":"#VALUE!"}},{"$f":"T478-HLOOKUP(Y478,Feuil2!$C$1:$CD$9,7,FALSE)","v":{"$error":"#VALUE!"}},{"$f":"T478-HLOOKUP(Y478,Feuil2!$C$1:$CD$9,8,FALSE)","v":{"$error":"#VALUE!"}},{"$f":"T478-HLOOKUP(Y478,Feuil2!$C$1:$CD$9,9,FALSE)","v":{"$error":"#VALUE!"}},null,null,null,null,null,null,null,{"$error":"#VALUE!"},2016,null,{"$f":"IF(AQ478,VLOOKUP(AQ478,HOM!$AS$561:$AT$616,2))","v":3.5710000000000002}]
["H",null,null,null,null,null,null,null,null,null,null,null,null,null,{"$f":"IF(K479=\"\",\"\",IF(MAXA(L479:N479)<=0,0,MAXA(L479:N479)))","v":""},null,null,null,{"$f":"IF(K479=\"\",\"\",IF(MAXA(P479:R479)<=0,0,MAXA(P479:R479)))","v":""},{"$f":"IF(K479=\"\",\"\",IF(OR(O479=0,S479=0),0,O479+S479))","v":""},"","","",{"$error":"#N/A"},{"$f":"IF(AND(J479<1920),VLOOKUP(K479,Feuil2!$F$10:$P$28,11),IF(AND(J479>=1920,J479<1937),VLOOKUP(K479,Feuil2!$F$10:$P$28,11),IF(AND(J479>=1936,J479<1942),VLOOKUP(K479,Feuil2!$F$10:$P$28,10),IF(AND(J479>=1942,J479<1947),VLOOKUP(K479,Feuil2!$F$10:$P$28,9),IF(AND(J479>=1947,J479<1952),VLOOKUP(K479,Feuil2!$F$10:$P$28,8),IF(AND(J479>=1952,J479<1957),VLOOKUP(K479,Feuil2!$F$10:$P$28,7),IF(AND(J479>=1957,J479<1962),VLOOKUP(K479,Feuil2!$F$10:$P$28,6),IF(AND(J479>=1962,J479<1967),VLOOKUP(K479,Feuil2!$F$10:$P$28,5),IF(AND(J479>=1967,J479<1972),VLOOKUP(K479,Feuil2!$F$10:$P$28,4),IF(AND(J479>=1972,J479<1977),VLOOKUP(K479,Feuil2!$F$10:$P$28,3),IF(AND(J479>=1977,J479<1982),VLOOKUP(K479,Feuil2!$F$10:$P$28,2),VLOOKUP(K479,Feuil2!$F$10:$P$28,2))))))))))))","v":{"$error":"#N/A"}},null,{"$f":"T479-HLOOKUP(Y479,Feuil2!$C$1:$CD$9,2,FALSE)","v":{"$error":"#VALUE!"}},{"$f":"T479-HLOOKUP(Y479,Feuil2!$C$1:$CD$9,3,FALSE)","v":{"$error":"#VALUE!"}},{"$f":"T479-HLOOKUP(Y479,Feuil2!$C$1:$CD$9,4,FALSE)","v":{"$error":"#VALUE!"}},{"$f":"T479-HLOOKUP(Y479,Feuil2!$C$1:$CD$9,5,FALSE)","v":{"$error":"#VALUE!"}},{"$f":"T479-HLOOKUP(Y479,Feuil2!$C$1:$CD$9,6,FALSE)","v":{"$error":"#VALUE!"}},{"$f":"T479-HLOOKUP(Y479,Feuil2!$C$1:$CD$9,7,FALSE)","v":{"$error":"#VALUE!"}},{"$f":"T479-HLOOKUP(Y479,Feuil2!$C$1:$CD$9,8,FALSE)","v":{"$error":"#VALUE!"}},{"$f":"T479-HLOOKUP(Y479,Feuil2!$C$1:$CD$9,9,FALSE)","v":{"$error":"#VALUE!"}},null,null,null,null,null,null,null,{"$error":"#VALUE!"},2016,null,{"$f":"IF(AQ479,VLOOKUP(AQ479,HOM!$AS$561:$AT$616,2))","v":3.5710000000000002}]
["H",null,null,null,null,null,null,null,null,null,null,null,null,null,"",null,null,null,"","","","","",{"$error":"#N/A"},{"$f":"IF(AND(J480<1920),VLOOKUP(K480,Feuil2!$F$10:$P$28,11),IF(AND(J480>=1920,J480<1937),VLOOKUP(K480,Feuil2!$F$10:$P$28,11),IF(AND(J480>=1936,J480<1942),VLOOKUP(K480,Feuil2!$F$10:$P$28,10),IF(AND(J480>=1942,J480<1947),VLOOKUP(K480,Feuil2!$F$10:$P$28,9),IF(AND(J480>=1947,J480<1952),VLOOKUP(K480,Feuil2!$F$10:$P$28,8),IF(AND(J480>=1952,J480<1957),VLOOKUP(K480,Feuil2!$F$10:$P$28,7),IF(AND(J480>=1957,J480<1962),VLOOKUP(K480,Feuil2!$F$10:$P$28,6),IF(AND(J480>=1962,J480<1967),VLOOKUP(K480,Feuil2!$F$10:$P$28,5),IF(AND(J480>=1967,J480<1972),VLOOKUP(K480,Feuil2!$F$10:$P$28,4),IF(AND(J480>=1972,J480<1977),VLOOKUP(K480,Feuil2!$F$10:$P$28,3),IF(AND(J480>=1977,J480<1982),VLOOKUP(K480,Feuil2!$F$10:$P$28,2),VLOOKUP(K480,Feuil2!$F$10:$P$28,2))))))))))))","v":{"$error":"#N/A"}},null,{"$f":"T480-HLOOKUP(Y480,Feuil2!$C$1:$CD$9,2,FALSE)","v":{"$error":"#VALUE!"}},{"$f":"T480-HLOOKUP(Y480,Feuil2!$C$1:$CD$9,3,FALSE)","v":{"$error":"#VALUE!"}},{"$f":"T480-HLOOKUP(Y480,Feuil2!$C$1:$CD$9,4,FALSE)","v":{"$error":"#VALUE!"}},{"$f":"T480-HLOOKUP(Y480,Feuil2!$C$1:$CD$9,5,FALSE)","v":{"$error":"#VALUE!"}},{"$f":"T480-HLOOKUP(Y480,Feuil2!$C$1:$CD$9,6,FALSE)","v":{"$error":"#VALUE!"}},{"$f":"T480-HLOOKUP(Y480,Feuil2!$C$1:$CD$9,7,FALSE)","v":{"$error":"#VALUE!"}},{"$f":"T480-HLOOKUP(Y480,Feuil2!$C$1:$CD$9,8,FALSE)","v":{"$error":"#VALUE!"}},{"$f":"T480-HLOOKUP(Y480,Feuil2!$C$1:$CD$9,9,FALSE)","v":{"$error":"#VALUE!"}},null,null,null,null,null,null,null,{"$error":"#VALUE!"},2016,null,{"$f":"IF(AQ480,VLOOKUP(AQ480,HOM!$AS$561:$AT$616,2))","v":3.5710000000000002}]
["H",null,null,null,null,null,null,null,null,null,null,null,null,null,"",null,null,null,"","","","","",{"$error":"#N/A"},{"$f":"IF(AND(J481<1920),VLOOKUP(K481,Feuil2!$F$10:$P$28,11),IF(AND(J481>=1920,J481<1937),VLOOKUP(K481,Feuil2!$F$10:$P$28,11),IF(AND(J481>=1936,J481<1942),VLOOKUP(K481,Feuil2!$F$10:$P$28,10),IF(AND(J481>=1942,J481<1947),VLOOKUP(K481,Feuil2!$F$10:$P$28,9),IF(AND(J481>=1947,J481<1952),VLOOKUP(K481,Feuil2!$F$10:$P$28,8),IF(AND(J481>=1952,J481<1957),VLOOKUP(K481,Feuil2!$F$10:$P$28,7),IF(AND(J481>=1957,J481<1962),VLOOKUP(K481,Feuil2!$F$10:$P$28,6),IF(AND(J481>=1962,J481<1967),VLOOKUP(K481,Feuil2!$F$10:$P$28,5),IF(AND(J481>=1967,J481<1972),VLOOKUP(K481,Feuil2!$F$10:$P$28,4),IF(AND(J481>=1972,J481<1977),VLOOKUP(K481,Feuil2!$F$10:$P$28,3),IF(AND(J481>=1977,J481<1982),VLOOKUP(K481,Feuil2!$F$10:$P$28,2),VLOOKUP(K481,Feuil2!$F$10:$P$28,2))))))))))))","v":{"$error":"#N/A"}},null,{"$f":"T481-HLOOKUP(Y481,Feuil2!$C$1:$CD$9,2,FALSE)","v":{"$error":"#VALUE!"}},{"$f":"T481-HLOOKUP(Y481,Feuil2!$C$1:$CD$9,3,FALSE)","v":{"$error":"#VALUE!"}},{"$f":"T481-HLOOKUP(Y481,Feuil2!$C$1:$CD$9,4,FALSE)","v":{"$error":"#VALUE!"}},{"$f":"T481-HLOOKUP(Y481,Feuil2!$C$1:$CD$9,5,FALSE)","v":{"$error":"#VALUE!"}},{"$f":"T481-HLOOKUP(Y481,Feuil2!$C$1:$CD$9,6,FALSE)","v":{"$error":"#VALUE!"}},{"$f":"T481-HLOOKUP(Y481,Feuil2!$C$1:$CD$9,7,FALSE)","v":{"$error":"#VALUE!"}},{"$f":"T481-HLOOKUP(Y481,Feuil2!$C$1:$CD$9,8,FALSE)","v":{"$error":"#VALUE!"}},{"$f":"T481-HLOOKUP(Y481,Feuil2!$C$1:$CD$9,9,FALSE)","v":{"$error":"#VALUE!"}},null,null,null,null,null,null,null,{"$error":"#VALUE!"},2016,null,{"$f":"IF(AQ481,VLOOKUP(AQ481,HOM!$AS$561:$AT$616,2))","v":3.5710000000000002}]
["H",null,null,null,null,null,null,null,null,null,null,null,null,null,"",null,null,null,"","","","","",{"$error":"#N/A"},{"$f":"IF(AND(J482<1920),VLOOKUP(K482,Feuil2!$F$10:$P$28,11),IF(AND(J482>=1920,J482<1937),VLOOKUP(K482,Feuil2!$F$10:$P$28,11),IF(AND(J482>=1936,J482<1942),VLOOKUP(K482,Feuil2!$F$10:$P$28,10),IF(AND(J482>=1942,J482<1947),VLOOKUP(K482,Feuil2!$F$10:$P$28,9),IF(AND(J482>=1947,J482<1952),VLOOKUP(K482,Feuil2!$F$10:$P$28,8),IF(AND(J482>=1952,J482<1957),VLOOKUP(K482,Feuil2!$F$10:$P$28,7),IF(AND(J482>=1957,J482<1962),VLOOKUP(K482,Feuil2!$F$10:$P$28,6),IF(AND(J482>=1962,J482<1967),VLOOKUP(K482,Feuil2!$F$10:$P$28,5),IF(AND(J482>=1967,J482<1972),VLOOKUP(K482,Feuil2!$F$10:$P$28,4),IF(AND(J482>=1972,J482<1977),VLOOKUP(K482,Feuil2!$F$10:$P$28,3),IF(AND(J482>=1977,J482<1982),VLOOKUP(K482,Feuil2!$F$10:$P$28,2),VLOOKUP(K482,Feuil2!$F$10:$P$28,2))))))))))))","v":{"$error":"#N/A"}},null,{"$f":"T482-HLOOKUP(Y482,Feuil2!$C$1:$CD$9,2,FALSE)","v":{"$error":"#VALUE!"}},{"$f":"T482-HLOOKUP(Y482,Feuil2!$C$1:$CD$9,3,FALSE)","v":{"$error":"#VALUE!"}},{"$f":"T482-HLOOKUP(Y482,Feuil2!$C$1:$CD$9,4,FALSE)","v":{"$error":"#VALUE!"}},{"$f":"T482-HLOOKUP(Y482,Feuil2!$C$1:$CD$9,5,FALSE)","v":{"$error":"#VALUE!"}},{"$f":"T482-HLOOKUP(Y482,Feuil2!$C$1:$CD$9,6,FALSE)","v":{"$error":"#VALUE!"}},{"$f":"T482-HLOOKUP(Y482,Feuil2!$C$1:$CD$9,7,FALSE)","v":{"$error":"#VALUE!"}},{"$f":"T482-HLOOKUP(Y482,Feuil2!$C$1:$CD$9,8,FALSE)","v":{"$error":"#VALUE!"}},{"$f":"T482-HLOOKUP(Y482,Feuil2!$C$1:$CD$9,9,FALSE)","v":{"$error":"#VALUE!"}},null,null,null,null,null,null,null,{"$error":"#VALUE!"},2016,null,{"$f":"IF(AQ482,VLOOKUP(AQ482,HOM!$AS$561:$AT$616,2))","v":3.5710000000000002}]
["H",null,null,null,null,null,null,null,null,null,null,null,null,null,"",null,null,null,"","","","","",{"$error":"#N/A"},{"$f":"IF(AND(J483<1920),VLOOKUP(K483,Feuil2!$F$10:$P$28,11),IF(AND(J483>=1920,J483<1937),VLOOKUP(K483,Feuil2!$F$10:$P$28,11),IF(AND(J483>=1936,J483<1942),VLOOKUP(K483,Feuil2!$F$10:$P$28,10),IF(AND(J483>=1942,J483<1947),VLOOKUP(K483,Feuil2!$F$10:$P$28,9),IF(AND(J483>=1947,J483<1952),VLOOKUP(K483,Feuil2!$F$10:$P$28,8),IF(AND(J483>=1952,J483<1957),VLOOKUP(K483,Feuil2!$F$10:$P$28,7),IF(AND(J483>=1957,J483<1962),VLOOKUP(K483,Feuil2!$F$10:$P$28,6),IF(AND(J483>=1962,J483<1967),VLOOKUP(K483,Feuil2!$F$10:$P$28,5),IF(AND(J483>=1967,J483<1972),VLOOKUP(K483,Feuil2!$F$10:$P$28,4),IF(AND(J483>=1972,J483<1977),VLOOKUP(K483,Feuil2!$F$10:$P$28,3),IF(AND(J483>=1977,J483<1982),VLOOKUP(K483,Feuil2!$F$10:$P$28,2),VLOOKUP(K483,Feuil2!$F$10:$P$28,2))))))))))))","v":{"$error":"#N/A"}},null,{"$f":"T483-HLOOKUP(Y483,Feuil2!$C$1:$CD$9,2,FALSE)","v":{"$error":"#VALUE!"}},{"$f":"T483-HLOOKUP(Y483,Feuil2!$C$1:$CD$9,3,FALSE)","v":{"$error":"#VALUE!"}},{"$f":"T483-HLOOKUP(Y483,Feuil2!$C$1:$CD$9,4,FALSE)","v":{"$error":"#VALUE!"}},{"$f":"T483-HLOOKUP(Y483,Feuil2!$C$1:$CD$9,5,FALSE)","v":{"$error":"#VALUE!"}},{"$f":"T483-HLOOKUP(Y483,Feuil2!$C$1:$CD$9,6,FALSE)","v":{"$error":"#VALUE!"}},{"$f":"T483-HLOOKUP(Y483,Feuil2!$C$1:$CD$9,7,FALSE)","v":{"$error":"#VALUE!"}},{"$f":"T483-HLOOKUP(Y483,Feuil2!$C$1:$CD$9,8,FALSE)","v":{"$error":"#VALUE!"}},{"$f":"T483-HLOOKUP(Y483,Feuil2!$C$1:$CD$9,9,FALSE)","v":{"$error":"#VALUE!"}},null,null,null,null,null,null,null,{"$error":"#VALUE!"},2016,null,{"$f":"IF(AQ483,VLOOKUP(AQ483,HOM!$AS$561:$AT$616,2))","v":3.5710000000000002}]
["H",null,null,null,null,null,null,null,null,null,null,null,null,null,"",null,null,null,"","","","","",{"$error":"#N/A"},{"$f":"IF(AND(J484<1920),VLOOKUP(K484,Feuil2!$F$10:$P$28,11),IF(AND(J484>=1920,J484<1937),VLOOKUP(K484,Feuil2!$F$10:$P$28,11),IF(AND(J484>=1936,J484<1942),VLOOKUP(K484,Feuil2!$F$10:$P$28,10),IF(AND(J484>=1942,J484<1947),VLOOKUP(K484,Feuil2!$F$10:$P$28,9),IF(AND(J484>=1947,J484<1952),VLOOKUP(K484,Feuil2!$F$10:$P$28,8),IF(AND(J484>=1952,J484<1957),VLOOKUP(K484,Feuil2!$F$10:$P$28,7),IF(AND(J484>=1957,J484<1962),VLOOKUP(K484,Feuil2!$F$10:$P$28,6),IF(AND(J484>=1962,J484<1967),VLOOKUP(K484,Feuil2!$F$10:$P$28,5),IF(AND(J484>=1967,J484<1972),VLOOKUP(K484,Feuil2!$F$10:$P$28,4),IF(AND(J484>=1972,J484<1977),VLOOKUP(K484,Feuil2!$F$10:$P$28,3),IF(AND(J484>=1977,J484<1982),VLOOKUP(K484,Feuil2!$F$10:$P$28,2),VLOOKUP(K484,Feuil2!$F$10:$P$28,2))))))))))))","v":{"$error":"#N/A"}},null,{"$f":"T484-HLOOKUP(Y484,Feuil2!$C$1:$CD$9,2,FALSE)","v":{"$error":"#VALUE!"}},{"$f":"T484-HLOOKUP(Y484,Feuil2!$C$1:$CD$9,3,FALSE)","v":{"$error":"#VALUE!"}},{"$f":"T484-HLOOKUP(Y484,Feuil2!$C$1:$CD$9,4,FALSE)","v":{"$error":"#VALUE!"}},{"$f":"T484-HLOOKUP(Y484,Feuil2!$C$1:$CD$9,5,FALSE)","v":{"$error":"#VALUE!"}},{"$f":"T484-HLOOKUP(Y484,Feuil2!$C$1:$CD$9,6,FALSE)","v":{"$error":"#VALUE!"}},{"$f":"T484-HLOOKUP(Y484,Feuil2!$C$1:$CD$9,7,FALSE)","v":{"$error":"#VALUE!"}},{"$f":"T484-HLOOKUP(Y484,Feuil2!$C$1:$CD$9,8,FALSE)","v":{"$error":"#VALUE!"}},{"$f":"T484-HLOOKUP(Y484,Feuil2!$C$1:$CD$9,9,FALSE)","v":{"$error":"#VALUE!"}},null,null,null,null,null,null,null,{"$error":"#VALUE!"},2016,null,{"$f":"IF(AQ484,VLOOKUP(AQ484,HOM!$AS$561:$AT$616,2))","v":3.5710000000000002}]
["H",null,null,null,null,null,null,null,null,null,null,null,null,null,"",null,null,null,"","","","","",{"$error":"#N/A"},{"$f":"IF(AND(J485<1920),VLOOKUP(K485,Feuil2!$F$10:$P$28,11),IF(AND(J485>=1920,J485<1937),VLOOKUP(K485,Feuil2!$F$10:$P$28,11),IF(AND(J485>=1936,J485<1942),VLOOKUP(K485,Feuil2!$F$10:$P$28,10),IF(AND(J485>=1942,J485<1947),VLOOKUP(K485,Feuil2!$F$10:$P$28,9),IF(AND(J485>=1947,J485<1952),VLOOKUP(K485,Feuil2!$F$10:$P$28,8),IF(AND(J485>=1952,J485<1957),VLOOKUP(K485,Feuil2!$F$10:$P$28,7),IF(AND(J485>=1957,J485<1962),VLOOKUP(K485,Feuil2!$F$10:$P$28,6),IF(AND(J485>=1962,J485<1967),VLOOKUP(K485,Feuil2!$F$10:$P$28,5),IF(AND(J485>=1967,J485<1972),VLOOKUP(K485,Feuil2!$F$10:$P$28,4),IF(AND(J485>=1972,J485<1977),VLOOKUP(K485,Feuil2!$F$10:$P$28,3),IF(AND(J485>=1977,J485<1982),VLOOKUP(K485,Feuil2!$F$10:$P$28,2),VLOOKUP(K485,Feuil2!$F$10:$P$28,2))))))))))))","v":{"$error":"#N/A"}},null,{"$f":"T485-HLOOKUP(Y485,Feuil2!$C$1:$CD$9,2,FALSE)","v":{"$error":"#VALUE!"}},{"$f":"T485-HLOOKUP(Y485,Feuil2!$C$1:$CD$9,3,FALSE)","v":{"$error":"#VALUE!"}},{"$f":"T485-HLOOKUP(Y485,Feuil2!$C$1:$CD$9,4,FALSE)","v":{"$error":"#VALUE!"}},{"$f":"T485-HLOOKUP(Y485,Feuil2!$C$1:$CD$9,5,FALSE)","v":{"$error":"#VALUE!"}},{"$f":"T485-HLOOKUP(Y485,Feuil2!$C$1:$CD$9,6,FALSE)","v":{"$error":"#VALUE!"}},{"$f":"T485-HLOOKUP(Y485,Feuil2!$C$1:$CD$9,7,FALSE)","v":{"$error":"#VALUE!"}},{"$f":"T485-HLOOKUP(Y485,Feuil2!$C$1:$CD$9,8,FALSE)","v":{"$error":"#VALUE!"}},{"$f":"T485-HLOOKUP(Y485,Feuil2!$C$1:$CD$9,9,FALSE)","v":{"$error":"#VALUE!"}},null,null,null,null,null,null,null,{"$error":"#VALUE!"},2016,null,{"$f":"IF(AQ485,VLOOKUP(AQ485,HOM!$AS$561:$AT$616,2))","v":3.5710000000000002}]
["H",null,null,null,null,null,null,null,null,null,null,null,null,null,"",null,null,null,"","","","","",{"$error":"#N/A"},{"$f":"IF(AND(J486<1920),VLOOKUP(K486,Feuil2!$F$10:$P$28,11),IF(AND(J486>=1920,J486<1937),VLOOKUP(K486,Feuil2!$F$10:$P$28,11),IF(AND(J486>=1936,J486<1942),VLOOKUP(K486,Feuil2!$F$10:$P$28,10),IF(AND(J486>=1942,J486<1947),VLOOKUP(K486,Feuil2!$F$10:$P$28,9),IF(AND(J486>=1947,J486<1952),VLOOKUP(K486,Feuil2!$F$10:$P$28,8),IF(AND(J486>=1952,J486<1957),VLOOKUP(K486,Feuil2!$F$10:$P$28,7),IF(AND(J486>=1957,J486<1962),VLOOKUP(K486,Feuil2!$F$10:$P$28,6),IF(AND(J486>=1962,J486<1967),VLOOKUP(K486,Feuil2!$F$10:$P$28,5),IF(AND(J486>=1967,J486<1972),VLOOKUP(K486,Feuil2!$F$10:$P$28,4),IF(AND(J486>=1972,J486<1977),VLOOKUP(K486,Feuil2!$F$10:$P$28,3),IF(AND(J486>=1977,J486<1982),VLOOKUP(K486,Feuil2!$F$10:$P$28,2),VLOOKUP(K486,Feuil2!$F$10:$P$28,2))))))))))))","v":{"$error":"#N/A"}},null,{"$f":"T486-HLOOKUP(Y486,Feuil2!$C$1:$CD$9,2,FALSE)","v":{"$error":"#VALUE!"}},{"$f":"T486-HLOOKUP(Y486,Feuil2!$C$1:$CD$9,3,FALSE)","v":{"$error":"#VALUE!"}},{"$f":"T486-HLOOKUP(Y486,Feuil2!$C$1:$CD$9,4,FALSE)","v":{"$error":"#VALUE!"}},{"$f":"T486-HLOOKUP(Y486,Feuil2!$C$1:$CD$9,5,FALSE)","v":{"$error":"#VALUE!"}},{"$f":"T486-HLOOKUP(Y486,Feuil2!$C$1:$CD$9,6,FALSE)","v":{"$error":"#VALUE!"}},{"$f":"T486-HLOOKUP(Y486,Feuil2!$C$1:$CD$9,7,FALSE)","v":{"$error":"#VALUE!"}},{"$f":"T486-HLOOKUP(Y486,Feuil2!$C$1:$CD$9,8,FALSE)","v":{"$error":"#VALUE!"}},{"$f":"T486-HLOOKUP(Y486,Feuil2!$C$1:$CD$9,9,FALSE)","v":{"$error":"#VALUE!"}},null,null,null,null,null,null,null,{"$error":"#VALUE!"},2016,null,{"$f":"IF(AQ486,VLOOKUP(AQ486,HOM!$AS$561:$AT$616,2))","v":3.5710000000000002}]
["H",null,null,null,null,null,null,null,null,null,null,null,null,null,"",null,null,null,"","","","","",{"$error":"#N/A"},{"$f":"IF(AND(J487<1920),VLOOKUP(K487,Feuil2!$F$10:$P$28,11),IF(AND(J487>=1920,J487<1937),VLOOKUP(K487,Feuil2!$F$10:$P$28,11),IF(AND(J487>=1936,J487<1942),VLOOKUP(K487,Feuil2!$F$10:$P$28,10),IF(AND(J487>=1942,J487<1947),VLOOKUP(K487,Feuil2!$F$10:$P$28,9),IF(AND(J487>=1947,J487<1952),VLOOKUP(K487,Feuil2!$F$10:$P$28,8),IF(AND(J487>=1952,J487<1957),VLOOKUP(K487,Feuil2!$F$10:$P$28,7),IF(AND(J487>=1957,J487<1962),VLOOKUP(K487,Feuil2!$F$10:$P$28,6),IF(AND(J487>=1962,J487<1967),VLOOKUP(K487,Feuil2!$F$10:$P$28,5),IF(AND(J487>=1967,J487<1972),VLOOKUP(K487,Feuil2!$F$10:$P$28,4),IF(AND(J487>=1972,J487<1977),VLOOKUP(K487,Feuil2!$F$10:$P$28,3),IF(AND(J487>=1977,J487<1982),VLOOKUP(K487,Feuil2!$F$10:$P$28,2),VLOOKUP(K487,Feuil2!$F$10:$P$28,2))))))))))))","v":{"$error":"#N/A"}},null,{"$f":"T487-HLOOKUP(Y487,Feuil2!$C$1:$CD$9,2,FALSE)","v":{"$error":"#VALUE!"}},{"$f":"T487-HLOOKUP(Y487,Feuil2!$C$1:$CD$9,3,FALSE)","v":{"$error":"#VALUE!"}},{"$f":"T487-HLOOKUP(Y487,Feuil2!$C$1:$CD$9,4,FALSE)","v":{"$error":"#VALUE!"}},{"$f":"T487-HLOOKUP(Y487,Feuil2!$C$1:$CD$9,5,FALSE)","v":{"$error":"#VALUE!"}},{"$f":"T487-HLOOKUP(Y487,Feuil2!$C$1:$CD$9,6,FALSE)","v":{"$error":"#VALUE!"}},{"$f":"T487-HLOOKUP(Y487,Feuil2!$C$1:$CD$9,7,FALSE)","v":{"$error":"#VALUE!"}},{"$f":"T487-HLOOKUP(Y487,Feuil2!$C$1:$CD$9,8,FALSE)","v":{"$error":"#VALUE!"}},{"$f":"T487-HLOOKUP(Y487,Feuil2!$C$1:$CD$9,9,FALSE)","v":{"$error":"#VALUE!"}},null,null,null,null,null,null,null,{"$error":"#VALUE!"},2016,null,{"$f":"IF(AQ487,VLOOKUP(AQ487,HOM!$AS$561:$AT$616,2))","v":3.5710000000000002}]
["H",null,null,null,null,null,null,null,null,null,null,null,null,null,"",null,null,null,"","","","","",{"$error":"#N/A"},{"$f":"IF(AND(J488<1920),VLOOKUP(K488,Feuil2!$F$10:$P$28,11),IF(AND(J488>=1920,J488<1937),VLOOKUP(K488,Feuil2!$F$10:$P$28,11),IF(AND(J488>=1936,J488<1942),VLOOKUP(K488,Feuil2!$F$10:$P$28,10),IF(AND(J488>=1942,J488<1947),VLOOKUP(K488,Feuil2!$F$10:$P$28,9),IF(AND(J488>=1947,J488<1952),VLOOKUP(K488,Feuil2!$F$10:$P$28,8),IF(AND(J488>=1952,J488<1957),VLOOKUP(K488,Feuil2!$F$10:$P$28,7),IF(AND(J488>=1957,J488<1962),VLOOKUP(K488,Feuil2!$F$10:$P$28,6),IF(AND(J488>=1962,J488<1967),VLOOKUP(K488,Feuil2!$F$10:$P$28,5),IF(AND(J488>=1967,J488<1972),VLOOKUP(K488,Feuil2!$F$10:$P$28,4),IF(AND(J488>=1972,J488<1977),VLOOKUP(K488,Feuil2!$F$10:$P$28,3),IF(AND(J488>=1977,J488<1982),VLOOKUP(K488,Feuil2!$F$10:$P$28,2),VLOOKUP(K488,Feuil2!$F$10:$P$28,2))))))))))))","v":{"$error":"#N/A"}},null,{"$f":"T488-HLOOKUP(Y488,Feuil2!$C$1:$CD$9,2,FALSE)","v":{"$error":"#VALUE!"}},{"$f":"T488-HLOOKUP(Y488,Feuil2!$C$1:$CD$9,3,FALSE)","v":{"$error":"#VALUE!"}},{"$f":"T488-HLOOKUP(Y488,Feuil2!$C$1:$CD$9,4,FALSE)","v":{"$error":"#VALUE!"}},{"$f":"T488-HLOOKUP(Y488,Feuil2!$C$1:$CD$9,5,FALSE)","v":{"$error":"#VALUE!"}},{"$f":"T488-HLOOKUP(Y488,Feuil2!$C$1:$CD$9,6,FALSE)","v":{"$error":"#VALUE!"}},{"$f":"T488-HLOOKUP(Y488,Feuil2!$C$1:$CD$9,7,FALSE)","v":{"$error":"#VALUE!"}},{"$f":"T488-HLOOKUP(Y488,Feuil2!$C$1:$CD$9,8,FALSE)","v":{"$error":"#VALUE!"}},{"$f":"T488-HLOOKUP(Y488,Feuil2!$C$1:$CD$9,9,FALSE)","v":{"$error":"#VALUE!"}},null,null,null,null,null,null,null,{"$error":"#VALUE!"},2016,null,{"$f":"IF(AQ488,VLOOKUP(AQ488,HOM!$AS$561:$AT$616,2))","v":3.5710000000000002}]
["H",null,null,null,null,null,null,null,null,null,null,null,null,null,"",null,null,null,"","","","","",{"$error":"#N/A"},{"$f":"IF(AND(J489<1920),VLOOKUP(K489,Feuil2!$F$10:$P$28,11),IF(AND(J489>=1920,J489<1937),VLOOKUP(K489,Feuil2!$F$10:$P$28,11),IF(AND(J489>=1936,J489<1942),VLOOKUP(K489,Feuil2!$F$10:$P$28,10),IF(AND(J489>=1942,J489<1947),VLOOKUP(K489,Feuil2!$F$10:$P$28,9),IF(AND(J489>=1947,J489<1952),VLOOKUP(K489,Feuil2!$F$10:$P$28,8),IF(AND(J489>=1952,J489<1957),VLOOKUP(K489,Feuil2!$F$10:$P$28,7),IF(AND(J489>=1957,J489<1962),VLOOKUP(K489,Feuil2!$F$10:$P$28,6),IF(AND(J489>=1962,J489<1967),VLOOKUP(K489,Feuil2!$F$10:$P$28,5),IF(AND(J489>=1967,J489<1972),VLOOKUP(K489,Feuil2!$F$10:$P$28,4),IF(AND(J489>=1972,J489<1977),VLOOKUP(K489,Feuil2!$F$10:$P$28,3),IF(AND(J489>=1977,J489<1982),VLOOKUP(K489,Feuil2!$F$10:$P$28,2),VLOOKUP(K489,Feuil2!$F$10:$P$28,2))))))))))))","v":{"$error":"#N/A"}},null,{"$f":"T489-HLOOKUP(Y489,Feuil2!$C$1:$CD$9,2,FALSE)","v":{"$error":"#VALUE!"}},{"$f":"T489-HLOOKUP(Y489,Feuil2!$C$1:$CD$9,3,FALSE)","v":{"$error":"#VALUE!"}},{"$f":"T489-HLOOKUP(Y489,Feuil2!$C$1:$CD$9,4,FALSE)","v":{"$error":"#VALUE!"}},{"$f":"T489-HLOOKUP(Y489,Feuil2!$C$1:$CD$9,5,FALSE)","v":{"$error":"#VALUE!"}},{"$f":"T489-HLOOKUP(Y489,Feuil2!$C$1:$CD$9,6,FALSE)","v":{"$error":"#VALUE!"}},{"$f":"T489-HLOOKUP(Y489,Feuil2!$C$1:$CD$9,7,FALSE)","v":{"$error":"#VALUE!"}},{"$f":"T489-HLOOKUP(Y489,Feuil2!$C$1:$CD$9,8,FALSE)","v":{"$error":"#VALUE!"}},{"$f":"T489-HLOOKUP(Y489,Feuil2!$C$1:$CD$9,9,FALSE)","v":{"$error":"#VALUE!"}},null,null,null,null,null,null,null,{"$error":"#VALUE!"},2016,null,{"$f":"IF(AQ489,VLOOKUP(AQ489,HOM!$AS$561:$AT$616,2))","v":3.5710000000000002}]
["H",null,null,null,null,null,null,null,null,null,null,null,null,null,"",null,null,null,"","","","","",{"$error":"#N/A"},{"$f":"IF(AND(J490<1920),VLOOKUP(K490,Feuil2!$F$10:$P$28,11),IF(AND(J490>=1920,J490<1937),VLOOKUP(K490,Feuil2!$F$10:$P$28,11),IF(AND(J490>=1936,J490<1942),VLOOKUP(K490,Feuil2!$F$10:$P$28,10),IF(AND(J490>=1942,J490<1947),VLOOKUP(K490,Feuil2!$F$10:$P$28,9),IF(AND(J490>=1947,J490<1952),VLOOKUP(K490,Feuil2!$F$10:$P$28,8),IF(AND(J490>=1952,J490<1957),VLOOKUP(K490,Feuil2!$F$10:$P$28,7),IF(AND(J490>=1957,J490<1962),VLOOKUP(K490,Feuil2!$F$10:$P$28,6),IF(AND(J490>=1962,J490<1967),VLOOKUP(K490,Feuil2!$F$10:$P$28,5),IF(AND(J490>=1967,J490<1972),VLOOKUP(K490,Feuil2!$F$10:$P$28,4),IF(AND(J490>=1972,J490<1977),VLOOKUP(K490,Feuil2!$F$10:$P$28,3),IF(AND(J490>=1977,J490<1982),VLOOKUP(K490,Feuil2!$F$10:$P$28,2),VLOOKUP(K490,Feuil2!$F$10:$P$28,2))))))))))))","v":{"$error":"#N/A"}},null,{"$f":"T490-HLOOKUP(Y490,Feuil2!$C$1:$CD$9,2,FALSE)","v":{"$error":"#VALUE!"}},{"$f":"T490-HLOOKUP(Y490,Feuil2!$C$1:$CD$9,3,FALSE)","v":{"$error":"#VALUE!"}},{"$f":"T490-HLOOKUP(Y490,Feuil2!$C$1:$CD$9,4,FALSE)","v":{"$error":"#VALUE!"}},{"$f":"T490-HLOOKUP(Y490,Feuil2!$C$1:$CD$9,5,FALSE)","v":{"$error":"#VALUE!"}},{"$f":"T490-HLOOKUP(Y490,Feuil2!$C$1:$CD$9,6,FALSE)","v":{"$error":"#VALUE!"}},{"$f":"T490-HLOOKUP(Y490,Feuil2!$C$1:$CD$9,7,FALSE)","v":{"$error":"#VALUE!"}},{"$f":"T490-HLOOKUP(Y490,Feuil2!$C$1:$CD$9,8,FALSE)","v":{"$error":"#VALUE!"}},{"$f":"T490-HLOOKUP(Y490,Feuil2!$C$1:$CD$9,9,FALSE)","v":{"$error":"#VALUE!"}},null,null,null,null,null,null,null,{"$error":"#VALUE!"},2016,null,{"$f":"IF(AQ490,VLOOKUP(AQ490,HOM!$AS$561:$AT$616,2))","v":3.5710000000000002}]
["H",null,null,null,null,null,null,null,null,null,null,null,null,null,"",null,null,null,"","","","","",{"$error":"#N/A"},{"$f":"IF(AND(J491<1920),VLOOKUP(K491,Feuil2!$F$10:$P$28,11),IF(AND(J491>=1920,J491<1937),VLOOKUP(K491,Feuil2!$F$10:$P$28,11),IF(AND(J491>=1936,J491<1942),VLOOKUP(K491,Feuil2!$F$10:$P$28,10),IF(AND(J491>=1942,J491<1947),VLOOKUP(K491,Feuil2!$F$10:$P$28,9),IF(AND(J491>=1947,J491<1952),VLOOKUP(K491,Feuil2!$F$10:$P$28,8),IF(AND(J491>=1952,J491<1957),VLOOKUP(K491,Feuil2!$F$10:$P$28,7),IF(AND(J491>=1957,J491<1962),VLOOKUP(K491,Feuil2!$F$10:$P$28,6),IF(AND(J491>=1962,J491<1967),VLOOKUP(K491,Feuil2!$F$10:$P$28,5),IF(AND(J491>=1967,J491<1972),VLOOKUP(K491,Feuil2!$F$10:$P$28,4),IF(AND(J491>=1972,J491<1977),VLOOKUP(K491,Feuil2!$F$10:$P$28,3),IF(AND(J491>=1977,J491<1982),VLOOKUP(K491,Feuil2!$F$10:$P$28,2),VLOOKUP(K491,Feuil2!$F$10:$P$28,2))))))))))))","v":{"$error":"#N/A"}},null,{"$f":"T491-HLOOKUP(Y491,Feuil2!$C$1:$CD$9,2,FALSE)","v":{"$error":"#VALUE!"}},{"$f":"T491-HLOOKUP(Y491,Feuil2!$C$1:$CD$9,3,FALSE)","v":{"$error":"#VALUE!"}},{"$f":"T491-HLOOKUP(Y491,Feuil2!$C$1:$CD$9,4,FALSE)","v":{"$error":"#VALUE!"}},{"$f":"T491-HLOOKUP(Y491,Feuil2!$C$1:$CD$9,5,FALSE)","v":{"$error":"#VALUE!"}},{"$f":"T491-HLOOKUP(Y491,Feuil2!$C$1:$CD$9,6,FALSE)","v":{"$error":"#VALUE!"}},{"$f":"T491-HLOOKUP(Y491,Feuil2!$C$1:$CD$9,7,FALSE)","v":{"$error":"#VALUE!"}},{"$f":"T491-HLOOKUP(Y491,Feuil2!$C$1:$CD$9,8,FALSE)","v":{"$error":"#VALUE!"}},{"$f":"T491-HLOOKUP(Y491,Feuil2!$C$1:$CD$9,9,FALSE)","v":{"$error":"#VALUE!"}},null,null,null,null,null,null,null,{"$error":"#VALUE!"},2016,null,{"$f":"IF(AQ491,VLOOKUP(AQ491,HOM!$AS$561:$AT$616,2))","v":3.5710000000000002}]
["H",null,null,null,null,null,null,null,null,null,null,null,null,null,"",null,null,null,"","","",{"$f":"IF(K492=\"\",\"\",AP492)","v":""},{"$f":"IF(K492=\"\",\"\",IF(AH492>=0,AH492,IF(AG492>=0,AG492,IF(AF492>=0,AF492,IF(AE492>=0,AE492,IF(AD492>=0,AD492,IF(AC492>=0,AC492,IF(AB492>=0,AB492,AA492))))))))","v":""},{"$error":"#N/A"},{"$f":"IF(AND(J492<1920),VLOOKUP(K492,Feuil2!$F$10:$P$28,11),IF(AND(J492>=1920,J492<1937),VLOOKUP(K492,Feuil2!$F$10:$P$28,11),IF(AND(J492>=1936,J492<1942),VLOOKUP(K492,Feuil2!$F$10:$P$28,10),IF(AND(J492>=1942,J492<1947),VLOOKUP(K492,Feuil2!$F$10:$P$28,9),IF(AND(J492>=1947,J492<1952),VLOOKUP(K492,Feuil2!$F$10:$P$28,8),IF(AND(J492>=1952,J492<1957),VLOOKUP(K492,Feuil2!$F$10:$P$28,7),IF(AND(J492>=1957,J492<1962),VLOOKUP(K492,Feuil2!$F$10:$P$28,6),IF(AND(J492>=1962,J492<1967),VLOOKUP(K492,Feuil2!$F$10:$P$28,5),IF(AND(J492>=1967,J492<1972),VLOOKUP(K492,Feuil2!$F$10:$P$28,4),IF(AND(J492>=1972,J492<1977),VLOOKUP(K492,Feuil2!$F$10:$P$28,3),IF(AND(J492>=1977,J492<1982),VLOOKUP(K492,Feuil2!$F$10:$P$28,2),VLOOKUP(K492,Feuil2!$F$10:$P$28,2))))))))))))","v":{"$error":"#N/A"}},null,{"$f":"T492-HLOOKUP(Y492,Feuil2!$C$1:$CD$9,2,FALSE)","v":{"$error":"#VALUE!"}},{"$f":"T492-HLOOKUP(Y492,Feuil2!$C$1:$CD$9,3,FALSE)","v":{"$error":"#VALUE!"}},{"$f":"T492-HLOOKUP(Y492,Feuil2!$C$1:$CD$9,4,FALSE)","v":{"$error":"#VALUE!"}},{"$f":"T492-HLOOKUP(Y492,Feuil2!$C$1:$CD$9,5,FALSE)","v":{"$error":"#VALUE!"}},{"$f":"T492-HLOOKUP(Y492,Feuil2!$C$1:$CD$9,6,FALSE)","v":{"$error":"#VALUE!"}},{"$f":"T492-HLOOKUP(Y492,Feuil2!$C$1:$CD$9,7,FALSE)","v":{"$error":"#VALUE!"}},{"$f":"T492-HLOOKUP(Y492,Feuil2!$C$1:$CD$9,8,FALSE)","v":{"$error":"#VALUE!"}},{"$f":"T492-HLOOKUP(Y492,Feuil2!$C$1:$CD$9,9,FALSE)","v":{"$error":"#VALUE!"}},null,null,null,null,null,null,null,{"$f":"IF(AH492>=0,$AH$4,IF(AG492>=0,$AG$4,IF(AF492>=0,$AF$4,IF(AE492>=0,$AE$4,IF(AD492>=0,$AD$4,IF(AC492>=0,$AC$4,IF(AB492>=0,$AB$4,IF(AA492>=0,$AA$4,$AI$4))))))))","v":{"$error":"#VALUE!"}},2016,null,{"$f":"IF(AQ492,VLOOKUP(AQ492,HOM!$AS$561:$AT$616,2))","v":3.5710000000000002}]
["H",null,null,null,null,null,null,null,null,null,null,null,null,null,"",null,null,null,"","","","","",{"$error":"#N/A"},{"$f":"IF(AND(J493<1920),VLOOKUP(K493,Feuil2!$F$10:$P$28,11),IF(AND(J493>=1920,J493<1937),VLOOKUP(K493,Feuil2!$F$10:$P$28,11),IF(AND(J493>=1936,J493<1942),VLOOKUP(K493,Feuil2!$F$10:$P$28,10),IF(AND(J493>=1942,J493<1947),VLOOKUP(K493,Feuil2!$F$10:$P$28,9),IF(AND(J493>=1947,J493<1952),VLOOKUP(K493,Feuil2!$F$10:$P$28,8),IF(AND(J493>=1952,J493<1957),VLOOKUP(K493,Feuil2!$F$10:$P$28,7),IF(AND(J493>=1957,J493<1962),VLOOKUP(K493,Feuil2!$F$10:$P$28,6),IF(AND(J493>=1962,J493<1967),VLOOKUP(K493,Feuil2!$F$10:$P$28,5),IF(AND(J493>=1967,J493<1972),VLOOKUP(K493,Feuil2!$F$10:$P$28,4),IF(AND(J493>=1972,J493<1977),VLOOKUP(K493,Feuil2!$F$10:$P$28,3),IF(AND(J493>=1977,J493<1982),VLOOKUP(K493,Feuil2!$F$10:$P$28,2),VLOOKUP(K493,Feuil2!$F$10:$P$28,2))))))))))))","v":{"$error":"#N/A"}},null,{"$f":"T493-HLOOKUP(Y493,Feuil2!$C$1:$CD$9,2,FALSE)","v":{"$error":"#VALUE!"}},{"$f":"T493-HLOOKUP(Y493,Feuil2!$C$1:$CD$9,3,FALSE)","v":{"$error":"#VALUE!"}},{"$f":"T493-HLOOKUP(Y493,Feuil2!$C$1:$CD$9,4,FALSE)","v":{"$error":"#VALUE!"}},{"$f":"T493-HLOOKUP(Y493,Feuil2!$C$1:$CD$9,5,FALSE)","v":{"$error":"#VALUE!"}},{"$f":"T493-HLOOKUP(Y493,Feuil2!$C$1:$CD$9,6,FALSE)","v":{"$error":"#VALUE!"}},{"$f":"T493-HLOOKUP(Y493,Feuil2!$C$1:$CD$9,7,FALSE)","v":{"$error":"#VALUE!"}},{"$f":"T493-HLOOKUP(Y493,Feuil2!$C$1:$CD$9,8,FALSE)","v":{"$error":"#VALUE!"}},{"$f":"T493-HLOOKUP(Y493,Feuil2!$C$1:$CD$9,9,FALSE)","v":{"$error":"#VALUE!"}},null,null,null,null,null,null,null,{"$error":"#VALUE!"},2016,null,{"$f":"IF(AQ493,VLOOKUP(AQ493,HOM!$AS$561:$AT$616,2))","v":3.5710000000000002}]
["H",null,null,null,null,null,null,null,null,null,null,null,null,null,"",null,null,null,"","","","","",{"$error":"#N/A"},{"$f":"IF(AND(J494<1920),VLOOKUP(K494,Feuil2!$F$10:$P$28,11),IF(AND(J494>=1920,J494<1937),VLOOKUP(K494,Feuil2!$F$10:$P$28,11),IF(AND(J494>=1936,J494<1942),VLOOKUP(K494,Feuil2!$F$10:$P$28,10),IF(AND(J494>=1942,J494<1947),VLOOKUP(K494,Feuil2!$F$10:$P$28,9),IF(AND(J494>=1947,J494<1952),VLOOKUP(K494,Feuil2!$F$10:$P$28,8),IF(AND(J494>=1952,J494<1957),VLOOKUP(K494,Feuil2!$F$10:$P$28,7),IF(AND(J494>=1957,J494<1962),VLOOKUP(K494,Feuil2!$F$10:$P$28,6),IF(AND(J494>=1962,J494<1967),VLOOKUP(K494,Feuil2!$F$10:$P$28,5),IF(AND(J494>=1967,J494<1972),VLOOKUP(K494,Feuil2!$F$10:$P$28,4),IF(AND(J494>=1972,J494<1977),VLOOKUP(K494,Feuil2!$F$10:$P$28,3),IF(AND(J494>=1977,J494<1982),VLOOKUP(K494,Feuil2!$F$10:$P$28,2),VLOOKUP(K494,Feuil2!$F$10:$P$28,2))))))))))))","v":{"$error":"#N/A"}},null,{"$f":"T494-HLOOKUP(Y494,Feuil2!$C$1:$CD$9,2,FALSE)","v":{"$error":"#VALUE!"}},{"$f":"T494-HLOOKUP(Y494,Feuil2!$C$1:$CD$9,3,FALSE)","v":{"$error":"#VALUE!"}},{"$f":"T494-HLOOKUP(Y494,Feuil2!$C$1:$CD$9,4,FALSE)","v":{"$error":"#VALUE!"}},{"$f":"T494-HLOOKUP(Y494,Feuil2!$C$1:$CD$9,5,FALSE)","v":{"$error":"#VALUE!"}},{"$f":"T494-HLOOKUP(Y494,Feuil2!$C$1:$CD$9,6,FALSE)","v":{"$error":"#VALUE!"}},{"$f":"T494-HLOOKUP(Y494,Feuil2!$C$1:$CD$9,7,FALSE)","v":{"$error":"#VALUE!"}},{"$f":"T494-HLOOKUP(Y494,Feuil2!$C$1:$CD$9,8,FALSE)","v":{"$error":"#VALUE!"}},{"$f":"T494-HLOOKUP(Y494,Feuil2!$C$1:$CD$9,9,FALSE)","v":{"$error":"#VALUE!"}},null,null,null,null,null,null,null,{"$error":"#VALUE!"},2016,null,{"$f":"IF(AQ494,VLOOKUP(AQ494,HOM!$AS$561:$AT$616,2))","v":3.5710000000000002}]
["H",null,null,null,null,null,null,null,null,null,null,null,null,null,"",null,null,null,"","","","","",{"$error":"#N/A"},{"$f":"IF(AND(J495<1920),VLOOKUP(K495,Feuil2!$F$10:$P$28,11),IF(AND(J495>=1920,J495<1937),VLOOKUP(K495,Feuil2!$F$10:$P$28,11),IF(AND(J495>=1936,J495<1942),VLOOKUP(K495,Feuil2!$F$10:$P$28,10),IF(AND(J495>=1942,J495<1947),VLOOKUP(K495,Feuil2!$F$10:$P$28,9),IF(AND(J495>=1947,J495<1952),VLOOKUP(K495,Feuil2!$F$10:$P$28,8),IF(AND(J495>=1952,J495<1957),VLOOKUP(K495,Feuil2!$F$10:$P$28,7),IF(AND(J495>=1957,J495<1962),VLOOKUP(K495,Feuil2!$F$10:$P$28,6),IF(AND(J495>=1962,J495<1967),VLOOKUP(K495,Feuil2!$F$10:$P$28,5),IF(AND(J495>=1967,J495<1972),VLOOKUP(K495,Feuil2!$F$10:$P$28,4),IF(AND(J495>=1972,J495<1977),VLOOKUP(K495,Feuil2!$F$10:$P$28,3),IF(AND(J495>=1977,J495<1982),VLOOKUP(K495,Feuil2!$F$10:$P$28,2),VLOOKUP(K495,Feuil2!$F$10:$P$28,2))))))))))))","v":{"$error":"#N/A"}},null,{"$f":"T495-HLOOKUP(Y495,Feuil2!$C$1:$CD$9,2,FALSE)","v":{"$error":"#VALUE!"}},{"$f":"T495-HLOOKUP(Y495,Feuil2!$C$1:$CD$9,3,FALSE)","v":{"$error":"#VALUE!"}},{"$f":"T495-HLOOKUP(Y495,Feuil2!$C$1:$CD$9,4,FALSE)","v":{"$error":"#VALUE!"}},{"$f":"T495-HLOOKUP(Y495,Feuil2!$C$1:$CD$9,5,FALSE)","v":{"$error":"#VALUE!"}},{"$f":"T495-HLOOKUP(Y495,Feuil2!$C$1:$CD$9,6,FALSE)","v":{"$error":"#VALUE!"}},{"$f":"T495-HLOOKUP(Y495,Feuil2!$C$1:$CD$9,7,FALSE)","v":{"$error":"#VALUE!"}},{"$f":"T495-HLOOKUP(Y495,Feuil2!$C$1:$CD$9,8,FALSE)","v":{"$error":"#VALUE!"}},{"$f":"T495-HLOOKUP(Y495,Feuil2!$C$1:$CD$9,9,FALSE)","v":{"$error":"#VALUE!"}},null,null,null,null,null,null,null,{"$error":"#VALUE!"},2016,null,{"$f":"IF(AQ495,VLOOKUP(AQ495,HOM!$AS$561:$AT$616,2))","v":3.5710000000000002}]
["H",null,null,null,null,null,null,null,null,null,null,null,null,null,"",null,null,null,"","","","","",{"$error":"#N/A"},{"$f":"IF(AND(J496<1920),VLOOKUP(K496,Feuil2!$F$10:$P$28,11),IF(AND(J496>=1920,J496<1937),VLOOKUP(K496,Feuil2!$F$10:$P$28,11),IF(AND(J496>=1936,J496<1942),VLOOKUP(K496,Feuil2!$F$10:$P$28,10),IF(AND(J496>=1942,J496<1947),VLOOKUP(K496,Feuil2!$F$10:$P$28,9),IF(AND(J496>=1947,J496<1952),VLOOKUP(K496,Feuil2!$F$10:$P$28,8),IF(AND(J496>=1952,J496<1957),VLOOKUP(K496,Feuil2!$F$10:$P$28,7),IF(AND(J496>=1957,J496<1962),VLOOKUP(K496,Feuil2!$F$10:$P$28,6),IF(AND(J496>=1962,J496<1967),VLOOKUP(K496,Feuil2!$F$10:$P$28,5),IF(AND(J496>=1967,J496<1972),VLOOKUP(K496,Feuil2!$F$10:$P$28,4),IF(AND(J496>=1972,J496<1977),VLOOKUP(K496,Feuil2!$F$10:$P$28,3),IF(AND(J496>=1977,J496<1982),VLOOKUP(K496,Feuil2!$F$10:$P$28,2),VLOOKUP(K496,Feuil2!$F$10:$P$28,2))))))))))))","v":{"$error":"#N/A"}},null,{"$f":"T496-HLOOKUP(Y496,Feuil2!$C$1:$CD$9,2,FALSE)","v":{"$error":"#VALUE!"}},{"$f":"T496-HLOOKUP(Y496,Feuil2!$C$1:$CD$9,3,FALSE)","v":{"$error":"#VALUE!"}},{"$f":"T496-HLOOKUP(Y496,Feuil2!$C$1:$CD$9,4,FALSE)","v":{"$error":"#VALUE!"}},{"$f":"T496-HLOOKUP(Y496,Feuil2!$C$1:$CD$9,5,FALSE)","v":{"$error":"#VALUE!"}},{"$f":"T496-HLOOKUP(Y496,Feuil2!$C$1:$CD$9,6,FALSE)","v":{"$error":"#VALUE!"}},{"$f":"T496-HLOOKUP(Y496,Feuil2!$C$1:$CD$9,7,FALSE)","v":{"$error":"#VALUE!"}},{"$f":"T496-HLOOKUP(Y496,Feuil2!$C$1:$CD$9,8,FALSE)","v":{"$error":"#VALUE!"}},{"$f":"T496-HLOOKUP(Y496,Feuil2!$C$1:$CD$9,9,FALSE)","v":{"$error":"#VALUE!"}},null,null,null,null,null,null,null,{"$error":"#VALUE!"},2016,null,{"$f":"IF(AQ496,VLOOKUP(AQ496,HOM!$AS$561:$AT$616,2))","v":3.5710000000000002}]
["H",null,null,null,null,null,null,null,null,null,null,null,null,null,"",null,null,null,"","","","","",{"$error":"#N/A"},{"$f":"IF(AND(J497<1920),VLOOKUP(K497,Feuil2!$F$10:$P$28,11),IF(AND(J497>=1920,J497<1937),VLOOKUP(K497,Feuil2!$F$10:$P$28,11),IF(AND(J497>=1936,J497<1942),VLOOKUP(K497,Feuil2!$F$10:$P$28,10),IF(AND(J497>=1942,J497<1947),VLOOKUP(K497,Feuil2!$F$10:$P$28,9),IF(AND(J497>=1947,J497<1952),VLOOKUP(K497,Feuil2!$F$10:$P$28,8),IF(AND(J497>=1952,J497<1957),VLOOKUP(K497,Feuil2!$F$10:$P$28,7),IF(AND(J497>=1957,J497<1962),VLOOKUP(K497,Feuil2!$F$10:$P$28,6),IF(AND(J497>=1962,J497<1967),VLOOKUP(K497,Feuil2!$F$10:$P$28,5),IF(AND(J497>=1967,J497<1972),VLOOKUP(K497,Feuil2!$F$10:$P$28,4),IF(AND(J497>=1972,J497<1977),VLOOKUP(K497,Feuil2!$F$10:$P$28,3),IF(AND(J497>=1977,J497<1982),VLOOKUP(K497,Feuil2!$F$10:$P$28,2),VLOOKUP(K497,Feuil2!$F$10:$P$28,2))))))))))))","v":{"$error":"#N/A"}},null,{"$f":"T497-HLOOKUP(Y497,Feuil2!$C$1:$CD$9,2,FALSE)","v":{"$error":"#VALUE!"}},{"$f":"T497-HLOOKUP(Y497,Feuil2!$C$1:$CD$9,3,FALSE)","v":{"$error":"#VALUE!"}},{"$f":"T497-HLOOKUP(Y497,Feuil2!$C$1:$CD$9,4,FALSE)","v":{"$error":"#VALUE!"}},{"$f":"T497-HLOOKUP(Y497,Feuil2!$C$1:$CD$9,5,FALSE)","v":{"$error":"#VALUE!"}},{"$f":"T497-HLOOKUP(Y497,Feuil2!$C$1:$CD$9,6,FALSE)","v":{"$error":"#VALUE!"}},{"$f":"T497-HLOOKUP(Y497,Feuil2!$C$1:$CD$9,7,FALSE)","v":{"$error":"#VALUE!"}},{"$f":"T497-HLOOKUP(Y497,Feuil2!$C$1:$CD$9,8,FALSE)","v":{"$error":"#VALUE!"}},{"$f":"T497-HLOOKUP(Y497,Feuil2!$C$1:$CD$9,9,FALSE)","v":{"$error":"#VALUE!"}},null,null,null,null,null,null,null,{"$error":"#VALUE!"},2016,null,{"$f":"IF(AQ497,VLOOKUP(AQ497,HOM!$AS$561:$AT$616,2))","v":3.5710000000000002}]
["H",null,null,null,null,null,null,null,null,null,null,null,null,null,"",null,null,null,"","","","","",{"$error":"#N/A"},{"$f":"IF(AND(J498<1920),VLOOKUP(K498,Feuil2!$F$10:$P$28,11),IF(AND(J498>=1920,J498<1937),VLOOKUP(K498,Feuil2!$F$10:$P$28,11),IF(AND(J498>=1936,J498<1942),VLOOKUP(K498,Feuil2!$F$10:$P$28,10),IF(AND(J498>=1942,J498<1947),VLOOKUP(K498,Feuil2!$F$10:$P$28,9),IF(AND(J498>=1947,J498<1952),VLOOKUP(K498,Feuil2!$F$10:$P$28,8),IF(AND(J498>=1952,J498<1957),VLOOKUP(K498,Feuil2!$F$10:$P$28,7),IF(AND(J498>=1957,J498<1962),VLOOKUP(K498,Feuil2!$F$10:$P$28,6),IF(AND(J498>=1962,J498<1967),VLOOKUP(K498,Feuil2!$F$10:$P$28,5),IF(AND(J498>=1967,J498<1972),VLOOKUP(K498,Feuil2!$F$10:$P$28,4),IF(AND(J498>=1972,J498<1977),VLOOKUP(K498,Feuil2!$F$10:$P$28,3),IF(AND(J498>=1977,J498<1982),VLOOKUP(K498,Feuil2!$F$10:$P$28,2),VLOOKUP(K498,Feuil2!$F$10:$P$28,2))))))))))))","v":{"$error":"#N/A"}},null,{"$f":"T498-HLOOKUP(Y498,Feuil2!$C$1:$CD$9,2,FALSE)","v":{"$error":"#VALUE!"}},{"$f":"T498-HLOOKUP(Y498,Feuil2!$C$1:$CD$9,3,FALSE)","v":{"$error":"#VALUE!"}},{"$f":"T498-HLOOKUP(Y498,Feuil2!$C$1:$CD$9,4,FALSE)","v":{"$error":"#VALUE!"}},{"$f":"T498-HLOOKUP(Y498,Feuil2!$C$1:$CD$9,5,FALSE)","v":{"$error":"#VALUE!"}},{"$f":"T498-HLOOKUP(Y498,Feuil2!$C$1:$CD$9,6,FALSE)","v":{"$error":"#VALUE!"}},{"$f":"T498-HLOOKUP(Y498,Feuil2!$C$1:$CD$9,7,FALSE)","v":{"$error":"#VALUE!"}},{"$f":"T498-HLOOKUP(Y498,Feuil2!$C$1:$CD$9,8,FALSE)","v":{"$error":"#VALUE!"}},{"$f":"T498-HLOOKUP(Y498,Feuil2!$C$1:$CD$9,9,FALSE)","v":{"$error":"#VALUE!"}},null,null,null,null,null,null,null,{"$error":"#VALUE!"},2016,null,{"$f":"IF(AQ498,VLOOKUP(AQ498,HOM!$AS$561:$AT$616,2))","v":3.5710000000000002}]
["H",null,null,null,null,null,null,null,null,null,null,null,null,null,"",null,null,null,"","","","","",{"$error":"#N/A"},{"$f":"IF(AND(J499<1920),VLOOKUP(K499,Feuil2!$F$10:$P$28,11),IF(AND(J499>=1920,J499<1937),VLOOKUP(K499,Feuil2!$F$10:$P$28,11),IF(AND(J499>=1936,J499<1942),VLOOKUP(K499,Feuil2!$F$10:$P$28,10),IF(AND(J499>=1942,J499<1947),VLOOKUP(K499,Feuil2!$F$10:$P$28,9),IF(AND(J499>=1947,J499<1952),VLOOKUP(K499,Feuil2!$F$10:$P$28,8),IF(AND(J499>=1952,J499<1957),VLOOKUP(K499,Feuil2!$F$10:$P$28,7),IF(AND(J499>=1957,J499<1962),VLOOKUP(K499,Feuil2!$F$10:$P$28,6),IF(AND(J499>=1962,J499<1967),VLOOKUP(K499,Feuil2!$F$10:$P$28,5),IF(AND(J499>=1967,J499<1972),VLOOKUP(K499,Feuil2!$F$10:$P$28,4),IF(AND(J499>=1972,J499<1977),VLOOKUP(K499,Feuil2!$F$10:$P$28,3),IF(AND(J499>=1977,J499<1982),VLOOKUP(K499,Feuil2!$F$10:$P$28,2),VLOOKUP(K499,Feuil2!$F$10:$P$28,2))))))))))))","v":{"$error":"#N/A"}},null,{"$f":"T499-HLOOKUP(Y499,Feuil2!$C$1:$CD$9,2,FALSE)","v":{"$error":"#VALUE!"}},{"$f":"T499-HLOOKUP(Y499,Feuil2!$C$1:$CD$9,3,FALSE)","v":{"$error":"#VALUE!"}},{"$f":"T499-HLOOKUP(Y499,Feuil2!$C$1:$CD$9,4,FALSE)","v":{"$error":"#VALUE!"}},{"$f":"T499-HLOOKUP(Y499,Feuil2!$C$1:$CD$9,5,FALSE)","v":{"$error":"#VALUE!"}},{"$f":"T499-HLOOKUP(Y499,Feuil2!$C$1:$CD$9,6,FALSE)","v":{"$error":"#VALUE!"}},{"$f":"T499-HLOOKUP(Y499,Feuil2!$C$1:$CD$9,7,FALSE)","v":{"$error":"#VALUE!"}},{"$f":"T499-HLOOKUP(Y499,Feuil2!$C$1:$CD$9,8,FALSE)","v":{"$error":"#VALUE!"}},{"$f":"T499-HLOOKUP(Y499,Feuil2!$C$1:$CD$9,9,FALSE)","v":{"$error":"#VALUE!"}},null,null,null,null,null,null,null,{"$error":"#VALUE!"},2016,null,{"$f":"IF(AQ499,VLOOKUP(AQ499,HOM!$AS$561:$AT$616,2))","v":3.5710000000000002}]
["H",null,null,null,null,null,null,null,null,null,null,null,null,null,"",null,null,null,"","","","","",{"$error":"#N/A"},{"$f":"IF(AND(J500<1920),VLOOKUP(K500,Feuil2!$F$10:$P$28,11),IF(AND(J500>=1920,J500<1937),VLOOKUP(K500,Feuil2!$F$10:$P$28,11),IF(AND(J500>=1936,J500<1942),VLOOKUP(K500,Feuil2!$F$10:$P$28,10),IF(AND(J500>=1942,J500<1947),VLOOKUP(K500,Feuil2!$F$10:$P$28,9),IF(AND(J500>=1947,J500<1952),VLOOKUP(K500,Feuil2!$F$10:$P$28,8),IF(AND(J500>=1952,J500<1957),VLOOKUP(K500,Feuil2!$F$10:$P$28,7),IF(AND(J500>=1957,J500<1962),VLOOKUP(K500,Feuil2!$F$10:$P$28,6),IF(AND(J500>=1962,J500<1967),VLOOKUP(K500,Feuil2!$F$10:$P$28,5),IF(AND(J500>=1967,J500<1972),VLOOKUP(K500,Feuil2!$F$10:$P$28,4),IF(AND(J500>=1972,J500<1977),VLOOKUP(K500,Feuil2!$F$10:$P$28,3),IF(AND(J500>=1977,J500<1982),VLOOKUP(K500,Feuil2!$F$10:$P$28,2),VLOOKUP(K500,Feuil2!$F$10:$P$28,2))))))))))))","v":{"$error":"#N/A"}},null,{"$f":"T500-HLOOKUP(Y500,Feuil2!$C$1:$CD$9,2,FALSE)","v":{"$error":"#VALUE!"}},{"$f":"T500-HLOOKUP(Y500,Feuil2!$C$1:$CD$9,3,FALSE)","v":{"$error":"#VALUE!"}},{"$f":"T500-HLOOKUP(Y500,Feuil2!$C$1:$CD$9,4,FALSE)","v":{"$error":"#VALUE!"}},{"$f":"T500-HLOOKUP(Y500,Feuil2!$C$1:$CD$9,5,FALSE)","v":{"$error":"#VALUE!"}},{"$f":"T500-HLOOKUP(Y500,Feuil2!$C$1:$CD$9,6,FALSE)","v":{"$error":"#VALUE!"}},{"$f":"T500-HLOOKUP(Y500,Feuil2!$C$1:$CD$9,7,FALSE)","v":{"$error":"#VALUE!"}},{"$f":"T500-HLOOKUP(Y500,Feuil2!$C$1:$CD$9,8,FALSE)","v":{"$error":"#VALUE!"}},{"$f":"T500-HLOOKUP(Y500,Feuil2!$C$1:$CD$9,9,FALSE)","v":{"$error":"#VALUE!"}},null,null,null,null,null,null,null,{"$error":"#VALUE!"},2016,null,{"$f":"IF(AQ500,VLOOKUP(AQ500,HOM!$AS$561:$AT$616,2))","v":3.5710000000000002}]
["H",null,null,null,null,null,null,null,null,null,null,null,null,null,"",null,null,null,"","","","","",{"$error":"#N/A"},{"$f":"IF(AND(J501<1920),VLOOKUP(K501,Feuil2!$F$10:$P$28,11),IF(AND(J501>=1920,J501<1937),VLOOKUP(K501,Feuil2!$F$10:$P$28,11),IF(AND(J501>=1936,J501<1942),VLOOKUP(K501,Feuil2!$F$10:$P$28,10),IF(AND(J501>=1942,J501<1947),VLOOKUP(K501,Feuil2!$F$10:$P$28,9),IF(AND(J501>=1947,J501<1952),VLOOKUP(K501,Feuil2!$F$10:$P$28,8),IF(AND(J501>=1952,J501<1957),VLOOKUP(K501,Feuil2!$F$10:$P$28,7),IF(AND(J501>=1957,J501<1962),VLOOKUP(K501,Feuil2!$F$10:$P$28,6),IF(AND(J501>=1962,J501<1967),VLOOKUP(K501,Feuil2!$F$10:$P$28,5),IF(AND(J501>=1967,J501<1972),VLOOKUP(K501,Feuil2!$F$10:$P$28,4),IF(AND(J501>=1972,J501<1977),VLOOKUP(K501,Feuil2!$F$10:$P$28,3),IF(AND(J501>=1977,J501<1982),VLOOKUP(K501,Feuil2!$F$10:$P$28,2),VLOOKUP(K501,Feuil2!$F$10:$P$28,2))))))))))))","v":{"$error":"#N/A"}},null,{"$f":"T501-HLOOKUP(Y501,Feuil2!$C$1:$CD$9,2,FALSE)","v":{"$error":"#VALUE!"}},{"$f":"T501-HLOOKUP(Y501,Feuil2!$C$1:$CD$9,3,FALSE)","v":{"$error":"#VALUE!"}},{"$f":"T501-HLOOKUP(Y501,Feuil2!$C$1:$CD$9,4,FALSE)","v":{"$error":"#VALUE!"}},{"$f":"T501-HLOOKUP(Y501,Feuil2!$C$1:$CD$9,5,FALSE)","v":{"$error":"#VALUE!"}},{"$f":"T501-HLOOKUP(Y501,Feuil2!$C$1:$CD$9,6,FALSE)","v":{"$error":"#VALUE!"}},{"$f":"T501-HLOOKUP(Y501,Feuil2!$C$1:$CD$9,7,FALSE)","v":{"$error":"#VALUE!"}},{"$f":"T501-HLOOKUP(Y501,Feuil2!$C$1:$CD$9,8,FALSE)","v":{"$error":"#VALUE!"}},{"$f":"T501-HLOOKUP(Y501,Feuil2!$C$1:$CD$9,9,FALSE)","v":{"$error":"#VALUE!"}},null,null,null,null,null,null,null,{"$error":"#VALUE!"},2016,null,{"$f":"IF(AQ501,VLOOKUP(AQ501,HOM!$AS$561:$AT$616,2))","v":3.5710000000000002}]
["H",null,null,null,null,null,null,null,null,null,null,null,null,null,"",null,null,null,"","","","","",{"$error":"#N/A"},{"$f":"IF(AND(J502<1920),VLOOKUP(K502,Feuil2!$F$10:$P$28,11),IF(AND(J502>=1920,J502<1937),VLOOKUP(K502,Feuil2!$F$10:$P$28,11),IF(AND(J502>=1936,J502<1942),VLOOKUP(K502,Feuil2!$F$10:$P$28,10),IF(AND(J502>=1942,J502<1947),VLOOKUP(K502,Feuil2!$F$10:$P$28,9),IF(AND(J502>=1947,J502<1952),VLOOKUP(K502,Feuil2!$F$10:$P$28,8),IF(AND(J502>=1952,J502<1957),VLOOKUP(K502,Feuil2!$F$10:$P$28,7),IF(AND(J502>=1957,J502<1962),VLOOKUP(K502,Feuil2!$F$10:$P$28,6),IF(AND(J502>=1962,J502<1967),VLOOKUP(K502,Feuil2!$F$10:$P$28,5),IF(AND(J502>=1967,J502<1972),VLOOKUP(K502,Feuil2!$F$10:$P$28,4),IF(AND(J502>=1972,J502<1977),VLOOKUP(K502,Feuil2!$F$10:$P$28,3),IF(AND(J502>=1977,J502<1982),VLOOKUP(K502,Feuil2!$F$10:$P$28,2),VLOOKUP(K502,Feuil2!$F$10:$P$28,2))))))))))))","v":{"$error":"#N/A"}},null,{"$f":"T502-HLOOKUP(Y502,Feuil2!$C$1:$CD$9,2,FALSE)","v":{"$error":"#VALUE!"}},{"$f":"T502-HLOOKUP(Y502,Feuil2!$C$1:$CD$9,3,FALSE)","v":{"$error":"#VALUE!"}},{"$f":"T502-HLOOKUP(Y502,Feuil2!$C$1:$CD$9,4,FALSE)","v":{"$error":"#VALUE!"}},{"$f":"T502-HLOOKUP(Y502,Feuil2!$C$1:$CD$9,5,FALSE)","v":{"$error":"#VALUE!"}},{"$f":"T502-HLOOKUP(Y502,Feuil2!$C$1:$CD$9,6,FALSE)","v":{"$error":"#VALUE!"}},{"$f":"T502-HLOOKUP(Y502,Feuil2!$C$1:$CD$9,7,FALSE)","v":{"$error":"#VALUE!"}},{"$f":"T502-HLOOKUP(Y502,Feuil2!$C$1:$CD$9,8,FALSE)","v":{"$error":"#VALUE!"}},{"$f":"T502-HLOOKUP(Y502,Feuil2!$C$1:$CD$9,9,FALSE)","v":{"$error":"#VALUE!"}},null,null,null,null,null,null,null,{"$error":"#VALUE!"},2016,null,{"$f":"IF(AQ502,VLOOKUP(AQ502,HOM!$AS$561:$AT$616,2))","v":3.5710000000000002}]
["H",null,null,null,null,null,null,null,null,null,null,null,null,null,"",null,null,null,"","","","","",{"$error":"#N/A"},{"$f":"IF(AND(J503<1920),VLOOKUP(K503,Feuil2!$F$10:$P$28,11),IF(AND(J503>=1920,J503<1937),VLOOKUP(K503,Feuil2!$F$10:$P$28,11),IF(AND(J503>=1936,J503<1942),VLOOKUP(K503,Feuil2!$F$10:$P$28,10),IF(AND(J503>=1942,J503<1947),VLOOKUP(K503,Feuil2!$F$10:$P$28,9),IF(AND(J503>=1947,J503<1952),VLOOKUP(K503,Feuil2!$F$10:$P$28,8),IF(AND(J503>=1952,J503<1957),VLOOKUP(K503,Feuil2!$F$10:$P$28,7),IF(AND(J503>=1957,J503<1962),VLOOKUP(K503,Feuil2!$F$10:$P$28,6),IF(AND(J503>=1962,J503<1967),VLOOKUP(K503,Feuil2!$F$10:$P$28,5),IF(AND(J503>=1967,J503<1972),VLOOKUP(K503,Feuil2!$F$10:$P$28,4),IF(AND(J503>=1972,J503<1977),VLOOKUP(K503,Feuil2!$F$10:$P$28,3),IF(AND(J503>=1977,J503<1982),VLOOKUP(K503,Feuil2!$F$10:$P$28,2),VLOOKUP(K503,Feuil2!$F$10:$P$28,2))))))))))))","v":{"$error":"#N/A"}},null,{"$f":"T503-HLOOKUP(Y503,Feuil2!$C$1:$CD$9,2,FALSE)","v":{"$error":"#VALUE!"}},{"$f":"T503-HLOOKUP(Y503,Feuil2!$C$1:$CD$9,3,FALSE)","v":{"$error":"#VALUE!"}},{"$f":"T503-HLOOKUP(Y503,Feuil2!$C$1:$CD$9,4,FALSE)","v":{"$error":"#VALUE!"}},{"$f":"T503-HLOOKUP(Y503,Feuil2!$C$1:$CD$9,5,FALSE)","v":{"$error":"#VALUE!"}},{"$f":"T503-HLOOKUP(Y503,Feuil2!$C$1:$CD$9,6,FALSE)","v":{"$error":"#VALUE!"}},{"$f":"T503-HLOOKUP(Y503,Feuil2!$C$1:$CD$9,7,FALSE)","v":{"$error":"#VALUE!"}},{"$f":"T503-HLOOKUP(Y503,Feuil2!$C$1:$CD$9,8,FALSE)","v":{"$error":"#VALUE!"}},{"$f":"T503-HLOOKUP(Y503,Feuil2!$C$1:$CD$9,9,FALSE)","v":{"$error":"#VALUE!"}},null,null,null,null,null,null,null,{"$error":"#VALUE!"},2016,null,{"$f":"IF(AQ503,VLOOKUP(AQ503,HOM!$AS$561:$AT$616,2))","v":3.5710000000000002}]
["H",null,null,null,null,null,null,null,null,null,null,null,null,null,"",null,null,null,"","","","","",{"$error":"#N/A"},{"$f":"IF(AND(J504<1920),VLOOKUP(K504,Feuil2!$F$10:$P$28,11),IF(AND(J504>=1920,J504<1937),VLOOKUP(K504,Feuil2!$F$10:$P$28,11),IF(AND(J504>=1936,J504<1942),VLOOKUP(K504,Feuil2!$F$10:$P$28,10),IF(AND(J504>=1942,J504<1947),VLOOKUP(K504,Feuil2!$F$10:$P$28,9),IF(AND(J504>=1947,J504<1952),VLOOKUP(K504,Feuil2!$F$10:$P$28,8),IF(AND(J504>=1952,J504<1957),VLOOKUP(K504,Feuil2!$F$10:$P$28,7),IF(AND(J504>=1957,J504<1962),VLOOKUP(K504,Feuil2!$F$10:$P$28,6),IF(AND(J504>=1962,J504<1967),VLOOKUP(K504,Feuil2!$F$10:$P$28,5),IF(AND(J504>=1967,J504<1972),VLOOKUP(K504,Feuil2!$F$10:$P$28,4),IF(AND(J504>=1972,J504<1977),VLOOKUP(K504,Feuil2!$F$10:$P$28,3),IF(AND(J504>=1977,J504<1982),VLOOKUP(K504,Feuil2!$F$10:$P$28,2),VLOOKUP(K504,Feuil2!$F$10:$P$28,2))))))))))))","v":{"$error":"#N/A"}},null,{"$f":"T504-HLOOKUP(Y504,Feuil2!$C$1:$CD$9,2,FALSE)","v":{"$error":"#VALUE!"}},{"$f":"T504-HLOOKUP(Y504,Feuil2!$C$1:$CD$9,3,FALSE)","v":{"$error":"#VALUE!"}},{"$f":"T504-HLOOKUP(Y504,Feuil2!$C$1:$CD$9,4,FALSE)","v":{"$error":"#VALUE!"}},{"$f":"T504-HLOOKUP(Y504,Feuil2!$C$1:$CD$9,5,FALSE)","v":{"$error":"#VALUE!"}},{"$f":"T504-HLOOKUP(Y504,Feuil2!$C$1:$CD$9,6,FALSE)","v":{"$error":"#VALUE!"}},{"$f":"T504-HLOOKUP(Y504,Feuil2!$C$1:$CD$9,7,FALSE)","v":{"$error":"#VALUE!"}},{"$f":"T504-HLOOKUP(Y504,Feuil2!$C$1:$CD$9,8,FALSE)","v":{"$error":"#VALUE!"}},{"$f":"T504-HLOOKUP(Y504,Feuil2!$C$1:$CD$9,9,FALSE)","v":{"$error":"#VALUE!"}},null,null,null,null,null,null,null,{"$error":"#VALUE!"},2016,null,{"$f":"IF(AQ504,VLOOKUP(AQ504,HOM!$AS$561:$AT$616,2))","v":3.5710000000000002}]
["H",null,null,null,null,null,null,null,null,null,null,null,null,null,"",null,null,null,"","","","","",{"$error":"#N/A"},{"$f":"IF(AND(J505<1920),VLOOKUP(K505,Feuil2!$F$10:$P$28,11),IF(AND(J505>=1920,J505<1937),VLOOKUP(K505,Feuil2!$F$10:$P$28,11),IF(AND(J505>=1936,J505<1942),VLOOKUP(K505,Feuil2!$F$10:$P$28,10),IF(AND(J505>=1942,J505<1947),VLOOKUP(K505,Feuil2!$F$10:$P$28,9),IF(AND(J505>=1947,J505<1952),VLOOKUP(K505,Feuil2!$F$10:$P$28,8),IF(AND(J505>=1952,J505<1957),VLOOKUP(K505,Feuil2!$F$10:$P$28,7),IF(AND(J505>=1957,J505<1962),VLOOKUP(K505,Feuil2!$F$10:$P$28,6),IF(AND(J505>=1962,J505<1967),VLOOKUP(K505,Feuil2!$F$10:$P$28,5),IF(AND(J505>=1967,J505<1972),VLOOKUP(K505,Feuil2!$F$10:$P$28,4),IF(AND(J505>=1972,J505<1977),VLOOKUP(K505,Feuil2!$F$10:$P$28,3),IF(AND(J505>=1977,J505<1982),VLOOKUP(K505,Feuil2!$F$10:$P$28,2),VLOOKUP(K505,Feuil2!$F$10:$P$28,2))))))))))))","v":{"$error":"#N/A"}},null,{"$f":"T505-HLOOKUP(Y505,Feuil2!$C$1:$CD$9,2,FALSE)","v":{"$error":"#VALUE!"}},{"$f":"T505-HLOOKUP(Y505,Feuil2!$C$1:$CD$9,3,FALSE)","v":{"$error":"#VALUE!"}},{"$f":"T505-HLOOKUP(Y505,Feuil2!$C$1:$CD$9,4,FALSE)","v":{"$error":"#VALUE!"}},{"$f":"T505-HLOOKUP(Y505,Feuil2!$C$1:$CD$9,5,FALSE)","v":{"$error":"#VALUE!"}},{"$f":"T505-HLOOKUP(Y505,Feuil2!$C$1:$CD$9,6,FALSE)","v":{"$error":"#VALUE!"}},{"$f":"T505-HLOOKUP(Y505,Feuil2!$C$1:$CD$9,7,FALSE)","v":{"$error":"#VALUE!"}},{"$f":"T505-HLOOKUP(Y505,Feuil2!$C$1:$CD$9,8,FALSE)","v":{"$error":"#VALUE!"}},{"$f":"T505-HLOOKUP(Y505,Feuil2!$C$1:$CD$9,9,FALSE)","v":{"$error":"#VALUE!"}},null,null,null,null,null,null,null,{"$error":"#VALUE!"},2016,null,{"$f":"IF(AQ505,VLOOKUP(AQ505,HOM!$AS$561:$AT$616,2))","v":3.5710000000000002}]
["H",null,null,null,null,null,null,null,null,null,null,null,null,null,"",null,null,null,"","","","","",{"$error":"#N/A"},{"$f":"IF(AND(J506<1920),VLOOKUP(K506,Feuil2!$F$10:$P$28,11),IF(AND(J506>=1920,J506<1937),VLOOKUP(K506,Feuil2!$F$10:$P$28,11),IF(AND(J506>=1936,J506<1942),VLOOKUP(K506,Feuil2!$F$10:$P$28,10),IF(AND(J506>=1942,J506<1947),VLOOKUP(K506,Feuil2!$F$10:$P$28,9),IF(AND(J506>=1947,J506<1952),VLOOKUP(K506,Feuil2!$F$10:$P$28,8),IF(AND(J506>=1952,J506<1957),VLOOKUP(K506,Feuil2!$F$10:$P$28,7),IF(AND(J506>=1957,J506<1962),VLOOKUP(K506,Feuil2!$F$10:$P$28,6),IF(AND(J506>=1962,J506<1967),VLOOKUP(K506,Feuil2!$F$10:$P$28,5),IF(AND(J506>=1967,J506<1972),VLOOKUP(K506,Feuil2!$F$10:$P$28,4),IF(AND(J506>=1972,J506<1977),VLOOKUP(K506,Feuil2!$F$10:$P$28,3),IF(AND(J506>=1977,J506<1982),VLOOKUP(K506,Feuil2!$F$10:$P$28,2),VLOOKUP(K506,Feuil2!$F$10:$P$28,2))))))))))))","v":{"$error":"#N/A"}},null,{"$f":"T506-HLOOKUP(Y506,Feuil2!$C$1:$CD$9,2,FALSE)","v":{"$error":"#VALUE!"}},{"$f":"T506-HLOOKUP(Y506,Feuil2!$C$1:$CD$9,3,FALSE)","v":{"$error":"#VALUE!"}},{"$f":"T506-HLOOKUP(Y506,Feuil2!$C$1:$CD$9,4,FALSE)","v":{"$error":"#VALUE!"}},{"$f":"T506-HLOOKUP(Y506,Feuil2!$C$1:$CD$9,5,FALSE)","v":{"$error":"#VALUE!"}},{"$f":"T506-HLOOKUP(Y506,Feuil2!$C$1:$CD$9,6,FALSE)","v":{"$error":"#VALUE!"}},{"$f":"T506-HLOOKUP(Y506,Feuil2!$C$1:$CD$9,7,FALSE)","v":{"$error":"#VALUE!"}},{"$f":"T506-HLOOKUP(Y506,Feuil2!$C$1:$CD$9,8,FALSE)","v":{"$error":"#VALUE!"}},{"$f":"T506-HLOOKUP(Y506,Feuil2!$C$1:$CD$9,9,FALSE)","v":{"$error":"#VALUE!"}},null,null,null,null,null,null,null,{"$error":"#VALUE!"},2016,null,{"$f":"IF(AQ506,VLOOKUP(AQ506,HOM!$AS$561:$AT$616,2))","v":3.5710000000000002}]
["H",null,null,null,null,null,null,null,null,null,null,null,null,null,"",null,null,null,"","","","","",{"$error":"#N/A"},{"$f":"IF(AND(J507<1920),VLOOKUP(K507,Feuil2!$F$10:$P$28,11),IF(AND(J507>=1920,J507<1937),VLOOKUP(K507,Feuil2!$F$10:$P$28,11),IF(AND(J507>=1936,J507<1942),VLOOKUP(K507,Feuil2!$F$10:$P$28,10),IF(AND(J507>=1942,J507<1947),VLOOKUP(K507,Feuil2!$F$10:$P$28,9),IF(AND(J507>=1947,J507<1952),VLOOKUP(K507,Feuil2!$F$10:$P$28,8),IF(AND(J507>=1952,J507<1957),VLOOKUP(K507,Feuil2!$F$10:$P$28,7),IF(AND(J507>=1957,J507<1962),VLOOKUP(K507,Feuil2!$F$10:$P$28,6),IF(AND(J507>=1962,J507<1967),VLOOKUP(K507,Feuil2!$F$10:$P$28,5),IF(AND(J507>=1967,J507<1972),VLOOKUP(K507,Feuil2!$F$10:$P$28,4),IF(AND(J507>=1972,J507<1977),VLOOKUP(K507,Feuil2!$F$10:$P$28,3),IF(AND(J507>=1977,J507<1982),VLOOKUP(K507,Feuil2!$F$10:$P$28,2),VLOOKUP(K507,Feuil2!$F$10:$P$28,2))))))))))))","v":{"$error":"#N/A"}},null,{"$f":"T507-HLOOKUP(Y507,Feuil2!$C$1:$CD$9,2,FALSE)","v":{"$error":"#VALUE!"}},{"$f":"T507-HLOOKUP(Y507,Feuil2!$C$1:$CD$9,3,FALSE)","v":{"$error":"#VALUE!"}},{"$f":"T507-HLOOKUP(Y507,Feuil2!$C$1:$CD$9,4,FALSE)","v":{"$error":"#VALUE!"}},{"$f":"T507-HLOOKUP(Y507,Feuil2!$C$1:$CD$9,5,FALSE)","v":{"$error":"#VALUE!"}},{"$f":"T507-HLOOKUP(Y507,Feuil2!$C$1:$CD$9,6,FALSE)","v":{"$error":"#VALUE!"}},{"$f":"T507-HLOOKUP(Y507,Feuil2!$C$1:$CD$9,7,FALSE)","v":{"$error":"#VALUE!"}},{"$f":"T507-HLOOKUP(Y507,Feuil2!$C$1:$CD$9,8,FALSE)","v":{"$error":"#VALUE!"}},{"$f":"T507-HLOOKUP(Y507,Feuil2!$C$1:$CD$9,9,FALSE)","v":{"$error":"#VALUE!"}},null,null,null,null,null,null,null,{"$error":"#VALUE!"},2016,null,{"$f":"IF(AQ507,VLOOKUP(AQ507,HOM!$AS$561:$AT$616,2))","v":3.5710000000000002}]
["H",null,null,null,null,null,null,null,null,null,null,null,null,null,"",null,null,null,"","","","","",{"$error":"#N/A"},{"$f":"IF(AND(J508<1920),VLOOKUP(K508,Feuil2!$F$10:$P$28,11),IF(AND(J508>=1920,J508<1937),VLOOKUP(K508,Feuil2!$F$10:$P$28,11),IF(AND(J508>=1936,J508<1942),VLOOKUP(K508,Feuil2!$F$10:$P$28,10),IF(AND(J508>=1942,J508<1947),VLOOKUP(K508,Feuil2!$F$10:$P$28,9),IF(AND(J508>=1947,J508<1952),VLOOKUP(K508,Feuil2!$F$10:$P$28,8),IF(AND(J508>=1952,J508<1957),VLOOKUP(K508,Feuil2!$F$10:$P$28,7),IF(AND(J508>=1957,J508<1962),VLOOKUP(K508,Feuil2!$F$10:$P$28,6),IF(AND(J508>=1962,J508<1967),VLOOKUP(K508,Feuil2!$F$10:$P$28,5),IF(AND(J508>=1967,J508<1972),VLOOKUP(K508,Feuil2!$F$10:$P$28,4),IF(AND(J508>=1972,J508<1977),VLOOKUP(K508,Feuil2!$F$10:$P$28,3),IF(AND(J508>=1977,J508<1982),VLOOKUP(K508,Feuil2!$F$10:$P$28,2),VLOOKUP(K508,Feuil2!$F$10:$P$28,2))))))))))))","v":{"$error":"#N/A"}},null,{"$f":"T508-HLOOKUP(Y508,Feuil2!$C$1:$CD$9,2,FALSE)","v":{"$error":"#VALUE!"}},{"$f":"T508-HLOOKUP(Y508,Feuil2!$C$1:$CD$9,3,FALSE)","v":{"$error":"#VALUE!"}},{"$f":"T508-HLOOKUP(Y508,Feuil2!$C$1:$CD$9,4,FALSE)","v":{"$error":"#VALUE!"}},{"$f":"T508-HLOOKUP(Y508,Feuil2!$C$1:$CD$9,5,FALSE)","v":{"$error":"#VALUE!"}},{"$f":"T508-HLOOKUP(Y508,Feuil2!$C$1:$CD$9,6,FALSE)","v":{"$error":"#VALUE!"}},{"$f":"T508-HLOOKUP(Y508,Feuil2!$C$1:$CD$9,7,FALSE)","v":{"$error":"#VALUE!"}},{"$f":"T508-HLOOKUP(Y508,Feuil2!$C$1:$CD$9,8,FALSE)","v":{"$error":"#VALUE!"}},{"$f":"T508-HLOOKUP(Y508,Feuil2!$C$1:$CD$9,9,FALSE)","v":{"$error":"#VALUE!"}},null,null,null,null,null,null,null,{"$error":"#VALUE!"},2016,null,{"$f":"IF(AQ508,VLOOKUP(AQ508,HOM!$AS$561:$AT$616,2))","v":3.5710000000000002}]
["H",null,null,null,null,null,null,null,null,null,null,null,null,null,"",null,null,null,"","","","","",{"$error":"#N/A"},{"$f":"IF(AND(J509<1920),VLOOKUP(K509,Feuil2!$F$10:$P$28,11),IF(AND(J509>=1920,J509<1937),VLOOKUP(K509,Feuil2!$F$10:$P$28,11),IF(AND(J509>=1936,J509<1942),VLOOKUP(K509,Feuil2!$F$10:$P$28,10),IF(AND(J509>=1942,J509<1947),VLOOKUP(K509,Feuil2!$F$10:$P$28,9),IF(AND(J509>=1947,J509<1952),VLOOKUP(K509,Feuil2!$F$10:$P$28,8),IF(AND(J509>=1952,J509<1957),VLOOKUP(K509,Feuil2!$F$10:$P$28,7),IF(AND(J509>=1957,J509<1962),VLOOKUP(K509,Feuil2!$F$10:$P$28,6),IF(AND(J509>=1962,J509<1967),VLOOKUP(K509,Feuil2!$F$10:$P$28,5),IF(AND(J509>=1967,J509<1972),VLOOKUP(K509,Feuil2!$F$10:$P$28,4),IF(AND(J509>=1972,J509<1977),VLOOKUP(K509,Feuil2!$F$10:$P$28,3),IF(AND(J509>=1977,J509<1982),VLOOKUP(K509,Feuil2!$F$10:$P$28,2),VLOOKUP(K509,Feuil2!$F$10:$P$28,2))))))))))))","v":{"$error":"#N/A"}},null,{"$f":"T509-HLOOKUP(Y509,Feuil2!$C$1:$CD$9,2,FALSE)","v":{"$error":"#VALUE!"}},{"$f":"T509-HLOOKUP(Y509,Feuil2!$C$1:$CD$9,3,FALSE)","v":{"$error":"#VALUE!"}},{"$f":"T509-HLOOKUP(Y509,Feuil2!$C$1:$CD$9,4,FALSE)","v":{"$error":"#VALUE!"}},{"$f":"T509-HLOOKUP(Y509,Feuil2!$C$1:$CD$9,5,FALSE)","v":{"$error":"#VALUE!"}},{"$f":"T509-HLOOKUP(Y509,Feuil2!$C$1:$CD$9,6,FALSE)","v":{"$error":"#VALUE!"}},{"$f":"T509-HLOOKUP(Y509,Feuil2!$C$1:$CD$9,7,FALSE)","v":{"$error":"#VALUE!"}},{"$f":"T509-HLOOKUP(Y509,Feuil2!$C$1:$CD$9,8,FALSE)","v":{"$error":"#VALUE!"}},{"$f":"T509-HLOOKUP(Y509,Feuil2!$C$1:$CD$9,9,FALSE)","v":{"$error":"#VALUE!"}},null,null,null,null,null,null,null,{"$error":"#VALUE!"},2016,null,{"$f":"IF(AQ509,VLOOKUP(AQ509,HOM!$AS$561:$AT$616,2))","v":3.5710000000000002}]
["H",null,null,null,null,null,null,null,null,null,null,null,null,null,"",null,null,null,"","","","","",{"$error":"#N/A"},{"$f":"IF(AND(J510<1920),VLOOKUP(K510,Feuil2!$F$10:$P$28,11),IF(AND(J510>=1920,J510<1937),VLOOKUP(K510,Feuil2!$F$10:$P$28,11),IF(AND(J510>=1936,J510<1942),VLOOKUP(K510,Feuil2!$F$10:$P$28,10),IF(AND(J510>=1942,J510<1947),VLOOKUP(K510,Feuil2!$F$10:$P$28,9),IF(AND(J510>=1947,J510<1952),VLOOKUP(K510,Feuil2!$F$10:$P$28,8),IF(AND(J510>=1952,J510<1957),VLOOKUP(K510,Feuil2!$F$10:$P$28,7),IF(AND(J510>=1957,J510<1962),VLOOKUP(K510,Feuil2!$F$10:$P$28,6),IF(AND(J510>=1962,J510<1967),VLOOKUP(K510,Feuil2!$F$10:$P$28,5),IF(AND(J510>=1967,J510<1972),VLOOKUP(K510,Feuil2!$F$10:$P$28,4),IF(AND(J510>=1972,J510<1977),VLOOKUP(K510,Feuil2!$F$10:$P$28,3),IF(AND(J510>=1977,J510<1982),VLOOKUP(K510,Feuil2!$F$10:$P$28,2),VLOOKUP(K510,Feuil2!$F$10:$P$28,2))))))))))))","v":{"$error":"#N/A"}},null,{"$f":"T510-HLOOKUP(Y510,Feuil2!$C$1:$CD$9,2,FALSE)","v":{"$error":"#VALUE!"}},{"$f":"T510-HLOOKUP(Y510,Feuil2!$C$1:$CD$9,3,FALSE)","v":{"$error":"#VALUE!"}},{"$f":"T510-HLOOKUP(Y510,Feuil2!$C$1:$CD$9,4,FALSE)","v":{"$error":"#VALUE!"}},{"$f":"T510-HLOOKUP(Y510,Feuil2!$C$1:$CD$9,5,FALSE)","v":{"$error":"#VALUE!"}},{"$f":"T510-HLOOKUP(Y510,Feuil2!$C$1:$CD$9,6,FALSE)","v":{"$error":"#VALUE!"}},{"$f":"T510-HLOOKUP(Y510,Feuil2!$C$1:$CD$9,7,FALSE)","v":{"$error":"#VALUE!"}},{"$f":"T510-HLOOKUP(Y510,Feuil2!$C$1:$CD$9,8,FALSE)","v":{"$error":"#VALUE!"}},{"$f":"T510-HLOOKUP(Y510,Feuil2!$C$1:$CD$9,9,FALSE)","v":{"$error":"#VALUE!"}},null,null,null,null,null,null,null,{"$error":"#VALUE!"},2016,null,{"$f":"IF(AQ510,VLOOKUP(AQ510,HOM!$AS$561:$AT$616,2))","v":3.5710000000000002}]
["H",null,null,null,null,null,null,null,null,null,null,null,null,null,"",null,null,null,"","","","","",{"$error":"#N/A"},{"$f":"IF(AND(J511<1920),VLOOKUP(K511,Feuil2!$F$10:$P$28,11),IF(AND(J511>=1920,J511<1937),VLOOKUP(K511,Feuil2!$F$10:$P$28,11),IF(AND(J511>=1936,J511<1942),VLOOKUP(K511,Feuil2!$F$10:$P$28,10),IF(AND(J511>=1942,J511<1947),VLOOKUP(K511,Feuil2!$F$10:$P$28,9),IF(AND(J511>=1947,J511<1952),VLOOKUP(K511,Feuil2!$F$10:$P$28,8),IF(AND(J511>=1952,J511<1957),VLOOKUP(K511,Feuil2!$F$10:$P$28,7),IF(AND(J511>=1957,J511<1962),VLOOKUP(K511,Feuil2!$F$10:$P$28,6),IF(AND(J511>=1962,J511<1967),VLOOKUP(K511,Feuil2!$F$10:$P$28,5),IF(AND(J511>=1967,J511<1972),VLOOKUP(K511,Feuil2!$F$10:$P$28,4),IF(AND(J511>=1972,J511<1977),VLOOKUP(K511,Feuil2!$F$10:$P$28,3),IF(AND(J511>=1977,J511<1982),VLOOKUP(K511,Feuil2!$F$10:$P$28,2),VLOOKUP(K511,Feuil2!$F$10:$P$28,2))))))))))))","v":{"$error":"#N/A"}},null,{"$f":"T511-HLOOKUP(Y511,Feuil2!$C$1:$CD$9,2,FALSE)","v":{"$error":"#VALUE!"}},{"$f":"T511-HLOOKUP(Y511,Feuil2!$C$1:$CD$9,3,FALSE)","v":{"$error":"#VALUE!"}},{"$f":"T511-HLOOKUP(Y511,Feuil2!$C$1:$CD$9,4,FALSE)","v":{"$error":"#VALUE!"}},{"$f":"T511-HLOOKUP(Y511,Feuil2!$C$1:$CD$9,5,FALSE)","v":{"$error":"#VALUE!"}},{"$f":"T511-HLOOKUP(Y511,Feuil2!$C$1:$CD$9,6,FALSE)","v":{"$error":"#VALUE!"}},{"$f":"T511-HLOOKUP(Y511,Feuil2!$C$1:$CD$9,7,FALSE)","v":{"$error":"#VALUE!"}},{"$f":"T511-HLOOKUP(Y511,Feuil2!$C$1:$CD$9,8,FALSE)","v":{"$error":"#VALUE!"}},{"$f":"T511-HLOOKUP(Y511,Feuil2!$C$1:$CD$9,9,FALSE)","v":{"$error":"#VALUE!"}},null,null,null,null,null,null,null,{"$error":"#VALUE!"},2016,null,{"$f":"IF(AQ511,VLOOKUP(AQ511,HOM!$AS$561:$AT$616,2))","v":3.5710000000000002}]
["H",null,null,null,null,null,null,null,null,null,null,null,null,null,"",null,null,null,"","","","","",{"$error":"#N/A"},{"$f":"IF(AND(J512<1920),VLOOKUP(K512,Feuil2!$F$10:$P$28,11),IF(AND(J512>=1920,J512<1937),VLOOKUP(K512,Feuil2!$F$10:$P$28,11),IF(AND(J512>=1936,J512<1942),VLOOKUP(K512,Feuil2!$F$10:$P$28,10),IF(AND(J512>=1942,J512<1947),VLOOKUP(K512,Feuil2!$F$10:$P$28,9),IF(AND(J512>=1947,J512<1952),VLOOKUP(K512,Feuil2!$F$10:$P$28,8),IF(AND(J512>=1952,J512<1957),VLOOKUP(K512,Feuil2!$F$10:$P$28,7),IF(AND(J512>=1957,J512<1962),VLOOKUP(K512,Feuil2!$F$10:$P$28,6),IF(AND(J512>=1962,J512<1967),VLOOKUP(K512,Feuil2!$F$10:$P$28,5),IF(AND(J512>=1967,J512<1972),VLOOKUP(K512,Feuil2!$F$10:$P$28,4),IF(AND(J512>=1972,J512<1977),VLOOKUP(K512,Feuil2!$F$10:$P$28,3),IF(AND(J512>=1977,J512<1982),VLOOKUP(K512,Feuil2!$F$10:$P$28,2),VLOOKUP(K512,Feuil2!$F$10:$P$28,2))))))))))))","v":{"$error":"#N/A"}},null,{"$f":"T512-HLOOKUP(Y512,Feuil2!$C$1:$CD$9,2,FALSE)","v":{"$error":"#VALUE!"}},{"$f":"T512-HLOOKUP(Y512,Feuil2!$C$1:$CD$9,3,FALSE)","v":{"$error":"#VALUE!"}},{"$f":"T512-HLOOKUP(Y512,Feuil2!$C$1:$CD$9,4,FALSE)","v":{"$error":"#VALUE!"}},{"$f":"T512-HLOOKUP(Y512,Feuil2!$C$1:$CD$9,5,FALSE)","v":{"$error":"#VALUE!"}},{"$f":"T512-HLOOKUP(Y512,Feuil2!$C$1:$CD$9,6,FALSE)","v":{"$error":"#VALUE!"}},{"$f":"T512-HLOOKUP(Y512,Feuil2!$C$1:$CD$9,7,FALSE)","v":{"$error":"#VALUE!"}},{"$f":"T512-HLOOKUP(Y512,Feuil2!$C$1:$CD$9,8,FALSE)","v":{"$error":"#VALUE!"}},{"$f":"T512-HLOOKUP(Y512,Feuil2!$C$1:$CD$9,9,FALSE)","v":{"$error":"#VALUE!"}},null,null,null,null,null,null,null,{"$error":"#VALUE!"},2016,null,{"$f":"IF(AQ512,VLOOKUP(AQ512,HOM!$AS$561:$AT$616,2))","v":3.5710000000000002}]
["H",null,null,null,null,null,null,null,null,null,null,null,null,null,"",null,null,null,"","","","","",{"$error":"#N/A"},{"$f":"IF(AND(J513<1920),VLOOKUP(K513,Feuil2!$F$10:$P$28,11),IF(AND(J513>=1920,J513<1937),VLOOKUP(K513,Feuil2!$F$10:$P$28,11),IF(AND(J513>=1936,J513<1942),VLOOKUP(K513,Feuil2!$F$10:$P$28,10),IF(AND(J513>=1942,J513<1947),VLOOKUP(K513,Feuil2!$F$10:$P$28,9),IF(AND(J513>=1947,J513<1952),VLOOKUP(K513,Feuil2!$F$10:$P$28,8),IF(AND(J513>=1952,J513<1957),VLOOKUP(K513,Feuil2!$F$10:$P$28,7),IF(AND(J513>=1957,J513<1962),VLOOKUP(K513,Feuil2!$F$10:$P$28,6),IF(AND(J513>=1962,J513<1967),VLOOKUP(K513,Feuil2!$F$10:$P$28,5),IF(AND(J513>=1967,J513<1972),VLOOKUP(K513,Feuil2!$F$10:$P$28,4),IF(AND(J513>=1972,J513<1977),VLOOKUP(K513,Feuil2!$F$10:$P$28,3),IF(AND(J513>=1977,J513<1982),VLOOKUP(K513,Feuil2!$F$10:$P$28,2),VLOOKUP(K513,Feuil2!$F$10:$P$28,2))))))))))))","v":{"$error":"#N/A"}},null,{"$f":"T513-HLOOKUP(Y513,Feuil2!$C$1:$CD$9,2,FALSE)","v":{"$error":"#VALUE!"}},{"$f":"T513-HLOOKUP(Y513,Feuil2!$C$1:$CD$9,3,FALSE)","v":{"$error":"#VALUE!"}},{"$f":"T513-HLOOKUP(Y513,Feuil2!$C$1:$CD$9,4,FALSE)","v":{"$error":"#VALUE!"}},{"$f":"T513-HLOOKUP(Y513,Feuil2!$C$1:$CD$9,5,FALSE)","v":{"$error":"#VALUE!"}},{"$f":"T513-HLOOKUP(Y513,Feuil2!$C$1:$CD$9,6,FALSE)","v":{"$error":"#VALUE!"}},{"$f":"T513-HLOOKUP(Y513,Feuil2!$C$1:$CD$9,7,FALSE)","v":{"$error":"#VALUE!"}},{"$f":"T513-HLOOKUP(Y513,Feuil2!$C$1:$CD$9,8,FALSE)","v":{"$error":"#VALUE!"}},{"$f":"T513-HLOOKUP(Y513,Feuil2!$C$1:$CD$9,9,FALSE)","v":{"$error":"#VALUE!"}},null,null,null,null,null,null,null,{"$error":"#VALUE!"},2016,null,{"$f":"IF(AQ513,VLOOKUP(AQ513,HOM!$AS$561:$AT$616,2))","v":3.5710000000000002}]
["H",null,null,null,null,null,null,null,null,null,null,null,null,null,{"$f":"IF(K514=\"\",\"\",IF(MAXA(L514:N514)<=0,0,MAXA(L514:N514)))","v":""},null,null,null,{"$f":"IF(K514=\"\",\"\",IF(MAXA(P514:R514)<=0,0,MAXA(P514:R514)))","v":""},{"$f":"IF(K514=\"\",\"\",IF(OR(O514=0,S514=0),0,O514+S514))","v":""},"",{"$f":"IF(K514=\"\",\"\",AP514)","v":""},{"$f":"IF(K514=\"\",\"\",IF(AH514>=0,AH514,IF(AG514>=0,AG514,IF(AF514>=0,AF514,IF(AE514>=0,AE514,IF(AD514>=0,AD514,IF(AC514>=0,AC514,IF(AB514>=0,AB514,AA514))))))))","v":""},{"$error":"#N/A"},{"$f":"IF(AND(J514<1920),VLOOKUP(K514,Feuil2!$F$10:$P$28,11),IF(AND(J514>=1920,J514<1937),VLOOKUP(K514,Feuil2!$F$10:$P$28,11),IF(AND(J514>=1936,J514<1942),VLOOKUP(K514,Feuil2!$F$10:$P$28,10),IF(AND(J514>=1942,J514<1947),VLOOKUP(K514,Feuil2!$F$10:$P$28,9),IF(AND(J514>=1947,J514<1952),VLOOKUP(K514,Feuil2!$F$10:$P$28,8),IF(AND(J514>=1952,J514<1957),VLOOKUP(K514,Feuil2!$F$10:$P$28,7),IF(AND(J514>=1957,J514<1962),VLOOKUP(K514,Feuil2!$F$10:$P$28,6),IF(AND(J514>=1962,J514<1967),VLOOKUP(K514,Feuil2!$F$10:$P$28,5),IF(AND(J514>=1967,J514<1972),VLOOKUP(K514,Feuil2!$F$10:$P$28,4),IF(AND(J514>=1972,J514<1977),VLOOKUP(K514,Feuil2!$F$10:$P$28,3),IF(AND(J514>=1977,J514<1982),VLOOKUP(K514,Feuil2!$F$10:$P$28,2),VLOOKUP(K514,Feuil2!$F$10:$P$28,2))))))))))))","v":{"$error":"#N/A"}},null,{"$f":"T514-HLOOKUP(Y514,Feuil2!$C$1:$CD$9,2,FALSE)","v":{"$error":"#VALUE!"}},{"$f":"T514-HLOOKUP(Y514,Feuil2!$C$1:$CD$9,3,FALSE)","v":{"$error":"#VALUE!"}},{"$f":"T514-HLOOKUP(Y514,Feuil2!$C$1:$CD$9,4,FALSE)","v":{"$error":"#VALUE!"}},{"$f":"T514-HLOOKUP(Y514,Feuil2!$C$1:$CD$9,5,FALSE)","v":{"$error":"#VALUE!"}},{"$f":"T514-HLOOKUP(Y514,Feuil2!$C$1:$CD$9,6,FALSE)","v":{"$error":"#VALUE!"}},{"$f":"T514-HLOOKUP(Y514,Feuil2!$C$1:$CD$9,7,FALSE)","v":{"$error":"#VALUE!"}},{"$f":"T514-HLOOKUP(Y514,Feuil2!$C$1:$CD$9,8,FALSE)","v":{"$error":"#VALUE!"}},{"$f":"T514-HLOOKUP(Y514,Feuil2!$C$1:$CD$9,9,FALSE)","v":{"$error":"#VALUE!"}},null,null,null,null,null,null,null,{"$f":"IF(AH514>=0,$AH$4,IF(AG514>=0,$AG$4,IF(AF514>=0,$AF$4,IF(AE514>=0,$AE$4,IF(AD514>=0,$AD$4,IF(AC514>=0,$AC$4,IF(AB514>=0,$AB$4,IF(AA514>=0,$AA$4,$AI$4))))))))","v":{"$error":"#VALUE!"}},2016,null,{"$f":"IF(AQ514,VLOOKUP(AQ514,HOM!$AS$561:$AT$616,2))","v":3.5710000000000002}]
["H",null,null,null,null,null,null,null,null,null,null,null,null,null,"",null,null,null,"","","","","",{"$error":"#N/A"},{"$f":"IF(AND(J515<1920),VLOOKUP(K515,Feuil2!$F$10:$P$28,11),IF(AND(J515>=1920,J515<1937),VLOOKUP(K515,Feuil2!$F$10:$P$28,11),IF(AND(J515>=1936,J515<1942),VLOOKUP(K515,Feuil2!$F$10:$P$28,10),IF(AND(J515>=1942,J515<1947),VLOOKUP(K515,Feuil2!$F$10:$P$28,9),IF(AND(J515>=1947,J515<1952),VLOOKUP(K515,Feuil2!$F$10:$P$28,8),IF(AND(J515>=1952,J515<1957),VLOOKUP(K515,Feuil2!$F$10:$P$28,7),IF(AND(J515>=1957,J515<1962),VLOOKUP(K515,Feuil2!$F$10:$P$28,6),IF(AND(J515>=1962,J515<1967),VLOOKUP(K515,Feuil2!$F$10:$P$28,5),IF(AND(J515>=1967,J515<1972),VLOOKUP(K515,Feuil2!$F$10:$P$28,4),IF(AND(J515>=1972,J515<1977),VLOOKUP(K515,Feuil2!$F$10:$P$28,3),IF(AND(J515>=1977,J515<1982),VLOOKUP(K515,Feuil2!$F$10:$P$28,2),VLOOKUP(K515,Feuil2!$F$10:$P$28,2))))))))))))","v":{"$error":"#N/A"}},null,{"$f":"T515-HLOOKUP(Y515,Feuil2!$C$1:$CD$9,2,FALSE)","v":{"$error":"#VALUE!"}},{"$f":"T515-HLOOKUP(Y515,Feuil2!$C$1:$CD$9,3,FALSE)","v":{"$error":"#VALUE!"}},{"$f":"T515-HLOOKUP(Y515,Feuil2!$C$1:$CD$9,4,FALSE)","v":{"$error":"#VALUE!"}},{"$f":"T515-HLOOKUP(Y515,Feuil2!$C$1:$CD$9,5,FALSE)","v":{"$error":"#VALUE!"}},{"$f":"T515-HLOOKUP(Y515,Feuil2!$C$1:$CD$9,6,FALSE)","v":{"$error":"#VALUE!"}},{"$f":"T515-HLOOKUP(Y515,Feuil2!$C$1:$CD$9,7,FALSE)","v":{"$error":"#VALUE!"}},{"$f":"T515-HLOOKUP(Y515,Feuil2!$C$1:$CD$9,8,FALSE)","v":{"$error":"#VALUE!"}},{"$f":"T515-HLOOKUP(Y515,Feuil2!$C$1:$CD$9,9,FALSE)","v":{"$error":"#VALUE!"}},null,null,null,null,null,null,null,{"$error":"#VALUE!"},2016,null,{"$f":"IF(AQ515,VLOOKUP(AQ515,HOM!$AS$561:$AT$616,2))","v":3.5710000000000002}]
["H",null,null,null,null,null,null,null,null,null,null,null,null,null,"",null,null,null,"","","","","",{"$error":"#N/A"},{"$f":"IF(AND(J516<1920),VLOOKUP(K516,Feuil2!$F$10:$P$28,11),IF(AND(J516>=1920,J516<1937),VLOOKUP(K516,Feuil2!$F$10:$P$28,11),IF(AND(J516>=1936,J516<1942),VLOOKUP(K516,Feuil2!$F$10:$P$28,10),IF(AND(J516>=1942,J516<1947),VLOOKUP(K516,Feuil2!$F$10:$P$28,9),IF(AND(J516>=1947,J516<1952),VLOOKUP(K516,Feuil2!$F$10:$P$28,8),IF(AND(J516>=1952,J516<1957),VLOOKUP(K516,Feuil2!$F$10:$P$28,7),IF(AND(J516>=1957,J516<1962),VLOOKUP(K516,Feuil2!$F$10:$P$28,6),IF(AND(J516>=1962,J516<1967),VLOOKUP(K516,Feuil2!$F$10:$P$28,5),IF(AND(J516>=1967,J516<1972),VLOOKUP(K516,Feuil2!$F$10:$P$28,4),IF(AND(J516>=1972,J516<1977),VLOOKUP(K516,Feuil2!$F$10:$P$28,3),IF(AND(J516>=1977,J516<1982),VLOOKUP(K516,Feuil2!$F$10:$P$28,2),VLOOKUP(K516,Feuil2!$F$10:$P$28,2))))))))))))","v":{"$error":"#N/A"}},null,{"$f":"T516-HLOOKUP(Y516,Feuil2!$C$1:$CD$9,2,FALSE)","v":{"$error":"#VALUE!"}},{"$f":"T516-HLOOKUP(Y516,Feuil2!$C$1:$CD$9,3,FALSE)","v":{"$error":"#VALUE!"}},{"$f":"T516-HLOOKUP(Y516,Feuil2!$C$1:$CD$9,4,FALSE)","v":{"$error":"#VALUE!"}},{"$f":"T516-HLOOKUP(Y516,Feuil2!$C$1:$CD$9,5,FALSE)","v":{"$error":"#VALUE!"}},{"$f":"T516-HLOOKUP(Y516,Feuil2!$C$1:$CD$9,6,FALSE)","v":{"$error":"#VALUE!"}},{"$f":"T516-HLOOKUP(Y516,Feuil2!$C$1:$CD$9,7,FALSE)","v":{"$error":"#VALUE!"}},{"$f":"T516-HLOOKUP(Y516,Feuil2!$C$1:$CD$9,8,FALSE)","v":{"$error":"#VALUE!"}},{"$f":"T516-HLOOKUP(Y516,Feuil2!$C$1:$CD$9,9,FALSE)","v":{"$error":"#VALUE!"}},null,null,null,null,null,null,null,{"$error":"#VALUE!"},2016,null,{"$f":"IF(AQ516,VLOOKUP(AQ516,HOM!$AS$561:$AT$616,2))","v":3.5710000000000002}]
["H",null,null,null,null,null,null,null,null,null,null,null,null,null,"",null,null,null,"","","","","",{"$error":"#N/A"},{"$f":"IF(AND(J517<1920),VLOOKUP(K517,Feuil2!$F$10:$P$28,11),IF(AND(J517>=1920,J517<1937),VLOOKUP(K517,Feuil2!$F$10:$P$28,11),IF(AND(J517>=1936,J517<1942),VLOOKUP(K517,Feuil2!$F$10:$P$28,10),IF(AND(J517>=1942,J517<1947),VLOOKUP(K517,Feuil2!$F$10:$P$28,9),IF(AND(J517>=1947,J517<1952),VLOOKUP(K517,Feuil2!$F$10:$P$28,8),IF(AND(J517>=1952,J517<1957),VLOOKUP(K517,Feuil2!$F$10:$P$28,7),IF(AND(J517>=1957,J517<1962),VLOOKUP(K517,Feuil2!$F$10:$P$28,6),IF(AND(J517>=1962,J517<1967),VLOOKUP(K517,Feuil2!$F$10:$P$28,5),IF(AND(J517>=1967,J517<1972),VLOOKUP(K517,Feuil2!$F$10:$P$28,4),IF(AND(J517>=1972,J517<1977),VLOOKUP(K517,Feuil2!$F$10:$P$28,3),IF(AND(J517>=1977,J517<1982),VLOOKUP(K517,Feuil2!$F$10:$P$28,2),VLOOKUP(K517,Feuil2!$F$10:$P$28,2))))))))))))","v":{"$error":"#N/A"}},null,{"$f":"T517-HLOOKUP(Y517,Feuil2!$C$1:$CD$9,2,FALSE)","v":{"$error":"#VALUE!"}},{"$f":"T517-HLOOKUP(Y517,Feuil2!$C$1:$CD$9,3,FALSE)","v":{"$error":"#VALUE!"}},{"$f":"T517-HLOOKUP(Y517,Feuil2!$C$1:$CD$9,4,FALSE)","v":{"$error":"#VALUE!"}},{"$f":"T517-HLOOKUP(Y517,Feuil2!$C$1:$CD$9,5,FALSE)","v":{"$error":"#VALUE!"}},{"$f":"T517-HLOOKUP(Y517,Feuil2!$C$1:$CD$9,6,FALSE)","v":{"$error":"#VALUE!"}},{"$f":"T517-HLOOKUP(Y517,Feuil2!$C$1:$CD$9,7,FALSE)","v":{"$error":"#VALUE!"}},{"$f":"T517-HLOOKUP(Y517,Feuil2!$C$1:$CD$9,8,FALSE)","v":{"$error":"#VALUE!"}},{"$f":"T517-HLOOKUP(Y517,Feuil2!$C$1:$CD$9,9,FALSE)","v":{"$error":"#VALUE!"}},null,null,null,null,null,null,null,{"$error":"#VALUE!"},2016,null,{"$f":"IF(AQ517,VLOOKUP(AQ517,HOM!$AS$561:$AT$616,2))","v":3.5710000000000002}]
["H",null,null,null,null,null,null,null,null,null,null,null,null,null,"",null,null,null,"","","","","",{"$error":"#N/A"},{"$f":"IF(AND(J518<1920),VLOOKUP(K518,Feuil2!$F$10:$P$28,11),IF(AND(J518>=1920,J518<1937),VLOOKUP(K518,Feuil2!$F$10:$P$28,11),IF(AND(J518>=1936,J518<1942),VLOOKUP(K518,Feuil2!$F$10:$P$28,10),IF(AND(J518>=1942,J518<1947),VLOOKUP(K518,Feuil2!$F$10:$P$28,9),IF(AND(J518>=1947,J518<1952),VLOOKUP(K518,Feuil2!$F$10:$P$28,8),IF(AND(J518>=1952,J518<1957),VLOOKUP(K518,Feuil2!$F$10:$P$28,7),IF(AND(J518>=1957,J518<1962),VLOOKUP(K518,Feuil2!$F$10:$P$28,6),IF(AND(J518>=1962,J518<1967),VLOOKUP(K518,Feuil2!$F$10:$P$28,5),IF(AND(J518>=1967,J518<1972),VLOOKUP(K518,Feuil2!$F$10:$P$28,4),IF(AND(J518>=1972,J518<1977),VLOOKUP(K518,Feuil2!$F$10:$P$28,3),IF(AND(J518>=1977,J518<1982),VLOOKUP(K518,Feuil2!$F$10:$P$28,2),VLOOKUP(K518,Feuil2!$F$10:$P$28,2))))))))))))","v":{"$error":"#N/A"}},null,{"$f":"T518-HLOOKUP(Y518,Feuil2!$C$1:$CD$9,2,FALSE)","v":{"$error":"#VALUE!"}},{"$f":"T518-HLOOKUP(Y518,Feuil2!$C$1:$CD$9,3,FALSE)","v":{"$error":"#VALUE!"}},{"$f":"T518-HLOOKUP(Y518,Feuil2!$C$1:$CD$9,4,FALSE)","v":{"$error":"#VALUE!"}},{"$f":"T518-HLOOKUP(Y518,Feuil2!$C$1:$CD$9,5,FALSE)","v":{"$error":"#VALUE!"}},{"$f":"T518-HLOOKUP(Y518,Feuil2!$C$1:$CD$9,6,FALSE)","v":{"$error":"#VALUE!"}},{"$f":"T518-HLOOKUP(Y518,Feuil2!$C$1:$CD$9,7,FALSE)","v":{"$error":"#VALUE!"}},{"$f":"T518-HLOOKUP(Y518,Feuil2!$C$1:$CD$9,8,FALSE)","v":{"$error":"#VALUE!"}},{"$f":"T518-HLOOKUP(Y518,Feuil2!$C$1:$CD$9,9,FALSE)","v":{"$error":"#VALUE!"}},null,null,null,null,null,null,null,{"$error":"#VALUE!"},2016,null,{"$f":"IF(AQ518,VLOOKUP(AQ518,HOM!$AS$561:$AT$616,2))","v":3.5710000000000002}]
["H",null,null,null,null,null,null,null,null,null,null,null,null,null,"",null,null,null,"","","","","",{"$error":"#N/A"},{"$f":"IF(AND(J519<1920),VLOOKUP(K519,Feuil2!$F$10:$P$28,11),IF(AND(J519>=1920,J519<1937),VLOOKUP(K519,Feuil2!$F$10:$P$28,11),IF(AND(J519>=1936,J519<1942),VLOOKUP(K519,Feuil2!$F$10:$P$28,10),IF(AND(J519>=1942,J519<1947),VLOOKUP(K519,Feuil2!$F$10:$P$28,9),IF(AND(J519>=1947,J519<1952),VLOOKUP(K519,Feuil2!$F$10:$P$28,8),IF(AND(J519>=1952,J519<1957),VLOOKUP(K519,Feuil2!$F$10:$P$28,7),IF(AND(J519>=1957,J519<1962),VLOOKUP(K519,Feuil2!$F$10:$P$28,6),IF(AND(J519>=1962,J519<1967),VLOOKUP(K519,Feuil2!$F$10:$P$28,5),IF(AND(J519>=1967,J519<1972),VLOOKUP(K519,Feuil2!$F$10:$P$28,4),IF(AND(J519>=1972,J519<1977),VLOOKUP(K519,Feuil2!$F$10:$P$28,3),IF(AND(J519>=1977,J519<1982),VLOOKUP(K519,Feuil2!$F$10:$P$28,2),VLOOKUP(K519,Feuil2!$F$10:$P$28,2))))))))))))","v":{"$error":"#N/A"}},null,{"$f":"T519-HLOOKUP(Y519,Feuil2!$C$1:$CD$9,2,FALSE)","v":{"$error":"#VALUE!"}},{"$f":"T519-HLOOKUP(Y519,Feuil2!$C$1:$CD$9,3,FALSE)","v":{"$error":"#VALUE!"}},{"$f":"T519-HLOOKUP(Y519,Feuil2!$C$1:$CD$9,4,FALSE)","v":{"$error":"#VALUE!"}},{"$f":"T519-HLOOKUP(Y519,Feuil2!$C$1:$CD$9,5,FALSE)","v":{"$error":"#VALUE!"}},{"$f":"T519-HLOOKUP(Y519,Feuil2!$C$1:$CD$9,6,FALSE)","v":{"$error":"#VALUE!"}},{"$f":"T519-HLOOKUP(Y519,Feuil2!$C$1:$CD$9,7,FALSE)","v":{"$error":"#VALUE!"}},{"$f":"T519-HLOOKUP(Y519,Feuil2!$C$1:$CD$9,8,FALSE)","v":{"$error":"#VALUE!"}},{"$f":"T519-HLOOKUP(Y519,Feuil2!$C$1:$CD$9,9,FALSE)","v":{"$error":"#VALUE!"}},null,null,null,null,null,null,null,{"$error":"#VALUE!"},2016,null,{"$f":"IF(AQ519,VLOOKUP(AQ519,HOM!$AS$561:$AT$616,2))","v":3.5710000000000002}]
["H",null,null,null,null,null,null,null,null,null,null,null,null,null,"",null,null,null,"","","","","",{"$error":"#N/A"},{"$f":"IF(AND(J520<1920),VLOOKUP(K520,Feuil2!$F$10:$P$28,11),IF(AND(J520>=1920,J520<1937),VLOOKUP(K520,Feuil2!$F$10:$P$28,11),IF(AND(J520>=1936,J520<1942),VLOOKUP(K520,Feuil2!$F$10:$P$28,10),IF(AND(J520>=1942,J520<1947),VLOOKUP(K520,Feuil2!$F$10:$P$28,9),IF(AND(J520>=1947,J520<1952),VLOOKUP(K520,Feuil2!$F$10:$P$28,8),IF(AND(J520>=1952,J520<1957),VLOOKUP(K520,Feuil2!$F$10:$P$28,7),IF(AND(J520>=1957,J520<1962),VLOOKUP(K520,Feuil2!$F$10:$P$28,6),IF(AND(J520>=1962,J520<1967),VLOOKUP(K520,Feuil2!$F$10:$P$28,5),IF(AND(J520>=1967,J520<1972),VLOOKUP(K520,Feuil2!$F$10:$P$28,4),IF(AND(J520>=1972,J520<1977),VLOOKUP(K520,Feuil2!$F$10:$P$28,3),IF(AND(J520>=1977,J520<1982),VLOOKUP(K520,Feuil2!$F$10:$P$28,2),VLOOKUP(K520,Feuil2!$F$10:$P$28,2))))))))))))","v":{"$error":"#N/A"}},null,{"$f":"T520-HLOOKUP(Y520,Feuil2!$C$1:$CD$9,2,FALSE)","v":{"$error":"#VALUE!"}},{"$f":"T520-HLOOKUP(Y520,Feuil2!$C$1:$CD$9,3,FALSE)","v":{"$error":"#VALUE!"}},{"$f":"T520-HLOOKUP(Y520,Feuil2!$C$1:$CD$9,4,FALSE)","v":{"$error":"#VALUE!"}},{"$f":"T520-HLOOKUP(Y520,Feuil2!$C$1:$CD$9,5,FALSE)","v":{"$error":"#VALUE!"}},{"$f":"T520-HLOOKUP(Y520,Feuil2!$C$1:$CD$9,6,FALSE)","v":{"$error":"#VALUE!"}},{"$f":"T520-HLOOKUP(Y520,Feuil2!$C$1:$CD$9,7,FALSE)","v":{"$error":"#VALUE!"}},{"$f":"T520-HLOOKUP(Y520,Feuil2!$C$1:$CD$9,8,FALSE)","v":{"$error":"#VALUE!"}},{"$f":"T520-HLOOKUP(Y520,Feuil2!$C$1:$CD$9,9,FALSE)","v":{"$error":"#VALUE!"}},null,null,null,null,null,null,null,{"$error":"#VALUE!"},2016,null,{"$f":"IF(AQ520,VLOOKUP(AQ520,HOM!$AS$561:$AT$616,2))","v":3.5710000000000002}]
["H",null,null,null,null,null,null,null,null,null,null,null,null,null,"",null,null,null,"","","","","",{"$error":"#N/A"},{"$f":"IF(AND(J521<1920),VLOOKUP(K521,Feuil2!$F$10:$P$28,11),IF(AND(J521>=1920,J521<1937),VLOOKUP(K521,Feuil2!$F$10:$P$28,11),IF(AND(J521>=1936,J521<1942),VLOOKUP(K521,Feuil2!$F$10:$P$28,10),IF(AND(J521>=1942,J521<1947),VLOOKUP(K521,Feuil2!$F$10:$P$28,9),IF(AND(J521>=1947,J521<1952),VLOOKUP(K521,Feuil2!$F$10:$P$28,8),IF(AND(J521>=1952,J521<1957),VLOOKUP(K521,Feuil2!$F$10:$P$28,7),IF(AND(J521>=1957,J521<1962),VLOOKUP(K521,Feuil2!$F$10:$P$28,6),IF(AND(J521>=1962,J521<1967),VLOOKUP(K521,Feuil2!$F$10:$P$28,5),IF(AND(J521>=1967,J521<1972),VLOOKUP(K521,Feuil2!$F$10:$P$28,4),IF(AND(J521>=1972,J521<1977),VLOOKUP(K521,Feuil2!$F$10:$P$28,3),IF(AND(J521>=1977,J521<1982),VLOOKUP(K521,Feuil2!$F$10:$P$28,2),VLOOKUP(K521,Feuil2!$F$10:$P$28,2))))))))))))","v":{"$error":"#N/A"}},null,{"$f":"T521-HLOOKUP(Y521,Feuil2!$C$1:$CD$9,2,FALSE)","v":{"$error":"#VALUE!"}},{"$f":"T521-HLOOKUP(Y521,Feuil2!$C$1:$CD$9,3,FALSE)","v":{"$error":"#VALUE!"}},{"$f":"T521-HLOOKUP(Y521,Feuil2!$C$1:$CD$9,4,FALSE)","v":{"$error":"#VALUE!"}},{"$f":"T521-HLOOKUP(Y521,Feuil2!$C$1:$CD$9,5,FALSE)","v":{"$error":"#VALUE!"}},{"$f":"T521-HLOOKUP(Y521,Feuil2!$C$1:$CD$9,6,FALSE)","v":{"$error":"#VALUE!"}},{"$f":"T521-HLOOKUP(Y521,Feuil2!$C$1:$CD$9,7,FALSE)","v":{"$error":"#VALUE!"}},{"$f":"T521-HLOOKUP(Y521,Feuil2!$C$1:$CD$9,8,FALSE)","v":{"$error":"#VALUE!"}},{"$f":"T521-HLOOKUP(Y521,Feuil2!$C$1:$CD$9,9,FALSE)","v":{"$error":"#VALUE!"}},null,null,null,null,null,null,null,{"$error":"#VALUE!"},2016,null,{"$f":"IF(AQ521,VLOOKUP(AQ521,HOM!$AS$561:$AT$616,2))","v":3.5710000000000002}]
["H",null,null,null,null,null,null,null,null,null,null,null,null,null,"",null,null,null,"","","","","",{"$error":"#N/A"},{"$f":"IF(AND(J522<1920),VLOOKUP(K522,Feuil2!$F$10:$P$28,11),IF(AND(J522>=1920,J522<1937),VLOOKUP(K522,Feuil2!$F$10:$P$28,11),IF(AND(J522>=1936,J522<1942),VLOOKUP(K522,Feuil2!$F$10:$P$28,10),IF(AND(J522>=1942,J522<1947),VLOOKUP(K522,Feuil2!$F$10:$P$28,9),IF(AND(J522>=1947,J522<1952),VLOOKUP(K522,Feuil2!$F$10:$P$28,8),IF(AND(J522>=1952,J522<1957),VLOOKUP(K522,Feuil2!$F$10:$P$28,7),IF(AND(J522>=1957,J522<1962),VLOOKUP(K522,Feuil2!$F$10:$P$28,6),IF(AND(J522>=1962,J522<1967),VLOOKUP(K522,Feuil2!$F$10:$P$28,5),IF(AND(J522>=1967,J522<1972),VLOOKUP(K522,Feuil2!$F$10:$P$28,4),IF(AND(J522>=1972,J522<1977),VLOOKUP(K522,Feuil2!$F$10:$P$28,3),IF(AND(J522>=1977,J522<1982),VLOOKUP(K522,Feuil2!$F$10:$P$28,2),VLOOKUP(K522,Feuil2!$F$10:$P$28,2))))))))))))","v":{"$error":"#N/A"}},null,{"$f":"T522-HLOOKUP(Y522,Feuil2!$C$1:$CD$9,2,FALSE)","v":{"$error":"#VALUE!"}},{"$f":"T522-HLOOKUP(Y522,Feuil2!$C$1:$CD$9,3,FALSE)","v":{"$error":"#VALUE!"}},{"$f":"T522-HLOOKUP(Y522,Feuil2!$C$1:$CD$9,4,FALSE)","v":{"$error":"#VALUE!"}},{"$f":"T522-HLOOKUP(Y522,Feuil2!$C$1:$CD$9,5,FALSE)","v":{"$error":"#VALUE!"}},{"$f":"T522-HLOOKUP(Y522,Feuil2!$C$1:$CD$9,6,FALSE)","v":{"$error":"#VALUE!"}},{"$f":"T522-HLOOKUP(Y522,Feuil2!$C$1:$CD$9,7,FALSE)","v":{"$error":"#VALUE!"}},{"$f":"T522-HLOOKUP(Y522,Feuil2!$C$1:$CD$9,8,FALSE)","v":{"$error":"#VALUE!"}},{"$f":"T522-HLOOKUP(Y522,Feuil2!$C$1:$CD$9,9,FALSE)","v":{"$error":"#VALUE!"}},null,null,null,null,null,null,null,{"$error":"#VALUE!"},2016,null,{"$f":"IF(AQ522,VLOOKUP(AQ522,HOM!$AS$561:$AT$616,2))","v":3.5710000000000002}]
["H",null,null,null,null,null,null,null,null,null,null,null,null,null,"",null,null,null,"","","","","",{"$error":"#N/A"},{"$f":"IF(AND(J523<1920),VLOOKUP(K523,Feuil2!$F$10:$P$28,11),IF(AND(J523>=1920,J523<1937),VLOOKUP(K523,Feuil2!$F$10:$P$28,11),IF(AND(J523>=1936,J523<1942),VLOOKUP(K523,Feuil2!$F$10:$P$28,10),IF(AND(J523>=1942,J523<1947),VLOOKUP(K523,Feuil2!$F$10:$P$28,9),IF(AND(J523>=1947,J523<1952),VLOOKUP(K523,Feuil2!$F$10:$P$28,8),IF(AND(J523>=1952,J523<1957),VLOOKUP(K523,Feuil2!$F$10:$P$28,7),IF(AND(J523>=1957,J523<1962),VLOOKUP(K523,Feuil2!$F$10:$P$28,6),IF(AND(J523>=1962,J523<1967),VLOOKUP(K523,Feuil2!$F$10:$P$28,5),IF(AND(J523>=1967,J523<1972),VLOOKUP(K523,Feuil2!$F$10:$P$28,4),IF(AND(J523>=1972,J523<1977),VLOOKUP(K523,Feuil2!$F$10:$P$28,3),IF(AND(J523>=1977,J523<1982),VLOOKUP(K523,Feuil2!$F$10:$P$28,2),VLOOKUP(K523,Feuil2!$F$10:$P$28,2))))))))))))","v":{"$error":"#N/A"}},null,{"$f":"T523-HLOOKUP(Y523,Feuil2!$C$1:$CD$9,2,FALSE)","v":{"$error":"#VALUE!"}},{"$f":"T523-HLOOKUP(Y523,Feuil2!$C$1:$CD$9,3,FALSE)","v":{"$error":"#VALUE!"}},{"$f":"T523-HLOOKUP(Y523,Feuil2!$C$1:$CD$9,4,FALSE)","v":{"$error":"#VALUE!"}},{"$f":"T523-HLOOKUP(Y523,Feuil2!$C$1:$CD$9,5,FALSE)","v":{"$error":"#VALUE!"}},{"$f":"T523-HLOOKUP(Y523,Feuil2!$C$1:$CD$9,6,FALSE)","v":{"$error":"#VALUE!"}},{"$f":"T523-HLOOKUP(Y523,Feuil2!$C$1:$CD$9,7,FALSE)","v":{"$error":"#VALUE!"}},{"$f":"T523-HLOOKUP(Y523,Feuil2!$C$1:$CD$9,8,FALSE)","v":{"$error":"#VALUE!"}},{"$f":"T523-HLOOKUP(Y523,Feuil2!$C$1:$CD$9,9,FALSE)","v":{"$error":"#VALUE!"}},null,null,null,null,null,null,null,{"$error":"#VALUE!"},2016,null,{"$f":"IF(AQ523,VLOOKUP(AQ523,HOM!$AS$561:$AT$616,2))","v":3.5710000000000002}]
["H",null,null,null,null,null,null,null,null,null,null,null,null,null,"",null,null,null,"","","","","",{"$error":"#N/A"},{"$f":"IF(AND(J524<1920),VLOOKUP(K524,Feuil2!$F$10:$P$28,11),IF(AND(J524>=1920,J524<1937),VLOOKUP(K524,Feuil2!$F$10:$P$28,11),IF(AND(J524>=1936,J524<1942),VLOOKUP(K524,Feuil2!$F$10:$P$28,10),IF(AND(J524>=1942,J524<1947),VLOOKUP(K524,Feuil2!$F$10:$P$28,9),IF(AND(J524>=1947,J524<1952),VLOOKUP(K524,Feuil2!$F$10:$P$28,8),IF(AND(J524>=1952,J524<1957),VLOOKUP(K524,Feuil2!$F$10:$P$28,7),IF(AND(J524>=1957,J524<1962),VLOOKUP(K524,Feuil2!$F$10:$P$28,6),IF(AND(J524>=1962,J524<1967),VLOOKUP(K524,Feuil2!$F$10:$P$28,5),IF(AND(J524>=1967,J524<1972),VLOOKUP(K524,Feuil2!$F$10:$P$28,4),IF(AND(J524>=1972,J524<1977),VLOOKUP(K524,Feuil2!$F$10:$P$28,3),IF(AND(J524>=1977,J524<1982),VLOOKUP(K524,Feuil2!$F$10:$P$28,2),VLOOKUP(K524,Feuil2!$F$10:$P$28,2))))))))))))","v":{"$error":"#N/A"}},null,{"$f":"T524-HLOOKUP(Y524,Feuil2!$C$1:$CD$9,2,FALSE)","v":{"$error":"#VALUE!"}},{"$f":"T524-HLOOKUP(Y524,Feuil2!$C$1:$CD$9,3,FALSE)","v":{"$error":"#VALUE!"}},{"$f":"T524-HLOOKUP(Y524,Feuil2!$C$1:$CD$9,4,FALSE)","v":{"$error":"#VALUE!"}},{"$f":"T524-HLOOKUP(Y524,Feuil2!$C$1:$CD$9,5,FALSE)","v":{"$error":"#VALUE!"}},{"$f":"T524-HLOOKUP(Y524,Feuil2!$C$1:$CD$9,6,FALSE)","v":{"$error":"#VALUE!"}},{"$f":"T524-HLOOKUP(Y524,Feuil2!$C$1:$CD$9,7,FALSE)","v":{"$error":"#VALUE!"}},{"$f":"T524-HLOOKUP(Y524,Feuil2!$C$1:$CD$9,8,FALSE)","v":{"$error":"#VALUE!"}},{"$f":"T524-HLOOKUP(Y524,Feuil2!$C$1:$CD$9,9,FALSE)","v":{"$error":"#VALUE!"}},null,null,null,null,null,null,null,{"$error":"#VALUE!"},2016,null,{"$f":"IF(AQ524,VLOOKUP(AQ524,HOM!$AS$561:$AT$616,2))","v":3.5710000000000002}]
["H",null,null,null,null,null,null,null,null,null,null,null,null,null,"",null,null,null,"","","","","",{"$error":"#N/A"},{"$f":"IF(AND(J525<1920),VLOOKUP(K525,Feuil2!$F$10:$P$28,11),IF(AND(J525>=1920,J525<1937),VLOOKUP(K525,Feuil2!$F$10:$P$28,11),IF(AND(J525>=1936,J525<1942),VLOOKUP(K525,Feuil2!$F$10:$P$28,10),IF(AND(J525>=1942,J525<1947),VLOOKUP(K525,Feuil2!$F$10:$P$28,9),IF(AND(J525>=1947,J525<1952),VLOOKUP(K525,Feuil2!$F$10:$P$28,8),IF(AND(J525>=1952,J525<1957),VLOOKUP(K525,Feuil2!$F$10:$P$28,7),IF(AND(J525>=1957,J525<1962),VLOOKUP(K525,Feuil2!$F$10:$P$28,6),IF(AND(J525>=1962,J525<1967),VLOOKUP(K525,Feuil2!$F$10:$P$28,5),IF(AND(J525>=1967,J525<1972),VLOOKUP(K525,Feuil2!$F$10:$P$28,4),IF(AND(J525>=1972,J525<1977),VLOOKUP(K525,Feuil2!$F$10:$P$28,3),IF(AND(J525>=1977,J525<1982),VLOOKUP(K525,Feuil2!$F$10:$P$28,2),VLOOKUP(K525,Feuil2!$F$10:$P$28,2))))))))))))","v":{"$error":"#N/A"}},null,{"$f":"T525-HLOOKUP(Y525,Feuil2!$C$1:$CD$9,2,FALSE)","v":{"$error":"#VALUE!"}},{"$f":"T525-HLOOKUP(Y525,Feuil2!$C$1:$CD$9,3,FALSE)","v":{"$error":"#VALUE!"}},{"$f":"T525-HLOOKUP(Y525,Feuil2!$C$1:$CD$9,4,FALSE)","v":{"$error":"#VALUE!"}},{"$f":"T525-HLOOKUP(Y525,Feuil2!$C$1:$CD$9,5,FALSE)","v":{"$error":"#VALUE!"}},{"$f":"T525-HLOOKUP(Y525,Feuil2!$C$1:$CD$9,6,FALSE)","v":{"$error":"#VALUE!"}},{"$f":"T525-HLOOKUP(Y525,Feuil2!$C$1:$CD$9,7,FALSE)","v":{"$error":"#VALUE!"}},{"$f":"T525-HLOOKUP(Y525,Feuil2!$C$1:$CD$9,8,FALSE)","v":{"$error":"#VALUE!"}},{"$f":"T525-HLOOKUP(Y525,Feuil2!$C$1:$CD$9,9,FALSE)","v":{"$error":"#VALUE!"}},null,null,null,null,null,null,null,{"$error":"#VALUE!"},2016,null,{"$f":"IF(AQ525,VLOOKUP(AQ525,HOM!$AS$561:$AT$616,2))","v":3.5710000000000002}]
["H",null,null,null,null,null,null,null,null,null,null,null,null,null,"",null,null,null,"","","","","",{"$error":"#N/A"},{"$f":"IF(AND(J526<1920),VLOOKUP(K526,Feuil2!$F$10:$P$28,11),IF(AND(J526>=1920,J526<1937),VLOOKUP(K526,Feuil2!$F$10:$P$28,11),IF(AND(J526>=1936,J526<1942),VLOOKUP(K526,Feuil2!$F$10:$P$28,10),IF(AND(J526>=1942,J526<1947),VLOOKUP(K526,Feuil2!$F$10:$P$28,9),IF(AND(J526>=1947,J526<1952),VLOOKUP(K526,Feuil2!$F$10:$P$28,8),IF(AND(J526>=1952,J526<1957),VLOOKUP(K526,Feuil2!$F$10:$P$28,7),IF(AND(J526>=1957,J526<1962),VLOOKUP(K526,Feuil2!$F$10:$P$28,6),IF(AND(J526>=1962,J526<1967),VLOOKUP(K526,Feuil2!$F$10:$P$28,5),IF(AND(J526>=1967,J526<1972),VLOOKUP(K526,Feuil2!$F$10:$P$28,4),IF(AND(J526>=1972,J526<1977),VLOOKUP(K526,Feuil2!$F$10:$P$28,3),IF(AND(J526>=1977,J526<1982),VLOOKUP(K526,Feuil2!$F$10:$P$28,2),VLOOKUP(K526,Feuil2!$F$10:$P$28,2))))))))))))","v":{"$error":"#N/A"}},null,{"$f":"T526-HLOOKUP(Y526,Feuil2!$C$1:$CD$9,2,FALSE)","v":{"$error":"#VALUE!"}},{"$f":"T526-HLOOKUP(Y526,Feuil2!$C$1:$CD$9,3,FALSE)","v":{"$error":"#VALUE!"}},{"$f":"T526-HLOOKUP(Y526,Feuil2!$C$1:$CD$9,4,FALSE)","v":{"$error":"#VALUE!"}},{"$f":"T526-HLOOKUP(Y526,Feuil2!$C$1:$CD$9,5,FALSE)","v":{"$error":"#VALUE!"}},{"$f":"T526-HLOOKUP(Y526,Feuil2!$C$1:$CD$9,6,FALSE)","v":{"$error":"#VALUE!"}},{"$f":"T526-HLOOKUP(Y526,Feuil2!$C$1:$CD$9,7,FALSE)","v":{"$error":"#VALUE!"}},{"$f":"T526-HLOOKUP(Y526,Feuil2!$C$1:$CD$9,8,FALSE)","v":{"$error":"#VALUE!"}},{"$f":"T526-HLOOKUP(Y526,Feuil2!$C$1:$CD$9,9,FALSE)","v":{"$error":"#VALUE!"}},null,null,null,null,null,null,null,{"$error":"#VALUE!"},2016,null,{"$f":"IF(AQ526,VLOOKUP(AQ526,HOM!$AS$561:$AT$616,2))","v":3.5710000000000002}]
["H",null,null,null,null,null,null,null,null,null,null,null,null,null,"",null,null,null,"","",{"$f":"IF(K527=\"\",\"\",IF(A527=\"H\",10^(0.794358141*LOG(K527/174.393)^2)*T527*AS527,IF(A527=\"F\",10^(0.89726074 * LOG(K527/148.026)^2)*T527*AS527,\"\")))","v":""},"","",{"$error":"#N/A"},{"$f":"IF(AND(J527<1920),VLOOKUP(K527,Feuil2!$F$10:$P$28,11),IF(AND(J527>=1920,J527<1937),VLOOKUP(K527,Feuil2!$F$10:$P$28,11),IF(AND(J527>=1936,J527<1942),VLOOKUP(K527,Feuil2!$F$10:$P$28,10),IF(AND(J527>=1942,J527<1947),VLOOKUP(K527,Feuil2!$F$10:$P$28,9),IF(AND(J527>=1947,J527<1952),VLOOKUP(K527,Feuil2!$F$10:$P$28,8),IF(AND(J527>=1952,J527<1957),VLOOKUP(K527,Feuil2!$F$10:$P$28,7),IF(AND(J527>=1957,J527<1962),VLOOKUP(K527,Feuil2!$F$10:$P$28,6),IF(AND(J527>=1962,J527<1967),VLOOKUP(K527,Feuil2!$F$10:$P$28,5),IF(AND(J527>=1967,J527<1972),VLOOKUP(K527,Feuil2!$F$10:$P$28,4),IF(AND(J527>=1972,J527<1977),VLOOKUP(K527,Feuil2!$F$10:$P$28,3),IF(AND(J527>=1977,J527<1982),VLOOKUP(K527,Feuil2!$F$10:$P$28,2),VLOOKUP(K527,Feuil2!$F$10:$P$28,2))))))))))))","v":{"$error":"#N/A"}},null,{"$f":"T527-HLOOKUP(Y527,Feuil2!$C$1:$CD$9,2,FALSE)","v":{"$error":"#VALUE!"}},{"$f":"T527-HLOOKUP(Y527,Feuil2!$C$1:$CD$9,3,FALSE)","v":{"$error":"#VALUE!"}},{"$f":"T527-HLOOKUP(Y527,Feuil2!$C$1:$CD$9,4,FALSE)","v":{"$error":"#VALUE!"}},{"$f":"T527-HLOOKUP(Y527,Feuil2!$C$1:$CD$9,5,FALSE)","v":{"$error":"#VALUE!"}},{"$f":"T527-HLOOKUP(Y527,Feuil2!$C$1:$CD$9,6,FALSE)","v":{"$error":"#VALUE!"}},{"$f":"T527-HLOOKUP(Y527,Feuil2!$C$1:$CD$9,7,FALSE)","v":{"$error":"#VALUE!"}},{"$f":"T527-HLOOKUP(Y527,Feuil2!$C$1:$CD$9,8,FALSE)","v":{"$error":"#VALUE!"}},{"$f":"T527-HLOOKUP(Y527,Feuil2!$C$1:$CD$9,9,FALSE)","v":{"$error":"#VALUE!"}},null,null,null,null,null,null,null,{"$error":"#VALUE!"},2016,null,{"$f":"IF(AQ527,VLOOKUP(AQ527,HOM!$AS$561:$AT$616,2))","v":3.5710000000000002}]
["H",null,null,null,null,null,null,null,null,null,null,null,null,null,"",null,null,null,"","","","","",{"$error":"#N/A"},{"$f":"IF(AND(J528<1920),VLOOKUP(K528,Feuil2!$F$10:$P$28,11),IF(AND(J528>=1920,J528<1937),VLOOKUP(K528,Feuil2!$F$10:$P$28,11),IF(AND(J528>=1936,J528<1942),VLOOKUP(K528,Feuil2!$F$10:$P$28,10),IF(AND(J528>=1942,J528<1947),VLOOKUP(K528,Feuil2!$F$10:$P$28,9),IF(AND(J528>=1947,J528<1952),VLOOKUP(K528,Feuil2!$F$10:$P$28,8),IF(AND(J528>=1952,J528<1957),VLOOKUP(K528,Feuil2!$F$10:$P$28,7),IF(AND(J528>=1957,J528<1962),VLOOKUP(K528,Feuil2!$F$10:$P$28,6),IF(AND(J528>=1962,J528<1967),VLOOKUP(K528,Feuil2!$F$10:$P$28,5),IF(AND(J528>=1967,J528<1972),VLOOKUP(K528,Feuil2!$F$10:$P$28,4),IF(AND(J528>=1972,J528<1977),VLOOKUP(K528,Feuil2!$F$10:$P$28,3),IF(AND(J528>=1977,J528<1982),VLOOKUP(K528,Feuil2!$F$10:$P$28,2),VLOOKUP(K528,Feuil2!$F$10:$P$28,2))))))))))))","v":{"$error":"#N/A"}},null,{"$f":"T528-HLOOKUP(Y528,Feuil2!$C$1:$CD$9,2,FALSE)","v":{"$error":"#VALUE!"}},{"$f":"T528-HLOOKUP(Y528,Feuil2!$C$1:$CD$9,3,FALSE)","v":{"$error":"#VALUE!"}},{"$f":"T528-HLOOKUP(Y528,Feuil2!$C$1:$CD$9,4,FALSE)","v":{"$error":"#VALUE!"}},{"$f":"T528-HLOOKUP(Y528,Feuil2!$C$1:$CD$9,5,FALSE)","v":{"$error":"#VALUE!"}},{"$f":"T528-HLOOKUP(Y528,Feuil2!$C$1:$CD$9,6,FALSE)","v":{"$error":"#VALUE!"}},{"$f":"T528-HLOOKUP(Y528,Feuil2!$C$1:$CD$9,7,FALSE)","v":{"$error":"#VALUE!"}},{"$f":"T528-HLOOKUP(Y528,Feuil2!$C$1:$CD$9,8,FALSE)","v":{"$error":"#VALUE!"}},{"$f":"T528-HLOOKUP(Y528,Feuil2!$C$1:$CD$9,9,FALSE)","v":{"$error":"#VALUE!"}},null,null,null,null,null,null,null,{"$error":"#VALUE!"},2016,null,{"$f":"IF(AQ528,VLOOKUP(AQ528,HOM!$AS$561:$AT$616,2))","v":3.5710000000000002}]
["H",null,null,null,null,null,null,null,null,null,null,null,null,null,"",null,null,null,"","","","","",{"$f":"IF(BI529<95,IF(BI529<=90,VLOOKUP(BI529,$AQ$560:$AR$615,2)))","v":{"$error":"#N/A"}},{"$f":"IF(AND(J529<1920),VLOOKUP(K529,Feuil2!$F$10:$P$28,11),IF(AND(J529>=1920,J529<1937),VLOOKUP(K529,Feuil2!$F$10:$P$28,11),IF(AND(J529>=1936,J529<1942),VLOOKUP(K529,Feuil2!$F$10:$P$28,10),IF(AND(J529>=1942,J529<1947),VLOOKUP(K529,Feuil2!$F$10:$P$28,9),IF(AND(J529>=1947,J529<1952),VLOOKUP(K529,Feuil2!$F$10:$P$28,8),IF(AND(J529>=1952,J529<1957),VLOOKUP(K529,Feuil2!$F$10:$P$28,7),IF(AND(J529>=1957,J529<1962),VLOOKUP(K529,Feuil2!$F$10:$P$28,6),IF(AND(J529>=1962,J529<1967),VLOOKUP(K529,Feuil2!$F$10:$P$28,5),IF(AND(J529>=1967,J529<1972),VLOOKUP(K529,Feuil2!$F$10:$P$28,4),IF(AND(J529>=1972,J529<1977),VLOOKUP(K529,Feuil2!$F$10:$P$28,3),IF(AND(J529>=1977,J529<1982),VLOOKUP(K529,Feuil2!$F$10:$P$28,2),VLOOKUP(K529,Feuil2!$F$10:$P$28,2))))))))))))","v":{"$error":"#N/A"}},null,{"$f":"T529-HLOOKUP(Y529,Feuil2!$C$1:$CD$9,2,FALSE)","v":{"$error":"#VALUE!"}},{"$f":"T529-HLOOKUP(Y529,Feuil2!$C$1:$CD$9,3,FALSE)","v":{"$error":"#VALUE!"}},{"$f":"T529-HLOOKUP(Y529,Feuil2!$C$1:$CD$9,4,FALSE)","v":{"$error":"#VALUE!"}},{"$f":"T529-HLOOKUP(Y529,Feuil2!$C$1:$CD$9,5,FALSE)","v":{"$error":"#VALUE!"}},{"$f":"T529-HLOOKUP(Y529,Feuil2!$C$1:$CD$9,6,FALSE)","v":{"$error":"#VALUE!"}},{"$f":"T529-HLOOKUP(Y529,Feuil2!$C$1:$CD$9,7,FALSE)","v":{"$error":"#VALUE!"}},{"$f":"T529-HLOOKUP(Y529,Feuil2!$C$1:$CD$9,8,FALSE)","v":{"$error":"#VALUE!"}},{"$f":"T529-HLOOKUP(Y529,Feuil2!$C$1:$CD$9,9,FALSE)","v":{"$error":"#VALUE!"}},null,null,null,null,null,null,null,{"$error":"#VALUE!"},{"$f":"2016-J529","v":2016},null,{"$f":"IF(AQ529,VLOOKUP(AQ529,HOM!$AS$561:$AT$616,2))","v":3.5710000000000002}]
["H",null,null,null,null,null,null,null,null,null,null,null,null,null,"",null,null,null,"","","","","",{"$error":"#N/A"},{"$f":"IF(AND(J530<1920),VLOOKUP(K530,Feuil2!$F$10:$P$28,11),IF(AND(J530>=1920,J530<1937),VLOOKUP(K530,Feuil2!$F$10:$P$28,11),IF(AND(J530>=1936,J530<1942),VLOOKUP(K530,Feuil2!$F$10:$P$28,10),IF(AND(J530>=1942,J530<1947),VLOOKUP(K530,Feuil2!$F$10:$P$28,9),IF(AND(J530>=1947,J530<1952),VLOOKUP(K530,Feuil2!$F$10:$P$28,8),IF(AND(J530>=1952,J530<1957),VLOOKUP(K530,Feuil2!$F$10:$P$28,7),IF(AND(J530>=1957,J530<1962),VLOOKUP(K530,Feuil2!$F$10:$P$28,6),IF(AND(J530>=1962,J530<1967),VLOOKUP(K530,Feuil2!$F$10:$P$28,5),IF(AND(J530>=1967,J530<1972),VLOOKUP(K530,Feuil2!$F$10:$P$28,4),IF(AND(J530>=1972,J530<1977),VLOOKUP(K530,Feuil2!$F$10:$P$28,3),IF(AND(J530>=1977,J530<1982),VLOOKUP(K530,Feuil2!$F$10:$P$28,2),VLOOKUP(K530,Feuil2!$F$10:$P$28,2))))))))))))","v":{"$error":"#N/A"}},null,{"$f":"T530-HLOOKUP(Y530,Feuil2!$C$1:$CD$9,2,FALSE)","v":{"$error":"#VALUE!"}},{"$f":"T530-HLOOKUP(Y530,Feuil2!$C$1:$CD$9,3,FALSE)","v":{"$error":"#VALUE!"}},{"$f":"T530-HLOOKUP(Y530,Feuil2!$C$1:$CD$9,4,FALSE)","v":{"$error":"#VALUE!"}},{"$f":"T530-HLOOKUP(Y530,Feuil2!$C$1:$CD$9,5,FALSE)","v":{"$error":"#VALUE!"}},{"$f":"T530-HLOOKUP(Y530,Feuil2!$C$1:$CD$9,6,FALSE)","v":{"$error":"#VALUE!"}},{"$f":"T530-HLOOKUP(Y530,Feuil2!$C$1:$CD$9,7,FALSE)","v":{"$error":"#VALUE!"}},{"$f":"T530-HLOOKUP(Y530,Feuil2!$C$1:$CD$9,8,FALSE)","v":{"$error":"#VALUE!"}},{"$f":"T530-HLOOKUP(Y530,Feuil2!$C$1:$CD$9,9,FALSE)","v":{"$error":"#VALUE!"}},null,null,null,null,null,null,null,{"$error":"#VALUE!"},2016,null,{"$f":"IF(AQ530,VLOOKUP(AQ530,HOM!$AS$561:$AT$616,2))","v":3.5710000000000002}]
["H",null,null,null,null,null,null,null,null,null,null,null,null,null,"",null,null,null,"","","","","",{"$error":"#N/A"},{"$f":"IF(AND(J531<1920),VLOOKUP(K531,Feuil2!$F$10:$P$28,11),IF(AND(J531>=1920,J531<1937),VLOOKUP(K531,Feuil2!$F$10:$P$28,11),IF(AND(J531>=1936,J531<1942),VLOOKUP(K531,Feuil2!$F$10:$P$28,10),IF(AND(J531>=1942,J531<1947),VLOOKUP(K531,Feuil2!$F$10:$P$28,9),IF(AND(J531>=1947,J531<1952),VLOOKUP(K531,Feuil2!$F$10:$P$28,8),IF(AND(J531>=1952,J531<1957),VLOOKUP(K531,Feuil2!$F$10:$P$28,7),IF(AND(J531>=1957,J531<1962),VLOOKUP(K531,Feuil2!$F$10:$P$28,6),IF(AND(J531>=1962,J531<1967),VLOOKUP(K531,Feuil2!$F$10:$P$28,5),IF(AND(J531>=1967,J531<1972),VLOOKUP(K531,Feuil2!$F$10:$P$28,4),IF(AND(J531>=1972,J531<1977),VLOOKUP(K531,Feuil2!$F$10:$P$28,3),IF(AND(J531>=1977,J531<1982),VLOOKUP(K531,Feuil2!$F$10:$P$28,2),VLOOKUP(K531,Feuil2!$F$10:$P$28,2))))))))))))","v":{"$error":"#N/A"}},null,{"$f":"T531-HLOOKUP(Y531,Feuil2!$C$1:$CD$9,2,FALSE)","v":{"$error":"#VALUE!"}},{"$f":"T531-HLOOKUP(Y531,Feuil2!$C$1:$CD$9,3,FALSE)","v":{"$error":"#VALUE!"}},{"$f":"T531-HLOOKUP(Y531,Feuil2!$C$1:$CD$9,4,FALSE)","v":{"$error":"#VALUE!"}},{"$f":"T531-HLOOKUP(Y531,Feuil2!$C$1:$CD$9,5,FALSE)","v":{"$error":"#VALUE!"}},{"$f":"T531-HLOOKUP(Y531,Feuil2!$C$1:$CD$9,6,FALSE)","v":{"$error":"#VALUE!"}},{"$f":"T531-HLOOKUP(Y531,Feuil2!$C$1:$CD$9,7,FALSE)","v":{"$error":"#VALUE!"}},{"$f":"T531-HLOOKUP(Y531,Feuil2!$C$1:$CD$9,8,FALSE)","v":{"$error":"#VALUE!"}},{"$f":"T531-HLOOKUP(Y531,Feuil2!$C$1:$CD$9,9,FALSE)","v":{"$error":"#VALUE!"}},null,null,null,null,null,null,null,{"$error":"#VALUE!"},2016,null,{"$f":"IF(AQ531,VLOOKUP(AQ531,HOM!$AS$561:$AT$616,2))","v":3.5710000000000002}]
["H",null,null,null,null,null,null,null,null,null,null,null,null,null,"",null,null,null,"","","","","",{"$error":"#N/A"},{"$f":"IF(AND(J532<1920),VLOOKUP(K532,Feuil2!$F$10:$P$28,11),IF(AND(J532>=1920,J532<1937),VLOOKUP(K532,Feuil2!$F$10:$P$28,11),IF(AND(J532>=1936,J532<1942),VLOOKUP(K532,Feuil2!$F$10:$P$28,10),IF(AND(J532>=1942,J532<1947),VLOOKUP(K532,Feuil2!$F$10:$P$28,9),IF(AND(J532>=1947,J532<1952),VLOOKUP(K532,Feuil2!$F$10:$P$28,8),IF(AND(J532>=1952,J532<1957),VLOOKUP(K532,Feuil2!$F$10:$P$28,7),IF(AND(J532>=1957,J532<1962),VLOOKUP(K532,Feuil2!$F$10:$P$28,6),IF(AND(J532>=1962,J532<1967),VLOOKUP(K532,Feuil2!$F$10:$P$28,5),IF(AND(J532>=1967,J532<1972),VLOOKUP(K532,Feuil2!$F$10:$P$28,4),IF(AND(J532>=1972,J532<1977),VLOOKUP(K532,Feuil2!$F$10:$P$28,3),IF(AND(J532>=1977,J532<1982),VLOOKUP(K532,Feuil2!$F$10:$P$28,2),VLOOKUP(K532,Feuil2!$F$10:$P$28,2))))))))))))","v":{"$error":"#N/A"}},null,{"$f":"T532-HLOOKUP(Y532,Feuil2!$C$1:$CD$9,2,FALSE)","v":{"$error":"#VALUE!"}},{"$f":"T532-HLOOKUP(Y532,Feuil2!$C$1:$CD$9,3,FALSE)","v":{"$error":"#VALUE!"}},{"$f":"T532-HLOOKUP(Y532,Feuil2!$C$1:$CD$9,4,FALSE)","v":{"$error":"#VALUE!"}},{"$f":"T532-HLOOKUP(Y532,Feuil2!$C$1:$CD$9,5,FALSE)","v":{"$error":"#VALUE!"}},{"$f":"T532-HLOOKUP(Y532,Feuil2!$C$1:$CD$9,6,FALSE)","v":{"$error":"#VALUE!"}},{"$f":"T532-HLOOKUP(Y532,Feuil2!$C$1:$CD$9,7,FALSE)","v":{"$error":"#VALUE!"}},{"$f":"T532-HLOOKUP(Y532,Feuil2!$C$1:$CD$9,8,FALSE)","v":{"$error":"#VALUE!"}},{"$f":"T532-HLOOKUP(Y532,Feuil2!$C$1:$CD$9,9,FALSE)","v":{"$error":"#VALUE!"}},null,null,null,null,null,null,null,{"$error":"#VALUE!"},2016,null,{"$f":"IF(AQ532,VLOOKUP(AQ532,HOM!$AS$561:$AT$616,2))","v":3.5710000000000002}]
["H",null,null,null,null,null,null,null,null,null,null,null,null,null,"",null,null,null,"","","","","",{"$error":"#N/A"},{"$f":"IF(AND(J533<1920),VLOOKUP(K533,Feuil2!$F$10:$P$28,11),IF(AND(J533>=1920,J533<1937),VLOOKUP(K533,Feuil2!$F$10:$P$28,11),IF(AND(J533>=1936,J533<1942),VLOOKUP(K533,Feuil2!$F$10:$P$28,10),IF(AND(J533>=1942,J533<1947),VLOOKUP(K533,Feuil2!$F$10:$P$28,9),IF(AND(J533>=1947,J533<1952),VLOOKUP(K533,Feuil2!$F$10:$P$28,8),IF(AND(J533>=1952,J533<1957),VLOOKUP(K533,Feuil2!$F$10:$P$28,7),IF(AND(J533>=1957,J533<1962),VLOOKUP(K533,Feuil2!$F$10:$P$28,6),IF(AND(J533>=1962,J533<1967),VLOOKUP(K533,Feuil2!$F$10:$P$28,5),IF(AND(J533>=1967,J533<1972),VLOOKUP(K533,Feuil2!$F$10:$P$28,4),IF(AND(J533>=1972,J533<1977),VLOOKUP(K533,Feuil2!$F$10:$P$28,3),IF(AND(J533>=1977,J533<1982),VLOOKUP(K533,Feuil2!$F$10:$P$28,2),VLOOKUP(K533,Feuil2!$F$10:$P$28,2))))))))))))","v":{"$error":"#N/A"}},null,{"$f":"T533-HLOOKUP(Y533,Feuil2!$C$1:$CD$9,2,FALSE)","v":{"$error":"#VALUE!"}},{"$f":"T533-HLOOKUP(Y533,Feuil2!$C$1:$CD$9,3,FALSE)","v":{"$error":"#VALUE!"}},{"$f":"T533-HLOOKUP(Y533,Feuil2!$C$1:$CD$9,4,FALSE)","v":{"$error":"#VALUE!"}},{"$f":"T533-HLOOKUP(Y533,Feuil2!$C$1:$CD$9,5,FALSE)","v":{"$error":"#VALUE!"}},{"$f":"T533-HLOOKUP(Y533,Feuil2!$C$1:$CD$9,6,FALSE)","v":{"$error":"#VALUE!"}},{"$f":"T533-HLOOKUP(Y533,Feuil2!$C$1:$CD$9,7,FALSE)","v":{"$error":"#VALUE!"}},{"$f":"T533-HLOOKUP(Y533,Feuil2!$C$1:$CD$9,8,FALSE)","v":{"$error":"#VALUE!"}},{"$f":"T533-HLOOKUP(Y533,Feuil2!$C$1:$CD$9,9,FALSE)","v":{"$error":"#VALUE!"}},null,null,null,null,null,null,null,{"$error":"#VALUE!"},2016,null,{"$f":"IF(AQ533,VLOOKUP(AQ533,HOM!$AS$561:$AT$616,2))","v":3.5710000000000002}]
["H",null,null,null,null,null,null,null,null,null,null,null,null,null,"",null,null,null,"","","","","",{"$error":"#N/A"},{"$f":"IF(AND(J534<1920),VLOOKUP(K534,Feuil2!$F$10:$P$28,11),IF(AND(J534>=1920,J534<1937),VLOOKUP(K534,Feuil2!$F$10:$P$28,11),IF(AND(J534>=1936,J534<1942),VLOOKUP(K534,Feuil2!$F$10:$P$28,10),IF(AND(J534>=1942,J534<1947),VLOOKUP(K534,Feuil2!$F$10:$P$28,9),IF(AND(J534>=1947,J534<1952),VLOOKUP(K534,Feuil2!$F$10:$P$28,8),IF(AND(J534>=1952,J534<1957),VLOOKUP(K534,Feuil2!$F$10:$P$28,7),IF(AND(J534>=1957,J534<1962),VLOOKUP(K534,Feuil2!$F$10:$P$28,6),IF(AND(J534>=1962,J534<1967),VLOOKUP(K534,Feuil2!$F$10:$P$28,5),IF(AND(J534>=1967,J534<1972),VLOOKUP(K534,Feuil2!$F$10:$P$28,4),IF(AND(J534>=1972,J534<1977),VLOOKUP(K534,Feuil2!$F$10:$P$28,3),IF(AND(J534>=1977,J534<1982),VLOOKUP(K534,Feuil2!$F$10:$P$28,2),VLOOKUP(K534,Feuil2!$F$10:$P$28,2))))))))))))","v":{"$error":"#N/A"}},null,{"$f":"T534-HLOOKUP(Y534,Feuil2!$C$1:$CD$9,2,FALSE)","v":{"$error":"#VALUE!"}},{"$f":"T534-HLOOKUP(Y534,Feuil2!$C$1:$CD$9,3,FALSE)","v":{"$error":"#VALUE!"}},{"$f":"T534-HLOOKUP(Y534,Feuil2!$C$1:$CD$9,4,FALSE)","v":{"$error":"#VALUE!"}},{"$f":"T534-HLOOKUP(Y534,Feuil2!$C$1:$CD$9,5,FALSE)","v":{"$error":"#VALUE!"}},{"$f":"T534-HLOOKUP(Y534,Feuil2!$C$1:$CD$9,6,FALSE)","v":{"$error":"#VALUE!"}},{"$f":"T534-HLOOKUP(Y534,Feuil2!$C$1:$CD$9,7,FALSE)","v":{"$error":"#VALUE!"}},{"$f":"T534-HLOOKUP(Y534,Feuil2!$C$1:$CD$9,8,FALSE)","v":{"$error":"#VALUE!"}},{"$f":"T534-HLOOKUP(Y534,Feuil2!$C$1:$CD$9,9,FALSE)","v":{"$error":"#VALUE!"}},null,null,null,null,null,null,null,{"$error":"#VALUE!"},2016,null,{"$f":"IF(AQ534,VLOOKUP(AQ534,HOM!$AS$561:$AT$616,2))","v":3.5710000000000002}]
["H",null,null,null,null,null,null,null,null,null,null,null,null,null,"",null,null,null,"","","","","",{"$error":"#N/A"},{"$f":"IF(AND(J535<1920),VLOOKUP(K535,Feuil2!$F$10:$P$28,11),IF(AND(J535>=1920,J535<1937),VLOOKUP(K535,Feuil2!$F$10:$P$28,11),IF(AND(J535>=1936,J535<1942),VLOOKUP(K535,Feuil2!$F$10:$P$28,10),IF(AND(J535>=1942,J535<1947),VLOOKUP(K535,Feuil2!$F$10:$P$28,9),IF(AND(J535>=1947,J535<1952),VLOOKUP(K535,Feuil2!$F$10:$P$28,8),IF(AND(J535>=1952,J535<1957),VLOOKUP(K535,Feuil2!$F$10:$P$28,7),IF(AND(J535>=1957,J535<1962),VLOOKUP(K535,Feuil2!$F$10:$P$28,6),IF(AND(J535>=1962,J535<1967),VLOOKUP(K535,Feuil2!$F$10:$P$28,5),IF(AND(J535>=1967,J535<1972),VLOOKUP(K535,Feuil2!$F$10:$P$28,4),IF(AND(J535>=1972,J535<1977),VLOOKUP(K535,Feuil2!$F$10:$P$28,3),IF(AND(J535>=1977,J535<1982),VLOOKUP(K535,Feuil2!$F$10:$P$28,2),VLOOKUP(K535,Feuil2!$F$10:$P$28,2))))))))))))","v":{"$error":"#N/A"}},null,{"$f":"T535-HLOOKUP(Y535,Feuil2!$C$1:$CD$9,2,FALSE)","v":{"$error":"#VALUE!"}},{"$f":"T535-HLOOKUP(Y535,Feuil2!$C$1:$CD$9,3,FALSE)","v":{"$error":"#VALUE!"}},{"$f":"T535-HLOOKUP(Y535,Feuil2!$C$1:$CD$9,4,FALSE)","v":{"$error":"#VALUE!"}},{"$f":"T535-HLOOKUP(Y535,Feuil2!$C$1:$CD$9,5,FALSE)","v":{"$error":"#VALUE!"}},{"$f":"T535-HLOOKUP(Y535,Feuil2!$C$1:$CD$9,6,FALSE)","v":{"$error":"#VALUE!"}},{"$f":"T535-HLOOKUP(Y535,Feuil2!$C$1:$CD$9,7,FALSE)","v":{"$error":"#VALUE!"}},{"$f":"T535-HLOOKUP(Y535,Feuil2!$C$1:$CD$9,8,FALSE)","v":{"$error":"#VALUE!"}},{"$f":"T535-HLOOKUP(Y535,Feuil2!$C$1:$CD$9,9,FALSE)","v":{"$error":"#VALUE!"}},null,null,null,null,null,null,null,{"$error":"#VALUE!"},2016,null,{"$f":"IF(AQ535,VLOOKUP(AQ535,HOM!$AS$561:$AT$616,2))","v":3.5710000000000002}]
["H",null,null,null,null,null,null,null,null,null,null,null,null,null,"",null,null,null,"","","","","",{"$error":"#N/A"},{"$f":"IF(AND(J536<1920),VLOOKUP(K536,Feuil2!$F$10:$P$28,11),IF(AND(J536>=1920,J536<1937),VLOOKUP(K536,Feuil2!$F$10:$P$28,11),IF(AND(J536>=1936,J536<1942),VLOOKUP(K536,Feuil2!$F$10:$P$28,10),IF(AND(J536>=1942,J536<1947),VLOOKUP(K536,Feuil2!$F$10:$P$28,9),IF(AND(J536>=1947,J536<1952),VLOOKUP(K536,Feuil2!$F$10:$P$28,8),IF(AND(J536>=1952,J536<1957),VLOOKUP(K536,Feuil2!$F$10:$P$28,7),IF(AND(J536>=1957,J536<1962),VLOOKUP(K536,Feuil2!$F$10:$P$28,6),IF(AND(J536>=1962,J536<1967),VLOOKUP(K536,Feuil2!$F$10:$P$28,5),IF(AND(J536>=1967,J536<1972),VLOOKUP(K536,Feuil2!$F$10:$P$28,4),IF(AND(J536>=1972,J536<1977),VLOOKUP(K536,Feuil2!$F$10:$P$28,3),IF(AND(J536>=1977,J536<1982),VLOOKUP(K536,Feuil2!$F$10:$P$28,2),VLOOKUP(K536,Feuil2!$F$10:$P$28,2))))))))))))","v":{"$error":"#N/A"}},null,{"$f":"T536-HLOOKUP(Y536,Feuil2!$C$1:$CD$9,2,FALSE)","v":{"$error":"#VALUE!"}},{"$f":"T536-HLOOKUP(Y536,Feuil2!$C$1:$CD$9,3,FALSE)","v":{"$error":"#VALUE!"}},{"$f":"T536-HLOOKUP(Y536,Feuil2!$C$1:$CD$9,4,FALSE)","v":{"$error":"#VALUE!"}},{"$f":"T536-HLOOKUP(Y536,Feuil2!$C$1:$CD$9,5,FALSE)","v":{"$error":"#VALUE!"}},{"$f":"T536-HLOOKUP(Y536,Feuil2!$C$1:$CD$9,6,FALSE)","v":{"$error":"#VALUE!"}},{"$f":"T536-HLOOKUP(Y536,Feuil2!$C$1:$CD$9,7,FALSE)","v":{"$error":"#VALUE!"}},{"$f":"T536-HLOOKUP(Y536,Feuil2!$C$1:$CD$9,8,FALSE)","v":{"$error":"#VALUE!"}},{"$f":"T536-HLOOKUP(Y536,Feuil2!$C$1:$CD$9,9,FALSE)","v":{"$error":"#VALUE!"}},null,null,null,null,null,null,null,{"$error":"#VALUE!"},2016,null,{"$f":"IF(AQ536,VLOOKUP(AQ536,HOM!$AS$561:$AT$616,2))","v":3.5710000000000002}]
["H",null,null,null,null,null,null,null,null,null,null,null,null,null,"",null,null,null,"","","","","",{"$error":"#N/A"},{"$f":"IF(AND(J537<1920),VLOOKUP(K537,Feuil2!$F$10:$P$28,11),IF(AND(J537>=1920,J537<1937),VLOOKUP(K537,Feuil2!$F$10:$P$28,11),IF(AND(J537>=1936,J537<1942),VLOOKUP(K537,Feuil2!$F$10:$P$28,10),IF(AND(J537>=1942,J537<1947),VLOOKUP(K537,Feuil2!$F$10:$P$28,9),IF(AND(J537>=1947,J537<1952),VLOOKUP(K537,Feuil2!$F$10:$P$28,8),IF(AND(J537>=1952,J537<1957),VLOOKUP(K537,Feuil2!$F$10:$P$28,7),IF(AND(J537>=1957,J537<1962),VLOOKUP(K537,Feuil2!$F$10:$P$28,6),IF(AND(J537>=1962,J537<1967),VLOOKUP(K537,Feuil2!$F$10:$P$28,5),IF(AND(J537>=1967,J537<1972),VLOOKUP(K537,Feuil2!$F$10:$P$28,4),IF(AND(J537>=1972,J537<1977),VLOOKUP(K537,Feuil2!$F$10:$P$28,3),IF(AND(J537>=1977,J537<1982),VLOOKUP(K537,Feuil2!$F$10:$P$28,2),VLOOKUP(K537,Feuil2!$F$10:$P$28,2))))))))))))","v":{"$error":"#N/A"}},null,{"$f":"T537-HLOOKUP(Y537,Feuil2!$C$1:$CD$9,2,FALSE)","v":{"$error":"#VALUE!"}},{"$f":"T537-HLOOKUP(Y537,Feuil2!$C$1:$CD$9,3,FALSE)","v":{"$error":"#VALUE!"}},{"$f":"T537-HLOOKUP(Y537,Feuil2!$C$1:$CD$9,4,FALSE)","v":{"$error":"#VALUE!"}},{"$f":"T537-HLOOKUP(Y537,Feuil2!$C$1:$CD$9,5,FALSE)","v":{"$error":"#VALUE!"}},{"$f":"T537-HLOOKUP(Y537,Feuil2!$C$1:$CD$9,6,FALSE)","v":{"$error":"#VALUE!"}},{"$f":"T537-HLOOKUP(Y537,Feuil2!$C$1:$CD$9,7,FALSE)","v":{"$error":"#VALUE!"}},{"$f":"T537-HLOOKUP(Y537,Feuil2!$C$1:$CD$9,8,FALSE)","v":{"$error":"#VALUE!"}},{"$f":"T537-HLOOKUP(Y537,Feuil2!$C$1:$CD$9,9,FALSE)","v":{"$error":"#VALUE!"}},null,null,null,null,null,null,null,{"$error":"#VALUE!"},2016,null,{"$f":"IF(AQ537,VLOOKUP(AQ537,HOM!$AS$561:$AT$616,2))","v":3.5710000000000002}]
["H",null,null,null,null,null,null,null,null,null,null,null,null,null,"",null,null,null,"","","","","",{"$error":"#N/A"},{"$f":"IF(AND(J538<1920),VLOOKUP(K538,Feuil2!$F$10:$P$28,11),IF(AND(J538>=1920,J538<1937),VLOOKUP(K538,Feuil2!$F$10:$P$28,11),IF(AND(J538>=1936,J538<1942),VLOOKUP(K538,Feuil2!$F$10:$P$28,10),IF(AND(J538>=1942,J538<1947),VLOOKUP(K538,Feuil2!$F$10:$P$28,9),IF(AND(J538>=1947,J538<1952),VLOOKUP(K538,Feuil2!$F$10:$P$28,8),IF(AND(J538>=1952,J538<1957),VLOOKUP(K538,Feuil2!$F$10:$P$28,7),IF(AND(J538>=1957,J538<1962),VLOOKUP(K538,Feuil2!$F$10:$P$28,6),IF(AND(J538>=1962,J538<1967),VLOOKUP(K538,Feuil2!$F$10:$P$28,5),IF(AND(J538>=1967,J538<1972),VLOOKUP(K538,Feuil2!$F$10:$P$28,4),IF(AND(J538>=1972,J538<1977),VLOOKUP(K538,Feuil2!$F$10:$P$28,3),IF(AND(J538>=1977,J538<1982),VLOOKUP(K538,Feuil2!$F$10:$P$28,2),VLOOKUP(K538,Feuil2!$F$10:$P$28,2))))))))))))","v":{"$error":"#N/A"}},null,{"$f":"T538-HLOOKUP(Y538,Feuil2!$C$1:$CD$9,2,FALSE)","v":{"$error":"#VALUE!"}},{"$f":"T538-HLOOKUP(Y538,Feuil2!$C$1:$CD$9,3,FALSE)","v":{"$error":"#VALUE!"}},{"$f":"T538-HLOOKUP(Y538,Feuil2!$C$1:$CD$9,4,FALSE)","v":{"$error":"#VALUE!"}},{"$f":"T538-HLOOKUP(Y538,Feuil2!$C$1:$CD$9,5,FALSE)","v":{"$error":"#VALUE!"}},{"$f":"T538-HLOOKUP(Y538,Feuil2!$C$1:$CD$9,6,FALSE)","v":{"$error":"#VALUE!"}},{"$f":"T538-HLOOKUP(Y538,Feuil2!$C$1:$CD$9,7,FALSE)","v":{"$error":"#VALUE!"}},{"$f":"T538-HLOOKUP(Y538,Feuil2!$C$1:$CD$9,8,FALSE)","v":{"$error":"#VALUE!"}},{"$f":"T538-HLOOKUP(Y538,Feuil2!$C$1:$CD$9,9,FALSE)","v":{"$error":"#VALUE!"}},null,null,null,null,null,null,null,{"$error":"#VALUE!"},2016,null,{"$f":"IF(AQ538,VLOOKUP(AQ538,HOM!$AS$561:$AT$616,2))","v":3.5710000000000002}]
["H",null,null,null,null,null,null,null,null,null,null,null,null,null,"",null,null,null,"","","","","",{"$error":"#N/A"},{"$f":"IF(AND(J539<1920),VLOOKUP(K539,Feuil2!$F$10:$P$28,11),IF(AND(J539>=1920,J539<1937),VLOOKUP(K539,Feuil2!$F$10:$P$28,11),IF(AND(J539>=1936,J539<1942),VLOOKUP(K539,Feuil2!$F$10:$P$28,10),IF(AND(J539>=1942,J539<1947),VLOOKUP(K539,Feuil2!$F$10:$P$28,9),IF(AND(J539>=1947,J539<1952),VLOOKUP(K539,Feuil2!$F$10:$P$28,8),IF(AND(J539>=1952,J539<1957),VLOOKUP(K539,Feuil2!$F$10:$P$28,7),IF(AND(J539>=1957,J539<1962),VLOOKUP(K539,Feuil2!$F$10:$P$28,6),IF(AND(J539>=1962,J539<1967),VLOOKUP(K539,Feuil2!$F$10:$P$28,5),IF(AND(J539>=1967,J539<1972),VLOOKUP(K539,Feuil2!$F$10:$P$28,4),IF(AND(J539>=1972,J539<1977),VLOOKUP(K539,Feuil2!$F$10:$P$28,3),IF(AND(J539>=1977,J539<1982),VLOOKUP(K539,Feuil2!$F$10:$P$28,2),VLOOKUP(K539,Feuil2!$F$10:$P$28,2))))))))))))","v":{"$error":"#N/A"}},null,{"$f":"T539-HLOOKUP(Y539,Feuil2!$C$1:$CD$9,2,FALSE)","v":{"$error":"#VALUE!"}},{"$f":"T539-HLOOKUP(Y539,Feuil2!$C$1:$CD$9,3,FALSE)","v":{"$error":"#VALUE!"}},{"$f":"T539-HLOOKUP(Y539,Feuil2!$C$1:$CD$9,4,FALSE)","v":{"$error":"#VALUE!"}},{"$f":"T539-HLOOKUP(Y539,Feuil2!$C$1:$CD$9,5,FALSE)","v":{"$error":"#VALUE!"}},{"$f":"T539-HLOOKUP(Y539,Feuil2!$C$1:$CD$9,6,FALSE)","v":{"$error":"#VALUE!"}},{"$f":"T539-HLOOKUP(Y539,Feuil2!$C$1:$CD$9,7,FALSE)","v":{"$error":"#VALUE!"}},{"$f":"T539-HLOOKUP(Y539,Feuil2!$C$1:$CD$9,8,FALSE)","v":{"$error":"#VALUE!"}},{"$f":"T539-HLOOKUP(Y539,Feuil2!$C$1:$CD$9,9,FALSE)","v":{"$error":"#VALUE!"}},null,null,null,null,null,null,null,{"$error":"#VALUE!"},2016,null,{"$f":"IF(AQ539,VLOOKUP(AQ539,HOM!$AS$561:$AT$616,2))","v":3.5710000000000002}]
["H",null,null,null,null,null,null,null,null,null,null,null,null,null,"",null,null,null,"","","","","",{"$error":"#N/A"},{"$f":"IF(AND(J540<1920),VLOOKUP(K540,Feuil2!$F$10:$P$28,11),IF(AND(J540>=1920,J540<1937),VLOOKUP(K540,Feuil2!$F$10:$P$28,11),IF(AND(J540>=1936,J540<1942),VLOOKUP(K540,Feuil2!$F$10:$P$28,10),IF(AND(J540>=1942,J540<1947),VLOOKUP(K540,Feuil2!$F$10:$P$28,9),IF(AND(J540>=1947,J540<1952),VLOOKUP(K540,Feuil2!$F$10:$P$28,8),IF(AND(J540>=1952,J540<1957),VLOOKUP(K540,Feuil2!$F$10:$P$28,7),IF(AND(J540>=1957,J540<1962),VLOOKUP(K540,Feuil2!$F$10:$P$28,6),IF(AND(J540>=1962,J540<1967),VLOOKUP(K540,Feuil2!$F$10:$P$28,5),IF(AND(J540>=1967,J540<1972),VLOOKUP(K540,Feuil2!$F$10:$P$28,4),IF(AND(J540>=1972,J540<1977),VLOOKUP(K540,Feuil2!$F$10:$P$28,3),IF(AND(J540>=1977,J540<1982),VLOOKUP(K540,Feuil2!$F$10:$P$28,2),VLOOKUP(K540,Feuil2!$F$10:$P$28,2))))))))))))","v":{"$error":"#N/A"}},null,{"$f":"T540-HLOOKUP(Y540,Feuil2!$C$1:$CD$9,2,FALSE)","v":{"$error":"#VALUE!"}},{"$f":"T540-HLOOKUP(Y540,Feuil2!$C$1:$CD$9,3,FALSE)","v":{"$error":"#VALUE!"}},{"$f":"T540-HLOOKUP(Y540,Feuil2!$C$1:$CD$9,4,FALSE)","v":{"$error":"#VALUE!"}},{"$f":"T540-HLOOKUP(Y540,Feuil2!$C$1:$CD$9,5,FALSE)","v":{"$error":"#VALUE!"}},{"$f":"T540-HLOOKUP(Y540,Feuil2!$C$1:$CD$9,6,FALSE)","v":{"$error":"#VALUE!"}},{"$f":"T540-HLOOKUP(Y540,Feuil2!$C$1:$CD$9,7,FALSE)","v":{"$error":"#VALUE!"}},{"$f":"T540-HLOOKUP(Y540,Feuil2!$C$1:$CD$9,8,FALSE)","v":{"$error":"#VALUE!"}},{"$f":"T540-HLOOKUP(Y540,Feuil2!$C$1:$CD$9,9,FALSE)","v":{"$error":"#VALUE!"}},null,null,null,null,null,null,null,{"$error":"#VALUE!"},2016,null,{"$f":"IF(AQ540,VLOOKUP(AQ540,HOM!$AS$561:$AT$616,2))","v":3.5710000000000002}]
["H",null,null,null,null,null,null,null,null,null,null,null,null,null,"",null,null,null,"","","","","",{"$error":"#N/A"},{"$f":"IF(AND(J541<1920),VLOOKUP(K541,Feuil2!$F$10:$P$28,11),IF(AND(J541>=1920,J541<1937),VLOOKUP(K541,Feuil2!$F$10:$P$28,11),IF(AND(J541>=1936,J541<1942),VLOOKUP(K541,Feuil2!$F$10:$P$28,10),IF(AND(J541>=1942,J541<1947),VLOOKUP(K541,Feuil2!$F$10:$P$28,9),IF(AND(J541>=1947,J541<1952),VLOOKUP(K541,Feuil2!$F$10:$P$28,8),IF(AND(J541>=1952,J541<1957),VLOOKUP(K541,Feuil2!$F$10:$P$28,7),IF(AND(J541>=1957,J541<1962),VLOOKUP(K541,Feuil2!$F$10:$P$28,6),IF(AND(J541>=1962,J541<1967),VLOOKUP(K541,Feuil2!$F$10:$P$28,5),IF(AND(J541>=1967,J541<1972),VLOOKUP(K541,Feuil2!$F$10:$P$28,4),IF(AND(J541>=1972,J541<1977),VLOOKUP(K541,Feuil2!$F$10:$P$28,3),IF(AND(J541>=1977,J541<1982),VLOOKUP(K541,Feuil2!$F$10:$P$28,2),VLOOKUP(K541,Feuil2!$F$10:$P$28,2))))))))))))","v":{"$error":"#N/A"}},null,{"$f":"T541-HLOOKUP(Y541,Feuil2!$C$1:$CD$9,2,FALSE)","v":{"$error":"#VALUE!"}},{"$f":"T541-HLOOKUP(Y541,Feuil2!$C$1:$CD$9,3,FALSE)","v":{"$error":"#VALUE!"}},{"$f":"T541-HLOOKUP(Y541,Feuil2!$C$1:$CD$9,4,FALSE)","v":{"$error":"#VALUE!"}},{"$f":"T541-HLOOKUP(Y541,Feuil2!$C$1:$CD$9,5,FALSE)","v":{"$error":"#VALUE!"}},{"$f":"T541-HLOOKUP(Y541,Feuil2!$C$1:$CD$9,6,FALSE)","v":{"$error":"#VALUE!"}},{"$f":"T541-HLOOKUP(Y541,Feuil2!$C$1:$CD$9,7,FALSE)","v":{"$error":"#VALUE!"}},{"$f":"T541-HLOOKUP(Y541,Feuil2!$C$1:$CD$9,8,FALSE)","v":{"$error":"#VALUE!"}},{"$f":"T541-HLOOKUP(Y541,Feuil2!$C$1:$CD$9,9,FALSE)","v":{"$error":"#VALUE!"}},null,null,null,null,null,null,null,{"$error":"#VALUE!"},2016,null,{"$f":"IF(AQ541,VLOOKUP(AQ541,HOM!$AS$561:$AT$616,2))","v":3.5710000000000002}]
["H",null,null,null,null,null,null,null,null,null,null,null,null,null,"",null,null,null,"","","","","",{"$error":"#N/A"},{"$f":"IF(AND(J542<1920),VLOOKUP(K542,Feuil2!$F$10:$P$28,11),IF(AND(J542>=1920,J542<1937),VLOOKUP(K542,Feuil2!$F$10:$P$28,11),IF(AND(J542>=1936,J542<1942),VLOOKUP(K542,Feuil2!$F$10:$P$28,10),IF(AND(J542>=1942,J542<1947),VLOOKUP(K542,Feuil2!$F$10:$P$28,9),IF(AND(J542>=1947,J542<1952),VLOOKUP(K542,Feuil2!$F$10:$P$28,8),IF(AND(J542>=1952,J542<1957),VLOOKUP(K542,Feuil2!$F$10:$P$28,7),IF(AND(J542>=1957,J542<1962),VLOOKUP(K542,Feuil2!$F$10:$P$28,6),IF(AND(J542>=1962,J542<1967),VLOOKUP(K542,Feuil2!$F$10:$P$28,5),IF(AND(J542>=1967,J542<1972),VLOOKUP(K542,Feuil2!$F$10:$P$28,4),IF(AND(J542>=1972,J542<1977),VLOOKUP(K542,Feuil2!$F$10:$P$28,3),IF(AND(J542>=1977,J542<1982),VLOOKUP(K542,Feuil2!$F$10:$P$28,2),VLOOKUP(K542,Feuil2!$F$10:$P$28,2))))))))))))","v":{"$error":"#N/A"}},null,{"$f":"T542-HLOOKUP(Y542,Feuil2!$C$1:$CD$9,2,FALSE)","v":{"$error":"#VALUE!"}},{"$f":"T542-HLOOKUP(Y542,Feuil2!$C$1:$CD$9,3,FALSE)","v":{"$error":"#VALUE!"}},{"$f":"T542-HLOOKUP(Y542,Feuil2!$C$1:$CD$9,4,FALSE)","v":{"$error":"#VALUE!"}},{"$f":"T542-HLOOKUP(Y542,Feuil2!$C$1:$CD$9,5,FALSE)","v":{"$error":"#VALUE!"}},{"$f":"T542-HLOOKUP(Y542,Feuil2!$C$1:$CD$9,6,FALSE)","v":{"$error":"#VALUE!"}},{"$f":"T542-HLOOKUP(Y542,Feuil2!$C$1:$CD$9,7,FALSE)","v":{"$error":"#VALUE!"}},{"$f":"T542-HLOOKUP(Y542,Feuil2!$C$1:$CD$9,8,FALSE)","v":{"$error":"#VALUE!"}},{"$f":"T542-HLOOKUP(Y542,Feuil2!$C$1:$CD$9,9,FALSE)","v":{"$error":"#VALUE!"}},null,null,null,null,null,null,null,{"$error":"#VALUE!"},2016,null,{"$f":"IF(AQ542,VLOOKUP(AQ542,HOM!$AS$561:$AT$616,2))","v":3.5710000000000002}]
["H",null,null,null,null,null,null,null,null,null,null,null,null,null,"",null,null,null,"","","","","",{"$error":"#N/A"},{"$f":"IF(AND(J543<1920),VLOOKUP(K543,Feuil2!$F$10:$P$28,11),IF(AND(J543>=1920,J543<1937),VLOOKUP(K543,Feuil2!$F$10:$P$28,11),IF(AND(J543>=1936,J543<1942),VLOOKUP(K543,Feuil2!$F$10:$P$28,10),IF(AND(J543>=1942,J543<1947),VLOOKUP(K543,Feuil2!$F$10:$P$28,9),IF(AND(J543>=1947,J543<1952),VLOOKUP(K543,Feuil2!$F$10:$P$28,8),IF(AND(J543>=1952,J543<1957),VLOOKUP(K543,Feuil2!$F$10:$P$28,7),IF(AND(J543>=1957,J543<1962),VLOOKUP(K543,Feuil2!$F$10:$P$28,6),IF(AND(J543>=1962,J543<1967),VLOOKUP(K543,Feuil2!$F$10:$P$28,5),IF(AND(J543>=1967,J543<1972),VLOOKUP(K543,Feuil2!$F$10:$P$28,4),IF(AND(J543>=1972,J543<1977),VLOOKUP(K543,Feuil2!$F$10:$P$28,3),IF(AND(J543>=1977,J543<1982),VLOOKUP(K543,Feuil2!$F$10:$P$28,2),VLOOKUP(K543,Feuil2!$F$10:$P$28,2))))))))))))","v":{"$error":"#N/A"}},null,{"$f":"T543-HLOOKUP(Y543,Feuil2!$C$1:$CD$9,2,FALSE)","v":{"$error":"#VALUE!"}},{"$f":"T543-HLOOKUP(Y543,Feuil2!$C$1:$CD$9,3,FALSE)","v":{"$error":"#VALUE!"}},{"$f":"T543-HLOOKUP(Y543,Feuil2!$C$1:$CD$9,4,FALSE)","v":{"$error":"#VALUE!"}},{"$f":"T543-HLOOKUP(Y543,Feuil2!$C$1:$CD$9,5,FALSE)","v":{"$error":"#VALUE!"}},{"$f":"T543-HLOOKUP(Y543,Feuil2!$C$1:$CD$9,6,FALSE)","v":{"$error":"#VALUE!"}},{"$f":"T543-HLOOKUP(Y543,Feuil2!$C$1:$CD$9,7,FALSE)","v":{"$error":"#VALUE!"}},{"$f":"T543-HLOOKUP(Y543,Feuil2!$C$1:$CD$9,8,FALSE)","v":{"$error":"#VALUE!"}},{"$f":"T543-HLOOKUP(Y543,Feuil2!$C$1:$CD$9,9,FALSE)","v":{"$error":"#VALUE!"}},null,null,null,null,null,null,null,{"$error":"#VALUE!"},2016,null,{"$f":"IF(AQ543,VLOOKUP(AQ543,HOM!$AS$561:$AT$616,2))","v":3.5710000000000002}]
["H",null,null,null,null,null,null,null,null,null,null,null,null,null,"",null,null,null,"","","","","",{"$error":"#N/A"},{"$f":"IF(AND(J544<1920),VLOOKUP(K544,Feuil2!$F$10:$P$28,11),IF(AND(J544>=1920,J544<1937),VLOOKUP(K544,Feuil2!$F$10:$P$28,11),IF(AND(J544>=1936,J544<1942),VLOOKUP(K544,Feuil2!$F$10:$P$28,10),IF(AND(J544>=1942,J544<1947),VLOOKUP(K544,Feuil2!$F$10:$P$28,9),IF(AND(J544>=1947,J544<1952),VLOOKUP(K544,Feuil2!$F$10:$P$28,8),IF(AND(J544>=1952,J544<1957),VLOOKUP(K544,Feuil2!$F$10:$P$28,7),IF(AND(J544>=1957,J544<1962),VLOOKUP(K544,Feuil2!$F$10:$P$28,6),IF(AND(J544>=1962,J544<1967),VLOOKUP(K544,Feuil2!$F$10:$P$28,5),IF(AND(J544>=1967,J544<1972),VLOOKUP(K544,Feuil2!$F$10:$P$28,4),IF(AND(J544>=1972,J544<1977),VLOOKUP(K544,Feuil2!$F$10:$P$28,3),IF(AND(J544>=1977,J544<1982),VLOOKUP(K544,Feuil2!$F$10:$P$28,2),VLOOKUP(K544,Feuil2!$F$10:$P$28,2))))))))))))","v":{"$error":"#N/A"}},null,{"$f":"T544-HLOOKUP(Y544,Feuil2!$C$1:$CD$9,2,FALSE)","v":{"$error":"#VALUE!"}},{"$f":"T544-HLOOKUP(Y544,Feuil2!$C$1:$CD$9,3,FALSE)","v":{"$error":"#VALUE!"}},{"$f":"T544-HLOOKUP(Y544,Feuil2!$C$1:$CD$9,4,FALSE)","v":{"$error":"#VALUE!"}},{"$f":"T544-HLOOKUP(Y544,Feuil2!$C$1:$CD$9,5,FALSE)","v":{"$error":"#VALUE!"}},{"$f":"T544-HLOOKUP(Y544,Feuil2!$C$1:$CD$9,6,FALSE)","v":{"$error":"#VALUE!"}},{"$f":"T544-HLOOKUP(Y544,Feuil2!$C$1:$CD$9,7,FALSE)","v":{"$error":"#VALUE!"}},{"$f":"T544-HLOOKUP(Y544,Feuil2!$C$1:$CD$9,8,FALSE)","v":{"$error":"#VALUE!"}},{"$f":"T544-HLOOKUP(Y544,Feuil2!$C$1:$CD$9,9,FALSE)","v":{"$error":"#VALUE!"}},null,null,null,null,null,null,null,{"$error":"#VALUE!"},2016,null,{"$f":"IF(AQ544,VLOOKUP(AQ544,HOM!$AS$561:$AT$616,2))","v":3.5710000000000002}]
["H",null,null,null,null,null,null,null,null,null,null,null,null,null,"",null,null,null,"","","","","",{"$error":"#N/A"},{"$f":"IF(AND(J545<1920),VLOOKUP(K545,Feuil2!$F$10:$P$28,11),IF(AND(J545>=1920,J545<1937),VLOOKUP(K545,Feuil2!$F$10:$P$28,11),IF(AND(J545>=1936,J545<1942),VLOOKUP(K545,Feuil2!$F$10:$P$28,10),IF(AND(J545>=1942,J545<1947),VLOOKUP(K545,Feuil2!$F$10:$P$28,9),IF(AND(J545>=1947,J545<1952),VLOOKUP(K545,Feuil2!$F$10:$P$28,8),IF(AND(J545>=1952,J545<1957),VLOOKUP(K545,Feuil2!$F$10:$P$28,7),IF(AND(J545>=1957,J545<1962),VLOOKUP(K545,Feuil2!$F$10:$P$28,6),IF(AND(J545>=1962,J545<1967),VLOOKUP(K545,Feuil2!$F$10:$P$28,5),IF(AND(J545>=1967,J545<1972),VLOOKUP(K545,Feuil2!$F$10:$P$28,4),IF(AND(J545>=1972,J545<1977),VLOOKUP(K545,Feuil2!$F$10:$P$28,3),IF(AND(J545>=1977,J545<1982),VLOOKUP(K545,Feuil2!$F$10:$P$28,2),VLOOKUP(K545,Feuil2!$F$10:$P$28,2))))))))))))","v":{"$error":"#N/A"}},null,{"$f":"T545-HLOOKUP(Y545,Feuil2!$C$1:$CD$9,2,FALSE)","v":{"$error":"#VALUE!"}},{"$f":"T545-HLOOKUP(Y545,Feuil2!$C$1:$CD$9,3,FALSE)","v":{"$error":"#VALUE!"}},{"$f":"T545-HLOOKUP(Y545,Feuil2!$C$1:$CD$9,4,FALSE)","v":{"$error":"#VALUE!"}},{"$f":"T545-HLOOKUP(Y545,Feuil2!$C$1:$CD$9,5,FALSE)","v":{"$error":"#VALUE!"}},{"$f":"T545-HLOOKUP(Y545,Feuil2!$C$1:$CD$9,6,FALSE)","v":{"$error":"#VALUE!"}},{"$f":"T545-HLOOKUP(Y545,Feuil2!$C$1:$CD$9,7,FALSE)","v":{"$error":"#VALUE!"}},{"$f":"T545-HLOOKUP(Y545,Feuil2!$C$1:$CD$9,8,FALSE)","v":{"$error":"#VALUE!"}},{"$f":"T545-HLOOKUP(Y545,Feuil2!$C$1:$CD$9,9,FALSE)","v":{"$error":"#VALUE!"}},null,null,null,null,null,null,null,{"$error":"#VALUE!"},2016,null,{"$f":"IF(AQ545,VLOOKUP(AQ545,HOM!$AS$561:$AT$616,2))","v":3.5710000000000002}]
["H",null,null,null,null,null,null,null,null,null,null,null,null,null,"",null,null,null,"","","","","",{"$error":"#N/A"},{"$f":"IF(AND(J546<1920),VLOOKUP(K546,Feuil2!$F$10:$P$28,11),IF(AND(J546>=1920,J546<1937),VLOOKUP(K546,Feuil2!$F$10:$P$28,11),IF(AND(J546>=1936,J546<1942),VLOOKUP(K546,Feuil2!$F$10:$P$28,10),IF(AND(J546>=1942,J546<1947),VLOOKUP(K546,Feuil2!$F$10:$P$28,9),IF(AND(J546>=1947,J546<1952),VLOOKUP(K546,Feuil2!$F$10:$P$28,8),IF(AND(J546>=1952,J546<1957),VLOOKUP(K546,Feuil2!$F$10:$P$28,7),IF(AND(J546>=1957,J546<1962),VLOOKUP(K546,Feuil2!$F$10:$P$28,6),IF(AND(J546>=1962,J546<1967),VLOOKUP(K546,Feuil2!$F$10:$P$28,5),IF(AND(J546>=1967,J546<1972),VLOOKUP(K546,Feuil2!$F$10:$P$28,4),IF(AND(J546>=1972,J546<1977),VLOOKUP(K546,Feuil2!$F$10:$P$28,3),IF(AND(J546>=1977,J546<1982),VLOOKUP(K546,Feuil2!$F$10:$P$28,2),VLOOKUP(K546,Feuil2!$F$10:$P$28,2))))))))))))","v":{"$error":"#N/A"}},null,{"$f":"T546-HLOOKUP(Y546,Feuil2!$C$1:$CD$9,2,FALSE)","v":{"$error":"#VALUE!"}},{"$f":"T546-HLOOKUP(Y546,Feuil2!$C$1:$CD$9,3,FALSE)","v":{"$error":"#VALUE!"}},{"$f":"T546-HLOOKUP(Y546,Feuil2!$C$1:$CD$9,4,FALSE)","v":{"$error":"#VALUE!"}},{"$f":"T546-HLOOKUP(Y546,Feuil2!$C$1:$CD$9,5,FALSE)","v":{"$error":"#VALUE!"}},{"$f":"T546-HLOOKUP(Y546,Feuil2!$C$1:$CD$9,6,FALSE)","v":{"$error":"#VALUE!"}},{"$f":"T546-HLOOKUP(Y546,Feuil2!$C$1:$CD$9,7,FALSE)","v":{"$error":"#VALUE!"}},{"$f":"T546-HLOOKUP(Y546,Feuil2!$C$1:$CD$9,8,FALSE)","v":{"$error":"#VALUE!"}},{"$f":"T546-HLOOKUP(Y546,Feuil2!$C$1:$CD$9,9,FALSE)","v":{"$error":"#VALUE!"}},null,null,null,null,null,null,null,{"$error":"#VALUE!"},2016,null,{"$f":"IF(AQ546,VLOOKUP(AQ546,HOM!$AS$561:$AT$616,2))","v":3.5710000000000002}]
["H",null,null,null,null,null,null,null,null,null,null,null,null,null,"",null,null,null,"","","","","",{"$error":"#N/A"},{"$f":"IF(AND(J547<1920),VLOOKUP(K547,Feuil2!$F$10:$P$28,11),IF(AND(J547>=1920,J547<1937),VLOOKUP(K547,Feuil2!$F$10:$P$28,11),IF(AND(J547>=1936,J547<1942),VLOOKUP(K547,Feuil2!$F$10:$P$28,10),IF(AND(J547>=1942,J547<1947),VLOOKUP(K547,Feuil2!$F$10:$P$28,9),IF(AND(J547>=1947,J547<1952),VLOOKUP(K547,Feuil2!$F$10:$P$28,8),IF(AND(J547>=1952,J547<1957),VLOOKUP(K547,Feuil2!$F$10:$P$28,7),IF(AND(J547>=1957,J547<1962),VLOOKUP(K547,Feuil2!$F$10:$P$28,6),IF(AND(J547>=1962,J547<1967),VLOOKUP(K547,Feuil2!$F$10:$P$28,5),IF(AND(J547>=1967,J547<1972),VLOOKUP(K547,Feuil2!$F$10:$P$28,4),IF(AND(J547>=1972,J547<1977),VLOOKUP(K547,Feuil2!$F$10:$P$28,3),IF(AND(J547>=1977,J547<1982),VLOOKUP(K547,Feuil2!$F$10:$P$28,2),VLOOKUP(K547,Feuil2!$F$10:$P$28,2))))))))))))","v":{"$error":"#N/A"}},null,{"$f":"T547-HLOOKUP(Y547,Feuil2!$C$1:$CD$9,2,FALSE)","v":{"$error":"#VALUE!"}},{"$f":"T547-HLOOKUP(Y547,Feuil2!$C$1:$CD$9,3,FALSE)","v":{"$error":"#VALUE!"}},{"$f":"T547-HLOOKUP(Y547,Feuil2!$C$1:$CD$9,4,FALSE)","v":{"$error":"#VALUE!"}},{"$f":"T547-HLOOKUP(Y547,Feuil2!$C$1:$CD$9,5,FALSE)","v":{"$error":"#VALUE!"}},{"$f":"T547-HLOOKUP(Y547,Feuil2!$C$1:$CD$9,6,FALSE)","v":{"$error":"#VALUE!"}},{"$f":"T547-HLOOKUP(Y547,Feuil2!$C$1:$CD$9,7,FALSE)","v":{"$error":"#VALUE!"}},{"$f":"T547-HLOOKUP(Y547,Feuil2!$C$1:$CD$9,8,FALSE)","v":{"$error":"#VALUE!"}},{"$f":"T547-HLOOKUP(Y547,Feuil2!$C$1:$CD$9,9,FALSE)","v":{"$error":"#VALUE!"}},null,null,null,null,null,null,null,{"$error":"#VALUE!"},2016,null,{"$f":"IF(AQ547,VLOOKUP(AQ547,HOM!$AS$561:$AT$616,2))","v":3.5710000000000002}]
["H",null,null,null,null,null,null,null,null,null,null,null,null,null,"",null,null,null,"","","","","",{"$error":"#N/A"},{"$f":"IF(AND(J548<1920),VLOOKUP(K548,Feuil2!$F$10:$P$28,11),IF(AND(J548>=1920,J548<1937),VLOOKUP(K548,Feuil2!$F$10:$P$28,11),IF(AND(J548>=1936,J548<1942),VLOOKUP(K548,Feuil2!$F$10:$P$28,10),IF(AND(J548>=1942,J548<1947),VLOOKUP(K548,Feuil2!$F$10:$P$28,9),IF(AND(J548>=1947,J548<1952),VLOOKUP(K548,Feuil2!$F$10:$P$28,8),IF(AND(J548>=1952,J548<1957),VLOOKUP(K548,Feuil2!$F$10:$P$28,7),IF(AND(J548>=1957,J548<1962),VLOOKUP(K548,Feuil2!$F$10:$P$28,6),IF(AND(J548>=1962,J548<1967),VLOOKUP(K548,Feuil2!$F$10:$P$28,5),IF(AND(J548>=1967,J548<1972),VLOOKUP(K548,Feuil2!$F$10:$P$28,4),IF(AND(J548>=1972,J548<1977),VLOOKUP(K548,Feuil2!$F$10:$P$28,3),IF(AND(J548>=1977,J548<1982),VLOOKUP(K548,Feuil2!$F$10:$P$28,2),VLOOKUP(K548,Feuil2!$F$10:$P$28,2))))))))))))","v":{"$error":"#N/A"}},null,{"$f":"T548-HLOOKUP(Y548,Feuil2!$C$1:$CD$9,2,FALSE)","v":{"$error":"#VALUE!"}},{"$f":"T548-HLOOKUP(Y548,Feuil2!$C$1:$CD$9,3,FALSE)","v":{"$error":"#VALUE!"}},{"$f":"T548-HLOOKUP(Y548,Feuil2!$C$1:$CD$9,4,FALSE)","v":{"$error":"#VALUE!"}},{"$f":"T548-HLOOKUP(Y548,Feuil2!$C$1:$CD$9,5,FALSE)","v":{"$error":"#VALUE!"}},{"$f":"T548-HLOOKUP(Y548,Feuil2!$C$1:$CD$9,6,FALSE)","v":{"$error":"#VALUE!"}},{"$f":"T548-HLOOKUP(Y548,Feuil2!$C$1:$CD$9,7,FALSE)","v":{"$error":"#VALUE!"}},{"$f":"T548-HLOOKUP(Y548,Feuil2!$C$1:$CD$9,8,FALSE)","v":{"$error":"#VALUE!"}},{"$f":"T548-HLOOKUP(Y548,Feuil2!$C$1:$CD$9,9,FALSE)","v":{"$error":"#VALUE!"}},null,null,null,null,null,null,null,{"$error":"#VALUE!"},2016,null,{"$f":"IF(AQ548,VLOOKUP(AQ548,HOM!$AS$561:$AT$616,2))","v":3.5710000000000002}]
["H",null,null,null,null,null,null,null,null,null,null,null,null,null,"",null,null,null,"","","","","",{"$error":"#N/A"},{"$f":"IF(AND(J549<1920),VLOOKUP(K549,Feuil2!$F$10:$P$28,11),IF(AND(J549>=1920,J549<1937),VLOOKUP(K549,Feuil2!$F$10:$P$28,11),IF(AND(J549>=1936,J549<1942),VLOOKUP(K549,Feuil2!$F$10:$P$28,10),IF(AND(J549>=1942,J549<1947),VLOOKUP(K549,Feuil2!$F$10:$P$28,9),IF(AND(J549>=1947,J549<1952),VLOOKUP(K549,Feuil2!$F$10:$P$28,8),IF(AND(J549>=1952,J549<1957),VLOOKUP(K549,Feuil2!$F$10:$P$28,7),IF(AND(J549>=1957,J549<1962),VLOOKUP(K549,Feuil2!$F$10:$P$28,6),IF(AND(J549>=1962,J549<1967),VLOOKUP(K549,Feuil2!$F$10:$P$28,5),IF(AND(J549>=1967,J549<1972),VLOOKUP(K549,Feuil2!$F$10:$P$28,4),IF(AND(J549>=1972,J549<1977),VLOOKUP(K549,Feuil2!$F$10:$P$28,3),IF(AND(J549>=1977,J549<1982),VLOOKUP(K549,Feuil2!$F$10:$P$28,2),VLOOKUP(K549,Feuil2!$F$10:$P$28,2))))))))))))","v":{"$error":"#N/A"}},null,{"$f":"T549-HLOOKUP(Y549,Feuil2!$C$1:$CD$9,2,FALSE)","v":{"$error":"#VALUE!"}},{"$f":"T549-HLOOKUP(Y549,Feuil2!$C$1:$CD$9,3,FALSE)","v":{"$error":"#VALUE!"}},{"$f":"T549-HLOOKUP(Y549,Feuil2!$C$1:$CD$9,4,FALSE)","v":{"$error":"#VALUE!"}},{"$f":"T549-HLOOKUP(Y549,Feuil2!$C$1:$CD$9,5,FALSE)","v":{"$error":"#VALUE!"}},{"$f":"T549-HLOOKUP(Y549,Feuil2!$C$1:$CD$9,6,FALSE)","v":{"$error":"#VALUE!"}},{"$f":"T549-HLOOKUP(Y549,Feuil2!$C$1:$CD$9,7,FALSE)","v":{"$error":"#VALUE!"}},{"$f":"T549-HLOOKUP(Y549,Feuil2!$C$1:$CD$9,8,FALSE)","v":{"$error":"#VALUE!"}},{"$f":"T549-HLOOKUP(Y549,Feuil2!$C$1:$CD$9,9,FALSE)","v":{"$error":"#VALUE!"}},null,null,null,null,null,null,null,{"$error":"#VALUE!"},2016,null,{"$f":"IF(AQ549,VLOOKUP(AQ549,HOM!$AS$561:$AT$616,2))","v":3.5710000000000002}]
["H",null,null,null,null,null,null,null,null,null,null,null,null,null,"",null,null,null,"","","","","",{"$error":"#N/A"},{"$f":"IF(AND(J550<1920),VLOOKUP(K550,Feuil2!$F$10:$P$28,11),IF(AND(J550>=1920,J550<1937),VLOOKUP(K550,Feuil2!$F$10:$P$28,11),IF(AND(J550>=1936,J550<1942),VLOOKUP(K550,Feuil2!$F$10:$P$28,10),IF(AND(J550>=1942,J550<1947),VLOOKUP(K550,Feuil2!$F$10:$P$28,9),IF(AND(J550>=1947,J550<1952),VLOOKUP(K550,Feuil2!$F$10:$P$28,8),IF(AND(J550>=1952,J550<1957),VLOOKUP(K550,Feuil2!$F$10:$P$28,7),IF(AND(J550>=1957,J550<1962),VLOOKUP(K550,Feuil2!$F$10:$P$28,6),IF(AND(J550>=1962,J550<1967),VLOOKUP(K550,Feuil2!$F$10:$P$28,5),IF(AND(J550>=1967,J550<1972),VLOOKUP(K550,Feuil2!$F$10:$P$28,4),IF(AND(J550>=1972,J550<1977),VLOOKUP(K550,Feuil2!$F$10:$P$28,3),IF(AND(J550>=1977,J550<1982),VLOOKUP(K550,Feuil2!$F$10:$P$28,2),VLOOKUP(K550,Feuil2!$F$10:$P$28,2))))))))))))","v":{"$error":"#N/A"}},null,{"$f":"T550-HLOOKUP(Y550,Feuil2!$C$1:$CD$9,2,FALSE)","v":{"$error":"#VALUE!"}},{"$f":"T550-HLOOKUP(Y550,Feuil2!$C$1:$CD$9,3,FALSE)","v":{"$error":"#VALUE!"}},{"$f":"T550-HLOOKUP(Y550,Feuil2!$C$1:$CD$9,4,FALSE)","v":{"$error":"#VALUE!"}},{"$f":"T550-HLOOKUP(Y550,Feuil2!$C$1:$CD$9,5,FALSE)","v":{"$error":"#VALUE!"}},{"$f":"T550-HLOOKUP(Y550,Feuil2!$C$1:$CD$9,6,FALSE)","v":{"$error":"#VALUE!"}},{"$f":"T550-HLOOKUP(Y550,Feuil2!$C$1:$CD$9,7,FALSE)","v":{"$error":"#VALUE!"}},{"$f":"T550-HLOOKUP(Y550,Feuil2!$C$1:$CD$9,8,FALSE)","v":{"$error":"#VALUE!"}},{"$f":"T550-HLOOKUP(Y550,Feuil2!$C$1:$CD$9,9,FALSE)","v":{"$error":"#VALUE!"}},null,null,null,null,null,null,null,{"$error":"#VALUE!"},2016,null,{"$f":"IF(AQ550,VLOOKUP(AQ550,HOM!$AS$561:$AT$616,2))","v":3.5710000000000002}]
["H",null,null,null,null,null,null,null,null,null,null,null,null,null,"",null,null,null,"","","","","",{"$error":"#N/A"},{"$f":"IF(AND(J551<1920),VLOOKUP(K551,Feuil2!$F$10:$P$28,11),IF(AND(J551>=1920,J551<1937),VLOOKUP(K551,Feuil2!$F$10:$P$28,11),IF(AND(J551>=1936,J551<1942),VLOOKUP(K551,Feuil2!$F$10:$P$28,10),IF(AND(J551>=1942,J551<1947),VLOOKUP(K551,Feuil2!$F$10:$P$28,9),IF(AND(J551>=1947,J551<1952),VLOOKUP(K551,Feuil2!$F$10:$P$28,8),IF(AND(J551>=1952,J551<1957),VLOOKUP(K551,Feuil2!$F$10:$P$28,7),IF(AND(J551>=1957,J551<1962),VLOOKUP(K551,Feuil2!$F$10:$P$28,6),IF(AND(J551>=1962,J551<1967),VLOOKUP(K551,Feuil2!$F$10:$P$28,5),IF(AND(J551>=1967,J551<1972),VLOOKUP(K551,Feuil2!$F$10:$P$28,4),IF(AND(J551>=1972,J551<1977),VLOOKUP(K551,Feuil2!$F$10:$P$28,3),IF(AND(J551>=1977,J551<1982),VLOOKUP(K551,Feuil2!$F$10:$P$28,2),VLOOKUP(K551,Feuil2!$F$10:$P$28,2))))))))))))","v":{"$error":"#N/A"}},null,{"$f":"T551-HLOOKUP(Y551,Feuil2!$C$1:$CD$9,2,FALSE)","v":{"$error":"#VALUE!"}},{"$f":"T551-HLOOKUP(Y551,Feuil2!$C$1:$CD$9,3,FALSE)","v":{"$error":"#VALUE!"}},{"$f":"T551-HLOOKUP(Y551,Feuil2!$C$1:$CD$9,4,FALSE)","v":{"$error":"#VALUE!"}},{"$f":"T551-HLOOKUP(Y551,Feuil2!$C$1:$CD$9,5,FALSE)","v":{"$error":"#VALUE!"}},{"$f":"T551-HLOOKUP(Y551,Feuil2!$C$1:$CD$9,6,FALSE)","v":{"$error":"#VALUE!"}},{"$f":"T551-HLOOKUP(Y551,Feuil2!$C$1:$CD$9,7,FALSE)","v":{"$error":"#VALUE!"}},{"$f":"T551-HLOOKUP(Y551,Feuil2!$C$1:$CD$9,8,FALSE)","v":{"$error":"#VALUE!"}},{"$f":"T551-HLOOKUP(Y551,Feuil2!$C$1:$CD$9,9,FALSE)","v":{"$error":"#VALUE!"}},null,null,null,null,null,null,null,{"$error":"#VALUE!"},2016,null,{"$f":"IF(AQ551,VLOOKUP(AQ551,HOM!$AS$561:$AT$616,2))","v":3.5710000000000002}]
["H",null,null,null,null,null,null,null,null,null,null,null,null,null,"",null,null,null,"","","","","",{"$error":"#N/A"},{"$f":"IF(AND(J552<1920),VLOOKUP(K552,Feuil2!$F$10:$P$28,11),IF(AND(J552>=1920,J552<1937),VLOOKUP(K552,Feuil2!$F$10:$P$28,11),IF(AND(J552>=1936,J552<1942),VLOOKUP(K552,Feuil2!$F$10:$P$28,10),IF(AND(J552>=1942,J552<1947),VLOOKUP(K552,Feuil2!$F$10:$P$28,9),IF(AND(J552>=1947,J552<1952),VLOOKUP(K552,Feuil2!$F$10:$P$28,8),IF(AND(J552>=1952,J552<1957),VLOOKUP(K552,Feuil2!$F$10:$P$28,7),IF(AND(J552>=1957,J552<1962),VLOOKUP(K552,Feuil2!$F$10:$P$28,6),IF(AND(J552>=1962,J552<1967),VLOOKUP(K552,Feuil2!$F$10:$P$28,5),IF(AND(J552>=1967,J552<1972),VLOOKUP(K552,Feuil2!$F$10:$P$28,4),IF(AND(J552>=1972,J552<1977),VLOOKUP(K552,Feuil2!$F$10:$P$28,3),IF(AND(J552>=1977,J552<1982),VLOOKUP(K552,Feuil2!$F$10:$P$28,2),VLOOKUP(K552,Feuil2!$F$10:$P$28,2))))))))))))","v":{"$error":"#N/A"}},null,{"$f":"T552-HLOOKUP(Y552,Feuil2!$C$1:$CD$9,2,FALSE)","v":{"$error":"#VALUE!"}},{"$f":"T552-HLOOKUP(Y552,Feuil2!$C$1:$CD$9,3,FALSE)","v":{"$error":"#VALUE!"}},{"$f":"T552-HLOOKUP(Y552,Feuil2!$C$1:$CD$9,4,FALSE)","v":{"$error":"#VALUE!"}},{"$f":"T552-HLOOKUP(Y552,Feuil2!$C$1:$CD$9,5,FALSE)","v":{"$error":"#VALUE!"}},{"$f":"T552-HLOOKUP(Y552,Feuil2!$C$1:$CD$9,6,FALSE)","v":{"$error":"#VALUE!"}},{"$f":"T552-HLOOKUP(Y552,Feuil2!$C$1:$CD$9,7,FALSE)","v":{"$error":"#VALUE!"}},{"$f":"T552-HLOOKUP(Y552,Feuil2!$C$1:$CD$9,8,FALSE)","v":{"$error":"#VALUE!"}},{"$f":"T552-HLOOKUP(Y552,Feuil2!$C$1:$CD$9,9,FALSE)","v":{"$error":"#VALUE!"}},null,null,null,null,null,null,null,{"$error":"#VALUE!"},2016,null,{"$f":"IF(AQ552,VLOOKUP(AQ552,HOM!$AS$561:$AT$616,2))","v":3.5710000000000002}]
["H",null,null,null,null,null,null,null,null,null,null,null,null,null,"",null,null,null,"","","","","",{"$error":"#N/A"},{"$f":"IF(AND(J553<1920),VLOOKUP(K553,Feuil2!$F$10:$P$28,11),IF(AND(J553>=1920,J553<1937),VLOOKUP(K553,Feuil2!$F$10:$P$28,11),IF(AND(J553>=1936,J553<1942),VLOOKUP(K553,Feuil2!$F$10:$P$28,10),IF(AND(J553>=1942,J553<1947),VLOOKUP(K553,Feuil2!$F$10:$P$28,9),IF(AND(J553>=1947,J553<1952),VLOOKUP(K553,Feuil2!$F$10:$P$28,8),IF(AND(J553>=1952,J553<1957),VLOOKUP(K553,Feuil2!$F$10:$P$28,7),IF(AND(J553>=1957,J553<1962),VLOOKUP(K553,Feuil2!$F$10:$P$28,6),IF(AND(J553>=1962,J553<1967),VLOOKUP(K553,Feuil2!$F$10:$P$28,5),IF(AND(J553>=1967,J553<1972),VLOOKUP(K553,Feuil2!$F$10:$P$28,4),IF(AND(J553>=1972,J553<1977),VLOOKUP(K553,Feuil2!$F$10:$P$28,3),IF(AND(J553>=1977,J553<1982),VLOOKUP(K553,Feuil2!$F$10:$P$28,2),VLOOKUP(K553,Feuil2!$F$10:$P$28,2))))))))))))","v":{"$error":"#N/A"}},null,{"$f":"T553-HLOOKUP(Y553,Feuil2!$C$1:$CD$9,2,FALSE)","v":{"$error":"#VALUE!"}},{"$f":"T553-HLOOKUP(Y553,Feuil2!$C$1:$CD$9,3,FALSE)","v":{"$error":"#VALUE!"}},{"$f":"T553-HLOOKUP(Y553,Feuil2!$C$1:$CD$9,4,FALSE)","v":{"$error":"#VALUE!"}},{"$f":"T553-HLOOKUP(Y553,Feuil2!$C$1:$CD$9,5,FALSE)","v":{"$error":"#VALUE!"}},{"$f":"T553-HLOOKUP(Y553,Feuil2!$C$1:$CD$9,6,FALSE)","v":{"$error":"#VALUE!"}},{"$f":"T553-HLOOKUP(Y553,Feuil2!$C$1:$CD$9,7,FALSE)","v":{"$error":"#VALUE!"}},{"$f":"T553-HLOOKUP(Y553,Feuil2!$C$1:$CD$9,8,FALSE)","v":{"$error":"#VALUE!"}},{"$f":"T553-HLOOKUP(Y553,Feuil2!$C$1:$CD$9,9,FALSE)","v":{"$error":"#VALUE!"}},null,null,null,null,null,null,null,{"$error":"#VALUE!"},2016,null,{"$f":"IF(AQ553,VLOOKUP(AQ553,HOM!$AS$561:$AT$616,2))","v":3.5710000000000002}]
["H",null,null,null,null,null,null,null,null,null,null,null,null,null,"",null,null,null,"","","","","",{"$error":"#N/A"},{"$f":"IF(AND(J554<1920),VLOOKUP(K554,Feuil2!$F$10:$P$28,11),IF(AND(J554>=1920,J554<1937),VLOOKUP(K554,Feuil2!$F$10:$P$28,11),IF(AND(J554>=1936,J554<1942),VLOOKUP(K554,Feuil2!$F$10:$P$28,10),IF(AND(J554>=1942,J554<1947),VLOOKUP(K554,Feuil2!$F$10:$P$28,9),IF(AND(J554>=1947,J554<1952),VLOOKUP(K554,Feuil2!$F$10:$P$28,8),IF(AND(J554>=1952,J554<1957),VLOOKUP(K554,Feuil2!$F$10:$P$28,7),IF(AND(J554>=1957,J554<1962),VLOOKUP(K554,Feuil2!$F$10:$P$28,6),IF(AND(J554>=1962,J554<1967),VLOOKUP(K554,Feuil2!$F$10:$P$28,5),IF(AND(J554>=1967,J554<1972),VLOOKUP(K554,Feuil2!$F$10:$P$28,4),IF(AND(J554>=1972,J554<1977),VLOOKUP(K554,Feuil2!$F$10:$P$28,3),IF(AND(J554>=1977,J554<1982),VLOOKUP(K554,Feuil2!$F$10:$P$28,2),VLOOKUP(K554,Feuil2!$F$10:$P$28,2))))))))))))","v":{"$error":"#N/A"}},null,{"$f":"T554-HLOOKUP(Y554,Feuil2!$C$1:$CD$9,2,FALSE)","v":{"$error":"#VALUE!"}},{"$f":"T554-HLOOKUP(Y554,Feuil2!$C$1:$CD$9,3,FALSE)","v":{"$error":"#VALUE!"}},{"$f":"T554-HLOOKUP(Y554,Feuil2!$C$1:$CD$9,4,FALSE)","v":{"$error":"#VALUE!"}},{"$f":"T554-HLOOKUP(Y554,Feuil2!$C$1:$CD$9,5,FALSE)","v":{"$error":"#VALUE!"}},{"$f":"T554-HLOOKUP(Y554,Feuil2!$C$1:$CD$9,6,FALSE)","v":{"$error":"#VALUE!"}},{"$f":"T554-HLOOKUP(Y554,Feuil2!$C$1:$CD$9,7,FALSE)","v":{"$error":"#VALUE!"}},{"$f":"T554-HLOOKUP(Y554,Feuil2!$C$1:$CD$9,8,FALSE)","v":{"$error":"#VALUE!"}},{"$f":"T554-HLOOKUP(Y554,Feuil2!$C$1:$CD$9,9,FALSE)","v":{"$error":"#VALUE!"}},null,null,null,null,null,null,null,{"$error":"#VALUE!"},2016,null,{"$f":"IF(AQ554,VLOOKUP(AQ554,HOM!$AS$561:$AT$616,2))","v":3.5710000000000002}]
["H",null,null,null,null,null,null,null,null,null,null,null,null,null,"",null,null,null,"","","","","",{"$error":"#N/A"},{"$f":"IF(AND(J555<1920),VLOOKUP(K555,Feuil2!$F$10:$P$28,11),IF(AND(J555>=1920,J555<1937),VLOOKUP(K555,Feuil2!$F$10:$P$28,11),IF(AND(J555>=1936,J555<1942),VLOOKUP(K555,Feuil2!$F$10:$P$28,10),IF(AND(J555>=1942,J555<1947),VLOOKUP(K555,Feuil2!$F$10:$P$28,9),IF(AND(J555>=1947,J555<1952),VLOOKUP(K555,Feuil2!$F$10:$P$28,8),IF(AND(J555>=1952,J555<1957),VLOOKUP(K555,Feuil2!$F$10:$P$28,7),IF(AND(J555>=1957,J555<1962),VLOOKUP(K555,Feuil2!$F$10:$P$28,6),IF(AND(J555>=1962,J555<1967),VLOOKUP(K555,Feuil2!$F$10:$P$28,5),IF(AND(J555>=1967,J555<1972),VLOOKUP(K555,Feuil2!$F$10:$P$28,4),IF(AND(J555>=1972,J555<1977),VLOOKUP(K555,Feuil2!$F$10:$P$28,3),IF(AND(J555>=1977,J555<1982),VLOOKUP(K555,Feuil2!$F$10:$P$28,2),VLOOKUP(K555,Feuil2!$F$10:$P$28,2))))))))))))","v":{"$error":"#N/A"}},null,{"$f":"T555-HLOOKUP(Y555,Feuil2!$C$1:$CD$9,2,FALSE)","v":{"$error":"#VALUE!"}},{"$f":"T555-HLOOKUP(Y555,Feuil2!$C$1:$CD$9,3,FALSE)","v":{"$error":"#VALUE!"}},{"$f":"T555-HLOOKUP(Y555,Feuil2!$C$1:$CD$9,4,FALSE)","v":{"$error":"#VALUE!"}},{"$f":"T555-HLOOKUP(Y555,Feuil2!$C$1:$CD$9,5,FALSE)","v":{"$error":"#VALUE!"}},{"$f":"T555-HLOOKUP(Y555,Feuil2!$C$1:$CD$9,6,FALSE)","v":{"$error":"#VALUE!"}},{"$f":"T555-HLOOKUP(Y555,Feuil2!$C$1:$CD$9,7,FALSE)","v":{"$error":"#VALUE!"}},{"$f":"T555-HLOOKUP(Y555,Feuil2!$C$1:$CD$9,8,FALSE)","v":{"$error":"#VALUE!"}},{"$f":"T555-HLOOKUP(Y555,Feuil2!$C$1:$CD$9,9,FALSE)","v":{"$error":"#VALUE!"}},null,null,null,null,null,null,null,{"$error":"#VALUE!"},2016,null,{"$f":"IF(AQ555,VLOOKUP(AQ555,HOM!$AS$561:$AT$616,2))","v":3.5710000000000002}]
["H",null,null,null,null,null,null,null,null,null,null,null,null,null,"",null,null,null,"","","","","",{"$error":"#N/A"},{"$f":"IF(AND(J556<1920),VLOOKUP(K556,Feuil2!$F$10:$P$28,11),IF(AND(J556>=1920,J556<1937),VLOOKUP(K556,Feuil2!$F$10:$P$28,11),IF(AND(J556>=1936,J556<1942),VLOOKUP(K556,Feuil2!$F$10:$P$28,10),IF(AND(J556>=1942,J556<1947),VLOOKUP(K556,Feuil2!$F$10:$P$28,9),IF(AND(J556>=1947,J556<1952),VLOOKUP(K556,Feuil2!$F$10:$P$28,8),IF(AND(J556>=1952,J556<1957),VLOOKUP(K556,Feuil2!$F$10:$P$28,7),IF(AND(J556>=1957,J556<1962),VLOOKUP(K556,Feuil2!$F$10:$P$28,6),IF(AND(J556>=1962,J556<1967),VLOOKUP(K556,Feuil2!$F$10:$P$28,5),IF(AND(J556>=1967,J556<1972),VLOOKUP(K556,Feuil2!$F$10:$P$28,4),IF(AND(J556>=1972,J556<1977),VLOOKUP(K556,Feuil2!$F$10:$P$28,3),IF(AND(J556>=1977,J556<1982),VLOOKUP(K556,Feuil2!$F$10:$P$28,2),VLOOKUP(K556,Feuil2!$F$10:$P$28,2))))))))))))","v":{"$error":"#N/A"}},null,{"$f":"T556-HLOOKUP(Y556,Feuil2!$C$1:$CD$9,2,FALSE)","v":{"$error":"#VALUE!"}},{"$f":"T556-HLOOKUP(Y556,Feuil2!$C$1:$CD$9,3,FALSE)","v":{"$error":"#VALUE!"}},{"$f":"T556-HLOOKUP(Y556,Feuil2!$C$1:$CD$9,4,FALSE)","v":{"$error":"#VALUE!"}},{"$f":"T556-HLOOKUP(Y556,Feuil2!$C$1:$CD$9,5,FALSE)","v":{"$error":"#VALUE!"}},{"$f":"T556-HLOOKUP(Y556,Feuil2!$C$1:$CD$9,6,FALSE)","v":{"$error":"#VALUE!"}},{"$f":"T556-HLOOKUP(Y556,Feuil2!$C$1:$CD$9,7,FALSE)","v":{"$error":"#VALUE!"}},{"$f":"T556-HLOOKUP(Y556,Feuil2!$C$1:$CD$9,8,FALSE)","v":{"$error":"#VALUE!"}},{"$f":"T556-HLOOKUP(Y556,Feuil2!$C$1:$CD$9,9,FALSE)","v":{"$error":"#VALUE!"}},null,null,null,null,null,null,null,{"$error":"#VALUE!"},2016,null,{"$f":"IF(AQ556,VLOOKUP(AQ556,HOM!$AS$561:$AT$616,2))","v":3.5710000000000002}]
[null,null,null,null,null,null,null,null,null,null,null,null,null,null,null,null,null,null,null,null,null,null,null,null,null,null,null,null,null,null,null,null,null,null,null,null,null,null,null,null,null,null," "]
[]
[]
[null,"Secrétaire :",null,null,"FONDEUR  Claude",null,null," ",null,null,null,1,"OMAY  Buthan",null,null,null,null,null,null,null,null,null,null,null,null,null," ",{"$f":"T560-HLOOKUP(X560,[2]Feuil1!$C$1:$BL$10,2,FALSE)","v":{"$error":"#N/A"}},{"$f":"T560-HLOOKUP(X560,[2]Feuil1!$C$1:$BL$10,3,FALSE)","v":{"$error":"#N/A"}},{"$f":"T560-HLOOKUP(X560,[2]Feuil1!$C$1:$BL$10,4,FALSE)","v":{"$error":"#N/A"}},{"$f":"T560-HLOOKUP(X560,[2]Feuil1!$C$1:$BL$10,5,FALSE)","v":{"$error":"#N/A"}},{"$f":"T560-HLOOKUP(X560,[2]Feuil1!$C$1:$BL$10,6,FALSE)","v":{"$error":"#N/A"}},{"$f":"T560-HLOOKUP(X560,[2]Feuil1!$C$1:$BL$10,7,FALSE)","v":{"$error":"#N/A"}},{"$f":"T560-HLOOKUP(X560,[2]Feuil1!$C$1:$BL$10,8,FALSE)","v":{"$error":"#N/A"}},{"$f":"T560-HLOOKUP(X560,[2]Feuil1!$C$1:$BL$10,9,FALSE)","v":{"$error":"#N/A"}},{"$f":"T560-HLOOKUP(X560,[2]Feuil1!$C$1:$BL$10,10,FALSE)","v":{"$error":"#N/A"}},null,null,null,null,null,null,{"$f":"IF(AJ560>=0,$AJ$4,IF(AI560>=0,$AI$4,IF(AH560>=0,$AH$4,IF(AG560>=0,$AG$4,IF(AF560>=0,$AF$4,IF(AE560>=0,$AE$4,IF(AD560>=0,$AD$4,IF(AC560>=0,$AC$4,$AB$4))))))))","v":{"$error":"#N/A"}}]
[null,"Chef Marschal",null,null,"CUCUZZELLA  Alphonsz",null,null," ",null,null,"ARBITRES :  ",null,"JOBARD  Danielle",null,null,null,null,null,null,null,null,null,null,null,null,null," ",{"$f":"T561-HLOOKUP(X561,[2]Feuil1!$C$1:$BL$10,2,FALSE)","v":{"$error":"#N/A"}},{"$f":"T561-HLOOKUP(X561,[2]Feuil1!$C$1:$BL$10,3,FALSE)","v":{"$error":"#N/A"}},{"$f":"T561-HLOOKUP(X561,[2]Feuil1!$C$1:$BL$10,4,FALSE)","v":{"$error":"#N/A"}},{"$f":"T561-HLOOKUP(X561,[2]Feuil1!$C$1:$BL$10,5,FALSE)","v":{"$error":"#N/A"}},{"$f":"T561-HLOOKUP(X561,[2]Feuil1!$C$1:$BL$10,6,FALSE)","v":{"$error":"#N/A"}},{"$f":"T561-HLOOKUP(X561,[2]Feuil1!$C$1:$BL$10,7,FALSE)","v":{"$error":"#N/A"}},{"$f":"T561-HLOOKUP(X561,[2]Feuil1!$C$1:$BL$10,8,FALSE)","v":{"$error":"#N/A"}},{"$f":"T561-HLOOKUP(X561,[2]Feuil1!$C$1:$BL$10,9,FALSE)","v":{"$error":"#N/A"}},{"$f":"T561-HLOOKUP(X561,[2]Feuil1!$C$1:$BL$10,10,FALSE)","v":{"$error":"#N/A"}},null,null,null,null,null,null,{"$error":"#N/A"}]
[null,"Chronométreur :",null,null,"THOMASSON  Loïc",null,null," ",null,null,null,3,"ANDRIEUX  Nicolas",null,null,null,null,null,null,null,null,null,null,null,null,null," ",{"$f":"T562-HLOOKUP(X562,[2]Feuil1!$C$1:$BL$10,2,FALSE)","v":{"$error":"#N/A"}},{"$f":"T562-HLOOKUP(X562,[2]Feuil1!$C$1:$BL$10,3,FALSE)","v":{"$error":"#N/A"}},{"$f":"T562-HLOOKUP(X562,[2]Feuil1!$C$1:$BL$10,4,FALSE)","v":{"$error":"#N/A"}},{"$f":"T562-HLOOKUP(X562,[2]Feuil1!$C$1:$BL$10,5,FALSE)","v":{"$error":"#N/A"}},{"$f":"T562-HLOOKUP(X562,[2]Feuil1!$C$1:$BL$10,6,FALSE)","v":{"$error":"#N/A"}},{"$f":"T562-HLOOKUP(X562,[2]Feuil1!$C$1:$BL$10,7,FALSE)","v":{"$error":"#N/A"}},{"$f":"T562-HLOOKUP(X562,[2]Feuil1!$C$1:$BL$10,8,FALSE)","v":{"$error":"#N/A"}},{"$f":"T562-HLOOKUP(X562,[2]Feuil1!$C$1:$BL$10,9,FALSE)","v":{"$error":"#N/A"}},{"$f":"T562-HLOOKUP(X562,[2]Feuil1!$C$1:$BL$10,10,FALSE)","v":{"$error":"#N/A"}},null,null,null,null,null,null,{"$error":"#N/A"}]
[null,null,null,null,null,null,null," ",null,null,null,null,null,null,null,null,null,null,null,null,null,null,null,null,null,null," ",{"$f":"T563-HLOOKUP(X563,[2]Feuil1!$C$1:$BL$10,2,FALSE)","v":{"$error":"#N/A"}},{"$f":"T563-HLOOKUP(X563,[2]Feuil1!$C$1:$BL$10,3,FALSE)","v":{"$error":"#N/A"}},{"$f":"T563-HLOOKUP(X563,[2]Feuil1!$C$1:$BL$10,4,FALSE)","v":{"$error":"#N/A"}},{"$f":"T563-HLOOKUP(X563,[2]Feuil1!$C$1:$BL$10,5,FALSE)","v":{"$error":"#N/A"}},{"$f":"T563-HLOOKUP(X563,[2]Feuil1!$C$1:$BL$10,6,FALSE)","v":{"$error":"#N/A"}},{"$f":"T563-HLOOKUP(X563,[2]Feuil1!$C$1:$BL$10,7,FALSE)","v":{"$error":"#N/A"}},{"$f":"T563-HLOOKUP(X563,[2]Feuil1!$C$1:$BL$10,8,FALSE)","v":{"$error":"#N/A"}},{"$f":"T563-HLOOKUP(X563,[2]Feuil1!$C$1:$BL$10,9,FALSE)","v":{"$error":"#N/A"}},{"$f":"T563-HLOOKUP(X563,[2]Feuil1!$C$1:$BL$10,10,FALSE)","v":{"$error":"#N/A"}},null,null,null,null,null,null,{"$error":"#N/A"}]
[null,null,null,null,null,null,null,null,null,null,null,null,null,null,null,null,null,null,null,null,null,null,null,null,null,null,null,null,null,null,null,null,null,null,null,null,null,null,null,null,null,null,38,"V1 H35",38,1.113]
[null,null,null,null,null,null,null,null,null,null,null,null,null,null,null,null,null,null,null,null,null,null,null,null,null,null,null,null,null,null,null,null,null,null,null,null,null,null,null,null,null,null,39,"V1 H35",39,1.125]
[null,null,null,null,null,null,null,null,null,null,null,null,null,null,null,null,null,null,null,null,null,null,null,null,null,null,null,null,null,null,null,null,null,null,null,null,null,null,null,null,null,null,40,"V2 H40",40,1.1359999999999999]
[null,null,null,null,null,null,null,null,null,null,null,null,null,null,null,null,null,null,null,null,null,null,null,null,null,null,null,null,null,null,null,null,null,null,null,null,null,null,null,null,null,null,41,"V2 H40",41,1.147]
[null,null,null,null,null,null,null,null,null,null,null,null,null,null,null,null,null,null,null,null,null,null,null,null,null,null,null,null,null,null,null,null,null,null,null,null,null,null,null,null,null,null,42,"V2 H40",42,1.1579999999999999]
[null,null,null,null,null,null,null,null,null,null,null,null,null,null,null,null,null,null,null,null,null,null,null,null,null,null,null,null,null,null,null,null,null,null,null,null,null,null,null,null,null,null,43,"V2 H40",43,1.17]
[null,null,null,null,null,null,null,null,null,null,null,null,null,null,null,null,null,null,null,null,null,null,null,null,null,null,null,null,null,null,null,null,null,null,null,null,null,null,null,null,null,null,44,"V2 H40",44,1.1830000000000001]
[null,null,null,null,null,null,null,null,null,null,null,null,null,null,null,null,null,null,null,null,null,null,null,null,null,null,null,null,null,null,null,null,null,null,null,null,null,null,null,null,null,null,45,"V3 H45",45,1.1950000000000001]
[null,null,null,null,null,null,null,null,null,null,null,null,null,null,null,null,null,null,null,null,null,null,null,null,null,null,null,null,null,null,null,null,null,null,null,null,null,null,null,null,null,null,46,"V3 H45",46,1.2070000000000001]
[null,null,null,null,null,null,null,null,null,null,null,null,null,null,null,null,null,null,null,null,null,null,null,null,null,null,null,null,null,null,null,null,null,null,null,null,null,null,null,null,null,null,47,"V3 H45",47,1.2170000000000001]
[null,null,null,null,null,null,null,null,null,null,null,null,null,null,null,null,null,null,null,null,null,null,null,null,null,null,null,null,null,null,null,null,null,null,null,null,null,null,null,null,null,null,48,"V3 H45",48,1.226]
[null,null,null,null,null,null,null,null,null,null,null,null,null,null,null,null,null,null,null,null,null,null,null,null,null,null,null,null,null,null,null,null,null,null,null,null,null,null,null,null,null,null,49,"V3 H45",49,1.234]
[null,null,null,null,null,null,null,null,null,null,null,null,null,null,null,null,null,null,null,null,null,null,null,null,null,null,null,null,null,null,null,null,null,null,null,null,null,null,null,null,null,null,50,"V4 H50",50,1.2430000000000001]
[null,null,null,null,null,null,null,null,null,null,null,null,null,null,null,null,null,null,null,null,null,null,null,null,null,null,null,null,null,null,null,null,null,null,null,null,null,null,null,null,null,null,51,"V4 H50",51,1.2549999999999999]
[null,null,null,null,null,null,null,null,null,null,null,null,null,null,null,null,null,null,null,null,null,null,null,null,null,null,null,null,null,null,null,null,null,null,null,null,null,null,null,null,null,null,52,"V4 H50",52,1.2709999999999999]
[null,null,null,null,null,null,null,null,null,null,null,null,null,null,null,null,null,null,null,null,null,null,null,null,null,null,null,null,null,null,null,null,null,null,null,null,null,null,null,null,null,null,53,"V4 H50",53,1.2929999999999999]
[null,null,null,null,null,null,null,null,null,null,null,null,null,null,null,null,null,null,null,null,null,null,null,null,null,null,null,null,null,null,null,null,null,null,null,null,null,null,null,null,null,null,54,"V4 H50",54,1.319]
[null,null,null,null,null,null,null,null,null,null,null,null,null,null,null,null,null,null,null,null,null,null,null,null,null,null,null,null,null,null,null,null,null,null,null,null,null,null,null,null,null,null,55,"V5 H55",55,1.35]
[null,null,null,null,null,null,null,null,null,null,null,null,null,null,null,null,null,null,null,null,null,null,null,null,null,null,null,null,null,null,null,null,null,null,null,null,null,null,null,null,null,null,56,"V5 H55",56,1.3839999999999999]
[null,null,null,null,null,null,null,null,null,null,null,null,null,null,null,null,null,null,null,null,null,null,null,null,null,null,null,null,null,null,null,null,null,null,null,null,null,null,null,null,null,null,57,"V5 H55",57,1.417]
[null,null,null,null,null,null,null,null,null,null,null,null,null,null,null,null,null,null,null,null,null,null,null,null,null,null,null,null,null,null,null,null,null,null,null,null,null,null,null,null,null,null,58,"V5 H55",58,1.4490000000000001]
[null,null,null,null,null,null,null,null,null,null,null,null,null,null,null,null,null,null,null,null,null,null,null,null,null,null,null,null,null,null,null,null,null,null,null,null,null,null,null,null,null,null,59,"V5 H55",59,1.48]
[null,null,null,null,null,null,null,null,null,null,null,null,null,null,null,null,null,null,null,null,null,null,null,null,null,null,null,null,null,null,null,null,null,null,null,null,null,null,null,null,null,null,60,"V6 H60",60,1.5089999999999999]
[null,null,null,null,null,null,null,null,null,null,null,null,null,null,null,null,null,null,null,null,null,null,null,null,null,null,null,null,null,null,null,null,null,null,null,null,null,null,null,null,null,null,61,"V6 H60",61,1.536]
[null,null,null,null,null,null,null,null,null,null,null,null,null,null,null,null,null,null,null,null,null,null,null,null,null,null,null,null,null,null,null,null,null,null,null,null,null,null,null,null,null,null,62,"V6 H60",62,1.5609999999999999]
[null,null,null,null,null,null,null,null,null,null,null,null,null,null,null,null,null,null,null,null,null,null,null,null,null,null,null,null,null,null,null,null,null,null,null,null,null,null,null,null,null,null,63,"V6 H60",63,1.5840000000000001]
[null,null,null,null,null,null,null,null,null,null,null,null,null,null,null,null,null,null,null,null,null,null,null,null,null,null,null,null,null,null,null,null,null,null,null,null,null,null,null,null,null,null,64,"V6 H60",64,1.6080000000000001]
[null,null,null,null,null,null,null,null,null,null,null,null,null,null,null,null,null,null,null,null,null,null,null,null,null,null,null,null,null,null,null,null,null,null,null,null,null,null,null,null,null,null,65,"V7 H65",65,1.6359999999999999]
[null,null,null,null,null,null,null,null,null,null,null,null,null,null,null,null,null,null,null,null,null,null,null,null,null,null,null,null,null,null,null,null,null,null,null,null,null,null,null,null,null,null,66,"V7 H65",66,1.671]
[null,null,null,null,null,null,null,null,null,null,null,null,null,null,null,null,null,null,null,null,null,null,null,null,null,null,null,null,null,null,null,null,null,null,null,null,null,null,null,null,null,null,67,"V7 H65",67,1.7190000000000001]
[null,null,null,null,null,null,null,null,null,null,null,null,null,null,null,null,null,null,null,null,null,null,null,null,null,null,null,null,null,null,null,null,null,null,null,null,null,null,null,null,null,null,68,"V7 H65",68,1.782]
[null,null,null,null,null,null,null,null,null,null,null,null,null,null,null,null,null,null,null,null,null,null,null,null,null,null,null,null,null,null,null,null,null,null,null,null,null,null,null,null,null,null,69,"V7 H65",69,1.8560000000000001]
[null,null,null,null,null,null,null,null,null,null,null,null,null,null,null,null,null,null,null,null,null,null,null,null,null,null,null,null,null,null,null,null,null,null,null,null,null,null,null,null,null,null,70,"V8 H70",70,1.9330000000000001]
[null,null,null,null,null,null,null,null,null,null,null,null,null,null,null,null,null,null,null,null,null,null,null,null,null,null,null,null,null,null,null,null,null,null,null,null,null,null,null,null,null,null,71,"V8 H70",71,2.0019999999999998]
[null,null,null,null,null,null,null,null,null,null,null,null,null,null,null,null,null,null,null,null,null,null,null,null,null,null,null,null,null,null,null,null,null,null,null,null,null,null,null,null,null,null,72,"V8 H70",72,2.0529999999999999]
[null,null,null,null,null,null,null,null,null,null,null,null,null,null,null,null,null,null,null,null,null,null,null,null,null,null,null,null,null,null,null,null,null,null,null,null,null,null,null,null,null,null,73,"V8 H70",73,2.0870000000000002]
[null,null,null,null,null,null,null,null,null,null,null,null,null,null,null,null,null,null,null,null,null,null,null,null,null,null,null,null,null,null,null,null,null,null,null,null,null,null,null,null,null,null,74,"V8 H70",74,2.113]
[null,null,null,null,null,null,null,null,null,null,null,null,null,null,null,null,null,null,null,null,null,null,null,null,null,null,null,null,null,null,null,null,null,null,null,null,null,null,null,null,null,null,75,"V9 H75",75,2.1419999999999999]
[null,null,null,null,null,null,null,null,null,null,null,null,null,null,null,null,null,null,null,null,null,null,null,null,null,null,null,null,null,null,null,null,null,null,null,null,null,null,null,null,null,null,76,"V9 H75",76,2.1840000000000002]
[null,null,null,null,null,null,null,null,null,null,null,null,null,null,null,null,null,null,null,null,null,null,null,null,null,null,null,null,null,null,null,null,null,null,null,null,null,null,null,null,null,null,77,"V9 H75",77,2.2509999999999999]
[null,null,null,null,null,null,null,null,null,null,null,null,null,null,null,null,null,null,null,null,null,null,null,null,null,null,null,null,null,null,null,null,null,null,null,null,null,null,null,null,null,null,78,"V9 H75",78,2.3580000000000001]
[null,null,null,null,null,null,null,null,null,null,null,null,null,null,null,null,null,null,null,null,null,null,null,null,null,null,null,null,null,null,null,null,null,null,null,null,null,null,null,null,null,null,79,"V9 H75",79,2.5]
[null,null,null,null,null,null,null,null,null,null,null,null,null,null,null,null,null,null,null,null,null,null,null,null,null,null,null,null,null,null,null,null,null,null,null,null,null,null,null,null,null,null,80,"V10 H80+",80,2.669]
[null,null,null,null,null,null,null,null,null,null,null,null,null,null,null,null,null,null,null,null,null,null,null,null,null,null,null,null,null,null,null,null,null,null,null,null,null,null,null,null,null,null,81,"V10 H80+",81,2.8490000000000002]
[null,null,null,null,null,null,null,null,null,null,null,null,null,null,null,null,null,null,null,null,null,null,null,null,null,null,null,null,null,null,null,null,null,null,null,null,null,null,null,null,null,null,82,"V10 H80+",82,3.0179999999999998]
[null,null,null,null,null,null,null,null,null,null,null,null,null,null,null,null,null,null,null,null,null,null,null,null,null,null,null,null,null,null,null,null,null,null,null,null,null,null,null,null,null,null,83,"V10 H80+",83,3.1659999999999999]
[null,null,null,null,null,null,null,null,null,null,null,null,null,null,null,null,null,null,null,null,null,null,null,null,null,null,null,null,null,null,null,null,null,null,null,null,null,null,null,null,null,null,84,"V10 H80+",84,3.2879999999999998]
[null,null,null,null,null,null,null,null,null,null,null,null,null,null,null,null,null,null,null,null,null,null,null,null,null,null,null,null,null,null,null,null,null,null,null,null,null,null,null,null,null,null,85,"V10 H80+",85,3.3860000000000001]
[null,null,null,null,null,null,null,null,null,null,null,null,null,null,null,null,null,null,null,null,null,null,null,null,null,null,null,null,null,null,null,null,null,null,null,null,null,null,null,null,null,null,86,"V10 H80+",86,3.4580000000000002]
[null,null,null,null,null,null,null,null,null,null,null,null,null,null,null,null,null,null,null,null,null,null,null,null,null,null,null,null,null,null,null,null,null,null,null,null,null,null,null,null,null,null,87,"V10 H80+",87,3.508]
[null,null,null,null,null,null,null,null,null,null,null,null,null,null,null,null,null,null,null,null,null,null,null,null,null,null,null,null,null,null,null,null,null,null,null,null,null,null,null,null,null,null,88,"V10 H80+",88,3.54]
[null,null,null,null,null,null,null,null,null,null,null,null,null,null,null,null,null,null,null,null,null,null,null,null,null,null,null,null,null,null,null,null,null,null,null,null,null,null,null,null,null,null,89,"V10 H80+",89,3.5590000000000002]
[null,null,null,null,null,null,null,null,null,null,null,null,null,null,null,null,null,null,null,null,null,null,null,null,null,null,null,null,null,null,null,null,null,null,null,null,null,null,null,null,null,null,90,"V10 H80+",90,3.5710000000000002]
[]
[]
[]
[]
[]
[]
[]
[]
[]
[]
[]
[]
[]
[]
[]
[]
[]
[]
[]
[]
[]
[]
[]
[]
[]
[]
[]
[]
[]
[]
[]
[]
[]
[]
[]
[]
[]
[]
[]
[]
[]
[]
[]
[]
[]
[]
[]
[]
[]
[]
[]
[]
[]
[]
[]
[]
[]
[]
[]
[]
[]
[]
[]
[]
[]
[]
[]
[]
[]
[]
[]
[]
[]
[]
[]
[]
[]
[]
[]
[]
[]
[]
[]
[]
[]
[]
[]
[]
[]
[null,null,null,null,null,null,null,null,null,null,null,null,null,null,null,null,null,null,null,null,null,null,null,null,null,"J69","J77","J85","J94","J105","J+105",null,"J56","J62","J69","J77","J85","J94","J105","J+105",null,"S56","S62","S69","S77","S85","S94","S105","S+105"]
[null,null,null,null,null,null,null,null,null,null,null,null,null,null,null,null,null,null,null,null,null,null,null,null,null,130,145,160,170,180,190,null,100,115,130,145,160,170,180,190,null,115,135,150,165,180,190,200,210]
[null,null,null,null,null,null,null,null,null,null,null,null,null,null,null,null,null,null,null,null,null,null,null,null,null,150,165,180,190,200,210,null,115,135,150,165,180,190,200,210,null,130,150,165,185,200,210,220,230]
[null,null,null,null,null,null,null,null,null,null,null,null,null,null,null,null,null,null,null,null,null,null,null,null,null,165,185,200,210,220,230,null,130,150,165,185,200,210,220,230,null,145,165,180,200,220,230,240,250]
[null,null,null,null,null,null,null,null,null,null,null,null,null,null,null,null,null,null,null,null,null,null,null,null,null,180,200,220,230,240,250,null,145,165,180,200,220,230,240,250,null,175,195,215,235,250,260,275,280]
[null,null,null,null,null,null,null,null,null,null,null,null,null,null,null,null,null,null,null,null,null,null,null,null,null,215,235,250,260,275,280,null,175,195,215,235,250,260,275,280,null,210,230,250,270,290,300,310,325]
[null,null,null,null,null,null,null,null,null,null,null,null,null,null,null,null,null,null,null,null,null,null,null,null,null,250,270,290,300,310,325,null,210,230,250,270,290,300,310,325,null,230,255,275,300,315,335,345,355]
[null,null,null,null,null,null,null,null,null,null,null,null,null,null,null,null,null,null,null,null,null,null,null,null,null,295,320,335,355,370,380,null,245,270,295,320,335,355,370,380,null,245,270,295,320,335,355,370,380]

{"sheet":"Feuil1","index":1,"n_rows":24,"n_cols":58,"rows_kept":24,"cut":false,"hidden":true,"merged":[]}
[null,null,"VF35-48","VF35-53","VF35-58","VF35-63","VF35-69","VF35-75","VF35+75","VF40-48","VF40-53","VF40-58","VF40-63","VF40-69","VF40-75","VF40+75","VF45-48","VF45-53","VF45-58","VF45-63","VF45-69","VF45-75","VF45+75","VF50-48","VF50-53","VF50-58","VF50-63","VF50-69","VF50-75","VF50+75","VF55-48","VF55-53","VF55-58","VF55-63","VF55-69","VF55-75","VF55+75","VF60-48","VF60-53","VF60-58","VF60-63","VF60-69","VF60-75","VF60+75","VF65-48","VF65-53","VF65-58","VF65-63","VF65-69","VF65-75","VF65+75","VF70+-48","VF70+-53","VF70+-58","VF70+-63","VF70+-69","VF70+-75","VF70++75"]
[null,null,null,null,null,null,null,null,null,null,null,null,null,null,null,null,null,null,null,null,null,null,null,null,null,null,null,null,null,null,null,null,null,null,null,null,null,null,null,null,null,null,null,null,null,null,null,null,null,null,null," "]
[null,"REGION",55,60,62,65,70,72,80,52,55,60,62,65,67,75,50,52,55,60,62,65,72,45,47,52,55,57,60,67,42,45,47,50,52,55,57,40,42,45,47,50,52,55,38,40,42,45,48,50,52,36,38,40,43,45,48,50]
[null,"France",60,62,67,70,75,77,85,55,60,62,65,70,72,80,52,55,60,62,65,67,75,50,52,55,60,62,65,72,45,47,52,55,57,60,67,42,45,47,50,52,55,57,40,42,45,47,50,52,55,38,40,42,45,48,50,52]
[null,"EUROPE",70,72,77,80,85,87,95,65,70,72,75,80,82,90,62,65,70,72,75,77,85,60,62,65,70,72,75,82,55,57,62,65,67,70,77,52,55,57,60,62,65,67,50,52,55,57,60,62,65,45,47,49,52,55,57,60]
[null,"MONDE",82,90,95,100,102,107,112,80,85,90,95,97,100,105,72,77,82,85,90,92,97,67,72,75,77,82,85,90,60,65,67,70,75,77,82,55,57,62,65,67,70,72,50,52,55,57,60,62,65,46,48,50,53,56,58,61]
[null,"INTERNATIONAL B",1000,1000,1000,1000,1000,1000,1000,1000,1000,1000,1000,1000,1000,1000,1000,1000,1000,1000,1000,1000,1000,1000,1000,1000,1000,1000,1000,1000,1000,1000,1000,1000,1000,1000,1000,1000,1000,1000,1000,1000,1000,1000,1000,1000,1000,1000,1000,1000,1000,1000,1000,1000,1000,1000,1000,1000]
[null,"INTERNATIONAL A",1000,1000,1000,1000,1000,1000,1000,1000,1000,1000,1000,1000,1000,1000,1000,1000,1000,1000,1000,1000,1000,1000,1000,1000,1000,1000,1000,1000,1000,1000,1000,1000,1000,1000,1000,1000,1000,1000,1000,1000,1000,1000,1000,1000,1000,1000,1000,1000,1000,1000,1000,1000,1000,1000,1000,1000]
[null,"OLYMPIQUE",1000,1000,1000,1000,1000,1000,1000,1000,1000,1000,1000,1000,1000,1000,1000,1000,1000,1000,1000,1000,1000,1000,1000,1000,1000,1000,1000,1000,1000,1000,1000,1000,1000,1000,1000,1000,1000,1000,1000,1000,1000,1000,1000,1000,1000,1000,1000,1000,1000,1000,1000,1000,1000,1000,1000,1000]
[null,null,null,null,null,null,"VF35","VF40","VF45","VF50","VF55","VF60","VF65","VF70+"]
[null,null,null,null,null,20.010000000000002,"VF35-48","VF40-48","VF45-48","VF50-48","VF55-48","VF60-48","VF65-48","VF70+-48"]
[null,null,null,null,null,30.01,"VF35-48","VF40-48","VF45-48","VF50-48","VF55-48","VF60-48","VF65-48","VF70+-48"]
[null,null,null,null,null,35.01,"VF35-48","VF40-48","VF45-48","VF50-48","VF55-48","VF60-48","VF65-48","VF70+-48"]
[null,null,null,null,null,36.01,"VF35-48","VF40-48","VF45-48","VF50-48","VF55-48","VF60-48","VF65-48","VF70+-48"]
[null,null,null,null,null,40.01,"VF35-48","VF40-48","VF45-48","VF50-48","VF55-48","VF60-48","VF65-48","VF70+-48"]
[null,null,null,null,null,44.01,"VF35-48","VF40-48","VF45-48","VF50-48","VF55-48","VF60-48","VF65-48","VF70+-48"]
[null,null,null,null,null,48.01,"VF35-53","VF40-53","VF45-53","VF50-53","VF55-53","VF60-53","VF65-53","VF70+-53"]
[null,null,null,null,null,53.01,"VF35-58","VF40-58","VF45-58","VF50-58","VF55-58","VF60-58","VF65-58","VF70+-58"]
[null,null,null,null,null,58.01,"VF35-63","VF40-63","VF45-63","VF50-63","VF55-63","VF60-63","VF65-63","VF70+-63"]
[null,null,null,null,null,63.01,"VF35-69","VF40-69","VF45-69","VF50-69","VF55-69","VF60-69","VF65-69","VF70+-69"]
[null,null,null,null,null,69.010000000000005,"VF35-75","VF40-75","VF45-75","VF50-75","VF55-75","VF60-75","VF65-75","VF70+-75"]
[null,null,null,null,null,75.010000000000005,"VF35+75","VF40+75","VF45+75","VF50+75","VF55+75","VF60+75","VF65+75","VF70++75"]
[null,null,null,null,null,110,"VF35+75","VF40+75","VF45+75","VF50+75","VF55+75","VF60+75","VF65+75","VF70++75"]
[null,null,null,null,null,140,"VF35+75","VF40+75","VF45+75","VF50+75","VF55+75","VF60+75","VF65+75","VF70++75"]

{"sheet":"Feuil2","index":2,"n_rows":85,"n_cols":83,"rows_kept":85,"cut":false,"hidden":true,"merged":[]}
[null,null,"VH35-56","VH35-62","VH35-69","VH35-77","VH35-85","VH35-94","VH35-105","VH35+105","VH40-56","VH40-62","VH40-69","VH40-77","VH40-85","VH40-94","VH40-105","VH40+105","VH45-56","VH45-62","VH45-69","VH45-77","VH45-85","VH45-94","VH45-105","VH45+105","VH50-56","VH50-62","VH50-69","VH50-77","VH50-85","VH50-94","VH50-105","VH50+105","VH55-56","VH55-62","VH55-69","VH55-77","VH55-85","VH55-94","VH55-105","VH55+105","VH60-56","VH60-62","VH60-69","VH60-77","VH60-85","VH60-94","VH60-105","VH60+105","VH65-56","VH65-62","VH65-69","VH65-77","VH65-85","VH65-94","VH65-105","VH65+105","VH70-56","VH70-62","VH70-69","VH70-77","VH70-85","VH70-94","VH70-105","VH70+105","VH75-56","VH75-62","VH75-69","VH75-77","VH75-85","VH75-94","VH75-105","VH75+105","VH80+-56","VH80+-62","VH80+-69","VH80+-77","VH80+-85","VH80+-94","VH80+-105","VH80++105"]
[null,null,null,null,null,null,null,null,null,null,null,null,null,null,null,null,null,null,null,null,null,null,null,null,null,null,null,null,null,null,null,null,null,null,null,null,null,null,null,null,null,null,null,null,null,null,null,null,null,null,null," "]
[null,"REGION",117,132,147,162,172,182,190,197,110,125,140,152,162,172,180,187,105,117,130,145,155,162,170,177,95,107,120,130,140,147,155,162,82,92,105,115,122,130,137,145,72,82,92,102,110,117,122,130,60,70,77,87,92,100,102,107,47,55,62,70,75,80,82,87,42,47,55,62,67,70,75,80,40,45,50,60,63,64,69,70,"REGIONAL"]
[null,"France",127,142,157,172,182,192,200,202,120,135,150,162,172,182,190,197,115,127,140,155,165,172,180,187,105,117,130,140,150,157,165,172,92,102,115,125,132,140,147,155,82,92,102,112,120,127,132,140,70,80,87,97,102,110,112,117,57,65,72,80,85,90,92,97,52,57,65,72,77,80,85,90,50,55,58,62,64,65,70,75,"France"]
[null,"EUROPE",137,152,167,182,192,202,210,217,130,145,160,172,182,192,200,207,125,137,150,165,175,182,190,197,115,127,140,150,160,167,175,182,102,112,125,135,142,150,157,165,92,102,112,122,130,137,142,150,80,90,97,107,112,120,122,127,67,75,82,90,95,100,102,107,62,67,75,82,87,90,95,100,54,56,59,64,69,71,76,79,"EUROPE"]
[null,"MONDE",155,172,187,202,215,227,237,245,147,162,177,192,205,215,225,232,140,155,170,185,195,205,212,222,130,142,157,170,180,190,197,205,115,127,140,152,162,170,177,182,105,117,127,137,147,155,160,167,92,102,112,120,127,135,140,145,75,82,90,97,102,107,112,117,67,75,82,87,95,97,102,107,55,57,60,65,70,72,77,80,"MONDE"]
[null,"INTERNATIONAL B",1000,1000,1000,1000,1000,1000,1000,1000,1000,1000,1000,1000,1000,1000,1000,1000,1000,1000,1000,1000,1000,1000,1000,1000,1000,1000,1000,1000,1000,1000,1000,1000,1000,1000,1000,1000,1000,1000,1000,1000,1000,1000,1000,1000,1000,1000,1000,1000,1000,1000,1000,1000,1000,1000,1000,1000,1000,1000,1000,1000,1000,1000,1000,1000,1000,1000,1000,1000,1000,1000,1000,1000,1000,1000,1000,1000,1000,1000,1000,1000]
[null,"INTERNATIONAL A",1000,1000,1000,1000,1000,1000,1000,1000,1000,1000,1000,1000,1000,1000,1000,1000,1000,1000,1000,1000,1000,1000,1000,1000,1000,1000,1000,1000,1000,1000,1000,1000,1000,1000,1000,1000,1000,1000,1000,1000,1000,1000,1000,1000,1000,1000,1000,1000,1000,1000,1000,1000,1000,1000,1000,1000,1000,1000,1000,1000,1000,1000,1000,1000,1000,1000,1000,1000,1000,1000,1000,1000,1000,1000,1000,1000,1000,1000,1000,1000]
[null,"OLYMPIQUE",1000,1000,1000,1000,1000,1000,1000,1000,1000,1000,1000,1000,1000,1000,1000,1000,1000,1000,1000,1000,1000,1000,1000,1000,1000,1000,1000,1000,1000,1000,1000,1000,1000,1000,1000,1000,1000,1000,1000,1000,1000,1000,1000,1000,1000,1000,1000,1000,1000,1000,1000,1000,1000,1000,1000,1000,1000,1000,1000,1000,1000,1000,1000,1000,1000,1000,1000,1000,1000,1000,1000,1000,1000,1000,1000,1000,1000,1000,1000,1000]
[null,null,null,null,null,null,"VH35","VH40","VH45","VH50","VH55","VH60","VH65","VH70","VH75","VH80+"]
[null,null,null,null,null,20.010000000000002,"VH35-56","VH40-56","VH45-56","VH50-56","VH55-56","VH60-56","VH65-56","VH70-56","VH75-56","VH80+-56"]
[null,null,null,null,null,34.01,"VH35-56","VH40-56","VH45-56","VH50-56","VH55-56","VH60-56","VH65-56","VH70-56","VH75-56","VH80+-56"]
[null,null,null,null,null,38.01,"VH35-56","VH40-56","VH45-56","VH50-56","VH55-56","VH60-56","VH65-56","VH70-56","VH75-56","VH80+-56"]
[null,null,null,null,null,40.01,"VH35-56","VH40-56","VH45-56","VH50-56","VH55-56","VH60-56","VH65-56","VH70-56","VH75-56","VH80+-56"]
[null,null,null,null,null,45.01,"VH35-56","VH40-56","VH45-56","VH50-56","VH55-56","VH60-56","VH65-56","VH70-56","VH75-56","VH80+-56"]
[null,null,null,null,null,50.01,"VH35-56","VH40-56","VH45-56","VH50-56","VH55-56","VH60-56","VH65-56","VH70-56","VH75-56","VH80+-56"]
[null,null,null,null,null,52.05,"VH35-56","VH40-56","VH45-56","VH50-56","VH55-56","VH60-56","VH65-56","VH70-56","VH75-56","VH80+-56"]
[null,null,null,null,null,56.01,"VH35-62","VH40-62","VH45-62","VH50-62","VH55-62","VH60-62","VH65-62","VH70-62","VH75-62","VH80+-62"]
[null,null,null,null,null,62.01,"VH35-69","VH40-69","VH45-69","VH50-69","VH55-69","VH60-69","VH65-69","VH70-69","VH75-69","VH80+-69"]
[null,null,null,null,null,69.010000000000005,"VH35-77","VH40-77","VH45-77","VH50-77","VH55-77","VH60-77","VH65-77","VH70-77","VH75-77","VH80+-77"]
[null,null,null,null,null,77.010000000000005,"VH35-85","VH40-85","VH45-85","VH50-85","VH55-85","VH60-85","VH65-85","VH70-85","VH75-85","VH80+-85"]
[null,null,null,null,null,85.01,"VH35-94","VH40-94","VH45-94","VH50-94","VH55-94","VH60-94","VH65-94","VH70-94","VH75-94","VH80+-94"]
[null,null,null,null,null,94.01,"VH35-105","VH40-105","VH45-105","VH50-105","VH55-105","VH60-105","VH65-105","VH70-105","VH75-105","VH80+-105"]
[null,null,null,null,null,105.01,"VH35+105","VH40+105","VH45+105","VH50+105","VH55+105","VH60+105","VH65+105","VH70+105","VH75+105","VH80++105"]
[null,null,null,null,null,110,"VH35+105","VH40+105","VH45+105","VH50+105","VH55+105","VH60+105","VH65+105","VH70+105","VH75+105","VH80++105"]
[null,null,null,null,null,120,"VH35+105","VH40+105","VH45+105","VH50+105","VH55+105","VH60+105","VH65+105","VH70+105","VH75+105","VH80++105"]
[null,null,null,null,null,130,"VH35+105","VH40+105","VH45+105","VH50+105","VH55+105","VH60+105","VH65+105","VH70+105","VH75+105","VH80++105"]
[null,null,null,null,null,140,"VH35+105","VH40+105","VH45+105","VH50+105","VH55+105","VH60+105","VH65+105","VH70+105","VH75+105","VH80++105"]
[]
[null,null,null,null,null,35,1.0720000000000001]
[null,null,null,null,null,36,1.087]
[null,null,null,null,null,37,1.1000000000000001]
[null,null,null,null,null,38,1.113]
[null,null,null,null,null,39,1.125]
[null,null,null,null,null,40,1.1359999999999999]
[null,null,null,null,null,41,1.147]
[null,null,null,null,null,42,1.1579999999999999]
[null,null,null,null,null,43,1.17]
[null,null,null,null,null,44,1.1830000000000001]
[null,null,null,null,null,45,1.1950000000000001]
[null,null,null,null,null,46,1.2070000000000001]
[null,null,null,null,null,47,1.2170000000000001]
[null,null,null,null,null,48,1.226]
[null,null,null,null,null,49,1.234]
[null,null,null,null,null,50,1.2430000000000001]
[null,null,null,null,null,51,1.2549999999999999]
[null,null,null,null,null,52,1.2709999999999999]
[null,null,null,null,null,53,1.2929999999999999]
[null,null,null,null,null,54,1.319]
[null,null,null,null,null,55,1.35]
[null,null,null,null,null,56,1.3839999999999999]
[null,null,null,null,null,57,1.417]
[null,null,null,null,null,58,1.4490000000000001]
[null,null,null,null,null,59,1.48]
[null,null,null,null,null,60,1.5089999999999999]
[null,null,null,null,null,61,1.536]
[null,null,null,null,null,62,1.5609999999999999]
[null,null,null,null,null,63,1.5840000000000001]
[null,null,null,null,null,64,1.6080000000000001]
[null,null,null,null,null,65,1.6359999999999999]
[null,null,null,null,null,66,1.671]
[null,null,null,null,null,67,1.7190000000000001]
[null,null,null,null,null,68,1.782]
[null,null,null,null,null,69,1.8560000000000001]
[null,null,null,null,null,70,1.9330000000000001]
[null,null,null,null,null,71,2.0019999999999998]
[null,null,null,null,null,72,2.0529999999999999]
[null,null,null,null,null,73,2.0870000000000002]
[null,null,null,null,null,74,2.113]
[null,null,null,null,null,75,2.1419999999999999]
[null,null,null,null,null,76,2.1840000000000002]
[null,null,null,null,null,77,2.2509999999999999]
[null,null,null,null,null,78,2.3580000000000001]
[null,null,null,null,null,79,2.5]
[null,null,null,null,null,80,2.669]
[null,null,null,null,null,81,2.8490000000000002]
[null,null,null,null,null,82,3.0179999999999998]
[null,null,null,null,null,83,3.1659999999999999]
[null,null,null,null,null,84,3.2879999999999998]
[null,null,null,null,null,85,3.3860000000000001]
[null,null,null,null,null,86,3.4580000000000002]
[null,null,null,null,null,87,3.508]
[null,null,null,null,null,88,3.54]
[null,null,null,null,null,89,3.5590000000000002]
[null,null,null,null,null,90,3.5710000000000002]